{"text_format":"1","workbook":"xlsx","n_sheets":3,"sheets":["Datos Iniciales","datos","Terceros"],"not_rendered":{"charts":0,"images":2,"macros":1,"external_links":0,"defined_names":0,"comments":2,"pivot_tables":0},"unopened":[],"bounds":{"document_bytes":16777216,"sheet_cells":100000,"rows_first":2000,"rows_last":500,"rows_between":2000,"halvings":0,"cell_chars":16384,"cell_head_chars":4096},"cells_cut":0,"cells_raw":0,"read":"whole","date_system":"1900"}

{"sheet":"Datos Iniciales","index":0,"n_rows":301,"n_cols":17,"rows_kept":301,"cut":false,"hidden":false,"merged":[]}
[]
["Tipo de Tercero","¿Es Empresa?","Nombre del tercero / Empresa","Apellidos del tercero","Tipo de identificación","Identificación","Dígito de verificación","Dirección","País","Ciudad","Indicativo","Teléfono","Extensión","Nombres del\nContacto Principal","Apellidos del\nContacto Principal","Correo electrónico del Contacto Principal","Tipo de régimen IVA"]
[null,null,null,null,null,null,{"$f":"IF(Terceros!L2=\"\",\"\",Terceros!L2)","v":""}]
[null,null,null,null,null,null,{"$f":"IF(Terceros!L3=\"\",\"\",Terceros!L3)","v":""}]
[null,null,null,null,null,null,{"$f":"IF(Terceros!L4=\"\",\"\",Terceros!L4)","v":""}]
[null,null,null,null,null,null,{"$f":"IF(Terceros!L5=\"\",\"\",Terceros!L5)","v":""}]
[null,null,null,null,null,null,{"$f":"IF(Terceros!L6=\"\",\"\",Terceros!L6)","v":""}]
[null,null,null,null,null,null,{"$f":"IF(Terceros!L7=\"\",\"\",Terceros!L7)","v":""}]
[null,null,null,null,null,null,{"$f":"IF(Terceros!L8=\"\",\"\",Terceros!L8)","v":""}]
[null,null,null,null,null,null,{"$f":"IF(Terceros!L9=\"\",\"\",Terceros!L9)","v":""}]
[null,null,null,null,null,null,{"$f":"IF(Terceros!L10=\"\",\"\",Terceros!L10)","v":""}]
[null,null,null,null,null,null,{"$f":"IF(Terceros!L11=\"\",\"\",Terceros!L11)","v":""}]
[null,null,null,null,null,null,{"$f":"IF(Terceros!L12=\"\",\"\",Terceros!L12)","v":""}]
[null,null,null,null,null,null,{"$f":"IF(Terceros!L13=\"\",\"\",Terceros!L13)","v":""}]
[null,null,null,null,null,null,{"$f":"IF(Terceros!L14=\"\",\"\",Terceros!L14)","v":""}]
[null,null,null,null,null,null,{"$f":"IF(Terceros!L15=\"\",\"\",Terceros!L15)","v":""}]
[null,null,null,null,null,null,{"$f":"IF(Terceros!L16=\"\",\"\",Terceros!L16)","v":""}]
[null,null,null,null,null,null,{"$f":"IF(Terceros!L17=\"\",\"\",Terceros!L17)","v":""}]
[null,null,null,null,null,null,{"$f":"IF(Terceros!L18=\"\",\"\",Terceros!L18)","v":""}]
[null,null,null,null,null,null,{"$f":"IF(Terceros!L19=\"\",\"\",Terceros!L19)","v":""}]
[null,null,null,null,null,null,{"$f":"IF(Terceros!L20=\"\",\"\",Terceros!L20)","v":""}]
[null,null,null,null,null,null,{"$f":"IF(Terceros!L21=\"\",\"\",Terceros!L21)","v":""}]
[null,null,null,null,null,null,{"$f":"IF(Terceros!L22=\"\",\"\",Terceros!L22)","v":""}]
[null,null,null,null,null,null,{"$f":"IF(Terceros!L23=\"\",\"\",Terceros!L23)","v":""}]
[null,null,null,null,null,null,{"$f":"IF(Terceros!L24=\"\",\"\",Terceros!L24)","v":""}]
[null,null,null,null,null,null,{"$f":"IF(Terceros!L25=\"\",\"\",Terceros!L25)","v":""}]
[null,null,null,null,null,null,{"$f":"IF(Terceros!L26=\"\",\"\",Terceros!L26)","v":""}]
[null,null,null,null,null,null,{"$f":"IF(Terceros!L27=\"\",\"\",Terceros!L27)","v":""}]
[null,null,null,null,null,null,{"$f":"IF(Terceros!L28=\"\",\"\",Terceros!L28)","v":""}]
[null,null,null,null,null,null,{"$f":"IF(Terceros!L29=\"\",\"\",Terceros!L29)","v":""}]
[null,null,null,null,null,null,{"$f":"IF(Terceros!L30=\"\",\"\",Terceros!L30)","v":""}]
[null,null,null,null,null,null,{"$f":"IF(Terceros!L31=\"\",\"\",Terceros!L31)","v":""}]
[null,null,null,null,null,null,{"$f":"IF(Terceros!L32=\"\",\"\",Terceros!L32)","v":""}]
[null,null,null,null,null,null,{"$f":"IF(Terceros!L33=\"\",\"\",Terceros!L33)","v":""}]
[null,null,null,null,null,null,{"$f":"IF(Terceros!L34=\"\",\"\",Terceros!L34)","v":""}]
[null,null,null,null,null,null,{"$f":"IF(Terceros!L35=\"\",\"\",Terceros!L35)","v":""}]
[null,null,null,null,null,null,{"$f":"IF(Terceros!L36=\"\",\"\",Terceros!L36)","v":""}]
[null,null,null,null,null,null,{"$f":"IF(Terceros!L37=\"\",\"\",Terceros!L37)","v":""}]
[null,null,null,null,null,null,{"$f":"IF(Terceros!L38=\"\",\"\",Terceros!L38)","v":""}]
[null,null,null,null,null,null,{"$f":"IF(Terceros!L39=\"\",\"\",Terceros!L39)","v":""}]
[null,null,null,null,null,null,{"$f":"IF(Terceros!L40=\"\",\"\",Terceros!L40)","v":""}]
[null,null,null,null,null,null,{"$f":"IF(Terceros!L41=\"\",\"\",Terceros!L41)","v":""}]
[null,null,null,null,null,null,{"$f":"IF(Terceros!L42=\"\",\"\",Terceros!L42)","v":""}]
[null,null,null,null,null,null,{"$f":"IF(Terceros!L43=\"\",\"\",Terceros!L43)","v":""}]
[null,null,null,null,null,null,{"$f":"IF(Terceros!L44=\"\",\"\",Terceros!L44)","v":""}]
[null,null,null,null,null,null,{"$f":"IF(Terceros!L45=\"\",\"\",Terceros!L45)","v":""}]
[null,null,null,null,null,null,{"$f":"IF(Terceros!L46=\"\",\"\",Terceros!L46)","v":""}]
[null,null,null,null,null,null,{"$f":"IF(Terceros!L47=\"\",\"\",Terceros!L47)","v":""}]
[null,null,null,null,null,null,{"$f":"IF(Terceros!L48=\"\",\"\",Terceros!L48)","v":""}]
[null,null,null,null,null,null,{"$f":"IF(Terceros!L49=\"\",\"\",Terceros!L49)","v":""}]
[null,null,null,null,null,null,{"$f":"IF(Terceros!L50=\"\",\"\",Terceros!L50)","v":""}]
[null,null,null,null,null,null,{"$f":"IF(Terceros!L51=\"\",\"\",Terceros!L51)","v":""}]
[null,null,null,null,null,null,{"$f":"IF(Terceros!L52=\"\",\"\",Terceros!L52)","v":""}]
[null,null,null,null,null,null,{"$f":"IF(Terceros!L53=\"\",\"\",Terceros!L53)","v":""}]
[null,null,null,null,null,null,{"$f":"IF(Terceros!L54=\"\",\"\",Terceros!L54)","v":""}]
[null,null,null,null,null,null,{"$f":"IF(Terceros!L55=\"\",\"\",Terceros!L55)","v":""}]
[null,null,null,null,null,null,{"$f":"IF(Terceros!L56=\"\",\"\",Terceros!L56)","v":""}]
[null,null,null,null,null,null,{"$f":"IF(Terceros!L57=\"\",\"\",Terceros!L57)","v":""}]
[null,null,null,null,null,null,{"$f":"IF(Terceros!L58=\"\",\"\",Terceros!L58)","v":""}]
[null,null,null,null,null,null,{"$f":"IF(Terceros!L59=\"\",\"\",Terceros!L59)","v":""}]
[null,null,null,null,null,null,{"$f":"IF(Terceros!L60=\"\",\"\",Terceros!L60)","v":""}]
[null,null,null,null,null,null,{"$f":"IF(Terceros!L61=\"\",\"\",Terceros!L61)","v":""}]
[null,null,null,null,null,null,{"$f":"IF(Terceros!L62=\"\",\"\",Terceros!L62)","v":""}]
[null,null,null,null,null,null,{"$f":"IF(Terceros!L63=\"\",\"\",Terceros!L63)","v":""}]
[null,null,null,null,null,null,{"$f":"IF(Terceros!L64=\"\",\"\",Terceros!L64)","v":""}]
[null,null,null,null,null,null,{"$f":"IF(Terceros!L65=\"\",\"\",Terceros!L65)","v":""}]
[null,null,null,null,null,null,{"$f":"IF(Terceros!L66=\"\",\"\",Terceros!L66)","v":""}]
[null,null,null,null,null,null,{"$f":"IF(Terceros!L67=\"\",\"\",Terceros!L67)","v":""}]
[null,null,null,null,null,null,{"$f":"IF(Terceros!L68=\"\",\"\",Terceros!L68)","v":""}]
[null,null,null,null,null,null,{"$f":"IF(Terceros!L69=\"\",\"\",Terceros!L69)","v":""}]
[null,null,null,null,null,null,{"$f":"IF(Terceros!L70=\"\",\"\",Terceros!L70)","v":""}]
[null,null,null,null,null,null,{"$f":"IF(Terceros!L71=\"\",\"\",Terceros!L71)","v":""}]
[null,null,null,null,null,null,{"$f":"IF(Terceros!L72=\"\",\"\",Terceros!L72)","v":""}]
[null,null,null,null,null,null,{"$f":"IF(Terceros!L73=\"\",\"\",Terceros!L73)","v":""}]
[null,null,null,null,null,null,{"$f":"IF(Terceros!L74=\"\",\"\",Terceros!L74)","v":""}]
[null,null,null,null,null,null,{"$f":"IF(Terceros!L75=\"\",\"\",Terceros!L75)","v":""}]
[null,null,null,null,null,null,{"$f":"IF(Terceros!L76=\"\",\"\",Terceros!L76)","v":""}]
[null,null,null,null,null,null,{"$f":"IF(Terceros!L77=\"\",\"\",Terceros!L77)","v":""}]
[null,null,null,null,null,null,{"$f":"IF(Terceros!L78=\"\",\"\",Terceros!L78)","v":""}]
[null,null,null,null,null,null,{"$f":"IF(Terceros!L79=\"\",\"\",Terceros!L79)","v":""}]
[null,null,null,null,null,null,{"$f":"IF(Terceros!L80=\"\",\"\",Terceros!L80)","v":""}]
[null,null,null,null,null,null,{"$f":"IF(Terceros!L81=\"\",\"\",Terceros!L81)","v":""}]
[null,null,null,null,null,null,{"$f":"IF(Terceros!L82=\"\",\"\",Terceros!L82)","v":""}]
[null,null,null,null,null,null,{"$f":"IF(Terceros!L83=\"\",\"\",Terceros!L83)","v":""}]
[null,null,null,null,null,null,{"$f":"IF(Terceros!L84=\"\",\"\",Terceros!L84)","v":""}]
[null,null,null,null,null,null,{"$f":"IF(Terceros!L85=\"\",\"\",Terceros!L85)","v":""}]
[null,null,null,null,null,null,{"$f":"IF(Terceros!L86=\"\",\"\",Terceros!L86)","v":""}]
[null,null,null,null,null,null,{"$f":"IF(Terceros!L87=\"\",\"\",Terceros!L87)","v":""}]
[null,null,null,null,null,null,{"$f":"IF(Terceros!L88=\"\",\"\",Terceros!L88)","v":""}]
[null,null,null,null,null,null,{"$f":"IF(Terceros!L89=\"\",\"\",Terceros!L89)","v":""}]
[null,null,null,null,null,null,{"$f":"IF(Terceros!L90=\"\",\"\",Terceros!L90)","v":""}]
[null,null,null,null,null,null,{"$f":"IF(Terceros!L91=\"\",\"\",Terceros!L91)","v":""}]
[null,null,null,null,null,null,{"$f":"IF(Terceros!L92=\"\",\"\",Terceros!L92)","v":""}]
[null,null,null,null,null,null,{"$f":"IF(Terceros!L93=\"\",\"\",Terceros!L93)","v":""}]
[null,null,null,null,null,null,{"$f":"IF(Terceros!L94=\"\",\"\",Terceros!L94)","v":""}]
[null,null,null,null,null,null,{"$f":"IF(Terceros!L95=\"\",\"\",Terceros!L95)","v":""}]
[null,null,null,null,null,null,{"$f":"IF(Terceros!L96=\"\",\"\",Terceros!L96)","v":""}]
[null,null,null,null,null,null,{"$f":"IF(Terceros!L97=\"\",\"\",Terceros!L97)","v":""}]
[null,null,null,null,null,null,{"$f":"IF(Terceros!L98=\"\",\"\",Terceros!L98)","v":""}]
[null,null,null,null,null,null,{"$f":"IF(Terceros!L99=\"\",\"\",Terceros!L99)","v":""}]
[null,null,null,null,null,null,{"$f":"IF(Terceros!L100=\"\",\"\",Terceros!L100)","v":""}]
[null,null,null,null,null,null,{"$f":"IF(Terceros!L101=\"\",\"\",Terceros!L101)","v":""}]
[null,null,null,null,null,null,{"$f":"IF(Terceros!L102=\"\",\"\",Terceros!L102)","v":""}]
[null,null,null,null,null,null,{"$f":"IF(Terceros!L103=\"\",\"\",Terceros!L103)","v":""}]
[null,null,null,null,null,null,{"$f":"IF(Terceros!L104=\"\",\"\",Terceros!L104)","v":""}]
[null,null,null,null,null,null,{"$f":"IF(Terceros!L105=\"\",\"\",Terceros!L105)","v":""}]
[null,null,null,null,null,null,{"$f":"IF(Terceros!L106=\"\",\"\",Terceros!L106)","v":""}]
[null,null,null,null,null,null,{"$f":"IF(Terceros!L107=\"\",\"\",Terceros!L107)","v":""}]
[null,null,null,null,null,null,{"$f":"IF(Terceros!L108=\"\",\"\",Terceros!L108)","v":""}]
[null,null,null,null,null,null,{"$f":"IF(Terceros!L109=\"\",\"\",Terceros!L109)","v":""}]
[null,null,null,null,null,null,{"$f":"IF(Terceros!L110=\"\",\"\",Terceros!L110)","v":""}]
[null,null,null,null,null,null,{"$f":"IF(Terceros!L111=\"\",\"\",Terceros!L111)","v":""}]
[null,null,null,null,null,null,{"$f":"IF(Terceros!L112=\"\",\"\",Terceros!L112)","v":""}]
[null,null,null,null,null,null,{"$f":"IF(Terceros!L113=\"\",\"\",Terceros!L113)","v":""}]
[null,null,null,null,null,null,{"$f":"IF(Terceros!L114=\"\",\"\",Terceros!L114)","v":""}]
[null,null,null,null,null,null,{"$f":"IF(Terceros!L115=\"\",\"\",Terceros!L115)","v":""}]
[null,null,null,null,null,null,{"$f":"IF(Terceros!L116=\"\",\"\",Terceros!L116)","v":""}]
[null,null,null,null,null,null,{"$f":"IF(Terceros!L117=\"\",\"\",Terceros!L117)","v":""}]
[null,null,null,null,null,null,{"$f":"IF(Terceros!L118=\"\",\"\",Terceros!L118)","v":""}]
[null,null,null,null,null,null,{"$f":"IF(Terceros!L119=\"\",\"\",Terceros!L119)","v":""}]
[null,null,null,null,null,null,{"$f":"IF(Terceros!L120=\"\",\"\",Terceros!L120)","v":""}]
[null,null,null,null,null,null,{"$f":"IF(Terceros!L121=\"\",\"\",Terceros!L121)","v":""}]
[null,null,null,null,null,null,{"$f":"IF(Terceros!L122=\"\",\"\",Terceros!L122)","v":""}]
[null,null,null,null,null,null,{"$f":"IF(Terceros!L123=\"\",\"\",Terceros!L123)","v":""}]
[null,null,null,null,null,null,{"$f":"IF(Terceros!L124=\"\",\"\",Terceros!L124)","v":""}]
[null,null,null,null,null,null,{"$f":"IF(Terceros!L125=\"\",\"\",Terceros!L125)","v":""}]
[null,null,null,null,null,null,{"$f":"IF(Terceros!L126=\"\",\"\",Terceros!L126)","v":""}]
[null,null,null,null,null,null,{"$f":"IF(Terceros!L127=\"\",\"\",Terceros!L127)","v":""}]
[null,null,null,null,null,null,{"$f":"IF(Terceros!L128=\"\",\"\",Terceros!L128)","v":""}]
[null,null,null,null,null,null,{"$f":"IF(Terceros!L129=\"\",\"\",Terceros!L129)","v":""}]
[null,null,null,null,null,null,{"$f":"IF(Terceros!L130=\"\",\"\",Terceros!L130)","v":""}]
[null,null,null,null,null,null,{"$f":"IF(Terceros!L131=\"\",\"\",Terceros!L131)","v":""}]
[null,null,null,null,null,null,{"$f":"IF(Terceros!L132=\"\",\"\",Terceros!L132)","v":""}]
[null,null,null,null,null,null,{"$f":"IF(Terceros!L133=\"\",\"\",Terceros!L133)","v":""}]
[null,null,null,null,null,null,{"$f":"IF(Terceros!L134=\"\",\"\",Terceros!L134)","v":""}]
[null,null,null,null,null,null,{"$f":"IF(Terceros!L135=\"\",\"\",Terceros!L135)","v":""}]
[null,null,null,null,null,null,{"$f":"IF(Terceros!L136=\"\",\"\",Terceros!L136)","v":""}]
[null,null,null,null,null,null,{"$f":"IF(Terceros!L137=\"\",\"\",Terceros!L137)","v":""}]
[null,null,null,null,null,null,{"$f":"IF(Terceros!L138=\"\",\"\",Terceros!L138)","v":""}]
[null,null,null,null,null,null,{"$f":"IF(Terceros!L139=\"\",\"\",Terceros!L139)","v":""}]
[null,null,null,null,null,null,{"$f":"IF(Terceros!L140=\"\",\"\",Terceros!L140)","v":""}]
[null,null,null,null,null,null,{"$f":"IF(Terceros!L141=\"\",\"\",Terceros!L141)","v":""}]
[null,null,null,null,null,null,{"$f":"IF(Terceros!L142=\"\",\"\",Terceros!L142)","v":""}]
[null,null,null,null,null,null,{"$f":"IF(Terceros!L143=\"\",\"\",Terceros!L143)","v":""}]
[null,null,null,null,null,null,{"$f":"IF(Terceros!L144=\"\",\"\",Terceros!L144)","v":""}]
[null,null,null,null,null,null,{"$f":"IF(Terceros!L145=\"\",\"\",Terceros!L145)","v":""}]
[null,null,null,null,null,null,{"$f":"IF(Terceros!L146=\"\",\"\",Terceros!L146)","v":""}]
[null,null,null,null,null,null,{"$f":"IF(Terceros!L147=\"\",\"\",Terceros!L147)","v":""}]
[null,null,null,null,null,null,{"$f":"IF(Terceros!L148=\"\",\"\",Terceros!L148)","v":""}]
[null,null,null,null,null,null,{"$f":"IF(Terceros!L149=\"\",\"\",Terceros!L149)","v":""}]
[null,null,null,null,null,null,{"$f":"IF(Terceros!L150=\"\",\"\",Terceros!L150)","v":""}]
[null,null,null,null,null,null,{"$f":"IF(Terceros!L151=\"\",\"\",Terceros!L151)","v":""}]
[null,null,null,null,null,null,{"$f":"IF(Terceros!L152=\"\",\"\",Terceros!L152)","v":""}]
[null,null,null,null,null,null,{"$f":"IF(Terceros!L153=\"\",\"\",Terceros!L153)","v":""}]
[null,null,null,null,null,null,{"$f":"IF(Terceros!L154=\"\",\"\",Terceros!L154)","v":""}]
[null,null,null,null,null,null,{"$f":"IF(Terceros!L155=\"\",\"\",Terceros!L155)","v":""}]
[null,null,null,null,null,null,{"$f":"IF(Terceros!L156=\"\",\"\",Terceros!L156)","v":""}]
[null,null,null,null,null,null,{"$f":"IF(Terceros!L157=\"\",\"\",Terceros!L157)","v":""}]
[null,null,null,null,null,null,{"$f":"IF(Terceros!L158=\"\",\"\",Terceros!L158)","v":""}]
[null,null,null,null,null,null,{"$f":"IF(Terceros!L159=\"\",\"\",Terceros!L159)","v":""}]
[null,null,null,null,null,null,{"$f":"IF(Terceros!L160=\"\",\"\",Terceros!L160)","v":""}]
[null,null,null,null,null,null,{"$f":"IF(Terceros!L161=\"\",\"\",Terceros!L161)","v":""}]
[null,null,null,null,null,null,{"$f":"IF(Terceros!L162=\"\",\"\",Terceros!L162)","v":""}]
[null,null,null,null,null,null,{"$f":"IF(Terceros!L163=\"\",\"\",Terceros!L163)","v":""}]
[null,null,null,null,null,null,{"$f":"IF(Terceros!L164=\"\",\"\",Terceros!L164)","v":""}]
[null,null,null,null,null,null,{"$f":"IF(Terceros!L165=\"\",\"\",Terceros!L165)","v":""}]
[null,null,null,null,null,null,{"$f":"IF(Terceros!L166=\"\",\"\",Terceros!L166)","v":""}]
[null,null,null,null,null,null,{"$f":"IF(Terceros!L167=\"\",\"\",Terceros!L167)","v":""}]
[null,null,null,null,null,null,{"$f":"IF(Terceros!L168=\"\",\"\",Terceros!L168)","v":""}]
[null,null,null,null,null,null,{"$f":"IF(Terceros!L169=\"\",\"\",Terceros!L169)","v":""}]
[null,null,null,null,null,null,{"$f":"IF(Terceros!L170=\"\",\"\",Terceros!L170)","v":""}]
[null,null,null,null,null,null,{"$f":"IF(Terceros!L171=\"\",\"\",Terceros!L171)","v":""}]
[null,null,null,null,null,null,{"$f":"IF(Terceros!L172=\"\",\"\",Terceros!L172)","v":""}]
[null,null,null,null,null,null,{"$f":"IF(Terceros!L173=\"\",\"\",Terceros!L173)","v":""}]
[null,null,null,null,null,null,{"$f":"IF(Terceros!L174=\"\",\"\",Terceros!L174)","v":""}]
[null,null,null,null,null,null,{"$f":"IF(Terceros!L175=\"\",\"\",Terceros!L175)","v":""}]
[null,null,null,null,null,null,{"$f":"IF(Terceros!L176=\"\",\"\",Terceros!L176)","v":""}]
[null,null,null,null,null,null,{"$f":"IF(Terceros!L177=\"\",\"\",Terceros!L177)","v":""}]
[null,null,null,null,null,null,{"$f":"IF(Terceros!L178=\"\",\"\",Terceros!L178)","v":""}]
[null,null,null,null,null,null,{"$f":"IF(Terceros!L179=\"\",\"\",Terceros!L179)","v":""}]
[null,null,null,null,null,null,{"$f":"IF(Terceros!L180=\"\",\"\",Terceros!L180)","v":""}]
[null,null,null,null,null,null,{"$f":"IF(Terceros!L181=\"\",\"\",Terceros!L181)","v":""}]
[null,null,null,null,null,null,{"$f":"IF(Terceros!L182=\"\",\"\",Terceros!L182)","v":""}]
[null,null,null,null,null,null,{"$f":"IF(Terceros!L183=\"\",\"\",Terceros!L183)","v":""}]
[null,null,null,null,null,null,{"$f":"IF(Terceros!L184=\"\",\"\",Terceros!L184)","v":""}]
[null,null,null,null,null,null,{"$f":"IF(Terceros!L185=\"\",\"\",Terceros!L185)","v":""}]
[null,null,null,null,null,null,{"$f":"IF(Terceros!L186=\"\",\"\",Terceros!L186)","v":""}]
[null,null,null,null,null,null,{"$f":"IF(Terceros!L187=\"\",\"\",Terceros!L187)","v":""}]
[null,null,null,null,null,null,{"$f":"IF(Terceros!L188=\"\",\"\",Terceros!L188)","v":""}]
[null,null,null,null,null,null,{"$f":"IF(Terceros!L189=\"\",\"\",Terceros!L189)","v":""}]
[null,null,null,null,null,null,{"$f":"IF(Terceros!L190=\"\",\"\",Terceros!L190)","v":""}]
[null,null,null,null,null,null,{"$f":"IF(Terceros!L191=\"\",\"\",Terceros!L191)","v":""}]
[null,null,null,null,null,null,{"$f":"IF(Terceros!L192=\"\",\"\",Terceros!L192)","v":""}]
[null,null,null,null,null,null,{"$f":"IF(Terceros!L193=\"\",\"\",Terceros!L193)","v":""}]
[null,null,null,null,null,null,{"$f":"IF(Terceros!L194=\"\",\"\",Terceros!L194)","v":""}]
[null,null,null,null,null,null,{"$f":"IF(Terceros!L195=\"\",\"\",Terceros!L195)","v":""}]
[null,null,null,null,null,null,{"$f":"IF(Terceros!L196=\"\",\"\",Terceros!L196)","v":""}]
[null,null,null,null,null,null,{"$f":"IF(Terceros!L197=\"\",\"\",Terceros!L197)","v":""}]
[null,null,null,null,null,null,{"$f":"IF(Terceros!L198=\"\",\"\",Terceros!L198)","v":""}]
[null,null,null,null,null,null,{"$f":"IF(Terceros!L199=\"\",\"\",Terceros!L199)","v":""}]
[null,null,null,null,null,null,{"$f":"IF(Terceros!L200=\"\",\"\",Terceros!L200)","v":""}]
[null,null,null,null,null,null,{"$f":"IF(Terceros!L201=\"\",\"\",Terceros!L201)","v":""}]
[null,null,null,null,null,null,{"$f":"IF(Terceros!L202=\"\",\"\",Terceros!L202)","v":""}]
[null,null,null,null,null,null,{"$f":"IF(Terceros!L203=\"\",\"\",Terceros!L203)","v":""}]
[null,null,null,null,null,null,{"$f":"IF(Terceros!L204=\"\",\"\",Terceros!L204)","v":""}]
[null,null,null,null,null,null,{"$f":"IF(Terceros!L205=\"\",\"\",Terceros!L205)","v":""}]
[null,null,null,null,null,null,{"$f":"IF(Terceros!L206=\"\",\"\",Terceros!L206)","v":""}]
[null,null,null,null,null,null,{"$f":"IF(Terceros!L207=\"\",\"\",Terceros!L207)","v":""}]
[null,null,null,null,null,null,{"$f":"IF(Terceros!L208=\"\",\"\",Terceros!L208)","v":""}]
[null,null,null,null,null,null,{"$f":"IF(Terceros!L209=\"\",\"\",Terceros!L209)","v":""}]
[null,null,null,null,null,null,{"$f":"IF(Terceros!L210=\"\",\"\",Terceros!L210)","v":""}]
[null,null,null,null,null,null,{"$f":"IF(Terceros!L211=\"\",\"\",Terceros!L211)","v":""}]
[null,null,null,null,null,null,{"$f":"IF(Terceros!L212=\"\",\"\",Terceros!L212)","v":""}]
[null,null,null,null,null,null,{"$f":"IF(Terceros!L213=\"\",\"\",Terceros!L213)","v":""}]
[null,null,null,null,null,null,{"$f":"IF(Terceros!L214=\"\",\"\",Terceros!L214)","v":""}]
[null,null,null,null,null,null,{"$f":"IF(Terceros!L215=\"\",\"\",Terceros!L215)","v":""}]
[null,null,null,null,null,null,{"$f":"IF(Terceros!L216=\"\",\"\",Terceros!L216)","v":""}]
[null,null,null,null,null,null,{"$f":"IF(Terceros!L217=\"\",\"\",Terceros!L217)","v":""}]
[null,null,null,null,null,null,{"$f":"IF(Terceros!L218=\"\",\"\",Terceros!L218)","v":""}]
[null,null,null,null,null,null,{"$f":"IF(Terceros!L219=\"\",\"\",Terceros!L219)","v":""}]
[null,null,null,null,null,null,{"$f":"IF(Terceros!L220=\"\",\"\",Terceros!L220)","v":""}]
[null,null,null,null,null,null,{"$f":"IF(Terceros!L221=\"\",\"\",Terceros!L221)","v":""}]
[null,null,null,null,null,null,{"$f":"IF(Terceros!L222=\"\",\"\",Terceros!L222)","v":""}]
[null,null,null,null,null,null,{"$f":"IF(Terceros!L223=\"\",\"\",Terceros!L223)","v":""}]
[null,null,null,null,null,null,{"$f":"IF(Terceros!L224=\"\",\"\",Terceros!L224)","v":""}]
[null,null,null,null,null,null,{"$f":"IF(Terceros!L225=\"\",\"\",Terceros!L225)","v":""}]
[null,null,null,null,null,null,{"$f":"IF(Terceros!L226=\"\",\"\",Terceros!L226)","v":""}]
[null,null,null,null,null,null,{"$f":"IF(Terceros!L227=\"\",\"\",Terceros!L227)","v":""}]
[null,null,null,null,null,null,{"$f":"IF(Terceros!L228=\"\",\"\",Terceros!L228)","v":""}]
[null,null,null,null,null,null,{"$f":"IF(Terceros!L229=\"\",\"\",Terceros!L229)","v":""}]
[null,null,null,null,null,null,{"$f":"IF(Terceros!L230=\"\",\"\",Terceros!L230)","v":""}]
[null,null,null,null,null,null,{"$f":"IF(Terceros!L231=\"\",\"\",Terceros!L231)","v":""}]
[null,null,null,null,null,null,{"$f":"IF(Terceros!L232=\"\",\"\",Terceros!L232)","v":""}]
[null,null,null,null,null,null,{"$f":"IF(Terceros!L233=\"\",\"\",Terceros!L233)","v":""}]
[null,null,null,null,null,null,{"$f":"IF(Terceros!L234=\"\",\"\",Terceros!L234)","v":""}]
[null,null,null,null,null,null,{"$f":"IF(Terceros!L235=\"\",\"\",Terceros!L235)","v":""}]
[null,null,null,null,null,null,{"$f":"IF(Terceros!L236=\"\",\"\",Terceros!L236)","v":""}]
[null,null,null,null,null,null,{"$f":"IF(Terceros!L237=\"\",\"\",Terceros!L237)","v":""}]
[null,null,null,null,null,null,{"$f":"IF(Terceros!L238=\"\",\"\",Terceros!L238)","v":""}]
[null,null,null,null,null,null,{"$f":"IF(Terceros!L239=\"\",\"\",Terceros!L239)","v":""}]
[null,null,null,null,null,null,{"$f":"IF(Terceros!L240=\"\",\"\",Terceros!L240)","v":""}]
[null,null,null,null,null,null,{"$f":"IF(Terceros!L241=\"\",\"\",Terceros!L241)","v":""}]
[null,null,null,null,null,null,{"$f":"IF(Terceros!L242=\"\",\"\",Terceros!L242)","v":""}]
[null,null,null,null,null,null,{"$f":"IF(Terceros!L243=\"\",\"\",Terceros!L243)","v":""}]
[null,null,null,null,null,null,{"$f":"IF(Terceros!L244=\"\",\"\",Terceros!L244)","v":""}]
[null,null,null,null,null,null,{"$f":"IF(Terceros!L245=\"\",\"\",Terceros!L245)","v":""}]
[null,null,null,null,null,null,{"$f":"IF(Terceros!L246=\"\",\"\",Terceros!L246)","v":""}]
[null,null,null,null,null,null,{"$f":"IF(Terceros!L247=\"\",\"\",Terceros!L247)","v":""}]
[null,null,null,null,null,null,{"$f":"IF(Terceros!L248=\"\",\"\",Terceros!L248)","v":""}]
[null,null,null,null,null,null,{"$f":"IF(Terceros!L249=\"\",\"\",Terceros!L249)","v":""}]
[null,null,null,null,null,null,{"$f":"IF(Terceros!L250=\"\",\"\",Terceros!L250)","v":""}]
[null,null,null,null,null,null,{"$f":"IF(Terceros!L251=\"\",\"\",Terceros!L251)","v":""}]
[null,null,null,null,null,null,{"$f":"IF(Terceros!L252=\"\",\"\",Terceros!L252)","v":""}]
[null,null,null,null,null,null,{"$f":"IF(Terceros!L253=\"\",\"\",Terceros!L253)","v":""}]
[null,null,null,null,null,null,{"$f":"IF(Terceros!L254=\"\",\"\",Terceros!L254)","v":""}]
[null,null,null,null,null,null,{"$f":"IF(Terceros!L255=\"\",\"\",Terceros!L255)","v":""}]
[null,null,null,null,null,null,{"$f":"IF(Terceros!L256=\"\",\"\",Terceros!L256)","v":""}]
[null,null,null,null,null,null,{"$f":"IF(Terceros!L257=\"\",\"\",Terceros!L257)","v":""}]
[null,null,null,null,null,null,{"$f":"IF(Terceros!L258=\"\",\"\",Terceros!L258)","v":""}]
[null,null,null,null,null,null,{"$f":"IF(Terceros!L259=\"\",\"\",Terceros!L259)","v":""}]
[null,null,null,null,null,null,{"$f":"IF(Terceros!L260=\"\",\"\",Terceros!L260)","v":""}]
[null,null,null,null,null,null,{"$f":"IF(Terceros!L261=\"\",\"\",Terceros!L261)","v":""}]
[null,null,null,null,null,null,{"$f":"IF(Terceros!L262=\"\",\"\",Terceros!L262)","v":""}]
[null,null,null,null,null,null,{"$f":"IF(Terceros!L263=\"\",\"\",Terceros!L263)","v":""}]
[null,null,null,null,null,null,{"$f":"IF(Terceros!L264=\"\",\"\",Terceros!L264)","v":""}]
[null,null,null,null,null,null,{"$f":"IF(Terceros!L265=\"\",\"\",Terceros!L265)","v":""}]
[null,null,null,null,null,null,{"$f":"IF(Terceros!L266=\"\",\"\",Terceros!L266)","v":""}]
[null,null,null,null,null,null,{"$f":"IF(Terceros!L267=\"\",\"\",Terceros!L267)","v":""}]
[null,null,null,null,null,null,{"$f":"IF(Terceros!L268=\"\",\"\",Terceros!L268)","v":""}]
[null,null,null,null,null,null,{"$f":"IF(Terceros!L269=\"\",\"\",Terceros!L269)","v":""}]
[null,null,null,null,null,null,{"$f":"IF(Terceros!L270=\"\",\"\",Terceros!L270)","v":""}]
[null,null,null,null,null,null,{"$f":"IF(Terceros!L271=\"\",\"\",Terceros!L271)","v":""}]
[null,null,null,null,null,null,{"$f":"IF(Terceros!L272=\"\",\"\",Terceros!L272)","v":""}]
[null,null,null,null,null,null,{"$f":"IF(Terceros!L273=\"\",\"\",Terceros!L273)","v":""}]
[null,null,null,null,null,null,{"$f":"IF(Terceros!L274=\"\",\"\",Terceros!L274)","v":""}]
[null,null,null,null,null,null,{"$f":"IF(Terceros!L275=\"\",\"\",Terceros!L275)","v":""}]
[null,null,null,null,null,null,{"$f":"IF(Terceros!L276=\"\",\"\",Terceros!L276)","v":""}]
[null,null,null,null,null,null,{"$f":"IF(Terceros!L277=\"\",\"\",Terceros!L277)","v":""}]
[null,null,null,null,null,null,{"$f":"IF(Terceros!L278=\"\",\"\",Terceros!L278)","v":""}]
[null,null,null,null,null,null,{"$f":"IF(Terceros!L279=\"\",\"\",Terceros!L279)","v":""}]
[null,null,null,null,null,null,{"$f":"IF(Terceros!L280=\"\",\"\",Terceros!L280)","v":""}]
[null,null,null,null,null,null,{"$f":"IF(Terceros!L281=\"\",\"\",Terceros!L281)","v":""}]
[null,null,null,null,null,null,{"$f":"IF(Terceros!L282=\"\",\"\",Terceros!L282)","v":""}]
[null,null,null,null,null,null,{"$f":"IF(Terceros!L283=\"\",\"\",Terceros!L283)","v":""}]
[null,null,null,null,null,null,{"$f":"IF(Terceros!L284=\"\",\"\",Terceros!L284)","v":""}]
[null,null,null,null,null,null,{"$f":"IF(Terceros!L285=\"\",\"\",Terceros!L285)","v":""}]
[null,null,null,null,null,null,{"$f":"IF(Terceros!L286=\"\",\"\",Terceros!L286)","v":""}]
[null,null,null,null,null,null,{"$f":"IF(Terceros!L287=\"\",\"\",Terceros!L287)","v":""}]
[null,null,null,null,null,null,{"$f":"IF(Terceros!L288=\"\",\"\",Terceros!L288)","v":""}]
[null,null,null,null,null,null,{"$f":"IF(Terceros!L289=\"\",\"\",Terceros!L289)","v":""}]
[null,null,null,null,null,null,{"$f":"IF(Terceros!L290=\"\",\"\",Terceros!L290)","v":""}]
[null,null,null,null,null,null,{"$f":"IF(Terceros!L291=\"\",\"\",Terceros!L291)","v":""}]
[null,null,null,null,null,null,{"$f":"IF(Terceros!L292=\"\",\"\",Terceros!L292)","v":""}]
[null,null,null,null,null,null,{"$f":"IF(Terceros!L293=\"\",\"\",Terceros!L293)","v":""}]
[null,null,null,null,null,null,{"$f":"IF(Terceros!L294=\"\",\"\",Terceros!L294)","v":""}]
[null,null,null,null,null,null,{"$f":"IF(Terceros!L295=\"\",\"\",Terceros!L295)","v":""}]
[null,null,null,null,null,null,{"$f":"IF(Terceros!L296=\"\",\"\",Terceros!L296)","v":""}]
[null,null,null,null,null,null,{"$f":"IF(Terceros!L297=\"\",\"\",Terceros!L297)","v":""}]
[null,null,null,null,null,null,{"$f":"IF(Terceros!L298=\"\",\"\",Terceros!L298)","v":""}]
[null,null,null,null,null,null,{"$f":"IF(Terceros!L299=\"\",\"\",Terceros!L299)","v":""}]
[null,null,null,null,null,null,{"$f":"IF(Terceros!L300=\"\",\"\",Terceros!L300)","v":""}]

{"sheet":"datos","index":1,"n_rows":1120,"n_cols":19,"rows_kept":1120,"cut":false,"hidden":true,"merged":[[0,8,0,9]]}
["NIT","DV1","DV2",null,"CalculoDV1","CalculoDV2","Tipo de Tercero","Tipo de persona","Tipo de identificacion",null,"Código país","País","Estado","Código estado","Ciudad","Código ciudad","Departamento","Area Code /","Tipo de regimen IVA"]
[{"$f":"IF('Datos Iniciales'!F3=\"\",\"\",'Datos Iniciales'!F3)","v":""},{"$f":"IF(E2=0,0,IF(E2=1,1,11-E2))","v":{"$error":"#VALUE!"}},{"$f":"IF((ROUND((((F2/11)-TRUNC(F2/11))*11),0))<=1,(ROUND((((F2/11)-TRUNC(F2/11))*11),0)),(11-(ROUND((((F2/11)-TRUNC(F2/11))*11),0))))","v":0},null,{"$f":"MOD((VALUE(MID(TEXT(A2,\"000000000000000\"),15,1))*3+VALUE(MID(TEXT(A2,\"000000000000000\"),14,1))*7+VALUE(MID(TEXT(A2,\"000000000000000\"),13,1))*13+VALUE(MID(TEXT(A2,\"000000000000000\"),12,1))*17+VALUE(MID(TEXT(A2,\"000000000000000\"),11,1))*19+VALUE(MID(TEXT(A2,\"000000000000000\"),10,1))*23+VALUE(MID(TEXT(A2,\"000000000000000\"),9,1))*29+VALUE(MID(TEXT(A2,\"000000000000000\"),8,1))*37+VALUE(MID(TEXT(A2,\"000000000000000\"),7,1))*41+VALUE(MID(TEXT(A2,\"000000000000000\"),6,1))*43+VALUE(MID(TEXT(A2,\"000000000000000\"),5,1))*47+VALUE(MID(TEXT(A2,\"000000000000000\"),4,1))*53+VALUE(MID(TEXT(A2,\"000000000000000\"),3,1))*59+VALUE(MID(TEXT(A2,\"000000000000000\"),2,1))*67+VALUE(MID(TEXT(A2,\"000000000000000\"),1,1))*71),11)","v":{"$error":"#VALUE!"}},{"$f":"(MID(CONCATENATE(REPT(0,15-LEN(A2)),A2),1,1)*71)+(MID(CONCATENATE(REPT(0,15-LEN(A2)),A2),2,1)*67)+(MID(CONCATENATE(REPT(0,15-LEN(A2)),A2),3,1)*59)+(MID(CONCATENATE(REPT(0,15-LEN(A2)),A2),4,1)*53)+(MID(CONCATENATE(REPT(0,15-LEN(A2)),A2),5,1)*47)+(MID(CONCATENATE(REPT(0,15-LEN(A2)),A2),6,1)*43)+(MID(CONCATENATE(REPT(0,15-LEN(A2)),A2),7,1)*41)+(MID(CONCATENATE(REPT(0,15-LEN(A2)),A2),8,1)*37)+(MID(CONCATENATE(REPT(0,15-LEN(A2)),A2),9,1)*29)+(MID(CONCATENATE(REPT(0,15-LEN(A2)),A2),10,1)*23)+(MID(CONCATENATE(REPT(0,15-LEN(A2)),A2),11,1)*19)+(MID(CONCATENATE(REPT(0,15-LEN(A2)),A2),12,1)*17)+(MID(CONCATENATE(REPT(0,15-LEN(A2)),A2),13,1)*13)+(MID(CONCATENATE(REPT(0,15-LEN(A2)),A2),14,1)*7)+(MID(CONCATENATE(REPT(0,15-LEN(A2)),A2),15,1)*3)","v":0},"Cliente","Si","Registro civil",11,"Co","Colombia","Amazonas",91,"Abejorral","05002","AMAZONAS - 8",8,"No Responsable de IVA"]
[{"$f":"IF('Datos Iniciales'!F4=\"\",\"\",'Datos Iniciales'!F4)","v":""},{"$f":"IF(E3=0,0,IF(E3=1,1,11-E3))","v":{"$error":"#VALUE!"}},{"$f":"IF((ROUND((((F3/11)-TRUNC(F3/11))*11),0))<=1,(ROUND((((F3/11)-TRUNC(F3/11))*11),0)),(11-(ROUND((((F3/11)-TRUNC(F3/11))*11),0))))","v":0},null,{"$error":"#VALUE!"},0,"Distribuidor","No","Tarjeta de identidad",12,"Ve","Venezuela","Antioquia","05","Abrego",54003,"AMAZONAS-Puerto Nariño - 7",7,"Responsable de IVA"]
[{"$f":"IF('Datos Iniciales'!F5=\"\",\"\",'Datos Iniciales'!F5)","v":""},{"$error":"#VALUE!"},0,null,{"$error":"#VALUE!"},0,"Otros",null,"Cédula de ciudadanía",13,"Us","Estados Unidos","Arauca",81,"Abriaquí","05004","ANTIOQUIA - 4",4]
[{"$f":"IF('Datos Iniciales'!F6=\"\",\"\",'Datos Iniciales'!F6)","v":""},{"$error":"#VALUE!"},0,null,{"$error":"#VALUE!"},0,"Prospecto",null,"Tarjeta de extranjería",21,"Ec","Ecuador","Archipiélago de San Andrés, Providencia y Santa Ca",88,"Acacías",50006,"ARAUCA - 7",7]
[{"$f":"IF('Datos Iniciales'!F7=\"\",\"\",'Datos Iniciales'!F7)","v":""},{"$error":"#VALUE!"},0,null,{"$error":"#VALUE!"},0,"Proveedor",null,"Cédula de extranjería",22,null,null,"Atlántico","08","Acandí",27006,"ATLANTICO - 5",5]
[{"$f":"IF('Datos Iniciales'!F8=\"\",\"\",'Datos Iniciales'!F8)","v":""},{"$error":"#VALUE!"},0,null,{"$error":"#VALUE!"},0,null,null,"NIT",31,null,null,"Bogotá D.C",11,"Acevedo",41006,"BOLIVAR - 5",5]
[{"$f":"IF('Datos Iniciales'!F9=\"\",\"\",'Datos Iniciales'!F9)","v":""},{"$error":"#VALUE!"},0,null,{"$error":"#VALUE!"},0,null,null,"Pasaporte",41,null,null,"Bolívar",13,"Achí",13006,"BOYACA - 8",8]
[{"$f":"IF('Datos Iniciales'!F10=\"\",\"\",'Datos Iniciales'!F10)","v":""},{"$error":"#VALUE!"},0,null,{"$error":"#VALUE!"},0,null,null,"Documento de identificación extranjero",42,null,null,"Boyacá",15,"Agrado",41013,"CALDAS - 6",6]
[{"$f":"IF('Datos Iniciales'!F11=\"\",\"\",'Datos Iniciales'!F11)","v":""},{"$error":"#VALUE!"},0,null,{"$error":"#VALUE!"},0,null,null,"NUIP","1900-03-31",null,null,"Caldas",17,"Agua De Dios",25001,"CAQUETA - 8",8]
[{"$f":"IF('Datos Iniciales'!F12=\"\",\"\",'Datos Iniciales'!F12)","v":""},{"$error":"#VALUE!"},0,null,{"$error":"#VALUE!"},0,null,null,"No obligado a registrarse en el RUT PN","R-00-PN",null,null,"Caquetá",18,"Aguachica",20011,"CASANARE - 8",8]
[{"$f":"IF('Datos Iniciales'!F13=\"\",\"\",'Datos Iniciales'!F13)","v":""},{"$error":"#VALUE!"},0,null,{"$error":"#VALUE!"},0,null,null,"Permiso especial de permanencia PEP",14,null,null,"Casanare",85,"Aguada",68013,"CAUCA - 2",2]
[{"$f":"IF('Datos Iniciales'!F14=\"\",\"\",'Datos Iniciales'!F14)","v":""},{"$error":"#VALUE!"},0,null,{"$error":"#VALUE!"},0,null,null,"Sin identificación del exterior o para uso definido por la DIAN",43,null,null,"Cauca",19,"Aguadas",17013,"CESAR - 5",5]
[{"$f":"IF('Datos Iniciales'!F15=\"\",\"\",'Datos Iniciales'!F15)","v":""},{"$error":"#VALUE!"},0,null,{"$error":"#VALUE!"},0,null,null,"Nit de otro país / Sin identificación del exterior (43 medios magnéticos)",50,null,null,"Cesar",20,"Aguazul",85010,"CHOCO - 4",4]
[{"$f":"IF('Datos Iniciales'!F16=\"\",\"\",'Datos Iniciales'!F16)","v":""},{"$error":"#VALUE!"},0,null,{"$error":"#VALUE!"},0,null,null,"Salvoconducto de permanencia",89,null,null,"Chocó",27,"Agustín Codazzi",20013,"CORDOBA - 4",4]
[{"$f":"IF('Datos Iniciales'!F17=\"\",\"\",'Datos Iniciales'!F17)","v":""},{"$error":"#VALUE!"},0,null,{"$error":"#VALUE!"},0,null,null,null,null,null,null,"Córdoba",23,"Aipe",41016,"CUNDINAMARCA - 1",1]
[{"$f":"IF('Datos Iniciales'!F18=\"\",\"\",'Datos Iniciales'!F18)","v":""},{"$error":"#VALUE!"},0,null,{"$error":"#VALUE!"},0,null,null,null,null,null,null,"Cundinamarca",25,"Albán",25019,"GUAINIA - 8",8]
[{"$f":"IF('Datos Iniciales'!F19=\"\",\"\",'Datos Iniciales'!F19)","v":""},{"$error":"#VALUE!"},0,null,{"$error":"#VALUE!"},0,null,null,null,null,null,null,"Guainía",94,"Albán",52019,"GUAJIRA - 5",5]
[{"$f":"IF('Datos Iniciales'!F20=\"\",\"\",'Datos Iniciales'!F20)","v":""},{"$error":"#VALUE!"},0,null,{"$error":"#VALUE!"},0,null,null,null,null,null,null,"Guaviare",95,"Albania",18029,"GUAVIARE - 8",8]
[{"$f":"IF('Datos Iniciales'!F21=\"\",\"\",'Datos Iniciales'!F21)","v":""},{"$error":"#VALUE!"},0,null,{"$error":"#VALUE!"},0,null,null,null,null,null,null,"Huila",41,"Albania",44035,"HUILA - 8",8]
[{"$f":"IF('Datos Iniciales'!F22=\"\",\"\",'Datos Iniciales'!F22)","v":""},{"$error":"#VALUE!"},0,null,{"$error":"#VALUE!"},0,null,null,null,null,null,null,"La Guajira",44,"Albania",68020,"MAGDALENA - 5",5]
[{"$f":"IF('Datos Iniciales'!F23=\"\",\"\",'Datos Iniciales'!F23)","v":""},{"$error":"#VALUE!"},0,null,{"$error":"#VALUE!"},0,null,null,null,null,null,null,"Magdalena",47,"Alcalá",76020,"META - 8",8]
[{"$f":"IF('Datos Iniciales'!F24=\"\",\"\",'Datos Iniciales'!F24)","v":""},{"$error":"#VALUE!"},0,null,{"$error":"#VALUE!"},0,null,null,null,null,null,null,"Meta",50,"Aldana",52022,"NARIÑO - 2",2]
[{"$f":"IF('Datos Iniciales'!F25=\"\",\"\",'Datos Iniciales'!F25)","v":""},{"$error":"#VALUE!"},0,null,{"$error":"#VALUE!"},0,null,null,null,null,null,null,"Nariño",52,"Alejandría","05021","N SANTANDER - 7",7]
[{"$f":"IF('Datos Iniciales'!F26=\"\",\"\",'Datos Iniciales'!F26)","v":""},{"$error":"#VALUE!"},0,null,{"$error":"#VALUE!"},0,null,null,null,null,null,null,"Norte de Santander",54,"Algarrobo",47030,"PUTUMAYO - 8",8]
[{"$f":"IF('Datos Iniciales'!F27=\"\",\"\",'Datos Iniciales'!F27)","v":""},{"$error":"#VALUE!"},0,null,{"$error":"#VALUE!"},0,null,null,null,null,null,null,"Putumayo",86,"Algeciras",41020,"QUINDIO - 6",6]
[{"$f":"IF('Datos Iniciales'!F28=\"\",\"\",'Datos Iniciales'!F28)","v":""},{"$error":"#VALUE!"},0,null,{"$error":"#VALUE!"},0,null,null,null,null,null,null,"Quindio",63,"Almaguer",19022,"RISARALDA - 6",6]
[{"$f":"IF('Datos Iniciales'!F29=\"\",\"\",'Datos Iniciales'!F29)","v":""},{"$error":"#VALUE!"},0,null,{"$error":"#VALUE!"},0,null,null,null,null,null,null,"Risaralda",66,"Almeida",15022,"SAN ANDRES Y PROVIDENCIA - 8",8]
[{"$f":"IF('Datos Iniciales'!F30=\"\",\"\",'Datos Iniciales'!F30)","v":""},{"$error":"#VALUE!"},0,null,{"$error":"#VALUE!"},0,null,null,null,null,null,null,"Santander",68,"Alpujarra",73024,"SANTANDER - 7",7]
[{"$f":"IF('Datos Iniciales'!F31=\"\",\"\",'Datos Iniciales'!F31)","v":""},{"$error":"#VALUE!"},0,null,{"$error":"#VALUE!"},0,null,null,null,null,null,null,"Sucre",70,"Altamira",41026,"SUCRE - 5",5]
[{"$f":"IF('Datos Iniciales'!F32=\"\",\"\",'Datos Iniciales'!F32)","v":""},{"$error":"#VALUE!"},0,null,{"$error":"#VALUE!"},0,null,null,null,null,null,null,"Tolima",73,"Alto Baudo",27025,"TOLIMA - 8",8]
[{"$f":"IF('Datos Iniciales'!F33=\"\",\"\",'Datos Iniciales'!F33)","v":""},{"$error":"#VALUE!"},0,null,{"$error":"#VALUE!"},0,null,null,null,null,null,null,"Valle del Cauca",76,"Altos Del Rosario",13030,"VALLE - 2",2]
[{"$f":"IF('Datos Iniciales'!F34=\"\",\"\",'Datos Iniciales'!F34)","v":""},{"$error":"#VALUE!"},0,null,{"$error":"#VALUE!"},0,null,null,null,null,null,null,"Vaupés",97,"Alvarado",73026,"VAUPES - 8",8]
[{"$f":"IF('Datos Iniciales'!F35=\"\",\"\",'Datos Iniciales'!F35)","v":""},{"$error":"#VALUE!"},0,null,{"$error":"#VALUE!"},0,null,null,null,null,null,null,"Vichada",99,"Amagá","05030","VICHADA - 8",8]
[{"$f":"IF('Datos Iniciales'!F36=\"\",\"\",'Datos Iniciales'!F36)","v":""},{"$error":"#VALUE!"},0,null,{"$error":"#VALUE!"},0,null,null,null,null,null,null,null,null,"Amalfi","05031"]
[{"$f":"IF('Datos Iniciales'!F37=\"\",\"\",'Datos Iniciales'!F37)","v":""},{"$error":"#VALUE!"},0,null,{"$error":"#VALUE!"},0,null,null,null,null,null,null,null,null,"Ambalema",73030]
[{"$f":"IF('Datos Iniciales'!F38=\"\",\"\",'Datos Iniciales'!F38)","v":""},{"$error":"#VALUE!"},0,null,{"$error":"#VALUE!"},0,null,null,null,null,null,null,null,null,"Anapoima",25035]
[{"$f":"IF('Datos Iniciales'!F39=\"\",\"\",'Datos Iniciales'!F39)","v":""},{"$error":"#VALUE!"},0,null,{"$error":"#VALUE!"},0,null,null,null,null,null,null,null,null,"Ancuyá",52036]
[{"$f":"IF('Datos Iniciales'!F40=\"\",\"\",'Datos Iniciales'!F40)","v":""},{"$error":"#VALUE!"},0,null,{"$error":"#VALUE!"},0,null,null,null,null,null,null,null,null,"Andalucía",76036]
[{"$f":"IF('Datos Iniciales'!F41=\"\",\"\",'Datos Iniciales'!F41)","v":""},{"$error":"#VALUE!"},0,null,{"$error":"#VALUE!"},0,null,null,null,null,null,null,null,null,"Andes","05034"]
[{"$f":"IF('Datos Iniciales'!F42=\"\",\"\",'Datos Iniciales'!F42)","v":""},{"$error":"#VALUE!"},0,null,{"$error":"#VALUE!"},0,null,null,null,null,null,null,null,null,"Angelópolis","05036"]
[{"$f":"IF('Datos Iniciales'!F43=\"\",\"\",'Datos Iniciales'!F43)","v":""},{"$error":"#VALUE!"},0,null,{"$error":"#VALUE!"},0,null,null,null,null,null,null,null,null,"Angostura","05038"]
[{"$f":"IF('Datos Iniciales'!F44=\"\",\"\",'Datos Iniciales'!F44)","v":""},{"$error":"#VALUE!"},0,null,{"$error":"#VALUE!"},0,null,null,null,null,null,null,null,null,"Anolaima",25040]
[{"$f":"IF('Datos Iniciales'!F45=\"\",\"\",'Datos Iniciales'!F45)","v":""},{"$error":"#VALUE!"},0,null,{"$error":"#VALUE!"},0,null,null,null,null,null,null,null,null,"Anorí","05040"]
[{"$f":"IF('Datos Iniciales'!F46=\"\",\"\",'Datos Iniciales'!F46)","v":""},{"$error":"#VALUE!"},0,null,{"$error":"#VALUE!"},0,null,null,null,null,null,null,null,null,"Anserma",17042]
[{"$f":"IF('Datos Iniciales'!F47=\"\",\"\",'Datos Iniciales'!F47)","v":""},{"$error":"#VALUE!"},0,null,{"$error":"#VALUE!"},0,null,null,null,null,null,null,null,null,"Ansermanuevo",76041]
[{"$f":"IF('Datos Iniciales'!F48=\"\",\"\",'Datos Iniciales'!F48)","v":""},{"$error":"#VALUE!"},0,null,{"$error":"#VALUE!"},0,null,null,null,null,null,null,null,null,"Anza","05044"]
[{"$f":"IF('Datos Iniciales'!F49=\"\",\"\",'Datos Iniciales'!F49)","v":""},{"$error":"#VALUE!"},0,null,{"$error":"#VALUE!"},0,null,null,null,null,null,null,null,null,"Anzoátegui",73043]
[{"$f":"IF('Datos Iniciales'!F50=\"\",\"\",'Datos Iniciales'!F50)","v":""},{"$error":"#VALUE!"},0,null,{"$error":"#VALUE!"},0,null,null,null,null,null,null,null,null,"Apartadó","05045"]
[{"$f":"IF('Datos Iniciales'!F51=\"\",\"\",'Datos Iniciales'!F51)","v":""},{"$error":"#VALUE!"},0,null,{"$error":"#VALUE!"},0,null,null,null,null,null,null,null,null,"Apía",66045]
[{"$f":"IF('Datos Iniciales'!F52=\"\",\"\",'Datos Iniciales'!F52)","v":""},{"$error":"#VALUE!"},0,null,{"$error":"#VALUE!"},0,null,null,null,null,null,null,null,null,"Apulo",25599]
[{"$f":"IF('Datos Iniciales'!F53=\"\",\"\",'Datos Iniciales'!F53)","v":""},{"$error":"#VALUE!"},0,null,{"$error":"#VALUE!"},0,null,null,null,null,null,null,null,null,"Aquitania",15047]
[{"$f":"IF('Datos Iniciales'!F54=\"\",\"\",'Datos Iniciales'!F54)","v":""},{"$error":"#VALUE!"},0,null,{"$error":"#VALUE!"},0,null,null,null,null,null,null,null,null,"Aracataca",47053]
[{"$f":"IF('Datos Iniciales'!F55=\"\",\"\",'Datos Iniciales'!F55)","v":""},{"$error":"#VALUE!"},0,null,{"$error":"#VALUE!"},0,null,null,null,null,null,null,null,null,"Aranzazu",17050]
[{"$f":"IF('Datos Iniciales'!F56=\"\",\"\",'Datos Iniciales'!F56)","v":""},{"$error":"#VALUE!"},0,null,{"$error":"#VALUE!"},0,null,null,null,null,null,null,null,null,"Aratoca",68051]
[{"$f":"IF('Datos Iniciales'!F57=\"\",\"\",'Datos Iniciales'!F57)","v":""},{"$error":"#VALUE!"},0,null,{"$error":"#VALUE!"},0,null,null,null,null,null,null,null,null,"Arauca",81001]
[{"$f":"IF('Datos Iniciales'!F58=\"\",\"\",'Datos Iniciales'!F58)","v":""},{"$error":"#VALUE!"},0,null,{"$error":"#VALUE!"},0,null,null,null,null,null,null,null,null,"Arauquita",81065]
[{"$f":"IF('Datos Iniciales'!F59=\"\",\"\",'Datos Iniciales'!F59)","v":""},{"$error":"#VALUE!"},0,null,{"$error":"#VALUE!"},0,null,null,null,null,null,null,null,null,"Arbeláez",25053]
[{"$f":"IF('Datos Iniciales'!F60=\"\",\"\",'Datos Iniciales'!F60)","v":""},{"$error":"#VALUE!"},0,null,{"$error":"#VALUE!"},0,null,null,null,null,null,null,null,null,"Arboleda",52051]
[{"$f":"IF('Datos Iniciales'!F61=\"\",\"\",'Datos Iniciales'!F61)","v":""},{"$error":"#VALUE!"},0,null,{"$error":"#VALUE!"},0,null,null,null,null,null,null,null,null,"Arboledas",54051]
[{"$f":"IF('Datos Iniciales'!F62=\"\",\"\",'Datos Iniciales'!F62)","v":""},{"$error":"#VALUE!"},0,null,{"$error":"#VALUE!"},0,null,null,null,null,null,null,null,null,"Arboletes","05051"]
[{"$f":"IF('Datos Iniciales'!F63=\"\",\"\",'Datos Iniciales'!F63)","v":""},{"$error":"#VALUE!"},0,null,{"$error":"#VALUE!"},0,null,null,null,null,null,null,null,null,"Arcabuco",15051]
[{"$f":"IF('Datos Iniciales'!F64=\"\",\"\",'Datos Iniciales'!F64)","v":""},{"$error":"#VALUE!"},0,null,{"$error":"#VALUE!"},0,null,null,null,null,null,null,null,null,"Arenal",13042]
[{"$f":"IF('Datos Iniciales'!F65=\"\",\"\",'Datos Iniciales'!F65)","v":""},{"$error":"#VALUE!"},0,null,{"$error":"#VALUE!"},0,null,null,null,null,null,null,null,null,"Argelia","05055"]
[{"$f":"IF('Datos Iniciales'!F66=\"\",\"\",'Datos Iniciales'!F66)","v":""},{"$error":"#VALUE!"},0,null,{"$error":"#VALUE!"},0,null,null,null,null,null,null,null,null,"Argelia",19050]
[{"$f":"IF('Datos Iniciales'!F67=\"\",\"\",'Datos Iniciales'!F67)","v":""},{"$error":"#VALUE!"},0,null,{"$f":"MOD((VALUE(MID(TEXT(A66,\"000000000000000\"),15,1))*3+VALUE(MID(TEXT(A66,\"000000000000000\"),14,1))*7+VALUE(MID(TEXT(A66,\"000000000000000\"),13,1))*13+VALUE(MID(TEXT(A66,\"000000000000000\"),12,1))*17+VALUE(MID(TEXT(A66,\"000000000000000\"),11,1))*19+VALUE(MID(TEXT(A66,\"000000000000000\"),10,1))*23+VALUE(MID(TEXT(A66,\"000000000000000\"),9,1))*29+VALUE(MID(TEXT(A66,\"000000000000000\"),8,1))*37+VALUE(MID(TEXT(A66,\"000000000000000\"),7,1))*41+VALUE(MID(TEXT(A66,\"000000000000000\"),6,1))*43+VALUE(MID(TEXT(A66,\"000000000000000\"),5,1))*47+VALUE(MID(TEXT(A66,\"000000000000000\"),4,1))*53+VALUE(MID(TEXT(A66,\"000000000000000\"),3,1))*59+VALUE(MID(TEXT(A66,\"000000000000000\"),2,1))*67+VALUE(MID(TEXT(A66,\"000000000000000\"),1,1))*71),11)","v":{"$error":"#VALUE!"}},{"$f":"(MID(CONCATENATE(REPT(0,15-LEN(A66)),A66),1,1)*71)+(MID(CONCATENATE(REPT(0,15-LEN(A66)),A66),2,1)*67)+(MID(CONCATENATE(REPT(0,15-LEN(A66)),A66),3,1)*59)+(MID(CONCATENATE(REPT(0,15-LEN(A66)),A66),4,1)*53)+(MID(CONCATENATE(REPT(0,15-LEN(A66)),A66),5,1)*47)+(MID(CONCATENATE(REPT(0,15-LEN(A66)),A66),6,1)*43)+(MID(CONCATENATE(REPT(0,15-LEN(A66)),A66),7,1)*41)+(MID(CONCATENATE(REPT(0,15-LEN(A66)),A66),8,1)*37)+(MID(CONCATENATE(REPT(0,15-LEN(A66)),A66),9,1)*29)+(MID(CONCATENATE(REPT(0,15-LEN(A66)),A66),10,1)*23)+(MID(CONCATENATE(REPT(0,15-LEN(A66)),A66),11,1)*19)+(MID(CONCATENATE(REPT(0,15-LEN(A66)),A66),12,1)*17)+(MID(CONCATENATE(REPT(0,15-LEN(A66)),A66),13,1)*13)+(MID(CONCATENATE(REPT(0,15-LEN(A66)),A66),14,1)*7)+(MID(CONCATENATE(REPT(0,15-LEN(A66)),A66),15,1)*3)","v":0},null,null,null,null,null,null,null,null,"Argelia",76054]
[{"$f":"IF('Datos Iniciales'!F68=\"\",\"\",'Datos Iniciales'!F68)","v":""},{"$f":"IF(E67=0,0,IF(E67=1,1,11-E67))","v":{"$error":"#VALUE!"}},{"$f":"IF((ROUND((((F67/11)-TRUNC(F67/11))*11),0))<=1,(ROUND((((F67/11)-TRUNC(F67/11))*11),0)),(11-(ROUND((((F67/11)-TRUNC(F67/11))*11),0))))","v":0},null,{"$error":"#VALUE!"},0,null,null,null,null,null,null,null,null,"Ariguaní",47058]
[{"$f":"IF('Datos Iniciales'!F69=\"\",\"\",'Datos Iniciales'!F69)","v":""},{"$error":"#VALUE!"},0,null,{"$error":"#VALUE!"},0,null,null,null,null,null,null,null,null,"Arjona",13052]
[{"$f":"IF('Datos Iniciales'!F70=\"\",\"\",'Datos Iniciales'!F70)","v":""},{"$error":"#VALUE!"},0,null,{"$error":"#VALUE!"},0,null,null,null,null,null,null,null,null,"Armenia","05059"]
[{"$f":"IF('Datos Iniciales'!F71=\"\",\"\",'Datos Iniciales'!F71)","v":""},{"$error":"#VALUE!"},0,null,{"$error":"#VALUE!"},0,null,null,null,null,null,null,null,null,"Armenia",63001]
[{"$f":"IF('Datos Iniciales'!F72=\"\",\"\",'Datos Iniciales'!F72)","v":""},{"$error":"#VALUE!"},0,null,{"$error":"#VALUE!"},0,null,null,null,null,null,null,null,null,"Armero",73055]
[{"$f":"IF('Datos Iniciales'!F73=\"\",\"\",'Datos Iniciales'!F73)","v":""},{"$error":"#VALUE!"},0,null,{"$error":"#VALUE!"},0,null,null,null,null,null,null,null,null,"Arroyohondo",13062]
[{"$f":"IF('Datos Iniciales'!F74=\"\",\"\",'Datos Iniciales'!F74)","v":""},{"$error":"#VALUE!"},0,null,{"$error":"#VALUE!"},0,null,null,null,null,null,null,null,null,"Astrea",20032]
[{"$f":"IF('Datos Iniciales'!F75=\"\",\"\",'Datos Iniciales'!F75)","v":""},{"$error":"#VALUE!"},0,null,{"$error":"#VALUE!"},0,null,null,null,null,null,null,null,null,"Ataco",73067]
[{"$f":"IF('Datos Iniciales'!F76=\"\",\"\",'Datos Iniciales'!F76)","v":""},{"$error":"#VALUE!"},0,null,{"$error":"#VALUE!"},0,null,null,null,null,null,null,null,null,"Atrato",27050]
[{"$f":"IF('Datos Iniciales'!F77=\"\",\"\",'Datos Iniciales'!F77)","v":""},{"$error":"#VALUE!"},0,null,{"$error":"#VALUE!"},0,null,null,null,null,null,null,null,null,"Ayapel",23068]
[{"$f":"IF('Datos Iniciales'!F78=\"\",\"\",'Datos Iniciales'!F78)","v":""},{"$error":"#VALUE!"},0,null,{"$error":"#VALUE!"},0,null,null,null,null,null,null,null,null,"Bagadó",27073]
[{"$f":"IF('Datos Iniciales'!F79=\"\",\"\",'Datos Iniciales'!F79)","v":""},{"$error":"#VALUE!"},0,null,{"$error":"#VALUE!"},0,null,null,null,null,null,null,null,null,"Bahía Solano",27075]
[{"$f":"IF('Datos Iniciales'!F80=\"\",\"\",'Datos Iniciales'!F80)","v":""},{"$error":"#VALUE!"},0,null,{"$error":"#VALUE!"},0,null,null,null,null,null,null,null,null,"Bajo Baudó",27077]
[{"$f":"IF('Datos Iniciales'!F81=\"\",\"\",'Datos Iniciales'!F81)","v":""},{"$error":"#VALUE!"},0,null,{"$error":"#VALUE!"},0,null,null,null,null,null,null,null,null,"Balboa",19075]
[{"$f":"IF('Datos Iniciales'!F82=\"\",\"\",'Datos Iniciales'!F82)","v":""},{"$error":"#VALUE!"},0,null,{"$error":"#VALUE!"},0,null,null,null,null,null,null,null,null,"Balboa",66075]
[{"$f":"IF('Datos Iniciales'!F83=\"\",\"\",'Datos Iniciales'!F83)","v":""},{"$error":"#VALUE!"},0,null,{"$error":"#VALUE!"},0,null,null,null,null,null,null,null,null,"Baranoa","08078"]
[{"$f":"IF('Datos Iniciales'!F84=\"\",\"\",'Datos Iniciales'!F84)","v":""},{"$error":"#VALUE!"},0,null,{"$error":"#VALUE!"},0,null,null,null,null,null,null,null,null,"Baraya",41078]
[{"$f":"IF('Datos Iniciales'!F85=\"\",\"\",'Datos Iniciales'!F85)","v":""},{"$error":"#VALUE!"},0,null,{"$error":"#VALUE!"},0,null,null,null,null,null,null,null,null,"Barbacoas",52079]
[{"$f":"IF('Datos Iniciales'!F86=\"\",\"\",'Datos Iniciales'!F86)","v":""},{"$error":"#VALUE!"},0,null,{"$error":"#VALUE!"},0,null,null,null,null,null,null,null,null,"Barbosa","05079"]
[{"$f":"IF('Datos Iniciales'!F87=\"\",\"\",'Datos Iniciales'!F87)","v":""},{"$error":"#VALUE!"},0,null,{"$error":"#VALUE!"},0,null,null,null,null,null,null,null,null,"Barbosa",68077]
[{"$f":"IF('Datos Iniciales'!F88=\"\",\"\",'Datos Iniciales'!F88)","v":""},{"$error":"#VALUE!"},0,null,{"$error":"#VALUE!"},0,null,null,null,null,null,null,null,null,"Barichara",68079]
[{"$f":"IF('Datos Iniciales'!F89=\"\",\"\",'Datos Iniciales'!F89)","v":""},{"$error":"#VALUE!"},0,null,{"$error":"#VALUE!"},0,null,null,null,null,null,null,null,null,"Barranca De Upía",50110]
[{"$f":"IF('Datos Iniciales'!F90=\"\",\"\",'Datos Iniciales'!F90)","v":""},{"$error":"#VALUE!"},0,null,{"$error":"#VALUE!"},0,null,null,null,null,null,null,null,null,"Barrancabermeja",68081]
[{"$f":"IF('Datos Iniciales'!F91=\"\",\"\",'Datos Iniciales'!F91)","v":""},{"$error":"#VALUE!"},0,null,{"$error":"#VALUE!"},0,null,null,null,null,null,null,null,null,"Barrancas",44078]
[{"$f":"IF('Datos Iniciales'!F92=\"\",\"\",'Datos Iniciales'!F92)","v":""},{"$error":"#VALUE!"},0,null,{"$error":"#VALUE!"},0,null,null,null,null,null,null,null,null,"Barranco De Loba",13074]
[{"$f":"IF('Datos Iniciales'!F93=\"\",\"\",'Datos Iniciales'!F93)","v":""},{"$error":"#VALUE!"},0,null,{"$error":"#VALUE!"},0,null,null,null,null,null,null,null,null,"Barranco Minas",94343]
[{"$f":"IF('Datos Iniciales'!F94=\"\",\"\",'Datos Iniciales'!F94)","v":""},{"$error":"#VALUE!"},0,null,{"$error":"#VALUE!"},0,null,null,null,null,null,null,null,null,"Barranquilla","08001"]
[{"$f":"IF('Datos Iniciales'!F95=\"\",\"\",'Datos Iniciales'!F95)","v":""},{"$error":"#VALUE!"},0,null,{"$error":"#VALUE!"},0,null,null,null,null,null,null,null,null,"Becerril",20045]
[{"$f":"IF('Datos Iniciales'!F96=\"\",\"\",'Datos Iniciales'!F96)","v":""},{"$error":"#VALUE!"},0,null,{"$error":"#VALUE!"},0,null,null,null,null,null,null,null,null,"Belalcázar",17088]
[{"$f":"IF('Datos Iniciales'!F97=\"\",\"\",'Datos Iniciales'!F97)","v":""},{"$error":"#VALUE!"},0,null,{"$error":"#VALUE!"},0,null,null,null,null,null,null,null,null,"Belén",15087]
[{"$f":"IF('Datos Iniciales'!F98=\"\",\"\",'Datos Iniciales'!F98)","v":""},{"$error":"#VALUE!"},0,null,{"$error":"#VALUE!"},0,null,null,null,null,null,null,null,null,"Belén",52083]
[{"$f":"IF('Datos Iniciales'!F99=\"\",\"\",'Datos Iniciales'!F99)","v":""},{"$error":"#VALUE!"},0,null,{"$error":"#VALUE!"},0,null,null,null,null,null,null,null,null,"Belén De Bajirá",27086]
[{"$f":"IF('Datos Iniciales'!F100=\"\",\"\",'Datos Iniciales'!F100)","v":""},{"$error":"#VALUE!"},0,null,{"$error":"#VALUE!"},0,null,null,null,null,null,null,null,null,"Belén De Los Andaquies",18094]
[{"$f":"IF('Datos Iniciales'!F101=\"\",\"\",'Datos Iniciales'!F101)","v":""},{"$error":"#VALUE!"},0,null,{"$error":"#VALUE!"},0,null,null,null,null,null,null,null,null,"Belén De Umbría",66088]
[{"$f":"IF('Datos Iniciales'!F102=\"\",\"\",'Datos Iniciales'!F102)","v":""},{"$error":"#VALUE!"},0,null,{"$error":"#VALUE!"},0,null,null,null,null,null,null,null,null,"Bello","05088"]
[{"$f":"IF('Datos Iniciales'!F103=\"\",\"\",'Datos Iniciales'!F103)","v":""},{"$error":"#VALUE!"},0,null,{"$error":"#VALUE!"},0,null,null,null,null,null,null,null,null,"Belmira","05086"]
[{"$f":"IF('Datos Iniciales'!F104=\"\",\"\",'Datos Iniciales'!F104)","v":""},{"$error":"#VALUE!"},0,null,{"$error":"#VALUE!"},0,null,null,null,null,null,null,null,null,"Beltrán",25086]
[{"$f":"IF('Datos Iniciales'!F105=\"\",\"\",'Datos Iniciales'!F105)","v":""},{"$error":"#VALUE!"},0,null,{"$error":"#VALUE!"},0,null,null,null,null,null,null,null,null,"Berbeo",15090]
[{"$f":"IF('Datos Iniciales'!F106=\"\",\"\",'Datos Iniciales'!F106)","v":""},{"$error":"#VALUE!"},0,null,{"$error":"#VALUE!"},0,null,null,null,null,null,null,null,null,"Betania","05091"]
[{"$f":"IF('Datos Iniciales'!F107=\"\",\"\",'Datos Iniciales'!F107)","v":""},{"$error":"#VALUE!"},0,null,{"$error":"#VALUE!"},0,null,null,null,null,null,null,null,null,"Betéitiva",15092]
[{"$f":"IF('Datos Iniciales'!F108=\"\",\"\",'Datos Iniciales'!F108)","v":""},{"$error":"#VALUE!"},0,null,{"$error":"#VALUE!"},0,null,null,null,null,null,null,null,null,"Betulia","05093"]
[{"$f":"IF('Datos Iniciales'!F109=\"\",\"\",'Datos Iniciales'!F109)","v":""},{"$error":"#VALUE!"},0,null,{"$error":"#VALUE!"},0,null,null,null,null,null,null,null,null,"Betulia",68092]
[{"$f":"IF('Datos Iniciales'!F110=\"\",\"\",'Datos Iniciales'!F110)","v":""},{"$error":"#VALUE!"},0,null,{"$error":"#VALUE!"},0,null,null,null,null,null,null,null,null,"Bituima",25095]
[{"$f":"IF('Datos Iniciales'!F111=\"\",\"\",'Datos Iniciales'!F111)","v":""},{"$error":"#VALUE!"},0,null,{"$error":"#VALUE!"},0,null,null,null,null,null,null,null,null,"Boavita",15097]
[{"$f":"IF('Datos Iniciales'!F112=\"\",\"\",'Datos Iniciales'!F112)","v":""},{"$error":"#VALUE!"},0,null,{"$error":"#VALUE!"},0,null,null,null,null,null,null,null,null,"Bochalema",54099]
[{"$f":"IF('Datos Iniciales'!F113=\"\",\"\",'Datos Iniciales'!F113)","v":""},{"$error":"#VALUE!"},0,null,{"$error":"#VALUE!"},0,null,null,null,null,null,null,null,null,"Bogotá",11001]
[{"$f":"IF('Datos Iniciales'!F114=\"\",\"\",'Datos Iniciales'!F114)","v":""},{"$error":"#VALUE!"},0,null,{"$error":"#VALUE!"},0,null,null,null,null,null,null,null,null,"Bojacá",25099]
[{"$f":"IF('Datos Iniciales'!F115=\"\",\"\",'Datos Iniciales'!F115)","v":""},{"$error":"#VALUE!"},0,null,{"$error":"#VALUE!"},0,null,null,null,null,null,null,null,null,"Bojaya",27099]
[{"$f":"IF('Datos Iniciales'!F116=\"\",\"\",'Datos Iniciales'!F116)","v":""},{"$error":"#VALUE!"},0,null,{"$error":"#VALUE!"},0,null,null,null,null,null,null,null,null,"Bolívar",19100]
[{"$f":"IF('Datos Iniciales'!F117=\"\",\"\",'Datos Iniciales'!F117)","v":""},{"$error":"#VALUE!"},0,null,{"$error":"#VALUE!"},0,null,null,null,null,null,null,null,null,"Bolívar",68101]
[{"$f":"IF('Datos Iniciales'!F118=\"\",\"\",'Datos Iniciales'!F118)","v":""},{"$error":"#VALUE!"},0,null,{"$error":"#VALUE!"},0,null,null,null,null,null,null,null,null,"Bolívar",76100]
[{"$f":"IF('Datos Iniciales'!F119=\"\",\"\",'Datos Iniciales'!F119)","v":""},{"$error":"#VALUE!"},0,null,{"$error":"#VALUE!"},0,null,null,null,null,null,null,null,null,"Bosconia",20060]
[{"$f":"IF('Datos Iniciales'!F120=\"\",\"\",'Datos Iniciales'!F120)","v":""},{"$error":"#VALUE!"},0,null,{"$error":"#VALUE!"},0,null,null,null,null,null,null,null,null,"Boyacá",15104]
[{"$f":"IF('Datos Iniciales'!F121=\"\",\"\",'Datos Iniciales'!F121)","v":""},{"$error":"#VALUE!"},0,null,{"$error":"#VALUE!"},0,null,null,null,null,null,null,null,null,"Briceño","05107"]
[{"$f":"IF('Datos Iniciales'!F122=\"\",\"\",'Datos Iniciales'!F122)","v":""},{"$error":"#VALUE!"},0,null,{"$error":"#VALUE!"},0,null,null,null,null,null,null,null,null,"Briceño",15106]
[{"$f":"IF('Datos Iniciales'!F123=\"\",\"\",'Datos Iniciales'!F123)","v":""},{"$error":"#VALUE!"},0,null,{"$error":"#VALUE!"},0,null,null,null,null,null,null,null,null,"Bucaramanga",68001]
[{"$f":"IF('Datos Iniciales'!F124=\"\",\"\",'Datos Iniciales'!F124)","v":""},{"$error":"#VALUE!"},0,null,{"$error":"#VALUE!"},0,null,null,null,null,null,null,null,null,"Bucarasica",54109]
[{"$f":"IF('Datos Iniciales'!F125=\"\",\"\",'Datos Iniciales'!F125)","v":""},{"$error":"#VALUE!"},0,null,{"$error":"#VALUE!"},0,null,null,null,null,null,null,null,null,"Buenaventura",76109]
[{"$f":"IF('Datos Iniciales'!F126=\"\",\"\",'Datos Iniciales'!F126)","v":""},{"$error":"#VALUE!"},0,null,{"$error":"#VALUE!"},0,null,null,null,null,null,null,null,null,"Buenavista",15109]
[{"$f":"IF('Datos Iniciales'!F127=\"\",\"\",'Datos Iniciales'!F127)","v":""},{"$error":"#VALUE!"},0,null,{"$error":"#VALUE!"},0,null,null,null,null,null,null,null,null,"Buenavista",23079]
[{"$f":"IF('Datos Iniciales'!F128=\"\",\"\",'Datos Iniciales'!F128)","v":""},{"$error":"#VALUE!"},0,null,{"$error":"#VALUE!"},0,null,null,null,null,null,null,null,null,"Buenavista",63111]
[{"$f":"IF('Datos Iniciales'!F129=\"\",\"\",'Datos Iniciales'!F129)","v":""},{"$error":"#VALUE!"},0,null,{"$error":"#VALUE!"},0,null,null,null,null,null,null,null,null,"Buenavista",70110]
[{"$f":"IF('Datos Iniciales'!F130=\"\",\"\",'Datos Iniciales'!F130)","v":""},{"$error":"#VALUE!"},0,null,{"$error":"#VALUE!"},0,null,null,null,null,null,null,null,null,"Buenos Aires",19110]
[{"$f":"IF('Datos Iniciales'!F131=\"\",\"\",'Datos Iniciales'!F131)","v":""},{"$error":"#VALUE!"},0,null,{"$f":"MOD((VALUE(MID(TEXT(A130,\"000000000000000\"),15,1))*3+VALUE(MID(TEXT(A130,\"000000000000000\"),14,1))*7+VALUE(MID(TEXT(A130,\"000000000000000\"),13,1))*13+VALUE(MID(TEXT(A130,\"000000000000000\"),12,1))*17+VALUE(MID(TEXT(A130,\"000000000000000\"),11,1))*19+VALUE(MID(TEXT(A130,\"000000000000000\"),10,1))*23+VALUE(MID(TEXT(A130,\"000000000000000\"),9,1))*29+VALUE(MID(TEXT(A130,\"000000000000000\"),8,1))*37+VALUE(MID(TEXT(A130,\"000000000000000\"),7,1))*41+VALUE(MID(TEXT(A130,\"000000000000000\"),6,1))*43+VALUE(MID(TEXT(A130,\"000000000000000\"),5,1))*47+VALUE(MID(TEXT(A130,\"000000000000000\"),4,1))*53+VALUE(MID(TEXT(A130,\"000000000000000\"),3,1))*59+VALUE(MID(TEXT(A130,\"000000000000000\"),2,1))*67+VALUE(MID(TEXT(A130,\"000000000000000\"),1,1))*71),11)","v":{"$error":"#VALUE!"}},{"$f":"(MID(CONCATENATE(REPT(0,15-LEN(A130)),A130),1,1)*71)+(MID(CONCATENATE(REPT(0,15-LEN(A130)),A130),2,1)*67)+(MID(CONCATENATE(REPT(0,15-LEN(A130)),A130),3,1)*59)+(MID(CONCATENATE(REPT(0,15-LEN(A130)),A130),4,1)*53)+(MID(CONCATENATE(REPT(0,15-LEN(A130)),A130),5,1)*47)+(MID(CONCATENATE(REPT(0,15-LEN(A130)),A130),6,1)*43)+(MID(CONCATENATE(REPT(0,15-LEN(A130)),A130),7,1)*41)+(MID(CONCATENATE(REPT(0,15-LEN(A130)),A130),8,1)*37)+(MID(CONCATENATE(REPT(0,15-LEN(A130)),A130),9,1)*29)+(MID(CONCATENATE(REPT(0,15-LEN(A130)),A130),10,1)*23)+(MID(CONCATENATE(REPT(0,15-LEN(A130)),A130),11,1)*19)+(MID(CONCATENATE(REPT(0,15-LEN(A130)),A130),12,1)*17)+(MID(CONCATENATE(REPT(0,15-LEN(A130)),A130),13,1)*13)+(MID(CONCATENATE(REPT(0,15-LEN(A130)),A130),14,1)*7)+(MID(CONCATENATE(REPT(0,15-LEN(A130)),A130),15,1)*3)","v":0},null,null,null,null,null,null,null,null,"Buesaco",52110]
[{"$f":"IF('Datos Iniciales'!F132=\"\",\"\",'Datos Iniciales'!F132)","v":""},{"$f":"IF(E131=0,0,IF(E131=1,1,11-E131))","v":{"$error":"#VALUE!"}},{"$f":"IF((ROUND((((F131/11)-TRUNC(F131/11))*11),0))<=1,(ROUND((((F131/11)-TRUNC(F131/11))*11),0)),(11-(ROUND((((F131/11)-TRUNC(F131/11))*11),0))))","v":0},null,{"$error":"#VALUE!"},0,null,null,null,null,null,null,null,null,"Bugalagrande",76113]
[{"$f":"IF('Datos Iniciales'!F133=\"\",\"\",'Datos Iniciales'!F133)","v":""},{"$error":"#VALUE!"},0,null,{"$error":"#VALUE!"},0,null,null,null,null,null,null,null,null,"Buriticá","05113"]
[{"$f":"IF('Datos Iniciales'!F134=\"\",\"\",'Datos Iniciales'!F134)","v":""},{"$error":"#VALUE!"},0,null,{"$error":"#VALUE!"},0,null,null,null,null,null,null,null,null,"Busbanzá",15114]
[{"$f":"IF('Datos Iniciales'!F135=\"\",\"\",'Datos Iniciales'!F135)","v":""},{"$error":"#VALUE!"},0,null,{"$error":"#VALUE!"},0,null,null,null,null,null,null,null,null,"Cabrera",25120]
[{"$f":"IF('Datos Iniciales'!F136=\"\",\"\",'Datos Iniciales'!F136)","v":""},{"$error":"#VALUE!"},0,null,{"$error":"#VALUE!"},0,null,null,null,null,null,null,null,null,"Cabrera",68121]
[{"$f":"IF('Datos Iniciales'!F137=\"\",\"\",'Datos Iniciales'!F137)","v":""},{"$error":"#VALUE!"},0,null,{"$error":"#VALUE!"},0,null,null,null,null,null,null,null,null,"Cabuyaro",50124]
[{"$f":"IF('Datos Iniciales'!F138=\"\",\"\",'Datos Iniciales'!F138)","v":""},{"$error":"#VALUE!"},0,null,{"$error":"#VALUE!"},0,null,null,null,null,null,null,null,null,"Cacahual",94886]
[{"$f":"IF('Datos Iniciales'!F139=\"\",\"\",'Datos Iniciales'!F139)","v":""},{"$error":"#VALUE!"},0,null,{"$error":"#VALUE!"},0,null,null,null,null,null,null,null,null,"Cáceres","05120"]
[{"$f":"IF('Datos Iniciales'!F140=\"\",\"\",'Datos Iniciales'!F140)","v":""},{"$error":"#VALUE!"},0,null,{"$error":"#VALUE!"},0,null,null,null,null,null,null,null,null,"Cachipay",25123]
[{"$f":"IF('Datos Iniciales'!F141=\"\",\"\",'Datos Iniciales'!F141)","v":""},{"$error":"#VALUE!"},0,null,{"$error":"#VALUE!"},0,null,null,null,null,null,null,null,null,"Cachirá",54128]
[{"$f":"IF('Datos Iniciales'!F142=\"\",\"\",'Datos Iniciales'!F142)","v":""},{"$error":"#VALUE!"},0,null,{"$error":"#VALUE!"},0,null,null,null,null,null,null,null,null,"Cácota",54125]
[{"$f":"IF('Datos Iniciales'!F143=\"\",\"\",'Datos Iniciales'!F143)","v":""},{"$error":"#VALUE!"},0,null,{"$error":"#VALUE!"},0,null,null,null,null,null,null,null,null,"Caicedo","05125"]
[{"$f":"IF('Datos Iniciales'!F144=\"\",\"\",'Datos Iniciales'!F144)","v":""},{"$error":"#VALUE!"},0,null,{"$error":"#VALUE!"},0,null,null,null,null,null,null,null,null,"Caicedonia",76122]
[{"$f":"IF('Datos Iniciales'!F145=\"\",\"\",'Datos Iniciales'!F145)","v":""},{"$error":"#VALUE!"},0,null,{"$error":"#VALUE!"},0,null,null,null,null,null,null,null,null,"Caimito",70124]
[{"$f":"IF('Datos Iniciales'!F146=\"\",\"\",'Datos Iniciales'!F146)","v":""},{"$error":"#VALUE!"},0,null,{"$error":"#VALUE!"},0,null,null,null,null,null,null,null,null,"Cajamarca",73124]
[{"$f":"IF('Datos Iniciales'!F147=\"\",\"\",'Datos Iniciales'!F147)","v":""},{"$error":"#VALUE!"},0,null,{"$error":"#VALUE!"},0,null,null,null,null,null,null,null,null,"Cajibío",19130]
[{"$f":"IF('Datos Iniciales'!F148=\"\",\"\",'Datos Iniciales'!F148)","v":""},{"$error":"#VALUE!"},0,null,{"$error":"#VALUE!"},0,null,null,null,null,null,null,null,null,"Cajicá",25126]
[{"$f":"IF('Datos Iniciales'!F149=\"\",\"\",'Datos Iniciales'!F149)","v":""},{"$error":"#VALUE!"},0,null,{"$error":"#VALUE!"},0,null,null,null,null,null,null,null,null,"Calamar",13140]
[{"$f":"IF('Datos Iniciales'!F150=\"\",\"\",'Datos Iniciales'!F150)","v":""},{"$error":"#VALUE!"},0,null,{"$error":"#VALUE!"},0,null,null,null,null,null,null,null,null,"Calamar",95015]
[{"$f":"IF('Datos Iniciales'!F151=\"\",\"\",'Datos Iniciales'!F151)","v":""},{"$error":"#VALUE!"},0,null,{"$error":"#VALUE!"},0,null,null,null,null,null,null,null,null,"Calarca",63130]
[{"$f":"IF('Datos Iniciales'!F152=\"\",\"\",'Datos Iniciales'!F152)","v":""},{"$error":"#VALUE!"},0,null,{"$error":"#VALUE!"},0,null,null,null,null,null,null,null,null,"Caldas","05129"]
[{"$f":"IF('Datos Iniciales'!F153=\"\",\"\",'Datos Iniciales'!F153)","v":""},{"$error":"#VALUE!"},0,null,{"$error":"#VALUE!"},0,null,null,null,null,null,null,null,null,"Caldas",15131]
[{"$f":"IF('Datos Iniciales'!F154=\"\",\"\",'Datos Iniciales'!F154)","v":""},{"$error":"#VALUE!"},0,null,{"$error":"#VALUE!"},0,null,null,null,null,null,null,null,null,"Caldono",19137]
[{"$f":"IF('Datos Iniciales'!F155=\"\",\"\",'Datos Iniciales'!F155)","v":""},{"$error":"#VALUE!"},0,null,{"$error":"#VALUE!"},0,null,null,null,null,null,null,null,null,"Cali",76001]
[{"$f":"IF('Datos Iniciales'!F156=\"\",\"\",'Datos Iniciales'!F156)","v":""},{"$error":"#VALUE!"},0,null,{"$error":"#VALUE!"},0,null,null,null,null,null,null,null,null,"California",68132]
[{"$f":"IF('Datos Iniciales'!F157=\"\",\"\",'Datos Iniciales'!F157)","v":""},{"$error":"#VALUE!"},0,null,{"$error":"#VALUE!"},0,null,null,null,null,null,null,null,null,"Calima",76126]
[{"$f":"IF('Datos Iniciales'!F158=\"\",\"\",'Datos Iniciales'!F158)","v":""},{"$error":"#VALUE!"},0,null,{"$error":"#VALUE!"},0,null,null,null,null,null,null,null,null,"Caloto",19142]
[{"$f":"IF('Datos Iniciales'!F159=\"\",\"\",'Datos Iniciales'!F159)","v":""},{"$error":"#VALUE!"},0,null,{"$error":"#VALUE!"},0,null,null,null,null,null,null,null,null,"Campamento","05134"]
[{"$f":"IF('Datos Iniciales'!F160=\"\",\"\",'Datos Iniciales'!F160)","v":""},{"$error":"#VALUE!"},0,null,{"$error":"#VALUE!"},0,null,null,null,null,null,null,null,null,"Campo De La Cruz","08137"]
[{"$f":"IF('Datos Iniciales'!F161=\"\",\"\",'Datos Iniciales'!F161)","v":""},{"$error":"#VALUE!"},0,null,{"$error":"#VALUE!"},0,null,null,null,null,null,null,null,null,"Campoalegre",41132]
[{"$f":"IF('Datos Iniciales'!F162=\"\",\"\",'Datos Iniciales'!F162)","v":""},{"$error":"#VALUE!"},0,null,{"$error":"#VALUE!"},0,null,null,null,null,null,null,null,null,"Campohermoso",15135]
[{"$f":"IF('Datos Iniciales'!F163=\"\",\"\",'Datos Iniciales'!F163)","v":""},{"$error":"#VALUE!"},0,null,{"$error":"#VALUE!"},0,null,null,null,null,null,null,null,null,"Canalete",23090]
[{"$f":"IF('Datos Iniciales'!F164=\"\",\"\",'Datos Iniciales'!F164)","v":""},{"$error":"#VALUE!"},0,null,{"$error":"#VALUE!"},0,null,null,null,null,null,null,null,null,"Candelaria","08141"]
[{"$f":"IF('Datos Iniciales'!F165=\"\",\"\",'Datos Iniciales'!F165)","v":""},{"$error":"#VALUE!"},0,null,{"$error":"#VALUE!"},0,null,null,null,null,null,null,null,null,"Candelaria",76130]
[{"$f":"IF('Datos Iniciales'!F166=\"\",\"\",'Datos Iniciales'!F166)","v":""},{"$error":"#VALUE!"},0,null,{"$error":"#VALUE!"},0,null,null,null,null,null,null,null,null,"Cantagallo",13160]
[{"$f":"IF('Datos Iniciales'!F167=\"\",\"\",'Datos Iniciales'!F167)","v":""},{"$error":"#VALUE!"},0,null,{"$error":"#VALUE!"},0,null,null,null,null,null,null,null,null,"Cañasgordas","05138"]
[{"$f":"IF('Datos Iniciales'!F168=\"\",\"\",'Datos Iniciales'!F168)","v":""},{"$error":"#VALUE!"},0,null,{"$error":"#VALUE!"},0,null,null,null,null,null,null,null,null,"Caparrapí",25148]
[{"$f":"IF('Datos Iniciales'!F169=\"\",\"\",'Datos Iniciales'!F169)","v":""},{"$error":"#VALUE!"},0,null,{"$error":"#VALUE!"},0,null,null,null,null,null,null,null,null,"Capitanejo",68147]
[{"$f":"IF('Datos Iniciales'!F170=\"\",\"\",'Datos Iniciales'!F170)","v":""},{"$error":"#VALUE!"},0,null,{"$error":"#VALUE!"},0,null,null,null,null,null,null,null,null,"Caqueza",25151]
[{"$f":"IF('Datos Iniciales'!F171=\"\",\"\",'Datos Iniciales'!F171)","v":""},{"$error":"#VALUE!"},0,null,{"$error":"#VALUE!"},0,null,null,null,null,null,null,null,null,"Caracolí","05142"]
[{"$f":"IF('Datos Iniciales'!F172=\"\",\"\",'Datos Iniciales'!F172)","v":""},{"$error":"#VALUE!"},0,null,{"$error":"#VALUE!"},0,null,null,null,null,null,null,null,null,"Caramanta","05145"]
[{"$f":"IF('Datos Iniciales'!F173=\"\",\"\",'Datos Iniciales'!F173)","v":""},{"$error":"#VALUE!"},0,null,{"$error":"#VALUE!"},0,null,null,null,null,null,null,null,null,"Carcasí",68152]
[{"$f":"IF('Datos Iniciales'!F174=\"\",\"\",'Datos Iniciales'!F174)","v":""},{"$error":"#VALUE!"},0,null,{"$error":"#VALUE!"},0,null,null,null,null,null,null,null,null,"Carepa","05147"]
[{"$f":"IF('Datos Iniciales'!F175=\"\",\"\",'Datos Iniciales'!F175)","v":""},{"$error":"#VALUE!"},0,null,{"$error":"#VALUE!"},0,null,null,null,null,null,null,null,null,"Carmen De Apicalá",73148]
[{"$f":"IF('Datos Iniciales'!F176=\"\",\"\",'Datos Iniciales'!F176)","v":""},{"$error":"#VALUE!"},0,null,{"$error":"#VALUE!"},0,null,null,null,null,null,null,null,null,"Carmen De Carupa",25154]
[{"$f":"IF('Datos Iniciales'!F177=\"\",\"\",'Datos Iniciales'!F177)","v":""},{"$error":"#VALUE!"},0,null,{"$error":"#VALUE!"},0,null,null,null,null,null,null,null,null,"Carmen Del Darien",27150]
[{"$f":"IF('Datos Iniciales'!F178=\"\",\"\",'Datos Iniciales'!F178)","v":""},{"$error":"#VALUE!"},0,null,{"$error":"#VALUE!"},0,null,null,null,null,null,null,null,null,"Carolina","05150"]
[{"$f":"IF('Datos Iniciales'!F179=\"\",\"\",'Datos Iniciales'!F179)","v":""},{"$error":"#VALUE!"},0,null,{"$error":"#VALUE!"},0,null,null,null,null,null,null,null,null,"Cartagena",13001]
[{"$f":"IF('Datos Iniciales'!F180=\"\",\"\",'Datos Iniciales'!F180)","v":""},{"$error":"#VALUE!"},0,null,{"$error":"#VALUE!"},0,null,null,null,null,null,null,null,null,"Cartagena Del Chairá",18150]
[{"$f":"IF('Datos Iniciales'!F181=\"\",\"\",'Datos Iniciales'!F181)","v":""},{"$error":"#VALUE!"},0,null,{"$error":"#VALUE!"},0,null,null,null,null,null,null,null,null,"Cartago",76147]
[{"$f":"IF('Datos Iniciales'!F182=\"\",\"\",'Datos Iniciales'!F182)","v":""},{"$error":"#VALUE!"},0,null,{"$error":"#VALUE!"},0,null,null,null,null,null,null,null,null,"Caruru",97161]
[{"$f":"IF('Datos Iniciales'!F183=\"\",\"\",'Datos Iniciales'!F183)","v":""},{"$error":"#VALUE!"},0,null,{"$error":"#VALUE!"},0,null,null,null,null,null,null,null,null,"Casabianca",73152]
[{"$f":"IF('Datos Iniciales'!F184=\"\",\"\",'Datos Iniciales'!F184)","v":""},{"$error":"#VALUE!"},0,null,{"$error":"#VALUE!"},0,null,null,null,null,null,null,null,null,"Castilla La Nueva",50150]
[{"$f":"IF('Datos Iniciales'!F185=\"\",\"\",'Datos Iniciales'!F185)","v":""},{"$error":"#VALUE!"},0,null,{"$error":"#VALUE!"},0,null,null,null,null,null,null,null,null,"Caucasia","05154"]
[{"$f":"IF('Datos Iniciales'!F186=\"\",\"\",'Datos Iniciales'!F186)","v":""},{"$error":"#VALUE!"},0,null,{"$error":"#VALUE!"},0,null,null,null,null,null,null,null,null,"Cepitá",68160]
[{"$f":"IF('Datos Iniciales'!F187=\"\",\"\",'Datos Iniciales'!F187)","v":""},{"$error":"#VALUE!"},0,null,{"$error":"#VALUE!"},0,null,null,null,null,null,null,null,null,"Cereté",23162]
[{"$f":"IF('Datos Iniciales'!F188=\"\",\"\",'Datos Iniciales'!F188)","v":""},{"$error":"#VALUE!"},0,null,{"$error":"#VALUE!"},0,null,null,null,null,null,null,null,null,"Cerinza",15162]
[{"$f":"IF('Datos Iniciales'!F189=\"\",\"\",'Datos Iniciales'!F189)","v":""},{"$error":"#VALUE!"},0,null,{"$error":"#VALUE!"},0,null,null,null,null,null,null,null,null,"Cerrito",68162]
[{"$f":"IF('Datos Iniciales'!F190=\"\",\"\",'Datos Iniciales'!F190)","v":""},{"$error":"#VALUE!"},0,null,{"$error":"#VALUE!"},0,null,null,null,null,null,null,null,null,"Cerro San Antonio",47161]
[{"$f":"IF('Datos Iniciales'!F191=\"\",\"\",'Datos Iniciales'!F191)","v":""},{"$error":"#VALUE!"},0,null,{"$error":"#VALUE!"},0,null,null,null,null,null,null,null,null,"Cértegui",27160]
[{"$f":"IF('Datos Iniciales'!F192=\"\",\"\",'Datos Iniciales'!F192)","v":""},{"$error":"#VALUE!"},0,null,{"$error":"#VALUE!"},0,null,null,null,null,null,null,null,null,"Chachagüí",52240]
[{"$f":"IF('Datos Iniciales'!F193=\"\",\"\",'Datos Iniciales'!F193)","v":""},{"$error":"#VALUE!"},0,null,{"$error":"#VALUE!"},0,null,null,null,null,null,null,null,null,"Chaguaní",25168]
[{"$f":"IF('Datos Iniciales'!F194=\"\",\"\",'Datos Iniciales'!F194)","v":""},{"$error":"#VALUE!"},0,null,{"$error":"#VALUE!"},0,null,null,null,null,null,null,null,null,"Chalán",70230]
[{"$f":"IF('Datos Iniciales'!F195=\"\",\"\",'Datos Iniciales'!F195)","v":""},{"$error":"#VALUE!"},0,null,{"$f":"MOD((VALUE(MID(TEXT(A194,\"000000000000000\"),15,1))*3+VALUE(MID(TEXT(A194,\"000000000000000\"),14,1))*7+VALUE(MID(TEXT(A194,\"000000000000000\"),13,1))*13+VALUE(MID(TEXT(A194,\"000000000000000\"),12,1))*17+VALUE(MID(TEXT(A194,\"000000000000000\"),11,1))*19+VALUE(MID(TEXT(A194,\"000000000000000\"),10,1))*23+VALUE(MID(TEXT(A194,\"000000000000000\"),9,1))*29+VALUE(MID(TEXT(A194,\"000000000000000\"),8,1))*37+VALUE(MID(TEXT(A194,\"000000000000000\"),7,1))*41+VALUE(MID(TEXT(A194,\"000000000000000\"),6,1))*43+VALUE(MID(TEXT(A194,\"000000000000000\"),5,1))*47+VALUE(MID(TEXT(A194,\"000000000000000\"),4,1))*53+VALUE(MID(TEXT(A194,\"000000000000000\"),3,1))*59+VALUE(MID(TEXT(A194,\"000000000000000\"),2,1))*67+VALUE(MID(TEXT(A194,\"000000000000000\"),1,1))*71),11)","v":{"$error":"#VALUE!"}},{"$f":"(MID(CONCATENATE(REPT(0,15-LEN(A194)),A194),1,1)*71)+(MID(CONCATENATE(REPT(0,15-LEN(A194)),A194),2,1)*67)+(MID(CONCATENATE(REPT(0,15-LEN(A194)),A194),3,1)*59)+(MID(CONCATENATE(REPT(0,15-LEN(A194)),A194),4,1)*53)+(MID(CONCATENATE(REPT(0,15-LEN(A194)),A194),5,1)*47)+(MID(CONCATENATE(REPT(0,15-LEN(A194)),A194),6,1)*43)+(MID(CONCATENATE(REPT(0,15-LEN(A194)),A194),7,1)*41)+(MID(CONCATENATE(REPT(0,15-LEN(A194)),A194),8,1)*37)+(MID(CONCATENATE(REPT(0,15-LEN(A194)),A194),9,1)*29)+(MID(CONCATENATE(REPT(0,15-LEN(A194)),A194),10,1)*23)+(MID(CONCATENATE(REPT(0,15-LEN(A194)),A194),11,1)*19)+(MID(CONCATENATE(REPT(0,15-LEN(A194)),A194),12,1)*17)+(MID(CONCATENATE(REPT(0,15-LEN(A194)),A194),13,1)*13)+(MID(CONCATENATE(REPT(0,15-LEN(A194)),A194),14,1)*7)+(MID(CONCATENATE(REPT(0,15-LEN(A194)),A194),15,1)*3)","v":0},null,null,null,null,null,null,null,null,"Chameza",85015]
[{"$f":"IF('Datos Iniciales'!F196=\"\",\"\",'Datos Iniciales'!F196)","v":""},{"$f":"IF(E195=0,0,IF(E195=1,1,11-E195))","v":{"$error":"#VALUE!"}},{"$f":"IF((ROUND((((F195/11)-TRUNC(F195/11))*11),0))<=1,(ROUND((((F195/11)-TRUNC(F195/11))*11),0)),(11-(ROUND((((F195/11)-TRUNC(F195/11))*11),0))))","v":0},null,{"$error":"#VALUE!"},0,null,null,null,null,null,null,null,null,"Chaparral",73168]
[{"$f":"IF('Datos Iniciales'!F197=\"\",\"\",'Datos Iniciales'!F197)","v":""},{"$error":"#VALUE!"},0,null,{"$error":"#VALUE!"},0,null,null,null,null,null,null,null,null,"Charalá",68167]
[{"$f":"IF('Datos Iniciales'!F198=\"\",\"\",'Datos Iniciales'!F198)","v":""},{"$error":"#VALUE!"},0,null,{"$error":"#VALUE!"},0,null,null,null,null,null,null,null,null,"Charta",68169]
[{"$f":"IF('Datos Iniciales'!F199=\"\",\"\",'Datos Iniciales'!F199)","v":""},{"$error":"#VALUE!"},0,null,{"$error":"#VALUE!"},0,null,null,null,null,null,null,null,null,"Chía",25175]
[{"$f":"IF('Datos Iniciales'!F200=\"\",\"\",'Datos Iniciales'!F200)","v":""},{"$error":"#VALUE!"},0,null,{"$error":"#VALUE!"},0,null,null,null,null,null,null,null,null,"Chibolo",47170]
[{"$f":"IF('Datos Iniciales'!F201=\"\",\"\",'Datos Iniciales'!F201)","v":""},{"$error":"#VALUE!"},0,null,{"$error":"#VALUE!"},0,null,null,null,null,null,null,null,null,"Chigorodó","05172"]
[{"$f":"IF('Datos Iniciales'!F202=\"\",\"\",'Datos Iniciales'!F202)","v":""},{"$error":"#VALUE!"},0,null,{"$error":"#VALUE!"},0,null,null,null,null,null,null,null,null,"Chima",68176]
[{"$f":"IF('Datos Iniciales'!F203=\"\",\"\",'Datos Iniciales'!F203)","v":""},{"$error":"#VALUE!"},0,null,{"$error":"#VALUE!"},0,null,null,null,null,null,null,null,null,"Chimá",23168]
[{"$f":"IF('Datos Iniciales'!F204=\"\",\"\",'Datos Iniciales'!F204)","v":""},{"$error":"#VALUE!"},0,null,{"$error":"#VALUE!"},0,null,null,null,null,null,null,null,null,"Chimichagua",20175]
[{"$f":"IF('Datos Iniciales'!F205=\"\",\"\",'Datos Iniciales'!F205)","v":""},{"$error":"#VALUE!"},0,null,{"$error":"#VALUE!"},0,null,null,null,null,null,null,null,null,"Chinácota",54172]
[{"$f":"IF('Datos Iniciales'!F206=\"\",\"\",'Datos Iniciales'!F206)","v":""},{"$error":"#VALUE!"},0,null,{"$error":"#VALUE!"},0,null,null,null,null,null,null,null,null,"Chinavita",15172]
[{"$f":"IF('Datos Iniciales'!F207=\"\",\"\",'Datos Iniciales'!F207)","v":""},{"$error":"#VALUE!"},0,null,{"$error":"#VALUE!"},0,null,null,null,null,null,null,null,null,"Chinchiná",17174]
[{"$f":"IF('Datos Iniciales'!F208=\"\",\"\",'Datos Iniciales'!F208)","v":""},{"$error":"#VALUE!"},0,null,{"$error":"#VALUE!"},0,null,null,null,null,null,null,null,null,"Chinú",23182]
[{"$f":"IF('Datos Iniciales'!F209=\"\",\"\",'Datos Iniciales'!F209)","v":""},{"$error":"#VALUE!"},0,null,{"$error":"#VALUE!"},0,null,null,null,null,null,null,null,null,"Chipaque",25178]
[{"$f":"IF('Datos Iniciales'!F210=\"\",\"\",'Datos Iniciales'!F210)","v":""},{"$error":"#VALUE!"},0,null,{"$error":"#VALUE!"},0,null,null,null,null,null,null,null,null,"Chipatá",68179]
[{"$f":"IF('Datos Iniciales'!F211=\"\",\"\",'Datos Iniciales'!F211)","v":""},{"$error":"#VALUE!"},0,null,{"$error":"#VALUE!"},0,null,null,null,null,null,null,null,null,"Chiquinquirá",15176]
[{"$f":"IF('Datos Iniciales'!F212=\"\",\"\",'Datos Iniciales'!F212)","v":""},{"$error":"#VALUE!"},0,null,{"$error":"#VALUE!"},0,null,null,null,null,null,null,null,null,"Chíquiza",15232]
[{"$f":"IF('Datos Iniciales'!F213=\"\",\"\",'Datos Iniciales'!F213)","v":""},{"$error":"#VALUE!"},0,null,{"$error":"#VALUE!"},0,null,null,null,null,null,null,null,null,"Chiriguaná",20178]
[{"$f":"IF('Datos Iniciales'!F214=\"\",\"\",'Datos Iniciales'!F214)","v":""},{"$error":"#VALUE!"},0,null,{"$error":"#VALUE!"},0,null,null,null,null,null,null,null,null,"Chiscas",15180]
[{"$f":"IF('Datos Iniciales'!F215=\"\",\"\",'Datos Iniciales'!F215)","v":""},{"$error":"#VALUE!"},0,null,{"$error":"#VALUE!"},0,null,null,null,null,null,null,null,null,"Chita",15183]
[{"$f":"IF('Datos Iniciales'!F216=\"\",\"\",'Datos Iniciales'!F216)","v":""},{"$error":"#VALUE!"},0,null,{"$error":"#VALUE!"},0,null,null,null,null,null,null,null,null,"Chitagá",54174]
[{"$f":"IF('Datos Iniciales'!F217=\"\",\"\",'Datos Iniciales'!F217)","v":""},{"$error":"#VALUE!"},0,null,{"$error":"#VALUE!"},0,null,null,null,null,null,null,null,null,"Chitaraque",15185]
[{"$f":"IF('Datos Iniciales'!F218=\"\",\"\",'Datos Iniciales'!F218)","v":""},{"$error":"#VALUE!"},0,null,{"$error":"#VALUE!"},0,null,null,null,null,null,null,null,null,"Chivatá",15187]
[{"$f":"IF('Datos Iniciales'!F219=\"\",\"\",'Datos Iniciales'!F219)","v":""},{"$error":"#VALUE!"},0,null,{"$error":"#VALUE!"},0,null,null,null,null,null,null,null,null,"Chivor",15236]
[{"$f":"IF('Datos Iniciales'!F220=\"\",\"\",'Datos Iniciales'!F220)","v":""},{"$error":"#VALUE!"},0,null,{"$error":"#VALUE!"},0,null,null,null,null,null,null,null,null,"Choachí",25181]
[{"$f":"IF('Datos Iniciales'!F221=\"\",\"\",'Datos Iniciales'!F221)","v":""},{"$error":"#VALUE!"},0,null,{"$error":"#VALUE!"},0,null,null,null,null,null,null,null,null,"Chocontá",25183]
[{"$f":"IF('Datos Iniciales'!F222=\"\",\"\",'Datos Iniciales'!F222)","v":""},{"$error":"#VALUE!"},0,null,{"$error":"#VALUE!"},0,null,null,null,null,null,null,null,null,"Cicuco",13188]
[{"$f":"IF('Datos Iniciales'!F223=\"\",\"\",'Datos Iniciales'!F223)","v":""},{"$error":"#VALUE!"},0,null,{"$error":"#VALUE!"},0,null,null,null,null,null,null,null,null,"Ciénaga",47189]
[{"$f":"IF('Datos Iniciales'!F224=\"\",\"\",'Datos Iniciales'!F224)","v":""},{"$error":"#VALUE!"},0,null,{"$error":"#VALUE!"},0,null,null,null,null,null,null,null,null,"Ciénaga De Oro",23189]
[{"$f":"IF('Datos Iniciales'!F225=\"\",\"\",'Datos Iniciales'!F225)","v":""},{"$error":"#VALUE!"},0,null,{"$error":"#VALUE!"},0,null,null,null,null,null,null,null,null,"Ciénega",15189]
[{"$f":"IF('Datos Iniciales'!F226=\"\",\"\",'Datos Iniciales'!F226)","v":""},{"$error":"#VALUE!"},0,null,{"$error":"#VALUE!"},0,null,null,null,null,null,null,null,null,"Cimitarra",68190]
[{"$f":"IF('Datos Iniciales'!F227=\"\",\"\",'Datos Iniciales'!F227)","v":""},{"$error":"#VALUE!"},0,null,{"$error":"#VALUE!"},0,null,null,null,null,null,null,null,null,"Circasia",63190]
[{"$f":"IF('Datos Iniciales'!F228=\"\",\"\",'Datos Iniciales'!F228)","v":""},{"$error":"#VALUE!"},0,null,{"$error":"#VALUE!"},0,null,null,null,null,null,null,null,null,"Cisneros","05190"]
[{"$f":"IF('Datos Iniciales'!F229=\"\",\"\",'Datos Iniciales'!F229)","v":""},{"$error":"#VALUE!"},0,null,{"$error":"#VALUE!"},0,null,null,null,null,null,null,null,null,"Ciudad Bolívar","05101"]
[{"$f":"IF('Datos Iniciales'!F230=\"\",\"\",'Datos Iniciales'!F230)","v":""},{"$error":"#VALUE!"},0,null,{"$error":"#VALUE!"},0,null,null,null,null,null,null,null,null,"Clemencia",13222]
[{"$f":"IF('Datos Iniciales'!F231=\"\",\"\",'Datos Iniciales'!F231)","v":""},{"$error":"#VALUE!"},0,null,{"$error":"#VALUE!"},0,null,null,null,null,null,null,null,null,"Cocorná","05197"]
[{"$f":"IF('Datos Iniciales'!F232=\"\",\"\",'Datos Iniciales'!F232)","v":""},{"$error":"#VALUE!"},0,null,{"$error":"#VALUE!"},0,null,null,null,null,null,null,null,null,"Coello",73200]
[{"$f":"IF('Datos Iniciales'!F233=\"\",\"\",'Datos Iniciales'!F233)","v":""},{"$error":"#VALUE!"},0,null,{"$error":"#VALUE!"},0,null,null,null,null,null,null,null,null,"Cogua",25200]
[{"$f":"IF('Datos Iniciales'!F234=\"\",\"\",'Datos Iniciales'!F234)","v":""},{"$error":"#VALUE!"},0,null,{"$error":"#VALUE!"},0,null,null,null,null,null,null,null,null,"Colombia",41206]
[{"$f":"IF('Datos Iniciales'!F235=\"\",\"\",'Datos Iniciales'!F235)","v":""},{"$error":"#VALUE!"},0,null,{"$error":"#VALUE!"},0,null,null,null,null,null,null,null,null,"Colón",52203]
[{"$f":"IF('Datos Iniciales'!F236=\"\",\"\",'Datos Iniciales'!F236)","v":""},{"$error":"#VALUE!"},0,null,{"$error":"#VALUE!"},0,null,null,null,null,null,null,null,null,"Colón",86219]
[{"$f":"IF('Datos Iniciales'!F237=\"\",\"\",'Datos Iniciales'!F237)","v":""},{"$error":"#VALUE!"},0,null,{"$error":"#VALUE!"},0,null,null,null,null,null,null,null,null,"Coloso",70204]
[{"$f":"IF('Datos Iniciales'!F238=\"\",\"\",'Datos Iniciales'!F238)","v":""},{"$error":"#VALUE!"},0,null,{"$error":"#VALUE!"},0,null,null,null,null,null,null,null,null,"Cómbita",15204]
[{"$f":"IF('Datos Iniciales'!F239=\"\",\"\",'Datos Iniciales'!F239)","v":""},{"$error":"#VALUE!"},0,null,{"$error":"#VALUE!"},0,null,null,null,null,null,null,null,null,"Concepción","05206"]
[{"$f":"IF('Datos Iniciales'!F240=\"\",\"\",'Datos Iniciales'!F240)","v":""},{"$error":"#VALUE!"},0,null,{"$error":"#VALUE!"},0,null,null,null,null,null,null,null,null,"Concepción",68207]
[{"$f":"IF('Datos Iniciales'!F241=\"\",\"\",'Datos Iniciales'!F241)","v":""},{"$error":"#VALUE!"},0,null,{"$error":"#VALUE!"},0,null,null,null,null,null,null,null,null,"Concordia","05209"]
[{"$f":"IF('Datos Iniciales'!F242=\"\",\"\",'Datos Iniciales'!F242)","v":""},{"$error":"#VALUE!"},0,null,{"$error":"#VALUE!"},0,null,null,null,null,null,null,null,null,"Concordia",47205]
[{"$f":"IF('Datos Iniciales'!F243=\"\",\"\",'Datos Iniciales'!F243)","v":""},{"$error":"#VALUE!"},0,null,{"$error":"#VALUE!"},0,null,null,null,null,null,null,null,null,"Condoto",27205]
[{"$f":"IF('Datos Iniciales'!F244=\"\",\"\",'Datos Iniciales'!F244)","v":""},{"$error":"#VALUE!"},0,null,{"$error":"#VALUE!"},0,null,null,null,null,null,null,null,null,"Confines",68209]
[{"$f":"IF('Datos Iniciales'!F245=\"\",\"\",'Datos Iniciales'!F245)","v":""},{"$error":"#VALUE!"},0,null,{"$error":"#VALUE!"},0,null,null,null,null,null,null,null,null,"Consaca",52207]
[{"$f":"IF('Datos Iniciales'!F246=\"\",\"\",'Datos Iniciales'!F246)","v":""},{"$error":"#VALUE!"},0,null,{"$error":"#VALUE!"},0,null,null,null,null,null,null,null,null,"Contadero",52210]
[{"$f":"IF('Datos Iniciales'!F247=\"\",\"\",'Datos Iniciales'!F247)","v":""},{"$error":"#VALUE!"},0,null,{"$error":"#VALUE!"},0,null,null,null,null,null,null,null,null,"Contratación",68211]
[{"$f":"IF('Datos Iniciales'!F248=\"\",\"\",'Datos Iniciales'!F248)","v":""},{"$error":"#VALUE!"},0,null,{"$error":"#VALUE!"},0,null,null,null,null,null,null,null,null,"Convención",54206]
[{"$f":"IF('Datos Iniciales'!F249=\"\",\"\",'Datos Iniciales'!F249)","v":""},{"$error":"#VALUE!"},0,null,{"$error":"#VALUE!"},0,null,null,null,null,null,null,null,null,"Copacabana","05212"]
[{"$f":"IF('Datos Iniciales'!F250=\"\",\"\",'Datos Iniciales'!F250)","v":""},{"$error":"#VALUE!"},0,null,{"$error":"#VALUE!"},0,null,null,null,null,null,null,null,null,"Coper",15212]
[{"$f":"IF('Datos Iniciales'!F251=\"\",\"\",'Datos Iniciales'!F251)","v":""},{"$error":"#VALUE!"},0,null,{"$error":"#VALUE!"},0,null,null,null,null,null,null,null,null,"Córdoba",13212]
[{"$f":"IF('Datos Iniciales'!F252=\"\",\"\",'Datos Iniciales'!F252)","v":""},{"$error":"#VALUE!"},0,null,{"$error":"#VALUE!"},0,null,null,null,null,null,null,null,null,"Córdoba",52215]
[{"$f":"IF('Datos Iniciales'!F253=\"\",\"\",'Datos Iniciales'!F253)","v":""},{"$error":"#VALUE!"},0,null,{"$error":"#VALUE!"},0,null,null,null,null,null,null,null,null,"Córdoba",63212]
[{"$f":"IF('Datos Iniciales'!F254=\"\",\"\",'Datos Iniciales'!F254)","v":""},{"$error":"#VALUE!"},0,null,{"$error":"#VALUE!"},0,null,null,null,null,null,null,null,null,"Corinto",19212]
[{"$f":"IF('Datos Iniciales'!F255=\"\",\"\",'Datos Iniciales'!F255)","v":""},{"$error":"#VALUE!"},0,null,{"$error":"#VALUE!"},0,null,null,null,null,null,null,null,null,"Coromoro",68217]
[{"$f":"IF('Datos Iniciales'!F256=\"\",\"\",'Datos Iniciales'!F256)","v":""},{"$error":"#VALUE!"},0,null,{"$error":"#VALUE!"},0,null,null,null,null,null,null,null,null,"Corozal",70215]
[{"$f":"IF('Datos Iniciales'!F257=\"\",\"\",'Datos Iniciales'!F257)","v":""},{"$error":"#VALUE!"},0,null,{"$error":"#VALUE!"},0,null,null,null,null,null,null,null,null,"Corrales",15215]
[{"$f":"IF('Datos Iniciales'!F258=\"\",\"\",'Datos Iniciales'!F258)","v":""},{"$error":"#VALUE!"},0,null,{"$error":"#VALUE!"},0,null,null,null,null,null,null,null,null,"Cota",25214]
[{"$f":"IF('Datos Iniciales'!F259=\"\",\"\",'Datos Iniciales'!F259)","v":""},{"$error":"#VALUE!"},0,null,{"$f":"MOD((VALUE(MID(TEXT(A258,\"000000000000000\"),15,1))*3+VALUE(MID(TEXT(A258,\"000000000000000\"),14,1))*7+VALUE(MID(TEXT(A258,\"000000000000000\"),13,1))*13+VALUE(MID(TEXT(A258,\"000000000000000\"),12,1))*17+VALUE(MID(TEXT(A258,\"000000000000000\"),11,1))*19+VALUE(MID(TEXT(A258,\"000000000000000\"),10,1))*23+VALUE(MID(TEXT(A258,\"000000000000000\"),9,1))*29+VALUE(MID(TEXT(A258,\"000000000000000\"),8,1))*37+VALUE(MID(TEXT(A258,\"000000000000000\"),7,1))*41+VALUE(MID(TEXT(A258,\"000000000000000\"),6,1))*43+VALUE(MID(TEXT(A258,\"000000000000000\"),5,1))*47+VALUE(MID(TEXT(A258,\"000000000000000\"),4,1))*53+VALUE(MID(TEXT(A258,\"000000000000000\"),3,1))*59+VALUE(MID(TEXT(A258,\"000000000000000\"),2,1))*67+VALUE(MID(TEXT(A258,\"000000000000000\"),1,1))*71),11)","v":{"$error":"#VALUE!"}},{"$f":"(MID(CONCATENATE(REPT(0,15-LEN(A258)),A258),1,1)*71)+(MID(CONCATENATE(REPT(0,15-LEN(A258)),A258),2,1)*67)+(MID(CONCATENATE(REPT(0,15-LEN(A258)),A258),3,1)*59)+(MID(CONCATENATE(REPT(0,15-LEN(A258)),A258),4,1)*53)+(MID(CONCATENATE(REPT(0,15-LEN(A258)),A258),5,1)*47)+(MID(CONCATENATE(REPT(0,15-LEN(A258)),A258),6,1)*43)+(MID(CONCATENATE(REPT(0,15-LEN(A258)),A258),7,1)*41)+(MID(CONCATENATE(REPT(0,15-LEN(A258)),A258),8,1)*37)+(MID(CONCATENATE(REPT(0,15-LEN(A258)),A258),9,1)*29)+(MID(CONCATENATE(REPT(0,15-LEN(A258)),A258),10,1)*23)+(MID(CONCATENATE(REPT(0,15-LEN(A258)),A258),11,1)*19)+(MID(CONCATENATE(REPT(0,15-LEN(A258)),A258),12,1)*17)+(MID(CONCATENATE(REPT(0,15-LEN(A258)),A258),13,1)*13)+(MID(CONCATENATE(REPT(0,15-LEN(A258)),A258),14,1)*7)+(MID(CONCATENATE(REPT(0,15-LEN(A258)),A258),15,1)*3)","v":0},null,null,null,null,null,null,null,null,"Cotorra",23300]
[{"$f":"IF('Datos Iniciales'!F260=\"\",\"\",'Datos Iniciales'!F260)","v":""},{"$f":"IF(E259=0,0,IF(E259=1,1,11-E259))","v":{"$error":"#VALUE!"}},{"$f":"IF((ROUND((((F259/11)-TRUNC(F259/11))*11),0))<=1,(ROUND((((F259/11)-TRUNC(F259/11))*11),0)),(11-(ROUND((((F259/11)-TRUNC(F259/11))*11),0))))","v":0},null,{"$error":"#VALUE!"},0,null,null,null,null,null,null,null,null,"Covarachía",15218]
[{"$f":"IF('Datos Iniciales'!F261=\"\",\"\",'Datos Iniciales'!F261)","v":""},{"$error":"#VALUE!"},0,null,{"$error":"#VALUE!"},0,null,null,null,null,null,null,null,null,"Coveñas",70221]
[{"$f":"IF('Datos Iniciales'!F262=\"\",\"\",'Datos Iniciales'!F262)","v":""},{"$error":"#VALUE!"},0,null,{"$error":"#VALUE!"},0,null,null,null,null,null,null,null,null,"Coyaima",73217]
[{"$f":"IF('Datos Iniciales'!F263=\"\",\"\",'Datos Iniciales'!F263)","v":""},{"$error":"#VALUE!"},0,null,{"$error":"#VALUE!"},0,null,null,null,null,null,null,null,null,"Cravo Norte",81220]
[{"$f":"IF('Datos Iniciales'!F264=\"\",\"\",'Datos Iniciales'!F264)","v":""},{"$error":"#VALUE!"},0,null,{"$error":"#VALUE!"},0,null,null,null,null,null,null,null,null,"Cuaspud",52224]
[{"$f":"IF('Datos Iniciales'!F265=\"\",\"\",'Datos Iniciales'!F265)","v":""},{"$error":"#VALUE!"},0,null,{"$error":"#VALUE!"},0,null,null,null,null,null,null,null,null,"Cubará",15223]
[{"$f":"IF('Datos Iniciales'!F266=\"\",\"\",'Datos Iniciales'!F266)","v":""},{"$error":"#VALUE!"},0,null,{"$error":"#VALUE!"},0,null,null,null,null,null,null,null,null,"Cubarral",50223]
[{"$f":"IF('Datos Iniciales'!F267=\"\",\"\",'Datos Iniciales'!F267)","v":""},{"$error":"#VALUE!"},0,null,{"$error":"#VALUE!"},0,null,null,null,null,null,null,null,null,"Cucaita",15224]
[{"$f":"IF('Datos Iniciales'!F268=\"\",\"\",'Datos Iniciales'!F268)","v":""},{"$error":"#VALUE!"},0,null,{"$error":"#VALUE!"},0,null,null,null,null,null,null,null,null,"Cucunubá",25224]
[{"$f":"IF('Datos Iniciales'!F269=\"\",\"\",'Datos Iniciales'!F269)","v":""},{"$error":"#VALUE!"},0,null,{"$error":"#VALUE!"},0,null,null,null,null,null,null,null,null,"Cúcuta",54001]
[{"$f":"IF('Datos Iniciales'!F270=\"\",\"\",'Datos Iniciales'!F270)","v":""},{"$error":"#VALUE!"},0,null,{"$error":"#VALUE!"},0,null,null,null,null,null,null,null,null,"Cucutilla",54223]
[{"$f":"IF('Datos Iniciales'!F271=\"\",\"\",'Datos Iniciales'!F271)","v":""},{"$error":"#VALUE!"},0,null,{"$error":"#VALUE!"},0,null,null,null,null,null,null,null,null,"Cuítiva",15226]
[{"$f":"IF('Datos Iniciales'!F272=\"\",\"\",'Datos Iniciales'!F272)","v":""},{"$error":"#VALUE!"},0,null,{"$error":"#VALUE!"},0,null,null,null,null,null,null,null,null,"Cumaral",50226]
[{"$f":"IF('Datos Iniciales'!F273=\"\",\"\",'Datos Iniciales'!F273)","v":""},{"$error":"#VALUE!"},0,null,{"$error":"#VALUE!"},0,null,null,null,null,null,null,null,null,"Cumaribo",99773]
[{"$f":"IF('Datos Iniciales'!F274=\"\",\"\",'Datos Iniciales'!F274)","v":""},{"$error":"#VALUE!"},0,null,{"$error":"#VALUE!"},0,null,null,null,null,null,null,null,null,"Cumbal",52227]
[{"$f":"IF('Datos Iniciales'!F275=\"\",\"\",'Datos Iniciales'!F275)","v":""},{"$error":"#VALUE!"},0,null,{"$error":"#VALUE!"},0,null,null,null,null,null,null,null,null,"Cumbitara",52233]
[{"$f":"IF('Datos Iniciales'!F276=\"\",\"\",'Datos Iniciales'!F276)","v":""},{"$error":"#VALUE!"},0,null,{"$error":"#VALUE!"},0,null,null,null,null,null,null,null,null,"Cunday",73226]
[{"$f":"IF('Datos Iniciales'!F277=\"\",\"\",'Datos Iniciales'!F277)","v":""},{"$error":"#VALUE!"},0,null,{"$error":"#VALUE!"},0,null,null,null,null,null,null,null,null,"Curillo",18205]
[{"$f":"IF('Datos Iniciales'!F278=\"\",\"\",'Datos Iniciales'!F278)","v":""},{"$error":"#VALUE!"},0,null,{"$error":"#VALUE!"},0,null,null,null,null,null,null,null,null,"Curití",68229]
[{"$f":"IF('Datos Iniciales'!F279=\"\",\"\",'Datos Iniciales'!F279)","v":""},{"$error":"#VALUE!"},0,null,{"$error":"#VALUE!"},0,null,null,null,null,null,null,null,null,"Curumaní",20228]
[{"$f":"IF('Datos Iniciales'!F280=\"\",\"\",'Datos Iniciales'!F280)","v":""},{"$error":"#VALUE!"},0,null,{"$error":"#VALUE!"},0,null,null,null,null,null,null,null,null,"Dabeiba","05234"]
[{"$f":"IF('Datos Iniciales'!F281=\"\",\"\",'Datos Iniciales'!F281)","v":""},{"$error":"#VALUE!"},0,null,{"$error":"#VALUE!"},0,null,null,null,null,null,null,null,null,"Dagua",76233]
[{"$f":"IF('Datos Iniciales'!F282=\"\",\"\",'Datos Iniciales'!F282)","v":""},{"$error":"#VALUE!"},0,null,{"$error":"#VALUE!"},0,null,null,null,null,null,null,null,null,"Dibulla",44090]
[{"$f":"IF('Datos Iniciales'!F283=\"\",\"\",'Datos Iniciales'!F283)","v":""},{"$error":"#VALUE!"},0,null,{"$error":"#VALUE!"},0,null,null,null,null,null,null,null,null,"Distracción",44098]
[{"$f":"IF('Datos Iniciales'!F284=\"\",\"\",'Datos Iniciales'!F284)","v":""},{"$error":"#VALUE!"},0,null,{"$error":"#VALUE!"},0,null,null,null,null,null,null,null,null,"Dolores",73236]
[{"$f":"IF('Datos Iniciales'!F285=\"\",\"\",'Datos Iniciales'!F285)","v":""},{"$error":"#VALUE!"},0,null,{"$error":"#VALUE!"},0,null,null,null,null,null,null,null,null,"Don Matías","05237"]
[{"$f":"IF('Datos Iniciales'!F286=\"\",\"\",'Datos Iniciales'!F286)","v":""},{"$error":"#VALUE!"},0,null,{"$error":"#VALUE!"},0,null,null,null,null,null,null,null,null,"Dosquebradas",66170]
[{"$f":"IF('Datos Iniciales'!F287=\"\",\"\",'Datos Iniciales'!F287)","v":""},{"$error":"#VALUE!"},0,null,{"$error":"#VALUE!"},0,null,null,null,null,null,null,null,null,"Duitama",15238]
[{"$f":"IF('Datos Iniciales'!F288=\"\",\"\",'Datos Iniciales'!F288)","v":""},{"$error":"#VALUE!"},0,null,{"$error":"#VALUE!"},0,null,null,null,null,null,null,null,null,"Durania",54239]
[{"$f":"IF('Datos Iniciales'!F289=\"\",\"\",'Datos Iniciales'!F289)","v":""},{"$error":"#VALUE!"},0,null,{"$error":"#VALUE!"},0,null,null,null,null,null,null,null,null,"Ebéjico","05240"]
[{"$f":"IF('Datos Iniciales'!F290=\"\",\"\",'Datos Iniciales'!F290)","v":""},{"$error":"#VALUE!"},0,null,{"$error":"#VALUE!"},0,null,null,null,null,null,null,null,null,"El Águila",76243]
[{"$f":"IF('Datos Iniciales'!F291=\"\",\"\",'Datos Iniciales'!F291)","v":""},{"$error":"#VALUE!"},0,null,{"$error":"#VALUE!"},0,null,null,null,null,null,null,null,null,"El Bagre","05250"]
[{"$f":"IF('Datos Iniciales'!F292=\"\",\"\",'Datos Iniciales'!F292)","v":""},{"$error":"#VALUE!"},0,null,{"$error":"#VALUE!"},0,null,null,null,null,null,null,null,null,"El Banco",47245]
[{"$f":"IF('Datos Iniciales'!F293=\"\",\"\",'Datos Iniciales'!F293)","v":""},{"$error":"#VALUE!"},0,null,{"$error":"#VALUE!"},0,null,null,null,null,null,null,null,null,"El Cairo",76246]
[{"$f":"IF('Datos Iniciales'!F294=\"\",\"\",'Datos Iniciales'!F294)","v":""},{"$error":"#VALUE!"},0,null,{"$error":"#VALUE!"},0,null,null,null,null,null,null,null,null,"El Calvario",50245]
[{"$f":"IF('Datos Iniciales'!F295=\"\",\"\",'Datos Iniciales'!F295)","v":""},{"$error":"#VALUE!"},0,null,{"$error":"#VALUE!"},0,null,null,null,null,null,null,null,null,"El Cantón Del San Pablo",27135]
[{"$f":"IF('Datos Iniciales'!F296=\"\",\"\",'Datos Iniciales'!F296)","v":""},{"$error":"#VALUE!"},0,null,{"$error":"#VALUE!"},0,null,null,null,null,null,null,null,null,"El Carmen",54245]
[{"$f":"IF('Datos Iniciales'!F297=\"\",\"\",'Datos Iniciales'!F297)","v":""},{"$error":"#VALUE!"},0,null,{"$error":"#VALUE!"},0,null,null,null,null,null,null,null,null,"El Carmen De Atrato",27245]
[{"$f":"IF('Datos Iniciales'!F298=\"\",\"\",'Datos Iniciales'!F298)","v":""},{"$error":"#VALUE!"},0,null,{"$error":"#VALUE!"},0,null,null,null,null,null,null,null,null,"El Carmen De Bolívar",13244]
[{"$f":"IF('Datos Iniciales'!F299=\"\",\"\",'Datos Iniciales'!F299)","v":""},{"$error":"#VALUE!"},0,null,{"$error":"#VALUE!"},0,null,null,null,null,null,null,null,null,"El Carmen De Chucurí",68235]
[{"$f":"IF('Datos Iniciales'!F300=\"\",\"\",'Datos Iniciales'!F300)","v":""},{"$error":"#VALUE!"},0,null,{"$error":"#VALUE!"},0,null,null,null,null,null,null,null,null,"El Carmen De Viboral","05148"]
[{"$f":"IF('Datos Iniciales'!F301=\"\",\"\",'Datos Iniciales'!F301)","v":""},{"$error":"#VALUE!"},0,null,{"$error":"#VALUE!"},0,null,null,null,null,null,null,null,null,"El Castillo",50251]
[null,null,null,null,null,null,null,null,null,null,null,null,null,null,"El Cerrito",76248]
[null,null,null,null,null,null,null,null,null,null,null,null,null,null,"El Charco",52250]
[null,null,null,null,null,null,null,null,null,null,null,null,null,null,"El Cocuy",15244]
[null,null,null,null,null,null,null,null,null,null,null,null,null,null,"El Colegio",25245]
[null,null,null,null,null,null,null,null,null,null,null,null,null,null,"El Copey",20238]
[null,null,null,null,null,null,null,null,null,null,null,null,null,null,"El Doncello",18247]
[null,null,null,null,null,null,null,null,null,null,null,null,null,null,"El Dorado",50270]
[null,null,null,null,null,null,null,null,null,null,null,null,null,null,"El Dovio",76250]
[null,null,null,null,null,null,null,null,null,null,null,null,null,null,"El Encanto",91263]
[null,null,null,null,null,null,null,null,null,null,null,null,null,null,"El Espino",15248]
[null,null,null,null,null,null,null,null,null,null,null,null,null,null,"El Guacamayo",68245]
[null,null,null,null,null,null,null,null,null,null,null,null,null,null,"El Guamo",13248]
[null,null,null,null,null,null,null,null,null,null,null,null,null,null,"El Litoral Del San Juan",27250]
[null,null,null,null,null,null,null,null,null,null,null,null,null,null,"El Molino",44110]
[null,null,null,null,null,null,null,null,null,null,null,null,null,null,"El Paso",20250]
[null,null,null,null,null,null,null,null,null,null,null,null,null,null,"El Paujil",18256]
[null,null,null,null,null,null,null,null,null,null,null,null,null,null,"El Peñol",52254]
[null,null,null,null,null,null,null,null,null,null,null,null,null,null,"El Peñón",13268]
[null,null,null,null,null,null,null,null,null,null,null,null,null,null,"El Peñón",25258]
[null,null,null,null,null,null,null,null,null,null,null,null,null,null,"El Peñón",68250]
[null,null,null,null,null,null,null,null,null,null,null,null,null,null,"El Piñon",47258]
[null,null,null,null,null,null,null,null,null,null,null,null,null,null,"El Playón",68255]
[null,null,null,null,null,null,null,null,null,null,null,null,null,null,"El Retén",47268]
[null,null,null,null,null,null,null,null,null,null,null,null,null,null,"El Retorno",95025]
[null,null,null,null,null,null,null,null,null,null,null,null,null,null,"El Roble",70233]
[null,null,null,null,null,null,null,null,null,null,null,null,null,null,"El Rosal",25260]
[null,null,null,null,null,null,null,null,null,null,null,null,null,null,"El Rosario",52256]
[null,null,null,null,null,null,null,null,null,null,null,null,null,null,"El Santuario","05697"]
[null,null,null,null,null,null,null,null,null,null,null,null,null,null,"El Tablón De Gómez",52258]
[null,null,null,null,null,null,null,null,null,null,null,null,null,null,"El Tambo",19256]
[null,null,null,null,null,null,null,null,null,null,null,null,null,null,"El Tambo",52260]
[null,null,null,null,null,null,null,null,null,null,null,null,null,null,"El Tarra",54250]
[null,null,null,null,null,null,null,null,null,null,null,null,null,null,"El Zulia",54261]
[null,null,null,null,null,null,null,null,null,null,null,null,null,null,"Elías",41244]
[null,null,null,null,null,null,null,null,null,null,null,null,null,null,"Encino",68264]
[null,null,null,null,null,null,null,null,null,null,null,null,null,null,"Enciso",68266]
[null,null,null,null,null,null,null,null,null,null,null,null,null,null,"Entrerrios","05264"]
[null,null,null,null,null,null,null,null,null,null,null,null,null,null,"Envigado","05266"]
[null,null,null,null,null,null,null,null,null,null,null,null,null,null,"Espinal",73268]
[null,null,null,null,null,null,null,null,null,null,null,null,null,null,"Facatativá",25269]
[null,null,null,null,null,null,null,null,null,null,null,null,null,null,"Falan",73270]
[null,null,null,null,null,null,null,null,null,null,null,null,null,null,"Filadelfia",17272]
[null,null,null,null,null,null,null,null,null,null,null,null,null,null,"Filandia",63272]
[null,null,null,null,null,null,null,null,null,null,null,null,null,null,"Firavitoba",15272]
[null,null,null,null,null,null,null,null,null,null,null,null,null,null,"Flandes",73275]
[null,null,null,null,null,null,null,null,null,null,null,null,null,null,"Florencia",18001]
[null,null,null,null,null,null,null,null,null,null,null,null,null,null,"Florencia",19290]
[null,null,null,null,null,null,null,null,null,null,null,null,null,null,"Floresta",15276]
[null,null,null,null,null,null,null,null,null,null,null,null,null,null,"Florián",68271]
[null,null,null,null,null,null,null,null,null,null,null,null,null,null,"Florida",76275]
[null,null,null,null,null,null,null,null,null,null,null,null,null,null,"Floridablanca",68276]
[null,null,null,null,null,null,null,null,null,null,null,null,null,null,"Fomeque",25279]
[null,null,null,null,null,null,null,null,null,null,null,null,null,null,"Fonseca",44279]
[null,null,null,null,null,null,null,null,null,null,null,null,null,null,"Fortul",81300]
[null,null,null,null,null,null,null,null,null,null,null,null,null,null,"Fosca",25281]
[null,null,null,null,null,null,null,null,null,null,null,null,null,null,"Francisco Pizarro",52520]
[null,null,null,null,null,null,null,null,null,null,null,null,null,null,"Fredonia","05282"]
[null,null,null,null,null,null,null,null,null,null,null,null,null,null,"Fresno",73283]
[null,null,null,null,null,null,null,null,null,null,null,null,null,null,"Frontino","05284"]
[null,null,null,null,null,null,null,null,null,null,null,null,null,null,"Fuente De Oro",50287]
[null,null,null,null,null,null,null,null,null,null,null,null,null,null,"Fundación",47288]
[null,null,null,null,null,null,null,null,null,null,null,null,null,null,"Funes",52287]
[null,null,null,null,null,null,null,null,null,null,null,null,null,null,"Funza",25286]
[null,null,null,null,null,null,null,null,null,null,null,null,null,null,"Fúquene",25288]
[null,null,null,null,null,null,null,null,null,null,null,null,null,null,"Fusagasugá",25290]
[null,null,null,null,null,null,null,null,null,null,null,null,null,null,"Gachala",25293]
[null,null,null,null,null,null,null,null,null,null,null,null,null,null,"Gachancipá",25295]
[null,null,null,null,null,null,null,null,null,null,null,null,null,null,"Gachantivá",15293]
[null,null,null,null,null,null,null,null,null,null,null,null,null,null,"Gachetá",25297]
[null,null,null,null,null,null,null,null,null,null,null,null,null,null,"Galán",68296]
[null,null,null,null,null,null,null,null,null,null,null,null,null,null,"Galapa","08296"]
[null,null,null,null,null,null,null,null,null,null,null,null,null,null,"Galeras",70235]
[null,null,null,null,null,null,null,null,null,null,null,null,null,null,"Gama",25299]
[null,null,null,null,null,null,null,null,null,null,null,null,null,null,"Gamarra",20295]
[null,null,null,null,null,null,null,null,null,null,null,null,null,null,"Gambita",68298]
[null,null,null,null,null,null,null,null,null,null,null,null,null,null,"Gameza",15296]
[null,null,null,null,null,null,null,null,null,null,null,null,null,null,"Garagoa",15299]
[null,null,null,null,null,null,null,null,null,null,null,null,null,null,"Garzón",41298]
[null,null,null,null,null,null,null,null,null,null,null,null,null,null,"Génova",63302]
[null,null,null,null,null,null,null,null,null,null,null,null,null,null,"Gigante",41306]
[null,null,null,null,null,null,null,null,null,null,null,null,null,null,"Ginebra",76306]
[null,null,null,null,null,null,null,null,null,null,null,null,null,null,"Giraldo","05306"]
[null,null,null,null,null,null,null,null,null,null,null,null,null,null,"Girardot",25307]
[null,null,null,null,null,null,null,null,null,null,null,null,null,null,"Girardota","05308"]
[null,null,null,null,null,null,null,null,null,null,null,null,null,null,"Girón",68307]
[null,null,null,null,null,null,null,null,null,null,null,null,null,null,"Gómez Plata","05310"]
[null,null,null,null,null,null,null,null,null,null,null,null,null,null,"González",20310]
[null,null,null,null,null,null,null,null,null,null,null,null,null,null,"Gramalote",54313]
[null,null,null,null,null,null,null,null,null,null,null,null,null,null,"Granada","05313"]
[null,null,null,null,null,null,null,null,null,null,null,null,null,null,"Granada",25312]
[null,null,null,null,null,null,null,null,null,null,null,null,null,null,"Granada",50313]
[null,null,null,null,null,null,null,null,null,null,null,null,null,null,"Guaca",68318]
[null,null,null,null,null,null,null,null,null,null,null,null,null,null,"Guacamayas",15317]
[null,null,null,null,null,null,null,null,null,null,null,null,null,null,"Guacarí",76318]
[null,null,null,null,null,null,null,null,null,null,null,null,null,null,"Guachetá",25317]
[null,null,null,null,null,null,null,null,null,null,null,null,null,null,"Guachucal",52317]
[null,null,null,null,null,null,null,null,null,null,null,null,null,null,"Guadalajara De Buga",76111]
[null,null,null,null,null,null,null,null,null,null,null,null,null,null,"Guadalupe","05315"]
[null,null,null,null,null,null,null,null,null,null,null,null,null,null,"Guadalupe",41319]
[null,null,null,null,null,null,null,null,null,null,null,null,null,null,"Guadalupe",68320]
[null,null,null,null,null,null,null,null,null,null,null,null,null,null,"Guaduas",25320]
[null,null,null,null,null,null,null,null,null,null,null,null,null,null,"Guaitarilla",52320]
[null,null,null,null,null,null,null,null,null,null,null,null,null,null,"Gualmatán",52323]
[null,null,null,null,null,null,null,null,null,null,null,null,null,null,"Guamal",47318]
[null,null,null,null,null,null,null,null,null,null,null,null,null,null,"Guamal",50318]
[null,null,null,null,null,null,null,null,null,null,null,null,null,null,"Guamo",73319]
[null,null,null,null,null,null,null,null,null,null,null,null,null,null,"Guapi",19318]
[null,null,null,null,null,null,null,null,null,null,null,null,null,null,"Guapotá",68322]
[null,null,null,null,null,null,null,null,null,null,null,null,null,null,"Guaranda",70265]
[null,null,null,null,null,null,null,null,null,null,null,null,null,null,"Guarne","05318"]
[null,null,null,null,null,null,null,null,null,null,null,null,null,null,"Guasca",25322]
[null,null,null,null,null,null,null,null,null,null,null,null,null,null,"Guatape","05321"]
[null,null,null,null,null,null,null,null,null,null,null,null,null,null,"Guataquí",25324]
[null,null,null,null,null,null,null,null,null,null,null,null,null,null,"Guatavita",25326]
[null,null,null,null,null,null,null,null,null,null,null,null,null,null,"Guateque",15322]
[null,null,null,null,null,null,null,null,null,null,null,null,null,null,"Guática",66318]
[null,null,null,null,null,null,null,null,null,null,null,null,null,null,"Guavatá",68324]
[null,null,null,null,null,null,null,null,null,null,null,null,null,null,"Guayabal De Siquima",25328]
[null,null,null,null,null,null,null,null,null,null,null,null,null,null,"Guayabetal",25335]
[null,null,null,null,null,null,null,null,null,null,null,null,null,null,"Guayatá",15325]
[null,null,null,null,null,null,null,null,null,null,null,null,null,null,"Güepsa",68327]
[null,null,null,null,null,null,null,null,null,null,null,null,null,null,"Güicán",15332]
[null,null,null,null,null,null,null,null,null,null,null,null,null,null,"Gutiérrez",25339]
[null,null,null,null,null,null,null,null,null,null,null,null,null,null,"Hacarí",54344]
[null,null,null,null,null,null,null,null,null,null,null,null,null,null,"Hatillo De Loba",13300]
[null,null,null,null,null,null,null,null,null,null,null,null,null,null,"Hato",68344]
[null,null,null,null,null,null,null,null,null,null,null,null,null,null,"Hato Corozal",85125]
[null,null,null,null,null,null,null,null,null,null,null,null,null,null,"Hatonuevo",44378]
[null,null,null,null,null,null,null,null,null,null,null,null,null,null,"Heliconia","05347"]
[null,null,null,null,null,null,null,null,null,null,null,null,null,null,"Herrán",54347]
[null,null,null,null,null,null,null,null,null,null,null,null,null,null,"Herveo",73347]
[null,null,null,null,null,null,null,null,null,null,null,null,null,null,"Hispania","05353"]
[null,null,null,null,null,null,null,null,null,null,null,null,null,null,"Hobo",41349]
[null,null,null,null,null,null,null,null,null,null,null,null,null,null,"Honda",73349]
[null,null,null,null,null,null,null,null,null,null,null,null,null,null,"Ibagué",73001]
[null,null,null,null,null,null,null,null,null,null,null,null,null,null,"Icononzo",73352]
[null,null,null,null,null,null,null,null,null,null,null,null,null,null,"Iles",52352]
[null,null,null,null,null,null,null,null,null,null,null,null,null,null,"Imués",52354]
[null,null,null,null,null,null,null,null,null,null,null,null,null,null,"Inírida",94001]
[null,null,null,null,null,null,null,null,null,null,null,null,null,null,"Inzá",19355]
[null,null,null,null,null,null,null,null,null,null,null,null,null,null,"Ipiales",52356]
[null,null,null,null,null,null,null,null,null,null,null,null,null,null,"Iquira",41357]
[null,null,null,null,null,null,null,null,null,null,null,null,null,null,"Isnos",41359]
[null,null,null,null,null,null,null,null,null,null,null,null,null,null,"Istmina",27361]
[null,null,null,null,null,null,null,null,null,null,null,null,null,null,"Itagui","05360"]
[null,null,null,null,null,null,null,null,null,null,null,null,null,null,"Ituango","05361"]
[null,null,null,null,null,null,null,null,null,null,null,null,null,null,"Iza",15362]
[null,null,null,null,null,null,null,null,null,null,null,null,null,null,"Jambaló",19364]
[null,null,null,null,null,null,null,null,null,null,null,null,null,null,"Jamundí",76364]
[null,null,null,null,null,null,null,null,null,null,null,null,null,null,"Jardín","05364"]
[null,null,null,null,null,null,null,null,null,null,null,null,null,null,"Jenesano",15367]
[null,null,null,null,null,null,null,null,null,null,null,null,null,null,"Jericó","05368"]
[null,null,null,null,null,null,null,null,null,null,null,null,null,null,"Jericó",15368]
[null,null,null,null,null,null,null,null,null,null,null,null,null,null,"Jerusalén",25368]
[null,null,null,null,null,null,null,null,null,null,null,null,null,null,"Jesús María",68368]
[null,null,null,null,null,null,null,null,null,null,null,null,null,null,"Jordán",68370]
[null,null,null,null,null,null,null,null,null,null,null,null,null,null,"Juan De Acosta","08372"]
[null,null,null,null,null,null,null,null,null,null,null,null,null,null,"Junín",25372]
[null,null,null,null,null,null,null,null,null,null,null,null,null,null,"Juradó",27372]
[null,null,null,null,null,null,null,null,null,null,null,null,null,null,"La Apartada",23350]
[null,null,null,null,null,null,null,null,null,null,null,null,null,null,"La Argentina",41378]
[null,null,null,null,null,null,null,null,null,null,null,null,null,null,"La Belleza",68377]
[null,null,null,null,null,null,null,null,null,null,null,null,null,null,"La Calera",25377]
[null,null,null,null,null,null,null,null,null,null,null,null,null,null,"La Capilla",15380]
[null,null,null,null,null,null,null,null,null,null,null,null,null,null,"La Ceja","05376"]
[null,null,null,null,null,null,null,null,null,null,null,null,null,null,"La Celia",66383]
[null,null,null,null,null,null,null,null,null,null,null,null,null,null,"La Chorrera",91405]
[null,null,null,null,null,null,null,null,null,null,null,null,null,null,"La Cruz",52378]
[null,null,null,null,null,null,null,null,null,null,null,null,null,null,"La Cumbre",76377]
[null,null,null,null,null,null,null,null,null,null,null,null,null,null,"La Dorada",17380]
[null,null,null,null,null,null,null,null,null,null,null,null,null,null,"La Esperanza",54385]
[null,null,null,null,null,null,null,null,null,null,null,null,null,null,"La Estrella","05380"]
[null,null,null,null,null,null,null,null,null,null,null,null,null,null,"La Florida",52381]
[null,null,null,null,null,null,null,null,null,null,null,null,null,null,"La Gloria",20383]
[null,null,null,null,null,null,null,null,null,null,null,null,null,null,"La Guadalupe",94885]
[null,null,null,null,null,null,null,null,null,null,null,null,null,null,"La Jagua De Ibirico",20400]
[null,null,null,null,null,null,null,null,null,null,null,null,null,null,"La Jagua Del Pilar",44420]
[null,null,null,null,null,null,null,null,null,null,null,null,null,null,"La Llanada",52385]
[null,null,null,null,null,null,null,null,null,null,null,null,null,null,"La Macarena",50350]
[null,null,null,null,null,null,null,null,null,null,null,null,null,null,"La Merced",17388]
[null,null,null,null,null,null,null,null,null,null,null,null,null,null,"La Mesa",25386]
[null,null,null,null,null,null,null,null,null,null,null,null,null,null,"La Montañita",18410]
[null,null,null,null,null,null,null,null,null,null,null,null,null,null,"La Palma",25394]
[null,null,null,null,null,null,null,null,null,null,null,null,null,null,"La Paz",20621]
[null,null,null,null,null,null,null,null,null,null,null,null,null,null,"La Paz",68397]
[null,null,null,null,null,null,null,null,null,null,null,null,null,null,"La Pedrera",91407]
[null,null,null,null,null,null,null,null,null,null,null,null,null,null,"La Peña",25398]
[null,null,null,null,null,null,null,null,null,null,null,null,null,null,"La Pintada","05390"]
[null,null,null,null,null,null,null,null,null,null,null,null,null,null,"La Plata",41396]
[null,null,null,null,null,null,null,null,null,null,null,null,null,null,"La Playa",54398]
[null,null,null,null,null,null,null,null,null,null,null,null,null,null,"La Primavera",99524]
[null,null,null,null,null,null,null,null,null,null,null,null,null,null,"La Salina",85136]
[null,null,null,null,null,null,null,null,null,null,null,null,null,null,"La Sierra",19392]
[null,null,null,null,null,null,null,null,null,null,null,null,null,null,"La Tebaida",63401]
[null,null,null,null,null,null,null,null,null,null,null,null,null,null,"La Tola",52390]
[null,null,null,null,null,null,null,null,null,null,null,null,null,null,"La Unión","05400"]
[null,null,null,null,null,null,null,null,null,null,null,null,null,null,"La Unión",52399]
[null,null,null,null,null,null,null,null,null,null,null,null,null,null,"La Unión",70400]
[null,null,null,null,null,null,null,null,null,null,null,null,null,null,"La Unión",76400]
[null,null,null,null,null,null,null,null,null,null,null,null,null,null,"La Uvita",15403]
[null,null,null,null,null,null,null,null,null,null,null,null,null,null,"La Vega",19397]
[null,null,null,null,null,null,null,null,null,null,null,null,null,null,"La Vega",25402]
[null,null,null,null,null,null,null,null,null,null,null,null,null,null,"La Victoria",91430]
[null,null,null,null,null,null,null,null,null,null,null,null,null,null,"La Victoria",15401]
[null,null,null,null,null,null,null,null,null,null,null,null,null,null,"La Victoria",76403]
[null,null,null,null,null,null,null,null,null,null,null,null,null,null,"La Virginia",66400]
[null,null,null,null,null,null,null,null,null,null,null,null,null,null,"Labateca",54377]
[null,null,null,null,null,null,null,null,null,null,null,null,null,null,"Labranzagrande",15377]
[null,null,null,null,null,null,null,null,null,null,null,null,null,null,"Landázuri",68385]
[null,null,null,null,null,null,null,null,null,null,null,null,null,null,"Lebríja",68406]
[null,null,null,null,null,null,null,null,null,null,null,null,null,null,"Leguízamo",86573]
[null,null,null,null,null,null,null,null,null,null,null,null,null,null,"Leiva",52405]
[null,null,null,null,null,null,null,null,null,null,null,null,null,null,"Lejanías",50400]
[null,null,null,null,null,null,null,null,null,null,null,null,null,null,"Lenguazaque",25407]
[null,null,null,null,null,null,null,null,null,null,null,null,null,null,"Lérida",73408]
[null,null,null,null,null,null,null,null,null,null,null,null,null,null,"Leticia",91001]
[null,null,null,null,null,null,null,null,null,null,null,null,null,null,"Líbano",73411]
[null,null,null,null,null,null,null,null,null,null,null,null,null,null,"Liborina","05411"]
[null,null,null,null,null,null,null,null,null,null,null,null,null,null,"Linares",52411]
[null,null,null,null,null,null,null,null,null,null,null,null,null,null,"Lloró",27413]
[null,null,null,null,null,null,null,null,null,null,null,null,null,null,"López",19418]
[null,null,null,null,null,null,null,null,null,null,null,null,null,null,"Lorica",23417]
[null,null,null,null,null,null,null,null,null,null,null,null,null,null,"Los Andes",52418]
[null,null,null,null,null,null,null,null,null,null,null,null,null,null,"Los Córdobas",23419]
[null,null,null,null,null,null,null,null,null,null,null,null,null,null,"Los Palmitos",70418]
[null,null,null,null,null,null,null,null,null,null,null,null,null,null,"Los Patios",54405]
[null,null,null,null,null,null,null,null,null,null,null,null,null,null,"Los Santos",68418]
[null,null,null,null,null,null,null,null,null,null,null,null,null,null,"Lourdes",54418]
[null,null,null,null,null,null,null,null,null,null,null,null,null,null,"Luruaco","08421"]
[null,null,null,null,null,null,null,null,null,null,null,null,null,null,"Macanal",15425]
[null,null,null,null,null,null,null,null,null,null,null,null,null,null,"Macaravita",68425]
[null,null,null,null,null,null,null,null,null,null,null,null,null,null,"Maceo","05425"]
[null,null,null,null,null,null,null,null,null,null,null,null,null,null,"Macheta",25426]
[null,null,null,null,null,null,null,null,null,null,null,null,null,null,"Madrid",25430]
[null,null,null,null,null,null,null,null,null,null,null,null,null,null,"Magangué",13430]
[null,null,null,null,null,null,null,null,null,null,null,null,null,null,"Magüi",52427]
[null,null,null,null,null,null,null,null,null,null,null,null,null,null,"Mahates",13433]
[null,null,null,null,null,null,null,null,null,null,null,null,null,null,"Maicao",44430]
[null,null,null,null,null,null,null,null,null,null,null,null,null,null,"Majagual",70429]
[null,null,null,null,null,null,null,null,null,null,null,null,null,null,"Málaga",68432]
[null,null,null,null,null,null,null,null,null,null,null,null,null,null,"Malambo","08433"]
[null,null,null,null,null,null,null,null,null,null,null,null,null,null,"Mallama",52435]
[null,null,null,null,null,null,null,null,null,null,null,null,null,null,"Manatí","08436"]
[null,null,null,null,null,null,null,null,null,null,null,null,null,null,"Manaure",20443]
[null,null,null,null,null,null,null,null,null,null,null,null,null,null,"Manaure",44560]
[null,null,null,null,null,null,null,null,null,null,null,null,null,null,"Maní",85139]
[null,null,null,null,null,null,null,null,null,null,null,null,null,null,"Manizales",17001]
[null,null,null,null,null,null,null,null,null,null,null,null,null,null,"Manta",25436]
[null,null,null,null,null,null,null,null,null,null,null,null,null,null,"Manzanares",17433]
[null,null,null,null,null,null,null,null,null,null,null,null,null,null,"Mapiripán",50325]
[null,null,null,null,null,null,null,null,null,null,null,null,null,null,"Mapiripana",94663]
[null,null,null,null,null,null,null,null,null,null,null,null,null,null,"Margarita",13440]
[null,null,null,null,null,null,null,null,null,null,null,null,null,null,"María La Baja",13442]
[null,null,null,null,null,null,null,null,null,null,null,null,null,null,"Marinilla","05440"]
[null,null,null,null,null,null,null,null,null,null,null,null,null,null,"Maripí",15442]
[null,null,null,null,null,null,null,null,null,null,null,null,null,null,"Mariquita",73443]
[null,null,null,null,null,null,null,null,null,null,null,null,null,null,"Marmato",17442]
[null,null,null,null,null,null,null,null,null,null,null,null,null,null,"Marquetalia",17444]
[null,null,null,null,null,null,null,null,null,null,null,null,null,null,"Marsella",66440]
[null,null,null,null,null,null,null,null,null,null,null,null,null,null,"Marulanda",17446]
[null,null,null,null,null,null,null,null,null,null,null,null,null,null,"Matanza",68444]
[null,null,null,null,null,null,null,null,null,null,null,null,null,null,"Medellín","05001"]
[null,null,null,null,null,null,null,null,null,null,null,null,null,null,"Medina",25438]
[null,null,null,null,null,null,null,null,null,null,null,null,null,null,"Medio Atrato",27425]
[null,null,null,null,null,null,null,null,null,null,null,null,null,null,"Medio Baudó",27430]
[null,null,null,null,null,null,null,null,null,null,null,null,null,null,"Medio San Juan",27450]
[null,null,null,null,null,null,null,null,null,null,null,null,null,null,"Melgar",73449]
[null,null,null,null,null,null,null,null,null,null,null,null,null,null,"Mercaderes",19450]
[null,null,null,null,null,null,null,null,null,null,null,null,null,null,"Mesetas",50330]
[null,null,null,null,null,null,null,null,null,null,null,null,null,null,"Milán",18460]
[null,null,null,null,null,null,null,null,null,null,null,null,null,null,"Miraflores",15455]
[null,null,null,null,null,null,null,null,null,null,null,null,null,null,"Miraflores",95200]
[null,null,null,null,null,null,null,null,null,null,null,null,null,null,"Miranda",19455]
[null,null,null,null,null,null,null,null,null,null,null,null,null,null,"Miriti - Paraná",91460]
[null,null,null,null,null,null,null,null,null,null,null,null,null,null,"Mistrató",66456]
[null,null,null,null,null,null,null,null,null,null,null,null,null,null,"Mitú",97001]
[null,null,null,null,null,null,null,null,null,null,null,null,null,null,"Mocoa",86001]
[null,null,null,null,null,null,null,null,null,null,null,null,null,null,"Mogotes",68464]
[null,null,null,null,null,null,null,null,null,null,null,null,null,null,"Molagavita",68468]
[null,null,null,null,null,null,null,null,null,null,null,null,null,null,"Momil",23464]
[null,null,null,null,null,null,null,null,null,null,null,null,null,null,"Mompós",13468]
[null,null,null,null,null,null,null,null,null,null,null,null,null,null,"Mongua",15464]
[null,null,null,null,null,null,null,null,null,null,null,null,null,null,"Monguí",15466]
[null,null,null,null,null,null,null,null,null,null,null,null,null,null,"Moniquirá",15469]
[null,null,null,null,null,null,null,null,null,null,null,null,null,null,"Montebello","05467"]
[null,null,null,null,null,null,null,null,null,null,null,null,null,null,"Montecristo",13458]
[null,null,null,null,null,null,null,null,null,null,null,null,null,null,"Montelíbano",23466]
[null,null,null,null,null,null,null,null,null,null,null,null,null,null,"Montenegro",63470]
[null,null,null,null,null,null,null,null,null,null,null,null,null,null,"Montería",23001]
[null,null,null,null,null,null,null,null,null,null,null,null,null,null,"Monterrey",85162]
[null,null,null,null,null,null,null,null,null,null,null,null,null,null,"Moñitos",23500]
[null,null,null,null,null,null,null,null,null,null,null,null,null,null,"Morales",13473]
[null,null,null,null,null,null,null,null,null,null,null,null,null,null,"Morales",19473]
[null,null,null,null,null,null,null,null,null,null,null,null,null,null,"Morelia",18479]
[null,null,null,null,null,null,null,null,null,null,null,null,null,null,"Morichal",94888]
[null,null,null,null,null,null,null,null,null,null,null,null,null,null,"Morroa",70473]
[null,null,null,null,null,null,null,null,null,null,null,null,null,null,"Mosquera",25473]
[null,null,null,null,null,null,null,null,null,null,null,null,null,null,"Mosquera",52473]
[null,null,null,null,null,null,null,null,null,null,null,null,null,null,"Motavita",15476]
[null,null,null,null,null,null,null,null,null,null,null,null,null,null,"Murillo",73461]
[null,null,null,null,null,null,null,null,null,null,null,null,null,null,"Murindó","05475"]
[null,null,null,null,null,null,null,null,null,null,null,null,null,null,"Mutatá","05480"]
[null,null,null,null,null,null,null,null,null,null,null,null,null,null,"Mutiscua",54480]
[null,null,null,null,null,null,null,null,null,null,null,null,null,null,"Muzo",15480]
[null,null,null,null,null,null,null,null,null,null,null,null,null,null,"Nariño","05483"]
[null,null,null,null,null,null,null,null,null,null,null,null,null,null,"Nariño",25483]
[null,null,null,null,null,null,null,null,null,null,null,null,null,null,"Nariño",52480]
[null,null,null,null,null,null,null,null,null,null,null,null,null,null,"Nátaga",41483]
[null,null,null,null,null,null,null,null,null,null,null,null,null,null,"Natagaima",73483]
[null,null,null,null,null,null,null,null,null,null,null,null,null,null,"Nechí","05495"]
[null,null,null,null,null,null,null,null,null,null,null,null,null,null,"Necoclí","05490"]
[null,null,null,null,null,null,null,null,null,null,null,null,null,null,"Neira",17486]
[null,null,null,null,null,null,null,null,null,null,null,null,null,null,"Neiva",41001]
[null,null,null,null,null,null,null,null,null,null,null,null,null,null,"Nemocón",25486]
[null,null,null,null,null,null,null,null,null,null,null,null,null,null,"Nilo",25488]
[null,null,null,null,null,null,null,null,null,null,null,null,null,null,"Nimaima",25489]
[null,null,null,null,null,null,null,null,null,null,null,null,null,null,"Nobsa",15491]
[null,null,null,null,null,null,null,null,null,null,null,null,null,null,"Nocaima",25491]
[null,null,null,null,null,null,null,null,null,null,null,null,null,null,"Norcasia",17495]
[null,null,null,null,null,null,null,null,null,null,null,null,null,null,"Nóvita",27491]
[null,null,null,null,null,null,null,null,null,null,null,null,null,null,"Nueva Granada",47460]
[null,null,null,null,null,null,null,null,null,null,null,null,null,null,"Nuevo Colón",15494]
[null,null,null,null,null,null,null,null,null,null,null,null,null,null,"Nunchía",85225]
[null,null,null,null,null,null,null,null,null,null,null,null,null,null,"Nuquí",27495]
[null,null,null,null,null,null,null,null,null,null,null,null,null,null,"Obando",76497]
[null,null,null,null,null,null,null,null,null,null,null,null,null,null,"Ocamonte",68498]
[null,null,null,null,null,null,null,null,null,null,null,null,null,null,"Ocaña",54498]
[null,null,null,null,null,null,null,null,null,null,null,null,null,null,"Oiba",68500]
[null,null,null,null,null,null,null,null,null,null,null,null,null,null,"Oicatá",15500]
[null,null,null,null,null,null,null,null,null,null,null,null,null,null,"Olaya","05501"]
[null,null,null,null,null,null,null,null,null,null,null,null,null,null,"Olaya Herrera",52490]
[null,null,null,null,null,null,null,null,null,null,null,null,null,null,"Onzaga",68502]
[null,null,null,null,null,null,null,null,null,null,null,null,null,null,"Oporapa",41503]
[null,null,null,null,null,null,null,null,null,null,null,null,null,null,"Orito",86320]
[null,null,null,null,null,null,null,null,null,null,null,null,null,null,"Orocué",85230]
[null,null,null,null,null,null,null,null,null,null,null,null,null,null,"Ortega",73504]
[null,null,null,null,null,null,null,null,null,null,null,null,null,null,"Ospina",52506]
[null,null,null,null,null,null,null,null,null,null,null,null,null,null,"Otanche",15507]
[null,null,null,null,null,null,null,null,null,null,null,null,null,null,"Ovejas",70508]
[null,null,null,null,null,null,null,null,null,null,null,null,null,null,"Pachavita",15511]
[null,null,null,null,null,null,null,null,null,null,null,null,null,null,"Pacho",25513]
[null,null,null,null,null,null,null,null,null,null,null,null,null,null,"Pacoa",97511]
[null,null,null,null,null,null,null,null,null,null,null,null,null,null,"Pácora",17513]
[null,null,null,null,null,null,null,null,null,null,null,null,null,null,"Padilla",19513]
[null,null,null,null,null,null,null,null,null,null,null,null,null,null,"Paez",19517]
[null,null,null,null,null,null,null,null,null,null,null,null,null,null,"Páez",15514]
[null,null,null,null,null,null,null,null,null,null,null,null,null,null,"Paicol",41518]
[null,null,null,null,null,null,null,null,null,null,null,null,null,null,"Pailitas",20517]
[null,null,null,null,null,null,null,null,null,null,null,null,null,null,"Paime",25518]
[null,null,null,null,null,null,null,null,null,null,null,null,null,null,"Paipa",15516]
[null,null,null,null,null,null,null,null,null,null,null,null,null,null,"Pajarito",15518]
[null,null,null,null,null,null,null,null,null,null,null,null,null,null,"Palermo",41524]
[null,null,null,null,null,null,null,null,null,null,null,null,null,null,"Palestina",17524]
[null,null,null,null,null,null,null,null,null,null,null,null,null,null,"Palestina",41530]
[null,null,null,null,null,null,null,null,null,null,null,null,null,null,"Palmar",68522]
[null,null,null,null,null,null,null,null,null,null,null,null,null,null,"Palmar De Varela","08520"]
[null,null,null,null,null,null,null,null,null,null,null,null,null,null,"Palmas Del Socorro",68524]
[null,null,null,null,null,null,null,null,null,null,null,null,null,null,"Palmira",76520]
[null,null,null,null,null,null,null,null,null,null,null,null,null,null,"Palmito",70523]
[null,null,null,null,null,null,null,null,null,null,null,null,null,null,"Palocabildo",73520]
[null,null,null,null,null,null,null,null,null,null,null,null,null,null,"Pamplona",54518]
[null,null,null,null,null,null,null,null,null,null,null,null,null,null,"Pamplonita",54520]
[null,null,null,null,null,null,null,null,null,null,null,null,null,null,"Pana Pana",94887]
[null,null,null,null,null,null,null,null,null,null,null,null,null,null,"Pandi",25524]
[null,null,null,null,null,null,null,null,null,null,null,null,null,null,"Panqueba",15522]
[null,null,null,null,null,null,null,null,null,null,null,null,null,null,"Papunaua",97777]
[null,null,null,null,null,null,null,null,null,null,null,null,null,null,"Páramo",68533]
[null,null,null,null,null,null,null,null,null,null,null,null,null,null,"Paratebueno",25530]
[null,null,null,null,null,null,null,null,null,null,null,null,null,null,"Pasca",25535]
[null,null,null,null,null,null,null,null,null,null,null,null,null,null,"Pasto",52001]
[null,null,null,null,null,null,null,null,null,null,null,null,null,null,"Patía",19532]
[null,null,null,null,null,null,null,null,null,null,null,null,null,null,"Pauna",15531]
[null,null,null,null,null,null,null,null,null,null,null,null,null,null,"Paya",15533]
[null,null,null,null,null,null,null,null,null,null,null,null,null,null,"Paz De Ariporo",85250]
[null,null,null,null,null,null,null,null,null,null,null,null,null,null,"Paz De Río",15537]
[null,null,null,null,null,null,null,null,null,null,null,null,null,null,"Pedraza",47541]
[null,null,null,null,null,null,null,null,null,null,null,null,null,null,"Pelaya",20550]
[null,null,null,null,null,null,null,null,null,null,null,null,null,null,"Pensilvania",17541]
[null,null,null,null,null,null,null,null,null,null,null,null,null,null,"Peñol","05541"]
[null,null,null,null,null,null,null,null,null,null,null,null,null,null,"Peque","05543"]
[null,null,null,null,null,null,null,null,null,null,null,null,null,null,"Pereira",66001]
[null,null,null,null,null,null,null,null,null,null,null,null,null,null,"Pesca",15542]
[null,null,null,null,null,null,null,null,null,null,null,null,null,null,"Piamonte",19533]
[null,null,null,null,null,null,null,null,null,null,null,null,null,null,"Piedecuesta",68547]
[null,null,null,null,null,null,null,null,null,null,null,null,null,null,"Piedras",73547]
[null,null,null,null,null,null,null,null,null,null,null,null,null,null,"Piendamó",19548]
[null,null,null,null,null,null,null,null,null,null,null,null,null,null,"Pijao",63548]
[null,null,null,null,null,null,null,null,null,null,null,null,null,null,"Pijiño Del Carmen",47545]
[null,null,null,null,null,null,null,null,null,null,null,null,null,null,"Pinchote",68549]
[null,null,null,null,null,null,null,null,null,null,null,null,null,null,"Pinillos",13549]
[null,null,null,null,null,null,null,null,null,null,null,null,null,null,"Piojó","08549"]
[null,null,null,null,null,null,null,null,null,null,null,null,null,null,"Pisba",15550]
[null,null,null,null,null,null,null,null,null,null,null,null,null,null,"Pital",41548]
[null,null,null,null,null,null,null,null,null,null,null,null,null,null,"Pitalito",41551]
[null,null,null,null,null,null,null,null,null,null,null,null,null,null,"Pivijay",47551]
[null,null,null,null,null,null,null,null,null,null,null,null,null,null,"Planadas",73555]
[null,null,null,null,null,null,null,null,null,null,null,null,null,null,"Planeta Rica",23555]
[null,null,null,null,null,null,null,null,null,null,null,null,null,null,"Plato",47555]
[null,null,null,null,null,null,null,null,null,null,null,null,null,null,"Policarpa",52540]
[null,null,null,null,null,null,null,null,null,null,null,null,null,null,"Polonuevo","08558"]
[null,null,null,null,null,null,null,null,null,null,null,null,null,null,"Ponedera","08560"]
[null,null,null,null,null,null,null,null,null,null,null,null,null,null,"Popayán",19001]
[null,null,null,null,null,null,null,null,null,null,null,null,null,null,"Pore",85263]
[null,null,null,null,null,null,null,null,null,null,null,null,null,null,"Potosí",52560]
[null,null,null,null,null,null,null,null,null,null,null,null,null,null,"Pradera",76563]
[null,null,null,null,null,null,null,null,null,null,null,null,null,null,"Prado",73563]
[null,null,null,null,null,null,null,null,null,null,null,null,null,null,"Providencia",88564]
[null,null,null,null,null,null,null,null,null,null,null,null,null,null,"Providencia",52565]
[null,null,null,null,null,null,null,null,null,null,null,null,null,null,"Pueblo Bello",20570]
[null,null,null,null,null,null,null,null,null,null,null,null,null,null,"Pueblo Nuevo",23570]
[null,null,null,null,null,null,null,null,null,null,null,null,null,null,"Pueblo Rico",66572]
[null,null,null,null,null,null,null,null,null,null,null,null,null,null,"Pueblorrico","05576"]
[null,null,null,null,null,null,null,null,null,null,null,null,null,null,"Puebloviejo",47570]
[null,null,null,null,null,null,null,null,null,null,null,null,null,null,"Puente Nacional",68572]
[null,null,null,null,null,null,null,null,null,null,null,null,null,null,"Puerres",52573]
[null,null,null,null,null,null,null,null,null,null,null,null,null,null,"Puerto Alegría",91530]
[null,null,null,null,null,null,null,null,null,null,null,null,null,null,"Puerto Arica",91536]
[null,null,null,null,null,null,null,null,null,null,null,null,null,null,"Puerto Asís",86568]
[null,null,null,null,null,null,null,null,null,null,null,null,null,null,"Puerto Berrío","05579"]
[null,null,null,null,null,null,null,null,null,null,null,null,null,null,"Puerto Boyacá",15572]
[null,null,null,null,null,null,null,null,null,null,null,null,null,null,"Puerto Caicedo",86569]
[null,null,null,null,null,null,null,null,null,null,null,null,null,null,"Puerto Carreño",99001]
[null,null,null,null,null,null,null,null,null,null,null,null,null,null,"Puerto Colombia","08573"]
[null,null,null,null,null,null,null,null,null,null,null,null,null,null,"Puerto Colombia",94884]
[null,null,null,null,null,null,null,null,null,null,null,null,null,null,"Puerto Concordia",50450]
[null,null,null,null,null,null,null,null,null,null,null,null,null,null,"Puerto Escondido",23574]
[null,null,null,null,null,null,null,null,null,null,null,null,null,null,"Puerto Gaitán",50568]
[null,null,null,null,null,null,null,null,null,null,null,null,null,null,"Puerto Guzmán",86571]
[null,null,null,null,null,null,null,null,null,null,null,null,null,null,"Puerto Libertador",23580]
[null,null,null,null,null,null,null,null,null,null,null,null,null,null,"Puerto Lleras",50577]
[null,null,null,null,null,null,null,null,null,null,null,null,null,null,"Puerto López",50573]
[null,null,null,null,null,null,null,null,null,null,null,null,null,null,"Puerto Nare","05585"]
[null,null,null,null,null,null,null,null,null,null,null,null,null,null,"Puerto Nariño",91540]
[null,null,null,null,null,null,null,null,null,null,null,null,null,null,"Puerto Parra",68573]
[null,null,null,null,null,null,null,null,null,null,null,null,null,null,"Puerto Rico",18592]
[null,null,null,null,null,null,null,null,null,null,null,null,null,null,"Puerto Rico",50590]
[null,null,null,null,null,null,null,null,null,null,null,null,null,null,"Puerto Rondón",81591]
[null,null,null,null,null,null,null,null,null,null,null,null,null,null,"Puerto Salgar",25572]
[null,null,null,null,null,null,null,null,null,null,null,null,null,null,"Puerto Santander",91669]
[null,null,null,null,null,null,null,null,null,null,null,null,null,null,"Puerto Santander",54553]
[null,null,null,null,null,null,null,null,null,null,null,null,null,null,"Puerto Tejada",19573]
[null,null,null,null,null,null,null,null,null,null,null,null,null,null,"Puerto Triunfo","05591"]
[null,null,null,null,null,null,null,null,null,null,null,null,null,null,"Puerto Wilches",68575]
[null,null,null,null,null,null,null,null,null,null,null,null,null,null,"Pulí",25580]
[null,null,null,null,null,null,null,null,null,null,null,null,null,null,"Pupiales",52585]
[null,null,null,null,null,null,null,null,null,null,null,null,null,null,"Puracé",19585]
[null,null,null,null,null,null,null,null,null,null,null,null,null,null,"Purificación",73585]
[null,null,null,null,null,null,null,null,null,null,null,null,null,null,"Purísima",23586]
[null,null,null,null,null,null,null,null,null,null,null,null,null,null,"Quebradanegra",25592]
[null,null,null,null,null,null,null,null,null,null,null,null,null,null,"Quetame",25594]
[null,null,null,null,null,null,null,null,null,null,null,null,null,null,"Quibdó",27001]
[null,null,null,null,null,null,null,null,null,null,null,null,null,null,"Quimbaya",63594]
[null,null,null,null,null,null,null,null,null,null,null,null,null,null,"Quinchía",66594]
[null,null,null,null,null,null,null,null,null,null,null,null,null,null,"Quípama",15580]
[null,null,null,null,null,null,null,null,null,null,null,null,null,null,"Quipile",25596]
[null,null,null,null,null,null,null,null,null,null,null,null,null,null,"Ragonvalia",54599]
[null,null,null,null,null,null,null,null,null,null,null,null,null,null,"Ramiriquí",15599]
[null,null,null,null,null,null,null,null,null,null,null,null,null,null,"Ráquira",15600]
[null,null,null,null,null,null,null,null,null,null,null,null,null,null,"Recetor",85279]
[null,null,null,null,null,null,null,null,null,null,null,null,null,null,"Regidor",13580]
[null,null,null,null,null,null,null,null,null,null,null,null,null,null,"Remedios","05604"]
[null,null,null,null,null,null,null,null,null,null,null,null,null,null,"Remolino",47605]
[null,null,null,null,null,null,null,null,null,null,null,null,null,null,"Repelón","08606"]
[null,null,null,null,null,null,null,null,null,null,null,null,null,null,"Restrepo",50606]
[null,null,null,null,null,null,null,null,null,null,null,null,null,null,"Restrepo",76606]
[null,null,null,null,null,null,null,null,null,null,null,null,null,null,"Retiro","05607"]
[null,null,null,null,null,null,null,null,null,null,null,null,null,null,"Ricaurte",25612]
[null,null,null,null,null,null,null,null,null,null,null,null,null,null,"Ricaurte",52612]
[null,null,null,null,null,null,null,null,null,null,null,null,null,null,"Río De Oro",20614]
[null,null,null,null,null,null,null,null,null,null,null,null,null,null,"Río Iro",27580]
[null,null,null,null,null,null,null,null,null,null,null,null,null,null,"Río Quito",27600]
[null,null,null,null,null,null,null,null,null,null,null,null,null,null,"Río Viejo",13600]
[null,null,null,null,null,null,null,null,null,null,null,null,null,null,"Rioblanco",73616]
[null,null,null,null,null,null,null,null,null,null,null,null,null,null,"Riofrío",76616]
[null,null,null,null,null,null,null,null,null,null,null,null,null,null,"Riohacha",44001]
[null,null,null,null,null,null,null,null,null,null,null,null,null,null,"Rionegro","05615"]
[null,null,null,null,null,null,null,null,null,null,null,null,null,null,"Rionegro",68615]
[null,null,null,null,null,null,null,null,null,null,null,null,null,null,"Riosucio",17614]
[null,null,null,null,null,null,null,null,null,null,null,null,null,null,"Riosucio",27615]
[null,null,null,null,null,null,null,null,null,null,null,null,null,null,"Risaralda",17616]
[null,null,null,null,null,null,null,null,null,null,null,null,null,null,"Rivera",41615]
[null,null,null,null,null,null,null,null,null,null,null,null,null,null,"Roberto Payán",52621]
[null,null,null,null,null,null,null,null,null,null,null,null,null,null,"Roldanillo",76622]
[null,null,null,null,null,null,null,null,null,null,null,null,null,null,"Roncesvalles",73622]
[null,null,null,null,null,null,null,null,null,null,null,null,null,null,"Rondón",15621]
[null,null,null,null,null,null,null,null,null,null,null,null,null,null,"Rosas",19622]
[null,null,null,null,null,null,null,null,null,null,null,null,null,null,"Rovira",73624]
[null,null,null,null,null,null,null,null,null,null,null,null,null,null,"Sabana De Torres",68655]
[null,null,null,null,null,null,null,null,null,null,null,null,null,null,"Sabanagrande","08634"]
[null,null,null,null,null,null,null,null,null,null,null,null,null,null,"Sabanalarga","05628"]
[null,null,null,null,null,null,null,null,null,null,null,null,null,null,"Sabanalarga","08638"]
[null,null,null,null,null,null,null,null,null,null,null,null,null,null,"Sabanalarga",85300]
[null,null,null,null,null,null,null,null,null,null,null,null,null,null,"Sabanas De San Angel",47660]
[null,null,null,null,null,null,null,null,null,null,null,null,null,null,"Sabaneta","05631"]
[null,null,null,null,null,null,null,null,null,null,null,null,null,null,"Saboyá",15632]
[null,null,null,null,null,null,null,null,null,null,null,null,null,null,"Sácama",85315]
[null,null,null,null,null,null,null,null,null,null,null,null,null,null,"Sáchica",15638]
[null,null,null,null,null,null,null,null,null,null,null,null,null,null,"Sahagún",23660]
[null,null,null,null,null,null,null,null,null,null,null,null,null,null,"Saladoblanco",41660]
[null,null,null,null,null,null,null,null,null,null,null,null,null,null,"Salamina",17653]
[null,null,null,null,null,null,null,null,null,null,null,null,null,null,"Salamina",47675]
[null,null,null,null,null,null,null,null,null,null,null,null,null,null,"Salazar",54660]
[null,null,null,null,null,null,null,null,null,null,null,null,null,null,"Saldaña",73671]
[null,null,null,null,null,null,null,null,null,null,null,null,null,null,"Salento",63690]
[null,null,null,null,null,null,null,null,null,null,null,null,null,null,"Salgar","05642"]
[null,null,null,null,null,null,null,null,null,null,null,null,null,null,"Samacá",15646]
[null,null,null,null,null,null,null,null,null,null,null,null,null,null,"Samaná",17662]
[null,null,null,null,null,null,null,null,null,null,null,null,null,null,"Samaniego",52678]
[null,null,null,null,null,null,null,null,null,null,null,null,null,null,"Sampués",70670]
[null,null,null,null,null,null,null,null,null,null,null,null,null,null,"San Agustín",41668]
[null,null,null,null,null,null,null,null,null,null,null,null,null,null,"San Alberto",20710]
[null,null,null,null,null,null,null,null,null,null,null,null,null,null,"San Andrés","05647"]
[null,null,null,null,null,null,null,null,null,null,null,null,null,null,"San Andrés",88001]
[null,null,null,null,null,null,null,null,null,null,null,null,null,null,"San Andrés",68669]
[null,null,null,null,null,null,null,null,null,null,null,null,null,null,"San Andrés Sotavento",23670]
[null,null,null,null,null,null,null,null,null,null,null,null,null,null,"San Antero",23672]
[null,null,null,null,null,null,null,null,null,null,null,null,null,null,"San Antonio",73675]
[null,null,null,null,null,null,null,null,null,null,null,null,null,null,"San Antonio Del Tequendama",25645]
[null,null,null,null,null,null,null,null,null,null,null,null,null,null,"San Benito",68673]
[null,null,null,null,null,null,null,null,null,null,null,null,null,null,"San Benito Abad",70678]
[null,null,null,null,null,null,null,null,null,null,null,null,null,null,"San Bernardo",25649]
[null,null,null,null,null,null,null,null,null,null,null,null,null,null,"San Bernardo",52685]
[null,null,null,null,null,null,null,null,null,null,null,null,null,null,"San Bernardo Del Viento",23675]
[null,null,null,null,null,null,null,null,null,null,null,null,null,null,"San Calixto",54670]
[null,null,null,null,null,null,null,null,null,null,null,null,null,null,"San Carlos","05649"]
[null,null,null,null,null,null,null,null,null,null,null,null,null,null,"San Carlos",23678]
[null,null,null,null,null,null,null,null,null,null,null,null,null,null,"San Carlos De Guaroa",50680]
[null,null,null,null,null,null,null,null,null,null,null,null,null,null,"San Cayetano",25653]
[null,null,null,null,null,null,null,null,null,null,null,null,null,null,"San Cayetano",54673]
[null,null,null,null,null,null,null,null,null,null,null,null,null,null,"San Cristóbal",13620]
[null,null,null,null,null,null,null,null,null,null,null,null,null,null,"San Diego",20750]
[null,null,null,null,null,null,null,null,null,null,null,null,null,null,"San Eduardo",15660]
[null,null,null,null,null,null,null,null,null,null,null,null,null,null,"San Estanislao",13647]
[null,null,null,null,null,null,null,null,null,null,null,null,null,null,"San Felipe",94883]
[null,null,null,null,null,null,null,null,null,null,null,null,null,null,"San Fernando",13650]
[null,null,null,null,null,null,null,null,null,null,null,null,null,null,"San Francisco","05652"]
[null,null,null,null,null,null,null,null,null,null,null,null,null,null,"San Francisco",25658]
[null,null,null,null,null,null,null,null,null,null,null,null,null,null,"San Francisco",86755]
[null,null,null,null,null,null,null,null,null,null,null,null,null,null,"San Gil",68679]
[null,null,null,null,null,null,null,null,null,null,null,null,null,null,"San Jacinto",13654]
[null,null,null,null,null,null,null,null,null,null,null,null,null,null,"San Jacinto Del Cauca",13655]
[null,null,null,null,null,null,null,null,null,null,null,null,null,null,"San Jerónimo","05656"]
[null,null,null,null,null,null,null,null,null,null,null,null,null,null,"San Joaquín",68682]
[null,null,null,null,null,null,null,null,null,null,null,null,null,null,"San José",17665]
[null,null,null,null,null,null,null,null,null,null,null,null,null,null,"San José De La Montaña","05658"]
[null,null,null,null,null,null,null,null,null,null,null,null,null,null,"San José De Miranda",68684]
[null,null,null,null,null,null,null,null,null,null,null,null,null,null,"San José De Pare",15664]
[null,null,null,null,null,null,null,null,null,null,null,null,null,null,"San José Del Fragua",18610]
[null,null,null,null,null,null,null,null,null,null,null,null,null,null,"San José Del Guaviare",95001]
[null,null,null,null,null,null,null,null,null,null,null,null,null,null,"San José Del Palmar",27660]
[null,null,null,null,null,null,null,null,null,null,null,null,null,null,"San Juan De Arama",50683]
[null,null,null,null,null,null,null,null,null,null,null,null,null,null,"San Juan De Betulia",70702]
[null,null,null,null,null,null,null,null,null,null,null,null,null,null,"San Juan De Río Seco",25662]
[null,null,null,null,null,null,null,null,null,null,null,null,null,null,"San Juan De Urabá","05659"]
[null,null,null,null,null,null,null,null,null,null,null,null,null,null,"San Juan Del Cesar",44650]
[null,null,null,null,null,null,null,null,null,null,null,null,null,null,"San Juan Nepomuceno",13657]
[null,null,null,null,null,null,null,null,null,null,null,null,null,null,"San Juanito",50686]
[null,null,null,null,null,null,null,null,null,null,null,null,null,null,"San Lorenzo",52687]
[null,null,null,null,null,null,null,null,null,null,null,null,null,null,"San Luis","05660"]
[null,null,null,null,null,null,null,null,null,null,null,null,null,null,"San Luis",73678]
[null,null,null,null,null,null,null,null,null,null,null,null,null,null,"San Luis De Gaceno",15667]
[null,null,null,null,null,null,null,null,null,null,null,null,null,null,"San Luis De Palenque",85325]
[null,null,null,null,null,null,null,null,null,null,null,null,null,null,"San Marcos",70708]
[null,null,null,null,null,null,null,null,null,null,null,null,null,null,"San Martín",20770]
[null,null,null,null,null,null,null,null,null,null,null,null,null,null,"San Martín",50689]
[null,null,null,null,null,null,null,null,null,null,null,null,null,null,"San Martín De Loba",13667]
[null,null,null,null,null,null,null,null,null,null,null,null,null,null,"San Mateo",15673]
[null,null,null,null,null,null,null,null,null,null,null,null,null,null,"San Miguel",86757]
[null,null,null,null,null,null,null,null,null,null,null,null,null,null,"San Miguel",68686]
[null,null,null,null,null,null,null,null,null,null,null,null,null,null,"San Miguel De Sema",15676]
[null,null,null,null,null,null,null,null,null,null,null,null,null,null,"San Onofre",70713]
[null,null,null,null,null,null,null,null,null,null,null,null,null,null,"San Pablo",13670]
[null,null,null,null,null,null,null,null,null,null,null,null,null,null,"San Pablo",52693]
[null,null,null,null,null,null,null,null,null,null,null,null,null,null,"San Pablo De Borbur",15681]
[null,null,null,null,null,null,null,null,null,null,null,null,null,null,"San Pedro","05664"]
[null,null,null,null,null,null,null,null,null,null,null,null,null,null,"San Pedro",70717]
[null,null,null,null,null,null,null,null,null,null,null,null,null,null,"San Pedro",76670]
[null,null,null,null,null,null,null,null,null,null,null,null,null,null,"San Pedro De Cartago",52694]
[null,null,null,null,null,null,null,null,null,null,null,null,null,null,"San Pedro De Uraba","05665"]
[null,null,null,null,null,null,null,null,null,null,null,null,null,null,"San Pelayo",23686]
[null,null,null,null,null,null,null,null,null,null,null,null,null,null,"San Rafael","05667"]
[null,null,null,null,null,null,null,null,null,null,null,null,null,null,"San Roque","05670"]
[null,null,null,null,null,null,null,null,null,null,null,null,null,null,"San Sebastián",19693]
[null,null,null,null,null,null,null,null,null,null,null,null,null,null,"San Sebastián De Buenavista",47692]
[null,null,null,null,null,null,null,null,null,null,null,null,null,null,"San Vicente","05674"]
[null,null,null,null,null,null,null,null,null,null,null,null,null,null,"San Vicente De Chucurí",68689]
[null,null,null,null,null,null,null,null,null,null,null,null,null,null,"San Vicente Del Caguán",18753]
[null,null,null,null,null,null,null,null,null,null,null,null,null,null,"San Zenón",47703]
[null,null,null,null,null,null,null,null,null,null,null,null,null,null,"Sandoná",52683]
[null,null,null,null,null,null,null,null,null,null,null,null,null,null,"Santa Ana",47707]
[null,null,null,null,null,null,null,null,null,null,null,null,null,null,"Santa Bárbara","05679"]
[null,null,null,null,null,null,null,null,null,null,null,null,null,null,"Santa Bárbara",52696]
[null,null,null,null,null,null,null,null,null,null,null,null,null,null,"Santa Bárbara",68705]
[null,null,null,null,null,null,null,null,null,null,null,null,null,null,"Santa Bárbara De Pinto",47720]
[null,null,null,null,null,null,null,null,null,null,null,null,null,null,"Santa Catalina",13673]
[null,null,null,null,null,null,null,null,null,null,null,null,null,null,"Santa Helena Del Opón",68720]
[null,null,null,null,null,null,null,null,null,null,null,null,null,null,"Santa Isabel",73686]
[null,null,null,null,null,null,null,null,null,null,null,null,null,null,"Santa Lucía","08675"]
[null,null,null,null,null,null,null,null,null,null,null,null,null,null,"Santa María",15690]
[null,null,null,null,null,null,null,null,null,null,null,null,null,null,"Santa María",41676]
[null,null,null,null,null,null,null,null,null,null,null,null,null,null,"Santa Marta",47001]
[null,null,null,null,null,null,null,null,null,null,null,null,null,null,"Santa Rosa",13683]
[null,null,null,null,null,null,null,null,null,null,null,null,null,null,"Santa Rosa",19701]
[null,null,null,null,null,null,null,null,null,null,null,null,null,null,"Santa Rosa De Cabal",66682]
[null,null,null,null,null,null,null,null,null,null,null,null,null,null,"Santa Rosa De Osos","05686"]
[null,null,null,null,null,null,null,null,null,null,null,null,null,null,"Santa Rosa De Viterbo",15693]
[null,null,null,null,null,null,null,null,null,null,null,null,null,null,"Santa Rosa Del Sur",13688]
[null,null,null,null,null,null,null,null,null,null,null,null,null,null,"Santa Rosalía",99624]
[null,null,null,null,null,null,null,null,null,null,null,null,null,null,"Santa Sofía",15696]
[null,null,null,null,null,null,null,null,null,null,null,null,null,null,"Santacruz",52699]
[null,null,null,null,null,null,null,null,null,null,null,null,null,null,"Santafé De Antioquia","05042"]
[null,null,null,null,null,null,null,null,null,null,null,null,null,null,"Santana",15686]
[null,null,null,null,null,null,null,null,null,null,null,null,null,null,"Santander De Quilichao",19698]
[null,null,null,null,null,null,null,null,null,null,null,null,null,null,"Santiago",54680]
[null,null,null,null,null,null,null,null,null,null,null,null,null,null,"Santiago",86760]
[null,null,null,null,null,null,null,null,null,null,null,null,null,null,"Santiago De Tolú",70820]
[null,null,null,null,null,null,null,null,null,null,null,null,null,null,"Santo Domingo","05690"]
[null,null,null,null,null,null,null,null,null,null,null,null,null,null,"Santo Tomás","08685"]
[null,null,null,null,null,null,null,null,null,null,null,null,null,null,"Santuario",66687]
[null,null,null,null,null,null,null,null,null,null,null,null,null,null,"Sapuyes",52720]
[null,null,null,null,null,null,null,null,null,null,null,null,null,null,"Saravena",81736]
[null,null,null,null,null,null,null,null,null,null,null,null,null,null,"Sardinata",54720]
[null,null,null,null,null,null,null,null,null,null,null,null,null,null,"Sasaima",25718]
[null,null,null,null,null,null,null,null,null,null,null,null,null,null,"Sativanorte",15720]
[null,null,null,null,null,null,null,null,null,null,null,null,null,null,"Sativasur",15723]
[null,null,null,null,null,null,null,null,null,null,null,null,null,null,"Segovia","05736"]
[null,null,null,null,null,null,null,null,null,null,null,null,null,null,"Sesquilé",25736]
[null,null,null,null,null,null,null,null,null,null,null,null,null,null,"Sevilla",76736]
[null,null,null,null,null,null,null,null,null,null,null,null,null,null,"Siachoque",15740]
[null,null,null,null,null,null,null,null,null,null,null,null,null,null,"Sibaté",25740]
[null,null,null,null,null,null,null,null,null,null,null,null,null,null,"Sibundoy",86749]
[null,null,null,null,null,null,null,null,null,null,null,null,null,null,"Silos",54743]
[null,null,null,null,null,null,null,null,null,null,null,null,null,null,"Silvania",25743]
[null,null,null,null,null,null,null,null,null,null,null,null,null,null,"Silvia",19743]
[null,null,null,null,null,null,null,null,null,null,null,null,null,null,"Simacota",68745]
[null,null,null,null,null,null,null,null,null,null,null,null,null,null,"Simijaca",25745]
[null,null,null,null,null,null,null,null,null,null,null,null,null,null,"Simití",13744]
[null,null,null,null,null,null,null,null,null,null,null,null,null,null,"Sincé",70742]
[null,null,null,null,null,null,null,null,null,null,null,null,null,null,"Sincelejo",70001]
[null,null,null,null,null,null,null,null,null,null,null,null,null,null,"Sipí",27745]
[null,null,null,null,null,null,null,null,null,null,null,null,null,null,"Sitionuevo",47745]
[null,null,null,null,null,null,null,null,null,null,null,null,null,null,"Soacha",25754]
[null,null,null,null,null,null,null,null,null,null,null,null,null,null,"Soatá",15753]
[null,null,null,null,null,null,null,null,null,null,null,null,null,null,"Socha",15757]
[null,null,null,null,null,null,null,null,null,null,null,null,null,null,"Socorro",68755]
[null,null,null,null,null,null,null,null,null,null,null,null,null,null,"Socotá",15755]
[null,null,null,null,null,null,null,null,null,null,null,null,null,null,"Sogamoso",15759]
[null,null,null,null,null,null,null,null,null,null,null,null,null,null,"Solano",18756]
[null,null,null,null,null,null,null,null,null,null,null,null,null,null,"Soledad","08758"]
[null,null,null,null,null,null,null,null,null,null,null,null,null,null,"Solita",18785]
[null,null,null,null,null,null,null,null,null,null,null,null,null,null,"Somondoco",15761]
[null,null,null,null,null,null,null,null,null,null,null,null,null,null,"Sonson","05756"]
[null,null,null,null,null,null,null,null,null,null,null,null,null,null,"Sopetrán","05761"]
[null,null,null,null,null,null,null,null,null,null,null,null,null,null,"Soplaviento",13760]
[null,null,null,null,null,null,null,null,null,null,null,null,null,null,"Sopó",25758]
[null,null,null,null,null,null,null,null,null,null,null,null,null,null,"Sora",15762]
[null,null,null,null,null,null,null,null,null,null,null,null,null,null,"Soracá",15764]
[null,null,null,null,null,null,null,null,null,null,null,null,null,null,"Sotaquirá",15763]
[null,null,null,null,null,null,null,null,null,null,null,null,null,null,"Sotara",19760]
[null,null,null,null,null,null,null,null,null,null,null,null,null,null,"Suaita",68770]
[null,null,null,null,null,null,null,null,null,null,null,null,null,null,"Suan","08770"]
[null,null,null,null,null,null,null,null,null,null,null,null,null,null,"Suárez",19780]
[null,null,null,null,null,null,null,null,null,null,null,null,null,null,"Suárez",73770]
[null,null,null,null,null,null,null,null,null,null,null,null,null,null,"Suaza",41770]
[null,null,null,null,null,null,null,null,null,null,null,null,null,null,"Subachoque",25769]
[null,null,null,null,null,null,null,null,null,null,null,null,null,null,"Sucre",19785]
[null,null,null,null,null,null,null,null,null,null,null,null,null,null,"Sucre",68773]
[null,null,null,null,null,null,null,null,null,null,null,null,null,null,"Sucre",70771]
[null,null,null,null,null,null,null,null,null,null,null,null,null,null,"Suesca",25772]
[null,null,null,null,null,null,null,null,null,null,null,null,null,null,"Supatá",25777]
[null,null,null,null,null,null,null,null,null,null,null,null,null,null,"Supía",17777]
[null,null,null,null,null,null,null,null,null,null,null,null,null,null,"Suratá",68780]
[null,null,null,null,null,null,null,null,null,null,null,null,null,null,"Susa",25779]
[null,null,null,null,null,null,null,null,null,null,null,null,null,null,"Susacón",15774]
[null,null,null,null,null,null,null,null,null,null,null,null,null,null,"Sutamarchán",15776]
[null,null,null,null,null,null,null,null,null,null,null,null,null,null,"Sutatausa",25781]
[null,null,null,null,null,null,null,null,null,null,null,null,null,null,"Sutatenza",15778]
[null,null,null,null,null,null,null,null,null,null,null,null,null,null,"Tabio",25785]
[null,null,null,null,null,null,null,null,null,null,null,null,null,null,"Tadó",27787]
[null,null,null,null,null,null,null,null,null,null,null,null,null,null,"Talaigua Nuevo",13780]
[null,null,null,null,null,null,null,null,null,null,null,null,null,null,"Tamalameque",20787]
[null,null,null,null,null,null,null,null,null,null,null,null,null,null,"Támara",85400]
[null,null,null,null,null,null,null,null,null,null,null,null,null,null,"Tame",81794]
[null,null,null,null,null,null,null,null,null,null,null,null,null,null,"Támesis","05789"]
[null,null,null,null,null,null,null,null,null,null,null,null,null,null,"Taminango",52786]
[null,null,null,null,null,null,null,null,null,null,null,null,null,null,"Tangua",52788]
[null,null,null,null,null,null,null,null,null,null,null,null,null,null,"Taraira",97666]
[null,null,null,null,null,null,null,null,null,null,null,null,null,null,"Tarapacá",91798]
[null,null,null,null,null,null,null,null,null,null,null,null,null,null,"Tarazá","05790"]
[null,null,null,null,null,null,null,null,null,null,null,null,null,null,"Tarqui",41791]
[null,null,null,null,null,null,null,null,null,null,null,null,null,null,"Tarso","05792"]
[null,null,null,null,null,null,null,null,null,null,null,null,null,null,"Tasco",15790]
[null,null,null,null,null,null,null,null,null,null,null,null,null,null,"Tauramena",85410]
[null,null,null,null,null,null,null,null,null,null,null,null,null,null,"Tausa",25793]
[null,null,null,null,null,null,null,null,null,null,null,null,null,null,"Tello",41799]
[null,null,null,null,null,null,null,null,null,null,null,null,null,null,"Tena",25797]
[null,null,null,null,null,null,null,null,null,null,null,null,null,null,"Tenerife",47798]
[null,null,null,null,null,null,null,null,null,null,null,null,null,null,"Tenjo",25799]
[null,null,null,null,null,null,null,null,null,null,null,null,null,null,"Tenza",15798]
[null,null,null,null,null,null,null,null,null,null,null,null,null,null,"Teorama",54800]
[null,null,null,null,null,null,null,null,null,null,null,null,null,null,"Teruel",41801]
[null,null,null,null,null,null,null,null,null,null,null,null,null,null,"Tesalia",41797]
[null,null,null,null,null,null,null,null,null,null,null,null,null,null,"Tibacuy",25805]
[null,null,null,null,null,null,null,null,null,null,null,null,null,null,"Tibaná",15804]
[null,null,null,null,null,null,null,null,null,null,null,null,null,null,"Tibasosa",15806]
[null,null,null,null,null,null,null,null,null,null,null,null,null,null,"Tibirita",25807]
[null,null,null,null,null,null,null,null,null,null,null,null,null,null,"Tibú",54810]
[null,null,null,null,null,null,null,null,null,null,null,null,null,null,"Tierralta",23807]
[null,null,null,null,null,null,null,null,null,null,null,null,null,null,"Timaná",41807]
[null,null,null,null,null,null,null,null,null,null,null,null,null,null,"Timbío",19807]
[null,null,null,null,null,null,null,null,null,null,null,null,null,null,"Timbiquí",19809]
[null,null,null,null,null,null,null,null,null,null,null,null,null,null,"Tinjacá",15808]
[null,null,null,null,null,null,null,null,null,null,null,null,null,null,"Tipacoque",15810]
[null,null,null,null,null,null,null,null,null,null,null,null,null,null,"Tiquisio",13810]
[null,null,null,null,null,null,null,null,null,null,null,null,null,null,"Titiribí","05809"]
[null,null,null,null,null,null,null,null,null,null,null,null,null,null,"Toca",15814]
[null,null,null,null,null,null,null,null,null,null,null,null,null,null,"Tocaima",25815]
[null,null,null,null,null,null,null,null,null,null,null,null,null,null,"Tocancipá",25817]
[null,null,null,null,null,null,null,null,null,null,null,null,null,null,"Togüí",15816]
[null,null,null,null,null,null,null,null,null,null,null,null,null,null,"Toledo","05819"]
[null,null,null,null,null,null,null,null,null,null,null,null,null,null,"Toledo",54820]
[null,null,null,null,null,null,null,null,null,null,null,null,null,null,"Tolú Viejo",70823]
[null,null,null,null,null,null,null,null,null,null,null,null,null,null,"Tona",68820]
[null,null,null,null,null,null,null,null,null,null,null,null,null,null,"Tópaga",15820]
[null,null,null,null,null,null,null,null,null,null,null,null,null,null,"Topaipí",25823]
[null,null,null,null,null,null,null,null,null,null,null,null,null,null,"Toribio",19821]
[null,null,null,null,null,null,null,null,null,null,null,null,null,null,"Toro",76823]
[null,null,null,null,null,null,null,null,null,null,null,null,null,null,"Tota",15822]
[null,null,null,null,null,null,null,null,null,null,null,null,null,null,"Totoró",19824]
[null,null,null,null,null,null,null,null,null,null,null,null,null,null,"Trinidad",85430]
[null,null,null,null,null,null,null,null,null,null,null,null,null,null,"Trujillo",76828]
[null,null,null,null,null,null,null,null,null,null,null,null,null,null,"Tubará","08832"]
[null,null,null,null,null,null,null,null,null,null,null,null,null,null,"Tuluá",76834]
[null,null,null,null,null,null,null,null,null,null,null,null,null,null,"Tumaco",52835]
[null,null,null,null,null,null,null,null,null,null,null,null,null,null,"Tunja",15001]
[null,null,null,null,null,null,null,null,null,null,null,null,null,null,"Tununguá",15832]
[null,null,null,null,null,null,null,null,null,null,null,null,null,null,"Túquerres",52838]
[null,null,null,null,null,null,null,null,null,null,null,null,null,null,"Turbaco",13836]
[null,null,null,null,null,null,null,null,null,null,null,null,null,null,"Turbaná",13838]
[null,null,null,null,null,null,null,null,null,null,null,null,null,null,"Turbo","05837"]
[null,null,null,null,null,null,null,null,null,null,null,null,null,null,"Turmequé",15835]
[null,null,null,null,null,null,null,null,null,null,null,null,null,null,"Tuta",15837]
[null,null,null,null,null,null,null,null,null,null,null,null,null,null,"Tutazá",15839]
[null,null,null,null,null,null,null,null,null,null,null,null,null,null,"Ubalá",25839]
[null,null,null,null,null,null,null,null,null,null,null,null,null,null,"Ubaque",25841]
[null,null,null,null,null,null,null,null,null,null,null,null,null,null,"Ulloa",76845]
[null,null,null,null,null,null,null,null,null,null,null,null,null,null,"Umbita",15842]
[null,null,null,null,null,null,null,null,null,null,null,null,null,null,"Une",25845]
[null,null,null,null,null,null,null,null,null,null,null,null,null,null,"Unguía",27800]
[null,null,null,null,null,null,null,null,null,null,null,null,null,null,"Unión Panamericana",27810]
[null,null,null,null,null,null,null,null,null,null,null,null,null,null,"Uramita","05842"]
[null,null,null,null,null,null,null,null,null,null,null,null,null,null,"Uribe",50370]
[null,null,null,null,null,null,null,null,null,null,null,null,null,null,"Uribia",44847]
[null,null,null,null,null,null,null,null,null,null,null,null,null,null,"Urrao","05847"]
[null,null,null,null,null,null,null,null,null,null,null,null,null,null,"Urumita",44855]
[null,null,null,null,null,null,null,null,null,null,null,null,null,null,"Usiacurí","08849"]
[null,null,null,null,null,null,null,null,null,null,null,null,null,null,"Útica",25851]
[null,null,null,null,null,null,null,null,null,null,null,null,null,null,"Valdivia","05854"]
[null,null,null,null,null,null,null,null,null,null,null,null,null,null,"Valencia",23855]
[null,null,null,null,null,null,null,null,null,null,null,null,null,null,"Valle De San José",68855]
[null,null,null,null,null,null,null,null,null,null,null,null,null,null,"Valle De San Juan",73854]
[null,null,null,null,null,null,null,null,null,null,null,null,null,null,"Valle Del Guamuez",86865]
[null,null,null,null,null,null,null,null,null,null,null,null,null,null,"Valledupar",20001]
[null,null,null,null,null,null,null,null,null,null,null,null,null,null,"Valparaíso","05856"]
[null,null,null,null,null,null,null,null,null,null,null,null,null,null,"Valparaíso",18860]
[null,null,null,null,null,null,null,null,null,null,null,null,null,null,"Vegachí","05858"]
[null,null,null,null,null,null,null,null,null,null,null,null,null,null,"Vélez",68861]
[null,null,null,null,null,null,null,null,null,null,null,null,null,null,"Venadillo",73861]
[null,null,null,null,null,null,null,null,null,null,null,null,null,null,"Venecia","05861"]
[null,null,null,null,null,null,null,null,null,null,null,null,null,null,"Venecia",25506]
[null,null,null,null,null,null,null,null,null,null,null,null,null,null,"Ventaquemada",15861]
[null,null,null,null,null,null,null,null,null,null,null,null,null,null,"Vergara",25862]
[null,null,null,null,null,null,null,null,null,null,null,null,null,null,"Versalles",76863]
[null,null,null,null,null,null,null,null,null,null,null,null,null,null,"Vetas",68867]
[null,null,null,null,null,null,null,null,null,null,null,null,null,null,"Vianí",25867]
[null,null,null,null,null,null,null,null,null,null,null,null,null,null,"Victoria",17867]
[null,null,null,null,null,null,null,null,null,null,null,null,null,null,"Vigía Del Fuerte","05873"]
[null,null,null,null,null,null,null,null,null,null,null,null,null,null,"Vijes",76869]
[null,null,null,null,null,null,null,null,null,null,null,null,null,null,"Villa Caro",54871]
[null,null,null,null,null,null,null,null,null,null,null,null,null,null,"Villa De Leyva",15407]
[null,null,null,null,null,null,null,null,null,null,null,null,null,null,"Villa De San Diego De Ubate",25843]
[null,null,null,null,null,null,null,null,null,null,null,null,null,null,"Villa Del Rosario",54874]
[null,null,null,null,null,null,null,null,null,null,null,null,null,null,"Villa Rica",19845]
[null,null,null,null,null,null,null,null,null,null,null,null,null,null,"Villagarzón",86885]
[null,null,null,null,null,null,null,null,null,null,null,null,null,null,"Villagómez",25871]
[null,null,null,null,null,null,null,null,null,null,null,null,null,null,"Villahermosa",73870]
[null,null,null,null,null,null,null,null,null,null,null,null,null,null,"Villamaría",17873]
[null,null,null,null,null,null,null,null,null,null,null,null,null,null,"Villanueva",13873]
[null,null,null,null,null,null,null,null,null,null,null,null,null,null,"Villanueva",85440]
[null,null,null,null,null,null,null,null,null,null,null,null,null,null,"Villanueva",44874]
[null,null,null,null,null,null,null,null,null,null,null,null,null,null,"Villanueva",68872]
[null,null,null,null,null,null,null,null,null,null,null,null,null,null,"Villapinzón",25873]
[null,null,null,null,null,null,null,null,null,null,null,null,null,null,"Villarrica",73873]
[null,null,null,null,null,null,null,null,null,null,null,null,null,null,"Villavicencio",50001]
[null,null,null,null,null,null,null,null,null,null,null,null,null,null,"Villavieja",41872]
[null,null,null,null,null,null,null,null,null,null,null,null,null,null,"Villeta",25875]
[null,null,null,null,null,null,null,null,null,null,null,null,null,null,"Viotá",25878]
[null,null,null,null,null,null,null,null,null,null,null,null,null,null,"Viracachá",15879]
[null,null,null,null,null,null,null,null,null,null,null,null,null,null,"Vistahermosa",50711]
[null,null,null,null,null,null,null,null,null,null,null,null,null,null,"Viterbo",17877]
[null,null,null,null,null,null,null,null,null,null,null,null,null,null,"Yacopí",25885]
[null,null,null,null,null,null,null,null,null,null,null,null,null,null,"Yacuanquer",52885]
[null,null,null,null,null,null,null,null,null,null,null,null,null,null,"Yaguará",41885]
[null,null,null,null,null,null,null,null,null,null,null,null,null,null,"Yalí","05885"]
[null,null,null,null,null,null,null,null,null,null,null,null,null,null,"Yarumal","05887"]
[null,null,null,null,null,null,null,null,null,null,null,null,null,null,"Yavaraté",97889]
[null,null,null,null,null,null,null,null,null,null,null,null,null,null,"Yolombó","05890"]
[null,null,null,null,null,null,null,null,null,null,null,null,null,null,"Yondó","05893"]
[null,null,null,null,null,null,null,null,null,null,null,null,null,null,"Yopal",85001]
[null,null,null,null,null,null,null,null,null,null,null,null,null,null,"Yotoco",76890]
[null,null,null,null,null,null,null,null,null,null,null,null,null,null,"Yumbo",76892]
[null,null,null,null,null,null,null,null,null,null,null,null,null,null,"Zambrano",13894]
[null,null,null,null,null,null,null,null,null,null,null,null,null,null,"Zapatoca",68895]
[null,null,null,null,null,null,null,null,null,null,null,null,null,null,"Zapayán",47960]
[null,null,null,null,null,null,null,null,null,null,null,null,null,null,"Zaragoza","05895"]
[null,null,null,null,null,null,null,null,null,null,null,null,null,null,"Zarzal",76895]
[null,null,null,null,null,null,null,null,null,null,null,null,null,null,"Zetaquira",15897]
[null,null,null,null,null,null,null,null,null,null,null,null,null,null,"Zipacón",25898]
[null,null,null,null,null,null,null,null,null,null,null,null,null,null,"Zipaquirá",25899]
[null,null,null,null,null,null,null,null,null,null,null,null,null,null,"Zona Bananera",47980]

{"sheet":"Terceros","index":2,"n_rows":301,"n_cols":47,"rows_kept":301,"cut":false,"hidden":false,"merged":[]}
["Esta activa","Es Cliente","Es Distribuidor","Es Otros","Es Prospecto","Es Proveedor","Es persona jurídica","Nombres","Apellidos","Código tipo identificación","Identificación","Digito de verificación","SUC","Nombre comercial","Página web","Identificación tercero principal","Dirección","Código país","Código ciudad","Código postal","Indic-Teléfono-Ext.","Fax","Correo electrónico","Código contacto título","Contacto nombres","Contacto apellidos","Contacto género"," Código contacto cargo","Contacto teléfono oficina","Contacto teléfono móvil","Contacto correo electrónico","Contacto fecha de nacimiento","Observaciones"," Código calificación"," Código tamaño","Código sector económico","Código Subsector económico","Código Ventas anuales","Código Número empleados","Código responsable"," Identificación Cobrador","Identificación Vendedor","Identificación Distribuidor","Código Clasificación tributaria","Código sub estado del tercero","Tipo de regimen IVA","Códigos Responsabilidades fiscales"]
[{"$f":"IF('Datos Iniciales'!B3=\"\",\"\",\"Si\")","v":""},{"$f":"(IF('Datos Iniciales'!A3=\"Cliente\",\"Si\",(IF('Datos Iniciales'!A3=\"\",\"\",\"No\"))))","v":""},{"$f":"(IF('Datos Iniciales'!A3=\"Distribuidor\",\"Si\",(IF('Datos Iniciales'!A3=\"\",\"\",\"No\"))))","v":""},{"$f":"(IF('Datos Iniciales'!A3=\"Otros\",\"Si\",(IF('Datos Iniciales'!A3=\"\",\"\",\"No\"))))","v":""},{"$f":"(IF('Datos Iniciales'!A3=\"Prospecto\",\"Si\",(IF('Datos Iniciales'!A3=\"\",\"\",\"No\"))))","v":""},{"$f":"(IF('Datos Iniciales'!A3=\"Proveedor\",\"Si\",(IF('Datos Iniciales'!A3=\"\",\"\",\"No\"))))","v":""},{"$f":"IF('Datos Iniciales'!B3=\"\",\"\",'Datos Iniciales'!B3)","v":""},{"$f":"IF('Datos Iniciales'!C3=\"\",\"\",'Datos Iniciales'!C3)","v":""},{"$f":"IF('Datos Iniciales'!D3=\"\",\"\",'Datos Iniciales'!D3)","v":""},{"$f":"IF('Datos Iniciales'!E3=datos!$I$2,datos!$J$2,(IF('Datos Iniciales'!E3=datos!$I$3,datos!$J$3,(IF('Datos Iniciales'!E3=datos!$I$4,datos!$J$4,(IF('Datos Iniciales'!E3=datos!$I$5,datos!$J$5,(IF('Datos Iniciales'!E3=datos!$I$6,datos!$J$6,(IF('Datos Iniciales'!E3=datos!$I$7,datos!$J$7,(IF('Datos Iniciales'!E3=datos!$I$2,datos!$J$2,(IF('Datos Iniciales'!E3=datos!$I$8,datos!$J$8,(IF('Datos Iniciales'!E3=datos!$I$9,datos!$J$9,(IF('Datos Iniciales'!E3=datos!$I$10,datos!$J$10,(IF('Datos Iniciales'!E3=datos!$I$11,datos!$J$11,(IF('Datos Iniciales'!E3=datos!$I$12,datos!$J$12,(IF('Datos Iniciales'!E3=datos!$I$13,datos!$J$13,(IF('Datos Iniciales'!E3=datos!$I$14,datos!$J$14,(IF('Datos Iniciales'!E3=datos!$I$15,datos!$J$15,\"\")))))))))))))))))))))))))))))","v":""},{"$f":"IF('Datos Iniciales'!F3=\"\",\"\",'Datos Iniciales'!F3)","v":""},{"$f":"IFERROR(datos!B2,\"\")","v":""},null,null,null,null,{"$f":"IF('Datos Iniciales'!H3=\"\",\"\",'Datos Iniciales'!H3)","v":""},{"$f":"IF('Datos Iniciales'!I3=\"\",\"\",datos!$K$2)","v":""},{"$f":"IFERROR(VLOOKUP('Datos Iniciales'!J3,datos!O1:P1120,2,FALSE),\"\")","v":""},null,{"$f":"IF('Datos Iniciales'!K3=\"\",\"\",(CONCATENATE(RIGHT('Datos Iniciales'!K3,1),\"-\",'Datos Iniciales'!L3,\"-\",(IF('Datos Iniciales'!M3=\"\",0,'Datos Iniciales'!M3)))))","v":""},null,null,null,{"$f":"IF('Datos Iniciales'!N3=\"\",\"\",'Datos Iniciales'!N3)","v":""},{"$f":"IF('Datos Iniciales'!O3=\"\",\"\",'Datos Iniciales'!O3)","v":""},null,null,null,null,{"$f":"IF('Datos Iniciales'!P3=\"\",\"\",'Datos Iniciales'!P3)","v":""},null,null,null,null,null,null,null,null,null,null,null,null,{"$f":"IF('Datos Iniciales'!B3=\"\",\"\",(IF('Datos Iniciales'!B3=\"Si\",\"002\",\"003\")))","v":""},null,{"$f":"IF('Datos Iniciales'!Q3=\"\",\"\",(IF('Datos Iniciales'!Q3=datos!S2,\"0\",\"2\")))","v":""},{"$f":"IF('Datos Iniciales'!B3=\"\",\"\",(IF('Datos Iniciales'!B3=\"Si\",\"O-48\",\"O-49\")))","v":""}]
[{"$f":"IF('Datos Iniciales'!B4=\"\",\"\",\"Si\")","v":""},{"$f":"(IF('Datos Iniciales'!A4=\"Cliente\",\"Si\",(IF('Datos Iniciales'!A4=\"\",\"\",\"No\"))))","v":""},{"$f":"(IF('Datos Iniciales'!A4=\"Distribuidor\",\"Si\",(IF('Datos Iniciales'!A4=\"\",\"\",\"No\"))))","v":""},{"$f":"(IF('Datos Iniciales'!A4=\"Otros\",\"Si\",(IF('Datos Iniciales'!A4=\"\",\"\",\"No\"))))","v":""},{"$f":"(IF('Datos Iniciales'!A4=\"Prospecto\",\"Si\",(IF('Datos Iniciales'!A4=\"\",\"\",\"No\"))))","v":""},{"$f":"(IF('Datos Iniciales'!A4=\"Proveedor\",\"Si\",(IF('Datos Iniciales'!A4=\"\",\"\",\"No\"))))","v":""},{"$f":"IF('Datos Iniciales'!B4=\"\",\"\",'Datos Iniciales'!B4)","v":""},{"$f":"IF('Datos Iniciales'!C4=\"\",\"\",'Datos Iniciales'!C4)","v":""},{"$f":"IF('Datos Iniciales'!D4=\"\",\"\",'Datos Iniciales'!D4)","v":""},{"$f":"IF('Datos Iniciales'!E4=datos!$I$2,datos!$J$2,(IF('Datos Iniciales'!E4=datos!$I$3,datos!$J$3,(IF('Datos Iniciales'!E4=datos!$I$4,datos!$J$4,(IF('Datos Iniciales'!E4=datos!$I$5,datos!$J$5,(IF('Datos Iniciales'!E4=datos!$I$6,datos!$J$6,(IF('Datos Iniciales'!E4=datos!$I$7,datos!$J$7,(IF('Datos Iniciales'!E4=datos!$I$2,datos!$J$2,(IF('Datos Iniciales'!E4=datos!$I$8,datos!$J$8,(IF('Datos Iniciales'!E4=datos!$I$9,datos!$J$9,(IF('Datos Iniciales'!E4=datos!$I$10,datos!$J$10,(IF('Datos Iniciales'!E4=datos!$I$11,datos!$J$11,(IF('Datos Iniciales'!E4=datos!$I$12,datos!$J$12,(IF('Datos Iniciales'!E4=datos!$I$13,datos!$J$13,(IF('Datos Iniciales'!E4=datos!$I$14,datos!$J$14,(IF('Datos Iniciales'!E4=datos!$I$15,datos!$J$15,\"\")))))))))))))))))))))))))))))","v":""},{"$f":"IF('Datos Iniciales'!F4=\"\",\"\",'Datos Iniciales'!F4)","v":""},{"$f":"IFERROR(datos!B3,\"\")","v":""},null,null,null,null,{"$f":"IF('Datos Iniciales'!H4=\"\",\"\",'Datos Iniciales'!H4)","v":""},{"$f":"IF('Datos Iniciales'!I4=\"\",\"\",datos!$K$2)","v":""},{"$f":"IFERROR(VLOOKUP('Datos Iniciales'!J4,datos!O2:P1121,2,FALSE),\"\")","v":""},null,{"$f":"IF('Datos Iniciales'!K4=\"\",\"\",(CONCATENATE(RIGHT('Datos Iniciales'!K4,1),\"-\",'Datos Iniciales'!L4,\"-\",'Datos Iniciales'!M4)))","v":""},null,null,null,{"$f":"IF('Datos Iniciales'!N4=\"\",\"\",'Datos Iniciales'!N4)","v":""},{"$f":"IF('Datos Iniciales'!O4=\"\",\"\",'Datos Iniciales'!O4)","v":""},null,null,null,null,{"$f":"IF('Datos Iniciales'!P4=\"\",\"\",'Datos Iniciales'!P4)","v":""},null,null,null,null,null,null,null,null,null,null,null,null,{"$f":"IF('Datos Iniciales'!B4=\"\",\"\",(IF('Datos Iniciales'!B4=\"Si\",\"002\",\"003\")))","v":""},null,{"$f":"IF('Datos Iniciales'!Q4=\"\",\"\",(IF('Datos Iniciales'!Q4=datos!S3,\"0\",\"2\")))","v":""},{"$f":"IF('Datos Iniciales'!B4=\"\",\"\",(IF('Datos Iniciales'!B4=\"Si\",\"O-48\",\"O-49\")))","v":""}]
[{"$f":"IF('Datos Iniciales'!B5=\"\",\"\",\"Si\")","v":""},{"$f":"(IF('Datos Iniciales'!A5=\"Cliente\",\"Si\",(IF('Datos Iniciales'!A5=\"\",\"\",\"No\"))))","v":""},{"$f":"(IF('Datos Iniciales'!A5=\"Distribuidor\",\"Si\",(IF('Datos Iniciales'!A5=\"\",\"\",\"No\"))))","v":""},{"$f":"(IF('Datos Iniciales'!A5=\"Otros\",\"Si\",(IF('Datos Iniciales'!A5=\"\",\"\",\"No\"))))","v":""},{"$f":"(IF('Datos Iniciales'!A5=\"Prospecto\",\"Si\",(IF('Datos Iniciales'!A5=\"\",\"\",\"No\"))))","v":""},{"$f":"(IF('Datos Iniciales'!A5=\"Proveedor\",\"Si\",(IF('Datos Iniciales'!A5=\"\",\"\",\"No\"))))","v":""},{"$f":"IF('Datos Iniciales'!B5=\"\",\"\",'Datos Iniciales'!B5)","v":""},{"$f":"IF('Datos Iniciales'!C5=\"\",\"\",'Datos Iniciales'!C5)","v":""},{"$f":"IF('Datos Iniciales'!D5=\"\",\"\",'Datos Iniciales'!D5)","v":""},{"$f":"IF('Datos Iniciales'!E5=datos!$I$2,datos!$J$2,(IF('Datos Iniciales'!E5=datos!$I$3,datos!$J$3,(IF('Datos Iniciales'!E5=datos!$I$4,datos!$J$4,(IF('Datos Iniciales'!E5=datos!$I$5,datos!$J$5,(IF('Datos Iniciales'!E5=datos!$I$6,datos!$J$6,(IF('Datos Iniciales'!E5=datos!$I$7,datos!$J$7,(IF('Datos Iniciales'!E5=datos!$I$2,datos!$J$2,(IF('Datos Iniciales'!E5=datos!$I$8,datos!$J$8,(IF('Datos Iniciales'!E5=datos!$I$9,datos!$J$9,(IF('Datos Iniciales'!E5=datos!$I$10,datos!$J$10,(IF('Datos Iniciales'!E5=datos!$I$11,datos!$J$11,(IF('Datos Iniciales'!E5=datos!$I$12,datos!$J$12,(IF('Datos Iniciales'!E5=datos!$I$13,datos!$J$13,(IF('Datos Iniciales'!E5=datos!$I$14,datos!$J$14,(IF('Datos Iniciales'!E5=datos!$I$15,datos!$J$15,\"\")))))))))))))))))))))))))))))","v":""},{"$f":"IF('Datos Iniciales'!F5=\"\",\"\",'Datos Iniciales'!F5)","v":""},{"$f":"IFERROR(datos!B4,\"\")","v":""},null,null,null,null,{"$f":"IF('Datos Iniciales'!H5=\"\",\"\",'Datos Iniciales'!H5)","v":""},{"$f":"IF('Datos Iniciales'!I5=\"\",\"\",datos!$K$2)","v":""},{"$f":"IFERROR(VLOOKUP('Datos Iniciales'!J5,datos!O3:P1122,2,FALSE),\"\")","v":""},null,{"$f":"IF('Datos Iniciales'!K5=\"\",\"\",(CONCATENATE(RIGHT('Datos Iniciales'!K5,1),\"-\",'Datos Iniciales'!L5,\"-\",'Datos Iniciales'!M5)))","v":""},null,null,null,{"$f":"IF('Datos Iniciales'!N5=\"\",\"\",'Datos Iniciales'!N5)","v":""},{"$f":"IF('Datos Iniciales'!O5=\"\",\"\",'Datos Iniciales'!O5)","v":""},null,null,null,null,{"$f":"IF('Datos Iniciales'!P5=\"\",\"\",'Datos Iniciales'!P5)","v":""},null,null,null,null,null,null,null,null,null,null,null,null,{"$f":"IF('Datos Iniciales'!B5=\"\",\"\",(IF('Datos Iniciales'!B5=\"Si\",\"002\",\"003\")))","v":""},null,{"$f":"IF('Datos Iniciales'!Q5=\"\",\"\",(IF('Datos Iniciales'!Q5=datos!S4,\"0\",\"2\")))","v":""},{"$f":"IF('Datos Iniciales'!B5=\"\",\"\",(IF('Datos Iniciales'!B5=\"Si\",\"O-48\",\"O-49\")))","v":""}]
[{"$f":"IF('Datos Iniciales'!B6=\"\",\"\",\"Si\")","v":""},{"$f":"(IF('Datos Iniciales'!A6=\"Cliente\",\"Si\",(IF('Datos Iniciales'!A6=\"\",\"\",\"No\"))))","v":""},{"$f":"(IF('Datos Iniciales'!A6=\"Distribuidor\",\"Si\",(IF('Datos Iniciales'!A6=\"\",\"\",\"No\"))))","v":""},{"$f":"(IF('Datos Iniciales'!A6=\"Otros\",\"Si\",(IF('Datos Iniciales'!A6=\"\",\"\",\"No\"))))","v":""},{"$f":"(IF('Datos Iniciales'!A6=\"Prospecto\",\"Si\",(IF('Datos Iniciales'!A6=\"\",\"\",\"No\"))))","v":""},{"$f":"(IF('Datos Iniciales'!A6=\"Proveedor\",\"Si\",(IF('Datos Iniciales'!A6=\"\",\"\",\"No\"))))","v":""},{"$f":"IF('Datos Iniciales'!B6=\"\",\"\",'Datos Iniciales'!B6)","v":""},{"$f":"IF('Datos Iniciales'!C6=\"\",\"\",'Datos Iniciales'!C6)","v":""},{"$f":"IF('Datos Iniciales'!D6=\"\",\"\",'Datos Iniciales'!D6)","v":""},{"$f":"IF('Datos Iniciales'!E6=datos!$I$2,datos!$J$2,(IF('Datos Iniciales'!E6=datos!$I$3,datos!$J$3,(IF('Datos Iniciales'!E6=datos!$I$4,datos!$J$4,(IF('Datos Iniciales'!E6=datos!$I$5,datos!$J$5,(IF('Datos Iniciales'!E6=datos!$I$6,datos!$J$6,(IF('Datos Iniciales'!E6=datos!$I$7,datos!$J$7,(IF('Datos Iniciales'!E6=datos!$I$2,datos!$J$2,(IF('Datos Iniciales'!E6=datos!$I$8,datos!$J$8,(IF('Datos Iniciales'!E6=datos!$I$9,datos!$J$9,(IF('Datos Iniciales'!E6=datos!$I$10,datos!$J$10,(IF('Datos Iniciales'!E6=datos!$I$11,datos!$J$11,(IF('Datos Iniciales'!E6=datos!$I$12,datos!$J$12,(IF('Datos Iniciales'!E6=datos!$I$13,datos!$J$13,(IF('Datos Iniciales'!E6=datos!$I$14,datos!$J$14,(IF('Datos Iniciales'!E6=datos!$I$15,datos!$J$15,\"\")))))))))))))))))))))))))))))","v":""},{"$f":"IF('Datos Iniciales'!F6=\"\",\"\",'Datos Iniciales'!F6)","v":""},{"$f":"IFERROR(datos!B5,\"\")","v":""},null,null,null,null,{"$f":"IF('Datos Iniciales'!H6=\"\",\"\",'Datos Iniciales'!H6)","v":""},{"$f":"IF('Datos Iniciales'!I6=\"\",\"\",datos!$K$2)","v":""},{"$f":"IFERROR(VLOOKUP('Datos Iniciales'!J6,datos!O4:P1123,2,FALSE),\"\")","v":""},null,{"$f":"IF('Datos Iniciales'!K6=\"\",\"\",(CONCATENATE(RIGHT('Datos Iniciales'!K6,1),\"-\",'Datos Iniciales'!L6,\"-\",'Datos Iniciales'!M6)))","v":""},null,null,null,{"$f":"IF('Datos Iniciales'!N6=\"\",\"\",'Datos Iniciales'!N6)","v":""},{"$f":"IF('Datos Iniciales'!O6=\"\",\"\",'Datos Iniciales'!O6)","v":""},null,null,null,null,{"$f":"IF('Datos Iniciales'!P6=\"\",\"\",'Datos Iniciales'!P6)","v":""},null,null,null,null,null,null,null,null,null,null,null,null,{"$f":"IF('Datos Iniciales'!B6=\"\",\"\",(IF('Datos Iniciales'!B6=\"Si\",\"002\",\"003\")))","v":""},null,{"$f":"IF('Datos Iniciales'!Q6=\"\",\"\",(IF('Datos Iniciales'!Q6=datos!S5,\"0\",\"2\")))","v":""},{"$f":"IF('Datos Iniciales'!B6=\"\",\"\",(IF('Datos Iniciales'!B6=\"Si\",\"O-48\",\"O-49\")))","v":""}]
[{"$f":"IF('Datos Iniciales'!B7=\"\",\"\",\"Si\")","v":""},{"$f":"(IF('Datos Iniciales'!A7=\"Cliente\",\"Si\",(IF('Datos Iniciales'!A7=\"\",\"\",\"No\"))))","v":""},{"$f":"(IF('Datos Iniciales'!A7=\"Distribuidor\",\"Si\",(IF('Datos Iniciales'!A7=\"\",\"\",\"No\"))))","v":""},{"$f":"(IF('Datos Iniciales'!A7=\"Otros\",\"Si\",(IF('Datos Iniciales'!A7=\"\",\"\",\"No\"))))","v":""},{"$f":"(IF('Datos Iniciales'!A7=\"Prospecto\",\"Si\",(IF('Datos Iniciales'!A7=\"\",\"\",\"No\"))))","v":""},{"$f":"(IF('Datos Iniciales'!A7=\"Proveedor\",\"Si\",(IF('Datos Iniciales'!A7=\"\",\"\",\"No\"))))","v":""},{"$f":"IF('Datos Iniciales'!B7=\"\",\"\",'Datos Iniciales'!B7)","v":""},{"$f":"IF('Datos Iniciales'!C7=\"\",\"\",'Datos Iniciales'!C7)","v":""},{"$f":"IF('Datos Iniciales'!D7=\"\",\"\",'Datos Iniciales'!D7)","v":""},{"$f":"IF('Datos Iniciales'!E7=datos!$I$2,datos!$J$2,(IF('Datos Iniciales'!E7=datos!$I$3,datos!$J$3,(IF('Datos Iniciales'!E7=datos!$I$4,datos!$J$4,(IF('Datos Iniciales'!E7=datos!$I$5,datos!$J$5,(IF('Datos Iniciales'!E7=datos!$I$6,datos!$J$6,(IF('Datos Iniciales'!E7=datos!$I$7,datos!$J$7,(IF('Datos Iniciales'!E7=datos!$I$2,datos!$J$2,(IF('Datos Iniciales'!E7=datos!$I$8,datos!$J$8,(IF('Datos Iniciales'!E7=datos!$I$9,datos!$J$9,(IF('Datos Iniciales'!E7=datos!$I$10,datos!$J$10,(IF('Datos Iniciales'!E7=datos!$I$11,datos!$J$11,(IF('Datos Iniciales'!E7=datos!$I$12,datos!$J$12,(IF('Datos Iniciales'!E7=datos!$I$13,datos!$J$13,(IF('Datos Iniciales'!E7=datos!$I$14,datos!$J$14,(IF('Datos Iniciales'!E7=datos!$I$15,datos!$J$15,\"\")))))))))))))))))))))))))))))","v":""},{"$f":"IF('Datos Iniciales'!F7=\"\",\"\",'Datos Iniciales'!F7)","v":""},{"$f":"IFERROR(datos!B6,\"\")","v":""},null,null,null,null,{"$f":"IF('Datos Iniciales'!H7=\"\",\"\",'Datos Iniciales'!H7)","v":""},{"$f":"IF('Datos Iniciales'!I7=\"\",\"\",datos!$K$2)","v":""},{"$f":"IFERROR(VLOOKUP('Datos Iniciales'!J7,datos!O5:P1124,2,FALSE),\"\")","v":""},null,{"$f":"IF('Datos Iniciales'!K7=\"\",\"\",(CONCATENATE(RIGHT('Datos Iniciales'!K7,1),\"-\",'Datos Iniciales'!L7,\"-\",'Datos Iniciales'!M7)))","v":""},null,null,null,{"$f":"IF('Datos Iniciales'!N7=\"\",\"\",'Datos Iniciales'!N7)","v":""},{"$f":"IF('Datos Iniciales'!O7=\"\",\"\",'Datos Iniciales'!O7)","v":""},null,null,null,null,{"$f":"IF('Datos Iniciales'!P7=\"\",\"\",'Datos Iniciales'!P7)","v":""},null,null,null,null,null,null,null,null,null,null,null,null,{"$f":"IF('Datos Iniciales'!B7=\"\",\"\",(IF('Datos Iniciales'!B7=\"Si\",\"002\",\"003\")))","v":""},null,{"$f":"IF('Datos Iniciales'!Q7=\"\",\"\",(IF('Datos Iniciales'!Q7=datos!S6,\"0\",\"2\")))","v":""},{"$f":"IF('Datos Iniciales'!B7=\"\",\"\",(IF('Datos Iniciales'!B7=\"Si\",\"O-48\",\"O-49\")))","v":""}]
[{"$f":"IF('Datos Iniciales'!B8=\"\",\"\",\"Si\")","v":""},{"$f":"(IF('Datos Iniciales'!A8=\"Cliente\",\"Si\",(IF('Datos Iniciales'!A8=\"\",\"\",\"No\"))))","v":""},{"$f":"(IF('Datos Iniciales'!A8=\"Distribuidor\",\"Si\",(IF('Datos Iniciales'!A8=\"\",\"\",\"No\"))))","v":""},{"$f":"(IF('Datos Iniciales'!A8=\"Otros\",\"Si\",(IF('Datos Iniciales'!A8=\"\",\"\",\"No\"))))","v":""},{"$f":"(IF('Datos Iniciales'!A8=\"Prospecto\",\"Si\",(IF('Datos Iniciales'!A8=\"\",\"\",\"No\"))))","v":""},{"$f":"(IF('Datos Iniciales'!A8=\"Proveedor\",\"Si\",(IF('Datos Iniciales'!A8=\"\",\"\",\"No\"))))","v":""},{"$f":"IF('Datos Iniciales'!B8=\"\",\"\",'Datos Iniciales'!B8)","v":""},{"$f":"IF('Datos Iniciales'!C8=\"\",\"\",'Datos Iniciales'!C8)","v":""},{"$f":"IF('Datos Iniciales'!D8=\"\",\"\",'Datos Iniciales'!D8)","v":""},{"$f":"IF('Datos Iniciales'!E8=datos!$I$2,datos!$J$2,(IF('Datos Iniciales'!E8=datos!$I$3,datos!$J$3,(IF('Datos Iniciales'!E8=datos!$I$4,datos!$J$4,(IF('Datos Iniciales'!E8=datos!$I$5,datos!$J$5,(IF('Datos Iniciales'!E8=datos!$I$6,datos!$J$6,(IF('Datos Iniciales'!E8=datos!$I$7,datos!$J$7,(IF('Datos Iniciales'!E8=datos!$I$2,datos!$J$2,(IF('Datos Iniciales'!E8=datos!$I$8,datos!$J$8,(IF('Datos Iniciales'!E8=datos!$I$9,datos!$J$9,(IF('Datos Iniciales'!E8=datos!$I$10,datos!$J$10,(IF('Datos Iniciales'!E8=datos!$I$11,datos!$J$11,(IF('Datos Iniciales'!E8=datos!$I$12,datos!$J$12,(IF('Datos Iniciales'!E8=datos!$I$13,datos!$J$13,(IF('Datos Iniciales'!E8=datos!$I$14,datos!$J$14,(IF('Datos Iniciales'!E8=datos!$I$15,datos!$J$15,\"\")))))))))))))))))))))))))))))","v":""},{"$f":"IF('Datos Iniciales'!F8=\"\",\"\",'Datos Iniciales'!F8)","v":""},{"$f":"IFERROR(datos!B7,\"\")","v":""},null,null,null,null,{"$f":"IF('Datos Iniciales'!H8=\"\",\"\",'Datos Iniciales'!H8)","v":""},{"$f":"IF('Datos Iniciales'!I8=\"\",\"\",datos!$K$2)","v":""},{"$f":"IFERROR(VLOOKUP('Datos Iniciales'!J8,datos!O6:P1125,2,FALSE),\"\")","v":""},null,{"$f":"IF('Datos Iniciales'!K8=\"\",\"\",(CONCATENATE(RIGHT('Datos Iniciales'!K8,1),\"-\",'Datos Iniciales'!L8,\"-\",'Datos Iniciales'!M8)))","v":""},null,null,null,{"$f":"IF('Datos Iniciales'!N8=\"\",\"\",'Datos Iniciales'!N8)","v":""},{"$f":"IF('Datos Iniciales'!O8=\"\",\"\",'Datos Iniciales'!O8)","v":""},null,null,null,null,{"$f":"IF('Datos Iniciales'!P8=\"\",\"\",'Datos Iniciales'!P8)","v":""},null,null,null,null,null,null,null,null,null,null,null,null,{"$f":"IF('Datos Iniciales'!B8=\"\",\"\",(IF('Datos Iniciales'!B8=\"Si\",\"002\",\"003\")))","v":""},null,{"$f":"IF('Datos Iniciales'!Q8=\"\",\"\",(IF('Datos Iniciales'!Q8=datos!S7,\"0\",\"2\")))","v":""},{"$f":"IF('Datos Iniciales'!B8=\"\",\"\",(IF('Datos Iniciales'!B8=\"Si\",\"O-48\",\"O-49\")))","v":""}]
[{"$f":"IF('Datos Iniciales'!B9=\"\",\"\",\"Si\")","v":""},{"$f":"(IF('Datos Iniciales'!A9=\"Cliente\",\"Si\",(IF('Datos Iniciales'!A9=\"\",\"\",\"No\"))))","v":""},{"$f":"(IF('Datos Iniciales'!A9=\"Distribuidor\",\"Si\",(IF('Datos Iniciales'!A9=\"\",\"\",\"No\"))))","v":""},{"$f":"(IF('Datos Iniciales'!A9=\"Otros\",\"Si\",(IF('Datos Iniciales'!A9=\"\",\"\",\"No\"))))","v":""},{"$f":"(IF('Datos Iniciales'!A9=\"Prospecto\",\"Si\",(IF('Datos Iniciales'!A9=\"\",\"\",\"No\"))))","v":""},{"$f":"(IF('Datos Iniciales'!A9=\"Proveedor\",\"Si\",(IF('Datos Iniciales'!A9=\"\",\"\",\"No\"))))","v":""},{"$f":"IF('Datos Iniciales'!B9=\"\",\"\",'Datos Iniciales'!B9)","v":""},{"$f":"IF('Datos Iniciales'!C9=\"\",\"\",'Datos Iniciales'!C9)","v":""},{"$f":"IF('Datos Iniciales'!D9=\"\",\"\",'Datos Iniciales'!D9)","v":""},{"$f":"IF('Datos Iniciales'!E9=datos!$I$2,datos!$J$2,(IF('Datos Iniciales'!E9=datos!$I$3,datos!$J$3,(IF('Datos Iniciales'!E9=datos!$I$4,datos!$J$4,(IF('Datos Iniciales'!E9=datos!$I$5,datos!$J$5,(IF('Datos Iniciales'!E9=datos!$I$6,datos!$J$6,(IF('Datos Iniciales'!E9=datos!$I$7,datos!$J$7,(IF('Datos Iniciales'!E9=datos!$I$2,datos!$J$2,(IF('Datos Iniciales'!E9=datos!$I$8,datos!$J$8,(IF('Datos Iniciales'!E9=datos!$I$9,datos!$J$9,(IF('Datos Iniciales'!E9=datos!$I$10,datos!$J$10,(IF('Datos Iniciales'!E9=datos!$I$11,datos!$J$11,(IF('Datos Iniciales'!E9=datos!$I$12,datos!$J$12,(IF('Datos Iniciales'!E9=datos!$I$13,datos!$J$13,(IF('Datos Iniciales'!E9=datos!$I$14,datos!$J$14,(IF('Datos Iniciales'!E9=datos!$I$15,datos!$J$15,\"\")))))))))))))))))))))))))))))","v":""},{"$f":"IF('Datos Iniciales'!F9=\"\",\"\",'Datos Iniciales'!F9)","v":""},{"$f":"IFERROR(datos!B8,\"\")","v":""},null,null,null,null,{"$f":"IF('Datos Iniciales'!H9=\"\",\"\",'Datos Iniciales'!H9)","v":""},{"$f":"IF('Datos Iniciales'!I9=\"\",\"\",datos!$K$2)","v":""},{"$f":"IFERROR(VLOOKUP('Datos Iniciales'!J9,datos!O7:P1126,2,FALSE),\"\")","v":""},null,{"$f":"IF('Datos Iniciales'!K9=\"\",\"\",(CONCATENATE(RIGHT('Datos Iniciales'!K9,1),\"-\",'Datos Iniciales'!L9,\"-\",'Datos Iniciales'!M9)))","v":""},null,null,null,{"$f":"IF('Datos Iniciales'!N9=\"\",\"\",'Datos Iniciales'!N9)","v":""},{"$f":"IF('Datos Iniciales'!O9=\"\",\"\",'Datos Iniciales'!O9)","v":""},null,null,null,null,{"$f":"IF('Datos Iniciales'!P9=\"\",\"\",'Datos Iniciales'!P9)","v":""},null,null,null,null,null,null,null,null,null,null,null,null,{"$f":"IF('Datos Iniciales'!B9=\"\",\"\",(IF('Datos Iniciales'!B9=\"Si\",\"002\",\"003\")))","v":""},null,{"$f":"IF('Datos Iniciales'!Q9=\"\",\"\",(IF('Datos Iniciales'!Q9=datos!S8,\"0\",\"2\")))","v":""},{"$f":"IF('Datos Iniciales'!B9=\"\",\"\",(IF('Datos Iniciales'!B9=\"Si\",\"O-48\",\"O-49\")))","v":""}]
[{"$f":"IF('Datos Iniciales'!B10=\"\",\"\",\"Si\")","v":""},{"$f":"(IF('Datos Iniciales'!A10=\"Cliente\",\"Si\",(IF('Datos Iniciales'!A10=\"\",\"\",\"No\"))))","v":""},{"$f":"(IF('Datos Iniciales'!A10=\"Distribuidor\",\"Si\",(IF('Datos Iniciales'!A10=\"\",\"\",\"No\"))))","v":""},{"$f":"(IF('Datos Iniciales'!A10=\"Otros\",\"Si\",(IF('Datos Iniciales'!A10=\"\",\"\",\"No\"))))","v":""},{"$f":"(IF('Datos Iniciales'!A10=\"Prospecto\",\"Si\",(IF('Datos Iniciales'!A10=\"\",\"\",\"No\"))))","v":""},{"$f":"(IF('Datos Iniciales'!A10=\"Proveedor\",\"Si\",(IF('Datos Iniciales'!A10=\"\",\"\",\"No\"))))","v":""},{"$f":"IF('Datos Iniciales'!B10=\"\",\"\",'Datos Iniciales'!B10)","v":""},{"$f":"IF('Datos Iniciales'!C10=\"\",\"\",'Datos Iniciales'!C10)","v":""},{"$f":"IF('Datos Iniciales'!D10=\"\",\"\",'Datos Iniciales'!D10)","v":""},{"$f":"IF('Datos Iniciales'!E10=datos!$I$2,datos!$J$2,(IF('Datos Iniciales'!E10=datos!$I$3,datos!$J$3,(IF('Datos Iniciales'!E10=datos!$I$4,datos!$J$4,(IF('Datos Iniciales'!E10=datos!$I$5,datos!$J$5,(IF('Datos Iniciales'!E10=datos!$I$6,datos!$J$6,(IF('Datos Iniciales'!E10=datos!$I$7,datos!$J$7,(IF('Datos Iniciales'!E10=datos!$I$2,datos!$J$2,(IF('Datos Iniciales'!E10=datos!$I$8,datos!$J$8,(IF('Datos Iniciales'!E10=datos!$I$9,datos!$J$9,(IF('Datos Iniciales'!E10=datos!$I$10,datos!$J$10,(IF('Datos Iniciales'!E10=datos!$I$11,datos!$J$11,(IF('Datos Iniciales'!E10=datos!$I$12,datos!$J$12,(IF('Datos Iniciales'!E10=datos!$I$13,datos!$J$13,(IF('Datos Iniciales'!E10=datos!$I$14,datos!$J$14,(IF('Datos Iniciales'!E10=datos!$I$15,datos!$J$15,\"\")))))))))))))))))))))))))))))","v":""},{"$f":"IF('Datos Iniciales'!F10=\"\",\"\",'Datos Iniciales'!F10)","v":""},{"$f":"IFERROR(datos!B9,\"\")","v":""},null,null,null,null,{"$f":"IF('Datos Iniciales'!H10=\"\",\"\",'Datos Iniciales'!H10)","v":""},{"$f":"IF('Datos Iniciales'!I10=\"\",\"\",datos!$K$2)","v":""},{"$f":"IFERROR(VLOOKUP('Datos Iniciales'!J10,datos!O8:P1127,2,FALSE),\"\")","v":""},null,{"$f":"IF('Datos Iniciales'!K10=\"\",\"\",(CONCATENATE(RIGHT('Datos Iniciales'!K10,1),\"-\",'Datos Iniciales'!L10,\"-\",'Datos Iniciales'!M10)))","v":""},null,null,null,{"$f":"IF('Datos Iniciales'!N10=\"\",\"\",'Datos Iniciales'!N10)","v":""},{"$f":"IF('Datos Iniciales'!O10=\"\",\"\",'Datos Iniciales'!O10)","v":""},null,null,null,null,{"$f":"IF('Datos Iniciales'!P10=\"\",\"\",'Datos Iniciales'!P10)","v":""},null,null,null,null,null,null,null,null,null,null,null,null,{"$f":"IF('Datos Iniciales'!B10=\"\",\"\",(IF('Datos Iniciales'!B10=\"Si\",\"002\",\"003\")))","v":""},null,{"$f":"IF('Datos Iniciales'!Q10=\"\",\"\",(IF('Datos Iniciales'!Q10=datos!S9,\"0\",\"2\")))","v":""},{"$f":"IF('Datos Iniciales'!B10=\"\",\"\",(IF('Datos Iniciales'!B10=\"Si\",\"O-48\",\"O-49\")))","v":""}]
[{"$f":"IF('Datos Iniciales'!B11=\"\",\"\",\"Si\")","v":""},{"$f":"(IF('Datos Iniciales'!A11=\"Cliente\",\"Si\",(IF('Datos Iniciales'!A11=\"\",\"\",\"No\"))))","v":""},{"$f":"(IF('Datos Iniciales'!A11=\"Distribuidor\",\"Si\",(IF('Datos Iniciales'!A11=\"\",\"\",\"No\"))))","v":""},{"$f":"(IF('Datos Iniciales'!A11=\"Otros\",\"Si\",(IF('Datos Iniciales'!A11=\"\",\"\",\"No\"))))","v":""},{"$f":"(IF('Datos Iniciales'!A11=\"Prospecto\",\"Si\",(IF('Datos Iniciales'!A11=\"\",\"\",\"No\"))))","v":""},{"$f":"(IF('Datos Iniciales'!A11=\"Proveedor\",\"Si\",(IF('Datos Iniciales'!A11=\"\",\"\",\"No\"))))","v":""},{"$f":"IF('Datos Iniciales'!B11=\"\",\"\",'Datos Iniciales'!B11)","v":""},{"$f":"IF('Datos Iniciales'!C11=\"\",\"\",'Datos Iniciales'!C11)","v":""},{"$f":"IF('Datos Iniciales'!D11=\"\",\"\",'Datos Iniciales'!D11)","v":""},{"$f":"IF('Datos Iniciales'!E11=datos!$I$2,datos!$J$2,(IF('Datos Iniciales'!E11=datos!$I$3,datos!$J$3,(IF('Datos Iniciales'!E11=datos!$I$4,datos!$J$4,(IF('Datos Iniciales'!E11=datos!$I$5,datos!$J$5,(IF('Datos Iniciales'!E11=datos!$I$6,datos!$J$6,(IF('Datos Iniciales'!E11=datos!$I$7,datos!$J$7,(IF('Datos Iniciales'!E11=datos!$I$2,datos!$J$2,(IF('Datos Iniciales'!E11=datos!$I$8,datos!$J$8,(IF('Datos Iniciales'!E11=datos!$I$9,datos!$J$9,(IF('Datos Iniciales'!E11=datos!$I$10,datos!$J$10,(IF('Datos Iniciales'!E11=datos!$I$11,datos!$J$11,(IF('Datos Iniciales'!E11=datos!$I$12,datos!$J$12,(IF('Datos Iniciales'!E11=datos!$I$13,datos!$J$13,(IF('Datos Iniciales'!E11=datos!$I$14,datos!$J$14,(IF('Datos Iniciales'!E11=datos!$I$15,datos!$J$15,\"\")))))))))))))))))))))))))))))","v":""},{"$f":"IF('Datos Iniciales'!F11=\"\",\"\",'Datos Iniciales'!F11)","v":""},{"$f":"IFERROR(datos!B10,\"\")","v":""},null,null,null,null,{"$f":"IF('Datos Iniciales'!H11=\"\",\"\",'Datos Iniciales'!H11)","v":""},{"$f":"IF('Datos Iniciales'!I11=\"\",\"\",datos!$K$2)","v":""},{"$f":"IFERROR(VLOOKUP('Datos Iniciales'!J11,datos!O9:P1128,2,FALSE),\"\")","v":""},null,{"$f":"IF('Datos Iniciales'!K11=\"\",\"\",(CONCATENATE(RIGHT('Datos Iniciales'!K11,1),\"-\",'Datos Iniciales'!L11,\"-\",'Datos Iniciales'!M11)))","v":""},null,null,null,{"$f":"IF('Datos Iniciales'!N11=\"\",\"\",'Datos Iniciales'!N11)","v":""},{"$f":"IF('Datos Iniciales'!O11=\"\",\"\",'Datos Iniciales'!O11)","v":""},null,null,null,null,{"$f":"IF('Datos Iniciales'!P11=\"\",\"\",'Datos Iniciales'!P11)","v":""},null,null,null,null,null,null,null,null,null,null,null,null,{"$f":"IF('Datos Iniciales'!B11=\"\",\"\",(IF('Datos Iniciales'!B11=\"Si\",\"002\",\"003\")))","v":""},null,{"$f":"IF('Datos Iniciales'!Q11=\"\",\"\",(IF('Datos Iniciales'!Q11=datos!S10,\"0\",\"2\")))","v":""},{"$f":"IF('Datos Iniciales'!B11=\"\",\"\",(IF('Datos Iniciales'!B11=\"Si\",\"O-48\",\"O-49\")))","v":""}]
[{"$f":"IF('Datos Iniciales'!B12=\"\",\"\",\"Si\")","v":""},{"$f":"(IF('Datos Iniciales'!A12=\"Cliente\",\"Si\",(IF('Datos Iniciales'!A12=\"\",\"\",\"No\"))))","v":""},{"$f":"(IF('Datos Iniciales'!A12=\"Distribuidor\",\"Si\",(IF('Datos Iniciales'!A12=\"\",\"\",\"No\"))))","v":""},{"$f":"(IF('Datos Iniciales'!A12=\"Otros\",\"Si\",(IF('Datos Iniciales'!A12=\"\",\"\",\"No\"))))","v":""},{"$f":"(IF('Datos Iniciales'!A12=\"Prospecto\",\"Si\",(IF('Datos Iniciales'!A12=\"\",\"\",\"No\"))))","v":""},{"$f":"(IF('Datos Iniciales'!A12=\"Proveedor\",\"Si\",(IF('Datos Iniciales'!A12=\"\",\"\",\"No\"))))","v":""},{"$f":"IF('Datos Iniciales'!B12=\"\",\"\",'Datos Iniciales'!B12)","v":""},{"$f":"IF('Datos Iniciales'!C12=\"\",\"\",'Datos Iniciales'!C12)","v":""},{"$f":"IF('Datos Iniciales'!D12=\"\",\"\",'Datos Iniciales'!D12)","v":""},{"$f":"IF('Datos Iniciales'!E12=datos!$I$2,datos!$J$2,(IF('Datos Iniciales'!E12=datos!$I$3,datos!$J$3,(IF('Datos Iniciales'!E12=datos!$I$4,datos!$J$4,(IF('Datos Iniciales'!E12=datos!$I$5,datos!$J$5,(IF('Datos Iniciales'!E12=datos!$I$6,datos!$J$6,(IF('Datos Iniciales'!E12=datos!$I$7,datos!$J$7,(IF('Datos Iniciales'!E12=datos!$I$2,datos!$J$2,(IF('Datos Iniciales'!E12=datos!$I$8,datos!$J$8,(IF('Datos Iniciales'!E12=datos!$I$9,datos!$J$9,(IF('Datos Iniciales'!E12=datos!$I$10,datos!$J$10,(IF('Datos Iniciales'!E12=datos!$I$11,datos!$J$11,(IF('Datos Iniciales'!E12=datos!$I$12,datos!$J$12,(IF('Datos Iniciales'!E12=datos!$I$13,datos!$J$13,(IF('Datos Iniciales'!E12=datos!$I$14,datos!$J$14,(IF('Datos Iniciales'!E12=datos!$I$15,datos!$J$15,\"\")))))))))))))))))))))))))))))","v":""},{"$f":"IF('Datos Iniciales'!F12=\"\",\"\",'Datos Iniciales'!F12)","v":""},{"$f":"IFERROR(datos!B11,\"\")","v":""},null,null,null,null,{"$f":"IF('Datos Iniciales'!H12=\"\",\"\",'Datos Iniciales'!H12)","v":""},{"$f":"IF('Datos Iniciales'!I12=\"\",\"\",datos!$K$2)","v":""},{"$f":"IFERROR(VLOOKUP('Datos Iniciales'!J12,datos!O10:P1129,2,FALSE),\"\")","v":""},null,{"$f":"IF('Datos Iniciales'!K12=\"\",\"\",(CONCATENATE(RIGHT('Datos Iniciales'!K12,1),\"-\",'Datos Iniciales'!L12,\"-\",'Datos Iniciales'!M12)))","v":""},null,null,null,{"$f":"IF('Datos Iniciales'!N12=\"\",\"\",'Datos Iniciales'!N12)","v":""},{"$f":"IF('Datos Iniciales'!O12=\"\",\"\",'Datos Iniciales'!O12)","v":""},null,null,null,null,{"$f":"IF('Datos Iniciales'!P12=\"\",\"\",'Datos Iniciales'!P12)","v":""},null,null,null,null,null,null,null,null,null,null,null,null,{"$f":"IF('Datos Iniciales'!B12=\"\",\"\",(IF('Datos Iniciales'!B12=\"Si\",\"002\",\"003\")))","v":""},null,{"$f":"IF('Datos Iniciales'!Q12=\"\",\"\",(IF('Datos Iniciales'!Q12=datos!S11,\"0\",\"2\")))","v":""},{"$f":"IF('Datos Iniciales'!B12=\"\",\"\",(IF('Datos Iniciales'!B12=\"Si\",\"O-48\",\"O-49\")))","v":""}]
[{"$f":"IF('Datos Iniciales'!B13=\"\",\"\",\"Si\")","v":""},{"$f":"(IF('Datos Iniciales'!A13=\"Cliente\",\"Si\",(IF('Datos Iniciales'!A13=\"\",\"\",\"No\"))))","v":""},{"$f":"(IF('Datos Iniciales'!A13=\"Distribuidor\",\"Si\",(IF('Datos Iniciales'!A13=\"\",\"\",\"No\"))))","v":""},{"$f":"(IF('Datos Iniciales'!A13=\"Otros\",\"Si\",(IF('Datos Iniciales'!A13=\"\",\"\",\"No\"))))","v":""},{"$f":"(IF('Datos Iniciales'!A13=\"Prospecto\",\"Si\",(IF('Datos Iniciales'!A13=\"\",\"\",\"No\"))))","v":""},{"$f":"(IF('Datos Iniciales'!A13=\"Proveedor\",\"Si\",(IF('Datos Iniciales'!A13=\"\",\"\",\"No\"))))","v":""},{"$f":"IF('Datos Iniciales'!B13=\"\",\"\",'Datos Iniciales'!B13)","v":""},{"$f":"IF('Datos Iniciales'!C13=\"\",\"\",'Datos Iniciales'!C13)","v":""},{"$f":"IF('Datos Iniciales'!D13=\"\",\"\",'Datos Iniciales'!D13)","v":""},{"$f":"IF('Datos Iniciales'!E13=datos!$I$2,datos!$J$2,(IF('Datos Iniciales'!E13=datos!$I$3,datos!$J$3,(IF('Datos Iniciales'!E13=datos!$I$4,datos!$J$4,(IF('Datos Iniciales'!E13=datos!$I$5,datos!$J$5,(IF('Datos Iniciales'!E13=datos!$I$6,datos!$J$6,(IF('Datos Iniciales'!E13=datos!$I$7,datos!$J$7,(IF('Datos Iniciales'!E13=datos!$I$2,datos!$J$2,(IF('Datos Iniciales'!E13=datos!$I$8,datos!$J$8,(IF('Datos Iniciales'!E13=datos!$I$9,datos!$J$9,(IF('Datos Iniciales'!E13=datos!$I$10,datos!$J$10,(IF('Datos Iniciales'!E13=datos!$I$11,datos!$J$11,(IF('Datos Iniciales'!E13=datos!$I$12,datos!$J$12,(IF('Datos Iniciales'!E13=datos!$I$13,datos!$J$13,(IF('Datos Iniciales'!E13=datos!$I$14,datos!$J$14,(IF('Datos Iniciales'!E13=datos!$I$15,datos!$J$15,\"\")))))))))))))))))))))))))))))","v":""},{"$f":"IF('Datos Iniciales'!F13=\"\",\"\",'Datos Iniciales'!F13)","v":""},{"$f":"IFERROR(datos!B12,\"\")","v":""},null,null,null,null,{"$f":"IF('Datos Iniciales'!H13=\"\",\"\",'Datos Iniciales'!H13)","v":""},{"$f":"IF('Datos Iniciales'!I13=\"\",\"\",datos!$K$2)","v":""},{"$f":"IFERROR(VLOOKUP('Datos Iniciales'!J13,datos!O11:P1130,2,FALSE),\"\")","v":""},null,{"$f":"IF('Datos Iniciales'!K13=\"\",\"\",(CONCATENATE(RIGHT('Datos Iniciales'!K13,1),\"-\",'Datos Iniciales'!L13,\"-\",'Datos Iniciales'!M13)))","v":""},null,null,null,{"$f":"IF('Datos Iniciales'!N13=\"\",\"\",'Datos Iniciales'!N13)","v":""},{"$f":"IF('Datos Iniciales'!O13=\"\",\"\",'Datos Iniciales'!O13)","v":""},null,null,null,null,{"$f":"IF('Datos Iniciales'!P13=\"\",\"\",'Datos Iniciales'!P13)","v":""},null,null,null,null,null,null,null,null,null,null,null,null,{"$f":"IF('Datos Iniciales'!B13=\"\",\"\",(IF('Datos Iniciales'!B13=\"Si\",\"002\",\"003\")))","v":""},null,{"$f":"IF('Datos Iniciales'!Q13=\"\",\"\",(IF('Datos Iniciales'!Q13=datos!S12,\"0\",\"2\")))","v":""},{"$f":"IF('Datos Iniciales'!B13=\"\",\"\",(IF('Datos Iniciales'!B13=\"Si\",\"O-48\",\"O-49\")))","v":""}]
[{"$f":"IF('Datos Iniciales'!B14=\"\",\"\",\"Si\")","v":""},{"$f":"(IF('Datos Iniciales'!A14=\"Cliente\",\"Si\",(IF('Datos Iniciales'!A14=\"\",\"\",\"No\"))))","v":""},{"$f":"(IF('Datos Iniciales'!A14=\"Distribuidor\",\"Si\",(IF('Datos Iniciales'!A14=\"\",\"\",\"No\"))))","v":""},{"$f":"(IF('Datos Iniciales'!A14=\"Otros\",\"Si\",(IF('Datos Iniciales'!A14=\"\",\"\",\"No\"))))","v":""},{"$f":"(IF('Datos Iniciales'!A14=\"Prospecto\",\"Si\",(IF('Datos Iniciales'!A14=\"\",\"\",\"No\"))))","v":""},{"$f":"(IF('Datos Iniciales'!A14=\"Proveedor\",\"Si\",(IF('Datos Iniciales'!A14=\"\",\"\",\"No\"))))","v":""},{"$f":"IF('Datos Iniciales'!B14=\"\",\"\",'Datos Iniciales'!B14)","v":""},{"$f":"IF('Datos Iniciales'!C14=\"\",\"\",'Datos Iniciales'!C14)","v":""},{"$f":"IF('Datos Iniciales'!D14=\"\",\"\",'Datos Iniciales'!D14)","v":""},{"$f":"IF('Datos Iniciales'!E14=datos!$I$2,datos!$J$2,(IF('Datos Iniciales'!E14=datos!$I$3,datos!$J$3,(IF('Datos Iniciales'!E14=datos!$I$4,datos!$J$4,(IF('Datos Iniciales'!E14=datos!$I$5,datos!$J$5,(IF('Datos Iniciales'!E14=datos!$I$6,datos!$J$6,(IF('Datos Iniciales'!E14=datos!$I$7,datos!$J$7,(IF('Datos Iniciales'!E14=datos!$I$2,datos!$J$2,(IF('Datos Iniciales'!E14=datos!$I$8,datos!$J$8,(IF('Datos Iniciales'!E14=datos!$I$9,datos!$J$9,(IF('Datos Iniciales'!E14=datos!$I$10,datos!$J$10,(IF('Datos Iniciales'!E14=datos!$I$11,datos!$J$11,(IF('Datos Iniciales'!E14=datos!$I$12,datos!$J$12,(IF('Datos Iniciales'!E14=datos!$I$13,datos!$J$13,(IF('Datos Iniciales'!E14=datos!$I$14,datos!$J$14,(IF('Datos Iniciales'!E14=datos!$I$15,datos!$J$15,\"\")))))))))))))))))))))))))))))","v":""},{"$f":"IF('Datos Iniciales'!F14=\"\",\"\",'Datos Iniciales'!F14)","v":""},{"$f":"IFERROR(datos!B13,\"\")","v":""},null,null,null,null,{"$f":"IF('Datos Iniciales'!H14=\"\",\"\",'Datos Iniciales'!H14)","v":""},{"$f":"IF('Datos Iniciales'!I14=\"\",\"\",datos!$K$2)","v":""},{"$f":"IFERROR(VLOOKUP('Datos Iniciales'!J14,datos!O12:P1131,2,FALSE),\"\")","v":""},null,{"$f":"IF('Datos Iniciales'!K14=\"\",\"\",(CONCATENATE(RIGHT('Datos Iniciales'!K14,1),\"-\",'Datos Iniciales'!L14,\"-\",'Datos Iniciales'!M14)))","v":""},null,null,null,{"$f":"IF('Datos Iniciales'!N14=\"\",\"\",'Datos Iniciales'!N14)","v":""},{"$f":"IF('Datos Iniciales'!O14=\"\",\"\",'Datos Iniciales'!O14)","v":""},null,null,null,null,{"$f":"IF('Datos Iniciales'!P14=\"\",\"\",'Datos Iniciales'!P14)","v":""},null,null,null,null,null,null,null,null,null,null,null,null,{"$f":"IF('Datos Iniciales'!B14=\"\",\"\",(IF('Datos Iniciales'!B14=\"Si\",\"002\",\"003\")))","v":""},null,{"$f":"IF('Datos Iniciales'!Q14=\"\",\"\",(IF('Datos Iniciales'!Q14=datos!S13,\"0\",\"2\")))","v":""},{"$f":"IF('Datos Iniciales'!B14=\"\",\"\",(IF('Datos Iniciales'!B14=\"Si\",\"O-48\",\"O-49\")))","v":""}]
[{"$f":"IF('Datos Iniciales'!B15=\"\",\"\",\"Si\")","v":""},{"$f":"(IF('Datos Iniciales'!A15=\"Cliente\",\"Si\",(IF('Datos Iniciales'!A15=\"\",\"\",\"No\"))))","v":""},{"$f":"(IF('Datos Iniciales'!A15=\"Distribuidor\",\"Si\",(IF('Datos Iniciales'!A15=\"\",\"\",\"No\"))))","v":""},{"$f":"(IF('Datos Iniciales'!A15=\"Otros\",\"Si\",(IF('Datos Iniciales'!A15=\"\",\"\",\"No\"))))","v":""},{"$f":"(IF('Datos Iniciales'!A15=\"Prospecto\",\"Si\",(IF('Datos Iniciales'!A15=\"\",\"\",\"No\"))))","v":""},{"$f":"(IF('Datos Iniciales'!A15=\"Proveedor\",\"Si\",(IF('Datos Iniciales'!A15=\"\",\"\",\"No\"))))","v":""},{"$f":"IF('Datos Iniciales'!B15=\"\",\"\",'Datos Iniciales'!B15)","v":""},{"$f":"IF('Datos Iniciales'!C15=\"\",\"\",'Datos Iniciales'!C15)","v":""},{"$f":"IF('Datos Iniciales'!D15=\"\",\"\",'Datos Iniciales'!D15)","v":""},{"$f":"IF('Datos Iniciales'!E15=datos!$I$2,datos!$J$2,(IF('Datos Iniciales'!E15=datos!$I$3,datos!$J$3,(IF('Datos Iniciales'!E15=datos!$I$4,datos!$J$4,(IF('Datos Iniciales'!E15=datos!$I$5,datos!$J$5,(IF('Datos Iniciales'!E15=datos!$I$6,datos!$J$6,(IF('Datos Iniciales'!E15=datos!$I$7,datos!$J$7,(IF('Datos Iniciales'!E15=datos!$I$2,datos!$J$2,(IF('Datos Iniciales'!E15=datos!$I$8,datos!$J$8,(IF('Datos Iniciales'!E15=datos!$I$9,datos!$J$9,(IF('Datos Iniciales'!E15=datos!$I$10,datos!$J$10,(IF('Datos Iniciales'!E15=datos!$I$11,datos!$J$11,(IF('Datos Iniciales'!E15=datos!$I$12,datos!$J$12,(IF('Datos Iniciales'!E15=datos!$I$13,datos!$J$13,(IF('Datos Iniciales'!E15=datos!$I$14,datos!$J$14,(IF('Datos Iniciales'!E15=datos!$I$15,datos!$J$15,\"\")))))))))))))))))))))))))))))","v":""},{"$f":"IF('Datos Iniciales'!F15=\"\",\"\",'Datos Iniciales'!F15)","v":""},{"$f":"IFERROR(datos!B14,\"\")","v":""},null,null,null,null,{"$f":"IF('Datos Iniciales'!H15=\"\",\"\",'Datos Iniciales'!H15)","v":""},{"$f":"IF('Datos Iniciales'!I15=\"\",\"\",datos!$K$2)","v":""},{"$f":"IFERROR(VLOOKUP('Datos Iniciales'!J15,datos!O13:P1132,2,FALSE),\"\")","v":""},null,{"$f":"IF('Datos Iniciales'!K15=\"\",\"\",(CONCATENATE(RIGHT('Datos Iniciales'!K15,1),\"-\",'Datos Iniciales'!L15,\"-\",'Datos Iniciales'!M15)))","v":""},null,null,null,{"$f":"IF('Datos Iniciales'!N15=\"\",\"\",'Datos Iniciales'!N15)","v":""},{"$f":"IF('Datos Iniciales'!O15=\"\",\"\",'Datos Iniciales'!O15)","v":""},null,null,null,null,{"$f":"IF('Datos Iniciales'!P15=\"\",\"\",'Datos Iniciales'!P15)","v":""},null,null,null,null,null,null,null,null,null,null,null,null,{"$f":"IF('Datos Iniciales'!B15=\"\",\"\",(IF('Datos Iniciales'!B15=\"Si\",\"002\",\"003\")))","v":""},null,{"$f":"IF('Datos Iniciales'!Q15=\"\",\"\",(IF('Datos Iniciales'!Q15=datos!S14,\"0\",\"2\")))","v":""},{"$f":"IF('Datos Iniciales'!B15=\"\",\"\",(IF('Datos Iniciales'!B15=\"Si\",\"O-48\",\"O-49\")))","v":""}]
[{"$f":"IF('Datos Iniciales'!B16=\"\",\"\",\"Si\")","v":""},{"$f":"(IF('Datos Iniciales'!A16=\"Cliente\",\"Si\",(IF('Datos Iniciales'!A16=\"\",\"\",\"No\"))))","v":""},{"$f":"(IF('Datos Iniciales'!A16=\"Distribuidor\",\"Si\",(IF('Datos Iniciales'!A16=\"\",\"\",\"No\"))))","v":""},{"$f":"(IF('Datos Iniciales'!A16=\"Otros\",\"Si\",(IF('Datos Iniciales'!A16=\"\",\"\",\"No\"))))","v":""},{"$f":"(IF('Datos Iniciales'!A16=\"Prospecto\",\"Si\",(IF('Datos Iniciales'!A16=\"\",\"\",\"No\"))))","v":""},{"$f":"(IF('Datos Iniciales'!A16=\"Proveedor\",\"Si\",(IF('Datos Iniciales'!A16=\"\",\"\",\"No\"))))","v":""},{"$f":"IF('Datos Iniciales'!B16=\"\",\"\",'Datos Iniciales'!B16)","v":""},{"$f":"IF('Datos Iniciales'!C16=\"\",\"\",'Datos Iniciales'!C16)","v":""},{"$f":"IF('Datos Iniciales'!D16=\"\",\"\",'Datos Iniciales'!D16)","v":""},{"$f":"IF('Datos Iniciales'!E16=datos!$I$2,datos!$J$2,(IF('Datos Iniciales'!E16=datos!$I$3,datos!$J$3,(IF('Datos Iniciales'!E16=datos!$I$4,datos!$J$4,(IF('Datos Iniciales'!E16=datos!$I$5,datos!$J$5,(IF('Datos Iniciales'!E16=datos!$I$6,datos!$J$6,(IF('Datos Iniciales'!E16=datos!$I$7,datos!$J$7,(IF('Datos Iniciales'!E16=datos!$I$2,datos!$J$2,(IF('Datos Iniciales'!E16=datos!$I$8,datos!$J$8,(IF('Datos Iniciales'!E16=datos!$I$9,datos!$J$9,(IF('Datos Iniciales'!E16=datos!$I$10,datos!$J$10,(IF('Datos Iniciales'!E16=datos!$I$11,datos!$J$11,(IF('Datos Iniciales'!E16=datos!$I$12,datos!$J$12,(IF('Datos Iniciales'!E16=datos!$I$13,datos!$J$13,(IF('Datos Iniciales'!E16=datos!$I$14,datos!$J$14,(IF('Datos Iniciales'!E16=datos!$I$15,datos!$J$15,\"\")))))))))))))))))))))))))))))","v":""},{"$f":"IF('Datos Iniciales'!F16=\"\",\"\",'Datos Iniciales'!F16)","v":""},{"$f":"IFERROR(datos!B15,\"\")","v":""},null,null,null,null,{"$f":"IF('Datos Iniciales'!H16=\"\",\"\",'Datos Iniciales'!H16)","v":""},{"$f":"IF('Datos Iniciales'!I16=\"\",\"\",datos!$K$2)","v":""},{"$f":"IFERROR(VLOOKUP('Datos Iniciales'!J16,datos!O14:P1133,2,FALSE),\"\")","v":""},null,{"$f":"IF('Datos Iniciales'!K16=\"\",\"\",(CONCATENATE(RIGHT('Datos Iniciales'!K16,1),\"-\",'Datos Iniciales'!L16,\"-\",'Datos Iniciales'!M16)))","v":""},null,null,null,{"$f":"IF('Datos Iniciales'!N16=\"\",\"\",'Datos Iniciales'!N16)","v":""},{"$f":"IF('Datos Iniciales'!O16=\"\",\"\",'Datos Iniciales'!O16)","v":""},null,null,null,null,{"$f":"IF('Datos Iniciales'!P16=\"\",\"\",'Datos Iniciales'!P16)","v":""},null,null,null,null,null,null,null,null,null,null,null,null,{"$f":"IF('Datos Iniciales'!B16=\"\",\"\",(IF('Datos Iniciales'!B16=\"Si\",\"002\",\"003\")))","v":""},null,{"$f":"IF('Datos Iniciales'!Q16=\"\",\"\",(IF('Datos Iniciales'!Q16=datos!S15,\"0\",\"2\")))","v":""},{"$f":"IF('Datos Iniciales'!B16=\"\",\"\",(IF('Datos Iniciales'!B16=\"Si\",\"O-48\",\"O-49\")))","v":""}]
[{"$f":"IF('Datos Iniciales'!B17=\"\",\"\",\"Si\")","v":""},{"$f":"(IF('Datos Iniciales'!A17=\"Cliente\",\"Si\",(IF('Datos Iniciales'!A17=\"\",\"\",\"No\"))))","v":""},{"$f":"(IF('Datos Iniciales'!A17=\"Distribuidor\",\"Si\",(IF('Datos Iniciales'!A17=\"\",\"\",\"No\"))))","v":""},{"$f":"(IF('Datos Iniciales'!A17=\"Otros\",\"Si\",(IF('Datos Iniciales'!A17=\"\",\"\",\"No\"))))","v":""},{"$f":"(IF('Datos Iniciales'!A17=\"Prospecto\",\"Si\",(IF('Datos Iniciales'!A17=\"\",\"\",\"No\"))))","v":""},{"$f":"(IF('Datos Iniciales'!A17=\"Proveedor\",\"Si\",(IF('Datos Iniciales'!A17=\"\",\"\",\"No\"))))","v":""},{"$f":"IF('Datos Iniciales'!B17=\"\",\"\",'Datos Iniciales'!B17)","v":""},{"$f":"IF('Datos Iniciales'!C17=\"\",\"\",'Datos Iniciales'!C17)","v":""},{"$f":"IF('Datos Iniciales'!D17=\"\",\"\",'Datos Iniciales'!D17)","v":""},{"$f":"IF('Datos Iniciales'!E17=datos!$I$2,datos!$J$2,(IF('Datos Iniciales'!E17=datos!$I$3,datos!$J$3,(IF('Datos Iniciales'!E17=datos!$I$4,datos!$J$4,(IF('Datos Iniciales'!E17=datos!$I$5,datos!$J$5,(IF('Datos Iniciales'!E17=datos!$I$6,datos!$J$6,(IF('Datos Iniciales'!E17=datos!$I$7,datos!$J$7,(IF('Datos Iniciales'!E17=datos!$I$2,datos!$J$2,(IF('Datos Iniciales'!E17=datos!$I$8,datos!$J$8,(IF('Datos Iniciales'!E17=datos!$I$9,datos!$J$9,(IF('Datos Iniciales'!E17=datos!$I$10,datos!$J$10,(IF('Datos Iniciales'!E17=datos!$I$11,datos!$J$11,(IF('Datos Iniciales'!E17=datos!$I$12,datos!$J$12,(IF('Datos Iniciales'!E17=datos!$I$13,datos!$J$13,(IF('Datos Iniciales'!E17=datos!$I$14,datos!$J$14,(IF('Datos Iniciales'!E17=datos!$I$15,datos!$J$15,\"\")))))))))))))))))))))))))))))","v":""},{"$f":"IF('Datos Iniciales'!F17=\"\",\"\",'Datos Iniciales'!F17)","v":""},{"$f":"IFERROR(datos!B16,\"\")","v":""},null,null,null,null,{"$f":"IF('Datos Iniciales'!H17=\"\",\"\",'Datos Iniciales'!H17)","v":""},{"$f":"IF('Datos Iniciales'!I17=\"\",\"\",datos!$K$2)","v":""},{"$f":"IFERROR(VLOOKUP('Datos Iniciales'!J17,datos!O15:P1134,2,FALSE),\"\")","v":""},null,{"$f":"IF('Datos Iniciales'!K17=\"\",\"\",(CONCATENATE(RIGHT('Datos Iniciales'!K17,1),\"-\",'Datos Iniciales'!L17,\"-\",'Datos Iniciales'!M17)))","v":""},null,null,null,{"$f":"IF('Datos Iniciales'!N17=\"\",\"\",'Datos Iniciales'!N17)","v":""},{"$f":"IF('Datos Iniciales'!O17=\"\",\"\",'Datos Iniciales'!O17)","v":""},null,null,null,null,{"$f":"IF('Datos Iniciales'!P17=\"\",\"\",'Datos Iniciales'!P17)","v":""},null,null,null,null,null,null,null,null,null,null,null,null,{"$f":"IF('Datos Iniciales'!B17=\"\",\"\",(IF('Datos Iniciales'!B17=\"Si\",\"002\",\"003\")))","v":""},null,{"$f":"IF('Datos Iniciales'!Q17=\"\",\"\",(IF('Datos Iniciales'!Q17=datos!S16,\"0\",\"2\")))","v":""},{"$f":"IF('Datos Iniciales'!B17=\"\",\"\",(IF('Datos Iniciales'!B17=\"Si\",\"O-48\",\"O-49\")))","v":""}]
[{"$f":"IF('Datos Iniciales'!B18=\"\",\"\",\"Si\")","v":""},{"$f":"(IF('Datos Iniciales'!A18=\"Cliente\",\"Si\",(IF('Datos Iniciales'!A18=\"\",\"\",\"No\"))))","v":""},{"$f":"(IF('Datos Iniciales'!A18=\"Distribuidor\",\"Si\",(IF('Datos Iniciales'!A18=\"\",\"\",\"No\"))))","v":""},{"$f":"(IF('Datos Iniciales'!A18=\"Otros\",\"Si\",(IF('Datos Iniciales'!A18=\"\",\"\",\"No\"))))","v":""},{"$f":"(IF('Datos Iniciales'!A18=\"Prospecto\",\"Si\",(IF('Datos Iniciales'!A18=\"\",\"\",\"No\"))))","v":""},{"$f":"(IF('Datos Iniciales'!A18=\"Proveedor\",\"Si\",(IF('Datos Iniciales'!A18=\"\",\"\",\"No\"))))","v":""},{"$f":"IF('Datos Iniciales'!B18=\"\",\"\",'Datos Iniciales'!B18)","v":""},{"$f":"IF('Datos Iniciales'!C18=\"\",\"\",'Datos Iniciales'!C18)","v":""},{"$f":"IF('Datos Iniciales'!D18=\"\",\"\",'Datos Iniciales'!D18)","v":""},{"$f":"IF('Datos Iniciales'!E18=datos!$I$2,datos!$J$2,(IF('Datos Iniciales'!E18=datos!$I$3,datos!$J$3,(IF('Datos Iniciales'!E18=datos!$I$4,datos!$J$4,(IF('Datos Iniciales'!E18=datos!$I$5,datos!$J$5,(IF('Datos Iniciales'!E18=datos!$I$6,datos!$J$6,(IF('Datos Iniciales'!E18=datos!$I$7,datos!$J$7,(IF('Datos Iniciales'!E18=datos!$I$2,datos!$J$2,(IF('Datos Iniciales'!E18=datos!$I$8,datos!$J$8,(IF('Datos Iniciales'!E18=datos!$I$9,datos!$J$9,(IF('Datos Iniciales'!E18=datos!$I$10,datos!$J$10,(IF('Datos Iniciales'!E18=datos!$I$11,datos!$J$11,(IF('Datos Iniciales'!E18=datos!$I$12,datos!$J$12,(IF('Datos Iniciales'!E18=datos!$I$13,datos!$J$13,(IF('Datos Iniciales'!E18=datos!$I$14,datos!$J$14,(IF('Datos Iniciales'!E18=datos!$I$15,datos!$J$15,\"\")))))))))))))))))))))))))))))","v":""},{"$f":"IF('Datos Iniciales'!F18=\"\",\"\",'Datos Iniciales'!F18)","v":""},{"$f":"IFERROR(datos!B17,\"\")","v":""},null,null,null,null,{"$f":"IF('Datos Iniciales'!H18=\"\",\"\",'Datos Iniciales'!H18)","v":""},{"$f":"IF('Datos Iniciales'!I18=\"\",\"\",datos!$K$2)","v":""},{"$f":"IFERROR(VLOOKUP('Datos Iniciales'!J18,datos!O16:P1135,2,FALSE),\"\")","v":""},null,{"$f":"IF('Datos Iniciales'!K18=\"\",\"\",(CONCATENATE(RIGHT('Datos Iniciales'!K18,1),\"-\",'Datos Iniciales'!L18,\"-\",'Datos Iniciales'!M18)))","v":""},null,null,null,{"$f":"IF('Datos Iniciales'!N18=\"\",\"\",'Datos Iniciales'!N18)","v":""},{"$f":"IF('Datos Iniciales'!O18=\"\",\"\",'Datos Iniciales'!O18)","v":""},null,null,null,null,{"$f":"IF('Datos Iniciales'!P18=\"\",\"\",'Datos Iniciales'!P18)","v":""},null,null,null,null,null,null,null,null,null,null,null,null,{"$f":"IF('Datos Iniciales'!B18=\"\",\"\",(IF('Datos Iniciales'!B18=\"Si\",\"002\",\"003\")))","v":""},null,{"$f":"IF('Datos Iniciales'!Q18=\"\",\"\",(IF('Datos Iniciales'!Q18=datos!S17,\"0\",\"2\")))","v":""},{"$f":"IF('Datos Iniciales'!B18=\"\",\"\",(IF('Datos Iniciales'!B18=\"Si\",\"O-48\",\"O-49\")))","v":""}]
[{"$f":"IF('Datos Iniciales'!B19=\"\",\"\",\"Si\")","v":""},{"$f":"(IF('Datos Iniciales'!A19=\"Cliente\",\"Si\",(IF('Datos Iniciales'!A19=\"\",\"\",\"No\"))))","v":""},{"$f":"(IF('Datos Iniciales'!A19=\"Distribuidor\",\"Si\",(IF('Datos Iniciales'!A19=\"\",\"\",\"No\"))))","v":""},{"$f":"(IF('Datos Iniciales'!A19=\"Otros\",\"Si\",(IF('Datos Iniciales'!A19=\"\",\"\",\"No\"))))","v":""},{"$f":"(IF('Datos Iniciales'!A19=\"Prospecto\",\"Si\",(IF('Datos Iniciales'!A19=\"\",\"\",\"No\"))))","v":""},{"$f":"(IF('Datos Iniciales'!A19=\"Proveedor\",\"Si\",(IF('Datos Iniciales'!A19=\"\",\"\",\"No\"))))","v":""},{"$f":"IF('Datos Iniciales'!B19=\"\",\"\",'Datos Iniciales'!B19)","v":""},{"$f":"IF('Datos Iniciales'!C19=\"\",\"\",'Datos Iniciales'!C19)","v":""},{"$f":"IF('Datos Iniciales'!D19=\"\",\"\",'Datos Iniciales'!D19)","v":""},{"$f":"IF('Datos Iniciales'!E19=datos!$I$2,datos!$J$2,(IF('Datos Iniciales'!E19=datos!$I$3,datos!$J$3,(IF('Datos Iniciales'!E19=datos!$I$4,datos!$J$4,(IF('Datos Iniciales'!E19=datos!$I$5,datos!$J$5,(IF('Datos Iniciales'!E19=datos!$I$6,datos!$J$6,(IF('Datos Iniciales'!E19=datos!$I$7,datos!$J$7,(IF('Datos Iniciales'!E19=datos!$I$2,datos!$J$2,(IF('Datos Iniciales'!E19=datos!$I$8,datos!$J$8,(IF('Datos Iniciales'!E19=datos!$I$9,datos!$J$9,(IF('Datos Iniciales'!E19=datos!$I$10,datos!$J$10,(IF('Datos Iniciales'!E19=datos!$I$11,datos!$J$11,(IF('Datos Iniciales'!E19=datos!$I$12,datos!$J$12,(IF('Datos Iniciales'!E19=datos!$I$13,datos!$J$13,(IF('Datos Iniciales'!E19=datos!$I$14,datos!$J$14,(IF('Datos Iniciales'!E19=datos!$I$15,datos!$J$15,\"\")))))))))))))))))))))))))))))","v":""},{"$f":"IF('Datos Iniciales'!F19=\"\",\"\",'Datos Iniciales'!F19)","v":""},{"$f":"IFERROR(datos!B18,\"\")","v":""},null,null,null,null,{"$f":"IF('Datos Iniciales'!H19=\"\",\"\",'Datos Iniciales'!H19)","v":""},{"$f":"IF('Datos Iniciales'!I19=\"\",\"\",datos!$K$2)","v":""},{"$f":"IFERROR(VLOOKUP('Datos Iniciales'!J19,datos!O17:P1136,2,FALSE),\"\")","v":""},null,{"$f":"IF('Datos Iniciales'!K19=\"\",\"\",(CONCATENATE(RIGHT('Datos Iniciales'!K19,1),\"-\",'Datos Iniciales'!L19,\"-\",'Datos Iniciales'!M19)))","v":""},null,null,null,{"$f":"IF('Datos Iniciales'!N19=\"\",\"\",'Datos Iniciales'!N19)","v":""},{"$f":"IF('Datos Iniciales'!O19=\"\",\"\",'Datos Iniciales'!O19)","v":""},null,null,null,null,{"$f":"IF('Datos Iniciales'!P19=\"\",\"\",'Datos Iniciales'!P19)","v":""},null,null,null,null,null,null,null,null,null,null,null,null,{"$f":"IF('Datos Iniciales'!B19=\"\",\"\",(IF('Datos Iniciales'!B19=\"Si\",\"002\",\"003\")))","v":""},null,{"$f":"IF('Datos Iniciales'!Q19=\"\",\"\",(IF('Datos Iniciales'!Q19=datos!S18,\"0\",\"2\")))","v":""},{"$f":"IF('Datos Iniciales'!B19=\"\",\"\",(IF('Datos Iniciales'!B19=\"Si\",\"O-48\",\"O-49\")))","v":""}]
[{"$f":"IF('Datos Iniciales'!B20=\"\",\"\",\"Si\")","v":""},{"$f":"(IF('Datos Iniciales'!A20=\"Cliente\",\"Si\",(IF('Datos Iniciales'!A20=\"\",\"\",\"No\"))))","v":""},{"$f":"(IF('Datos Iniciales'!A20=\"Distribuidor\",\"Si\",(IF('Datos Iniciales'!A20=\"\",\"\",\"No\"))))","v":""},{"$f":"(IF('Datos Iniciales'!A20=\"Otros\",\"Si\",(IF('Datos Iniciales'!A20=\"\",\"\",\"No\"))))","v":""},{"$f":"(IF('Datos Iniciales'!A20=\"Prospecto\",\"Si\",(IF('Datos Iniciales'!A20=\"\",\"\",\"No\"))))","v":""},{"$f":"(IF('Datos Iniciales'!A20=\"Proveedor\",\"Si\",(IF('Datos Iniciales'!A20=\"\",\"\",\"No\"))))","v":""},{"$f":"IF('Datos Iniciales'!B20=\"\",\"\",'Datos Iniciales'!B20)","v":""},{"$f":"IF('Datos Iniciales'!C20=\"\",\"\",'Datos Iniciales'!C20)","v":""},{"$f":"IF('Datos Iniciales'!D20=\"\",\"\",'Datos Iniciales'!D20)","v":""},{"$f":"IF('Datos Iniciales'!E20=datos!$I$2,datos!$J$2,(IF('Datos Iniciales'!E20=datos!$I$3,datos!$J$3,(IF('Datos Iniciales'!E20=datos!$I$4,datos!$J$4,(IF('Datos Iniciales'!E20=datos!$I$5,datos!$J$5,(IF('Datos Iniciales'!E20=datos!$I$6,datos!$J$6,(IF('Datos Iniciales'!E20=datos!$I$7,datos!$J$7,(IF('Datos Iniciales'!E20=datos!$I$2,datos!$J$2,(IF('Datos Iniciales'!E20=datos!$I$8,datos!$J$8,(IF('Datos Iniciales'!E20=datos!$I$9,datos!$J$9,(IF('Datos Iniciales'!E20=datos!$I$10,datos!$J$10,(IF('Datos Iniciales'!E20=datos!$I$11,datos!$J$11,(IF('Datos Iniciales'!E20=datos!$I$12,datos!$J$12,(IF('Datos Iniciales'!E20=datos!$I$13,datos!$J$13,(IF('Datos Iniciales'!E20=datos!$I$14,datos!$J$14,(IF('Datos Iniciales'!E20=datos!$I$15,datos!$J$15,\"\")))))))))))))))))))))))))))))","v":""},{"$f":"IF('Datos Iniciales'!F20=\"\",\"\",'Datos Iniciales'!F20)","v":""},{"$f":"IFERROR(datos!B19,\"\")","v":""},null,null,null,null,{"$f":"IF('Datos Iniciales'!H20=\"\",\"\",'Datos Iniciales'!H20)","v":""},{"$f":"IF('Datos Iniciales'!I20=\"\",\"\",datos!$K$2)","v":""},{"$f":"IFERROR(VLOOKUP('Datos Iniciales'!J20,datos!O18:P1137,2,FALSE),\"\")","v":""},null,{"$f":"IF('Datos Iniciales'!K20=\"\",\"\",(CONCATENATE(RIGHT('Datos Iniciales'!K20,1),\"-\",'Datos Iniciales'!L20,\"-\",'Datos Iniciales'!M20)))","v":""},null,null,null,{"$f":"IF('Datos Iniciales'!N20=\"\",\"\",'Datos Iniciales'!N20)","v":""},{"$f":"IF('Datos Iniciales'!O20=\"\",\"\",'Datos Iniciales'!O20)","v":""},null,null,null,null,{"$f":"IF('Datos Iniciales'!P20=\"\",\"\",'Datos Iniciales'!P20)","v":""},null,null,null,null,null,null,null,null,null,null,null,null,{"$f":"IF('Datos Iniciales'!B20=\"\",\"\",(IF('Datos Iniciales'!B20=\"Si\",\"002\",\"003\")))","v":""},null,{"$f":"IF('Datos Iniciales'!Q20=\"\",\"\",(IF('Datos Iniciales'!Q20=datos!S19,\"0\",\"2\")))","v":""},{"$f":"IF('Datos Iniciales'!B20=\"\",\"\",(IF('Datos Iniciales'!B20=\"Si\",\"O-48\",\"O-49\")))","v":""}]
[{"$f":"IF('Datos Iniciales'!B21=\"\",\"\",\"Si\")","v":""},{"$f":"(IF('Datos Iniciales'!A21=\"Cliente\",\"Si\",(IF('Datos Iniciales'!A21=\"\",\"\",\"No\"))))","v":""},{"$f":"(IF('Datos Iniciales'!A21=\"Distribuidor\",\"Si\",(IF('Datos Iniciales'!A21=\"\",\"\",\"No\"))))","v":""},{"$f":"(IF('Datos Iniciales'!A21=\"Otros\",\"Si\",(IF('Datos Iniciales'!A21=\"\",\"\",\"No\"))))","v":""},{"$f":"(IF('Datos Iniciales'!A21=\"Prospecto\",\"Si\",(IF('Datos Iniciales'!A21=\"\",\"\",\"No\"))))","v":""},{"$f":"(IF('Datos Iniciales'!A21=\"Proveedor\",\"Si\",(IF('Datos Iniciales'!A21=\"\",\"\",\"No\"))))","v":""},{"$f":"IF('Datos Iniciales'!B21=\"\",\"\",'Datos Iniciales'!B21)","v":""},{"$f":"IF('Datos Iniciales'!C21=\"\",\"\",'Datos Iniciales'!C21)","v":""},{"$f":"IF('Datos Iniciales'!D21=\"\",\"\",'Datos Iniciales'!D21)","v":""},{"$f":"IF('Datos Iniciales'!E21=datos!$I$2,datos!$J$2,(IF('Datos Iniciales'!E21=datos!$I$3,datos!$J$3,(IF('Datos Iniciales'!E21=datos!$I$4,datos!$J$4,(IF('Datos Iniciales'!E21=datos!$I$5,datos!$J$5,(IF('Datos Iniciales'!E21=datos!$I$6,datos!$J$6,(IF('Datos Iniciales'!E21=datos!$I$7,datos!$J$7,(IF('Datos Iniciales'!E21=datos!$I$2,datos!$J$2,(IF('Datos Iniciales'!E21=datos!$I$8,datos!$J$8,(IF('Datos Iniciales'!E21=datos!$I$9,datos!$J$9,(IF('Datos Iniciales'!E21=datos!$I$10,datos!$J$10,(IF('Datos Iniciales'!E21=datos!$I$11,datos!$J$11,(IF('Datos Iniciales'!E21=datos!$I$12,datos!$J$12,(IF('Datos Iniciales'!E21=datos!$I$13,datos!$J$13,(IF('Datos Iniciales'!E21=datos!$I$14,datos!$J$14,(IF('Datos Iniciales'!E21=datos!$I$15,datos!$J$15,\"\")))))))))))))))))))))))))))))","v":""},{"$f":"IF('Datos Iniciales'!F21=\"\",\"\",'Datos Iniciales'!F21)","v":""},{"$f":"IFERROR(datos!B20,\"\")","v":""},null,null,null,null,{"$f":"IF('Datos Iniciales'!H21=\"\",\"\",'Datos Iniciales'!H21)","v":""},{"$f":"IF('Datos Iniciales'!I21=\"\",\"\",datos!$K$2)","v":""},{"$f":"IFERROR(VLOOKUP('Datos Iniciales'!J21,datos!O19:P1138,2,FALSE),\"\")","v":""},null,{"$f":"IF('Datos Iniciales'!K21=\"\",\"\",(CONCATENATE(RIGHT('Datos Iniciales'!K21,1),\"-\",'Datos Iniciales'!L21,\"-\",'Datos Iniciales'!M21)))","v":""},null,null,null,{"$f":"IF('Datos Iniciales'!N21=\"\",\"\",'Datos Iniciales'!N21)","v":""},{"$f":"IF('Datos Iniciales'!O21=\"\",\"\",'Datos Iniciales'!O21)","v":""},null,null,null,null,{"$f":"IF('Datos Iniciales'!P21=\"\",\"\",'Datos Iniciales'!P21)","v":""},null,null,null,null,null,null,null,null,null,null,null,null,{"$f":"IF('Datos Iniciales'!B21=\"\",\"\",(IF('Datos Iniciales'!B21=\"Si\",\"002\",\"003\")))","v":""},null,{"$f":"IF('Datos Iniciales'!Q21=\"\",\"\",(IF('Datos Iniciales'!Q21=datos!S20,\"0\",\"2\")))","v":""},{"$f":"IF('Datos Iniciales'!B21=\"\",\"\",(IF('Datos Iniciales'!B21=\"Si\",\"O-48\",\"O-49\")))","v":""}]
[{"$f":"IF('Datos Iniciales'!B22=\"\",\"\",\"Si\")","v":""},{"$f":"(IF('Datos Iniciales'!A22=\"Cliente\",\"Si\",(IF('Datos Iniciales'!A22=\"\",\"\",\"No\"))))","v":""},{"$f":"(IF('Datos Iniciales'!A22=\"Distribuidor\",\"Si\",(IF('Datos Iniciales'!A22=\"\",\"\",\"No\"))))","v":""},{"$f":"(IF('Datos Iniciales'!A22=\"Otros\",\"Si\",(IF('Datos Iniciales'!A22=\"\",\"\",\"No\"))))","v":""},{"$f":"(IF('Datos Iniciales'!A22=\"Prospecto\",\"Si\",(IF('Datos Iniciales'!A22=\"\",\"\",\"No\"))))","v":""},{"$f":"(IF('Datos Iniciales'!A22=\"Proveedor\",\"Si\",(IF('Datos Iniciales'!A22=\"\",\"\",\"No\"))))","v":""},{"$f":"IF('Datos Iniciales'!B22=\"\",\"\",'Datos Iniciales'!B22)","v":""},{"$f":"IF('Datos Iniciales'!C22=\"\",\"\",'Datos Iniciales'!C22)","v":""},{"$f":"IF('Datos Iniciales'!D22=\"\",\"\",'Datos Iniciales'!D22)","v":""},{"$f":"IF('Datos Iniciales'!E22=datos!$I$2,datos!$J$2,(IF('Datos Iniciales'!E22=datos!$I$3,datos!$J$3,(IF('Datos Iniciales'!E22=datos!$I$4,datos!$J$4,(IF('Datos Iniciales'!E22=datos!$I$5,datos!$J$5,(IF('Datos Iniciales'!E22=datos!$I$6,datos!$J$6,(IF('Datos Iniciales'!E22=datos!$I$7,datos!$J$7,(IF('Datos Iniciales'!E22=datos!$I$2,datos!$J$2,(IF('Datos Iniciales'!E22=datos!$I$8,datos!$J$8,(IF('Datos Iniciales'!E22=datos!$I$9,datos!$J$9,(IF('Datos Iniciales'!E22=datos!$I$10,datos!$J$10,(IF('Datos Iniciales'!E22=datos!$I$11,datos!$J$11,(IF('Datos Iniciales'!E22=datos!$I$12,datos!$J$12,(IF('Datos Iniciales'!E22=datos!$I$13,datos!$J$13,(IF('Datos Iniciales'!E22=datos!$I$14,datos!$J$14,(IF('Datos Iniciales'!E22=datos!$I$15,datos!$J$15,\"\")))))))))))))))))))))))))))))","v":""},{"$f":"IF('Datos Iniciales'!F22=\"\",\"\",'Datos Iniciales'!F22)","v":""},{"$f":"IFERROR(datos!B21,\"\")","v":""},null,null,null,null,{"$f":"IF('Datos Iniciales'!H22=\"\",\"\",'Datos Iniciales'!H22)","v":""},{"$f":"IF('Datos Iniciales'!I22=\"\",\"\",datos!$K$2)","v":""},{"$f":"IFERROR(VLOOKUP('Datos Iniciales'!J22,datos!O20:P1139,2,FALSE),\"\")","v":""},null,{"$f":"IF('Datos Iniciales'!K22=\"\",\"\",(CONCATENATE(RIGHT('Datos Iniciales'!K22,1),\"-\",'Datos Iniciales'!L22,\"-\",'Datos Iniciales'!M22)))","v":""},null,null,null,{"$f":"IF('Datos Iniciales'!N22=\"\",\"\",'Datos Iniciales'!N22)","v":""},{"$f":"IF('Datos Iniciales'!O22=\"\",\"\",'Datos Iniciales'!O22)","v":""},null,null,null,null,{"$f":"IF('Datos Iniciales'!P22=\"\",\"\",'Datos Iniciales'!P22)","v":""},null,null,null,null,null,null,null,null,null,null,null,null,{"$f":"IF('Datos Iniciales'!B22=\"\",\"\",(IF('Datos Iniciales'!B22=\"Si\",\"002\",\"003\")))","v":""},null,{"$f":"IF('Datos Iniciales'!Q22=\"\",\"\",(IF('Datos Iniciales'!Q22=datos!S21,\"0\",\"2\")))","v":""},{"$f":"IF('Datos Iniciales'!B22=\"\",\"\",(IF('Datos Iniciales'!B22=\"Si\",\"O-48\",\"O-49\")))","v":""}]
[{"$f":"IF('Datos Iniciales'!B23=\"\",\"\",\"Si\")","v":""},{"$f":"(IF('Datos Iniciales'!A23=\"Cliente\",\"Si\",(IF('Datos Iniciales'!A23=\"\",\"\",\"No\"))))","v":""},{"$f":"(IF('Datos Iniciales'!A23=\"Distribuidor\",\"Si\",(IF('Datos Iniciales'!A23=\"\",\"\",\"No\"))))","v":""},{"$f":"(IF('Datos Iniciales'!A23=\"Otros\",\"Si\",(IF('Datos Iniciales'!A23=\"\",\"\",\"No\"))))","v":""},{"$f":"(IF('Datos Iniciales'!A23=\"Prospecto\",\"Si\",(IF('Datos Iniciales'!A23=\"\",\"\",\"No\"))))","v":""},{"$f":"(IF('Datos Iniciales'!A23=\"Proveedor\",\"Si\",(IF('Datos Iniciales'!A23=\"\",\"\",\"No\"))))","v":""},{"$f":"IF('Datos Iniciales'!B23=\"\",\"\",'Datos Iniciales'!B23)","v":""},{"$f":"IF('Datos Iniciales'!C23=\"\",\"\",'Datos Iniciales'!C23)","v":""},{"$f":"IF('Datos Iniciales'!D23=\"\",\"\",'Datos Iniciales'!D23)","v":""},{"$f":"IF('Datos Iniciales'!E23=datos!$I$2,datos!$J$2,(IF('Datos Iniciales'!E23=datos!$I$3,datos!$J$3,(IF('Datos Iniciales'!E23=datos!$I$4,datos!$J$4,(IF('Datos Iniciales'!E23=datos!$I$5,datos!$J$5,(IF('Datos Iniciales'!E23=datos!$I$6,datos!$J$6,(IF('Datos Iniciales'!E23=datos!$I$7,datos!$J$7,(IF('Datos Iniciales'!E23=datos!$I$2,datos!$J$2,(IF('Datos Iniciales'!E23=datos!$I$8,datos!$J$8,(IF('Datos Iniciales'!E23=datos!$I$9,datos!$J$9,(IF('Datos Iniciales'!E23=datos!$I$10,datos!$J$10,(IF('Datos Iniciales'!E23=datos!$I$11,datos!$J$11,(IF('Datos Iniciales'!E23=datos!$I$12,datos!$J$12,(IF('Datos Iniciales'!E23=datos!$I$13,datos!$J$13,(IF('Datos Iniciales'!E23=datos!$I$14,datos!$J$14,(IF('Datos Iniciales'!E23=datos!$I$15,datos!$J$15,\"\")))))))))))))))))))))))))))))","v":""},{"$f":"IF('Datos Iniciales'!F23=\"\",\"\",'Datos Iniciales'!F23)","v":""},{"$f":"IFERROR(datos!B22,\"\")","v":""},null,null,null,null,{"$f":"IF('Datos Iniciales'!H23=\"\",\"\",'Datos Iniciales'!H23)","v":""},{"$f":"IF('Datos Iniciales'!I23=\"\",\"\",datos!$K$2)","v":""},{"$f":"IFERROR(VLOOKUP('Datos Iniciales'!J23,datos!O21:P1140,2,FALSE),\"\")","v":""},null,{"$f":"IF('Datos Iniciales'!K23=\"\",\"\",(CONCATENATE(RIGHT('Datos Iniciales'!K23,1),\"-\",'Datos Iniciales'!L23,\"-\",'Datos Iniciales'!M23)))","v":""},null,null,null,{"$f":"IF('Datos Iniciales'!N23=\"\",\"\",'Datos Iniciales'!N23)","v":""},{"$f":"IF('Datos Iniciales'!O23=\"\",\"\",'Datos Iniciales'!O23)","v":""},null,null,null,null,{"$f":"IF('Datos Iniciales'!P23=\"\",\"\",'Datos Iniciales'!P23)","v":""},null,null,null,null,null,null,null,null,null,null,null,null,{"$f":"IF('Datos Iniciales'!B23=\"\",\"\",(IF('Datos Iniciales'!B23=\"Si\",\"002\",\"003\")))","v":""},null,{"$f":"IF('Datos Iniciales'!Q23=\"\",\"\",(IF('Datos Iniciales'!Q23=datos!S22,\"0\",\"2\")))","v":""},{"$f":"IF('Datos Iniciales'!B23=\"\",\"\",(IF('Datos Iniciales'!B23=\"Si\",\"O-48\",\"O-49\")))","v":""}]
[{"$f":"IF('Datos Iniciales'!B24=\"\",\"\",\"Si\")","v":""},{"$f":"(IF('Datos Iniciales'!A24=\"Cliente\",\"Si\",(IF('Datos Iniciales'!A24=\"\",\"\",\"No\"))))","v":""},{"$f":"(IF('Datos Iniciales'!A24=\"Distribuidor\",\"Si\",(IF('Datos Iniciales'!A24=\"\",\"\",\"No\"))))","v":""},{"$f":"(IF('Datos Iniciales'!A24=\"Otros\",\"Si\",(IF('Datos Iniciales'!A24=\"\",\"\",\"No\"))))","v":""},{"$f":"(IF('Datos Iniciales'!A24=\"Prospecto\",\"Si\",(IF('Datos Iniciales'!A24=\"\",\"\",\"No\"))))","v":""},{"$f":"(IF('Datos Iniciales'!A24=\"Proveedor\",\"Si\",(IF('Datos Iniciales'!A24=\"\",\"\",\"No\"))))","v":""},{"$f":"IF('Datos Iniciales'!B24=\"\",\"\",'Datos Iniciales'!B24)","v":""},{"$f":"IF('Datos Iniciales'!C24=\"\",\"\",'Datos Iniciales'!C24)","v":""},{"$f":"IF('Datos Iniciales'!D24=\"\",\"\",'Datos Iniciales'!D24)","v":""},{"$f":"IF('Datos Iniciales'!E24=datos!$I$2,datos!$J$2,(IF('Datos Iniciales'!E24=datos!$I$3,datos!$J$3,(IF('Datos Iniciales'!E24=datos!$I$4,datos!$J$4,(IF('Datos Iniciales'!E24=datos!$I$5,datos!$J$5,(IF('Datos Iniciales'!E24=datos!$I$6,datos!$J$6,(IF('Datos Iniciales'!E24=datos!$I$7,datos!$J$7,(IF('Datos Iniciales'!E24=datos!$I$2,datos!$J$2,(IF('Datos Iniciales'!E24=datos!$I$8,datos!$J$8,(IF('Datos Iniciales'!E24=datos!$I$9,datos!$J$9,(IF('Datos Iniciales'!E24=datos!$I$10,datos!$J$10,(IF('Datos Iniciales'!E24=datos!$I$11,datos!$J$11,(IF('Datos Iniciales'!E24=datos!$I$12,datos!$J$12,(IF('Datos Iniciales'!E24=datos!$I$13,datos!$J$13,(IF('Datos Iniciales'!E24=datos!$I$14,datos!$J$14,(IF('Datos Iniciales'!E24=datos!$I$15,datos!$J$15,\"\")))))))))))))))))))))))))))))","v":""},{"$f":"IF('Datos Iniciales'!F24=\"\",\"\",'Datos Iniciales'!F24)","v":""},{"$f":"IFERROR(datos!B23,\"\")","v":""},null,null,null,null,{"$f":"IF('Datos Iniciales'!H24=\"\",\"\",'Datos Iniciales'!H24)","v":""},{"$f":"IF('Datos Iniciales'!I24=\"\",\"\",datos!$K$2)","v":""},{"$f":"IFERROR(VLOOKUP('Datos Iniciales'!J24,datos!O22:P1141,2,FALSE),\"\")","v":""},null,{"$f":"IF('Datos Iniciales'!K24=\"\",\"\",(CONCATENATE(RIGHT('Datos Iniciales'!K24,1),\"-\",'Datos Iniciales'!L24,\"-\",'Datos Iniciales'!M24)))","v":""},null,null,null,{"$f":"IF('Datos Iniciales'!N24=\"\",\"\",'Datos Iniciales'!N24)","v":""},{"$f":"IF('Datos Iniciales'!O24=\"\",\"\",'Datos Iniciales'!O24)","v":""},null,null,null,null,{"$f":"IF('Datos Iniciales'!P24=\"\",\"\",'Datos Iniciales'!P24)","v":""},null,null,null,null,null,null,null,null,null,null,null,null,{"$f":"IF('Datos Iniciales'!B24=\"\",\"\",(IF('Datos Iniciales'!B24=\"Si\",\"002\",\"003\")))","v":""},null,{"$f":"IF('Datos Iniciales'!Q24=\"\",\"\",(IF('Datos Iniciales'!Q24=datos!S23,\"0\",\"2\")))","v":""},{"$f":"IF('Datos Iniciales'!B24=\"\",\"\",(IF('Datos Iniciales'!B24=\"Si\",\"O-48\",\"O-49\")))","v":""}]
[{"$f":"IF('Datos Iniciales'!B25=\"\",\"\",\"Si\")","v":""},{"$f":"(IF('Datos Iniciales'!A25=\"Cliente\",\"Si\",(IF('Datos Iniciales'!A25=\"\",\"\",\"No\"))))","v":""},{"$f":"(IF('Datos Iniciales'!A25=\"Distribuidor\",\"Si\",(IF('Datos Iniciales'!A25=\"\",\"\",\"No\"))))","v":""},{"$f":"(IF('Datos Iniciales'!A25=\"Otros\",\"Si\",(IF('Datos Iniciales'!A25=\"\",\"\",\"No\"))))","v":""},{"$f":"(IF('Datos Iniciales'!A25=\"Prospecto\",\"Si\",(IF('Datos Iniciales'!A25=\"\",\"\",\"No\"))))","v":""},{"$f":"(IF('Datos Iniciales'!A25=\"Proveedor\",\"Si\",(IF('Datos Iniciales'!A25=\"\",\"\",\"No\"))))","v":""},{"$f":"IF('Datos Iniciales'!B25=\"\",\"\",'Datos Iniciales'!B25)","v":""},{"$f":"IF('Datos Iniciales'!C25=\"\",\"\",'Datos Iniciales'!C25)","v":""},{"$f":"IF('Datos Iniciales'!D25=\"\",\"\",'Datos Iniciales'!D25)","v":""},{"$f":"IF('Datos Iniciales'!E25=datos!$I$2,datos!$J$2,(IF('Datos Iniciales'!E25=datos!$I$3,datos!$J$3,(IF('Datos Iniciales'!E25=datos!$I$4,datos!$J$4,(IF('Datos Iniciales'!E25=datos!$I$5,datos!$J$5,(IF('Datos Iniciales'!E25=datos!$I$6,datos!$J$6,(IF('Datos Iniciales'!E25=datos!$I$7,datos!$J$7,(IF('Datos Iniciales'!E25=datos!$I$2,datos!$J$2,(IF('Datos Iniciales'!E25=datos!$I$8,datos!$J$8,(IF('Datos Iniciales'!E25=datos!$I$9,datos!$J$9,(IF('Datos Iniciales'!E25=datos!$I$10,datos!$J$10,(IF('Datos Iniciales'!E25=datos!$I$11,datos!$J$11,(IF('Datos Iniciales'!E25=datos!$I$12,datos!$J$12,(IF('Datos Iniciales'!E25=datos!$I$13,datos!$J$13,(IF('Datos Iniciales'!E25=datos!$I$14,datos!$J$14,(IF('Datos Iniciales'!E25=datos!$I$15,datos!$J$15,\"\")))))))))))))))))))))))))))))","v":""},{"$f":"IF('Datos Iniciales'!F25=\"\",\"\",'Datos Iniciales'!F25)","v":""},{"$f":"IFERROR(datos!B24,\"\")","v":""},null,null,null,null,{"$f":"IF('Datos Iniciales'!H25=\"\",\"\",'Datos Iniciales'!H25)","v":""},{"$f":"IF('Datos Iniciales'!I25=\"\",\"\",datos!$K$2)","v":""},{"$f":"IFERROR(VLOOKUP('Datos Iniciales'!J25,datos!O23:P1142,2,FALSE),\"\")","v":""},null,{"$f":"IF('Datos Iniciales'!K25=\"\",\"\",(CONCATENATE(RIGHT('Datos Iniciales'!K25,1),\"-\",'Datos Iniciales'!L25,\"-\",'Datos Iniciales'!M25)))","v":""},null,null,null,{"$f":"IF('Datos Iniciales'!N25=\"\",\"\",'Datos Iniciales'!N25)","v":""},{"$f":"IF('Datos Iniciales'!O25=\"\",\"\",'Datos Iniciales'!O25)","v":""},null,null,null,null,{"$f":"IF('Datos Iniciales'!P25=\"\",\"\",'Datos Iniciales'!P25)","v":""},null,null,null,null,null,null,null,null,null,null,null,null,{"$f":"IF('Datos Iniciales'!B25=\"\",\"\",(IF('Datos Iniciales'!B25=\"Si\",\"002\",\"003\")))","v":""},null,{"$f":"IF('Datos Iniciales'!Q25=\"\",\"\",(IF('Datos Iniciales'!Q25=datos!S24,\"0\",\"2\")))","v":""},{"$f":"IF('Datos Iniciales'!B25=\"\",\"\",(IF('Datos Iniciales'!B25=\"Si\",\"O-48\",\"O-49\")))","v":""}]
[{"$f":"IF('Datos Iniciales'!B26=\"\",\"\",\"Si\")","v":""},{"$f":"(IF('Datos Iniciales'!A26=\"Cliente\",\"Si\",(IF('Datos Iniciales'!A26=\"\",\"\",\"No\"))))","v":""},{"$f":"(IF('Datos Iniciales'!A26=\"Distribuidor\",\"Si\",(IF('Datos Iniciales'!A26=\"\",\"\",\"No\"))))","v":""},{"$f":"(IF('Datos Iniciales'!A26=\"Otros\",\"Si\",(IF('Datos Iniciales'!A26=\"\",\"\",\"No\"))))","v":""},{"$f":"(IF('Datos Iniciales'!A26=\"Prospecto\",\"Si\",(IF('Datos Iniciales'!A26=\"\",\"\",\"No\"))))","v":""},{"$f":"(IF('Datos Iniciales'!A26=\"Proveedor\",\"Si\",(IF('Datos Iniciales'!A26=\"\",\"\",\"No\"))))","v":""},{"$f":"IF('Datos Iniciales'!B26=\"\",\"\",'Datos Iniciales'!B26)","v":""},{"$f":"IF('Datos Iniciales'!C26=\"\",\"\",'Datos Iniciales'!C26)","v":""},{"$f":"IF('Datos Iniciales'!D26=\"\",\"\",'Datos Iniciales'!D26)","v":""},{"$f":"IF('Datos Iniciales'!E26=datos!$I$2,datos!$J$2,(IF('Datos Iniciales'!E26=datos!$I$3,datos!$J$3,(IF('Datos Iniciales'!E26=datos!$I$4,datos!$J$4,(IF('Datos Iniciales'!E26=datos!$I$5,datos!$J$5,(IF('Datos Iniciales'!E26=datos!$I$6,datos!$J$6,(IF('Datos Iniciales'!E26=datos!$I$7,datos!$J$7,(IF('Datos Iniciales'!E26=datos!$I$2,datos!$J$2,(IF('Datos Iniciales'!E26=datos!$I$8,datos!$J$8,(IF('Datos Iniciales'!E26=datos!$I$9,datos!$J$9,(IF('Datos Iniciales'!E26=datos!$I$10,datos!$J$10,(IF('Datos Iniciales'!E26=datos!$I$11,datos!$J$11,(IF('Datos Iniciales'!E26=datos!$I$12,datos!$J$12,(IF('Datos Iniciales'!E26=datos!$I$13,datos!$J$13,(IF('Datos Iniciales'!E26=datos!$I$14,datos!$J$14,(IF('Datos Iniciales'!E26=datos!$I$15,datos!$J$15,\"\")))))))))))))))))))))))))))))","v":""},{"$f":"IF('Datos Iniciales'!F26=\"\",\"\",'Datos Iniciales'!F26)","v":""},{"$f":"IFERROR(datos!B25,\"\")","v":""},null,null,null,null,{"$f":"IF('Datos Iniciales'!H26=\"\",\"\",'Datos Iniciales'!H26)","v":""},{"$f":"IF('Datos Iniciales'!I26=\"\",\"\",datos!$K$2)","v":""},{"$f":"IFERROR(VLOOKUP('Datos Iniciales'!J26,datos!O24:P1143,2,FALSE),\"\")","v":""},null,{"$f":"IF('Datos Iniciales'!K26=\"\",\"\",(CONCATENATE(RIGHT('Datos Iniciales'!K26,1),\"-\",'Datos Iniciales'!L26,\"-\",'Datos Iniciales'!M26)))","v":""},null,null,null,{"$f":"IF('Datos Iniciales'!N26=\"\",\"\",'Datos Iniciales'!N26)","v":""},{"$f":"IF('Datos Iniciales'!O26=\"\",\"\",'Datos Iniciales'!O26)","v":""},null,null,null,null,{"$f":"IF('Datos Iniciales'!P26=\"\",\"\",'Datos Iniciales'!P26)","v":""},null,null,null,null,null,null,null,null,null,null,null,null,{"$f":"IF('Datos Iniciales'!B26=\"\",\"\",(IF('Datos Iniciales'!B26=\"Si\",\"002\",\"003\")))","v":""},null,{"$f":"IF('Datos Iniciales'!Q26=\"\",\"\",(IF('Datos Iniciales'!Q26=datos!S25,\"0\",\"2\")))","v":""},{"$f":"IF('Datos Iniciales'!B26=\"\",\"\",(IF('Datos Iniciales'!B26=\"Si\",\"O-48\",\"O-49\")))","v":""}]
[{"$f":"IF('Datos Iniciales'!B27=\"\",\"\",\"Si\")","v":""},{"$f":"(IF('Datos Iniciales'!A27=\"Cliente\",\"Si\",(IF('Datos Iniciales'!A27=\"\",\"\",\"No\"))))","v":""},{"$f":"(IF('Datos Iniciales'!A27=\"Distribuidor\",\"Si\",(IF('Datos Iniciales'!A27=\"\",\"\",\"No\"))))","v":""},{"$f":"(IF('Datos Iniciales'!A27=\"Otros\",\"Si\",(IF('Datos Iniciales'!A27=\"\",\"\",\"No\"))))","v":""},{"$f":"(IF('Datos Iniciales'!A27=\"Prospecto\",\"Si\",(IF('Datos Iniciales'!A27=\"\",\"\",\"No\"))))","v":""},{"$f":"(IF('Datos Iniciales'!A27=\"Proveedor\",\"Si\",(IF('Datos Iniciales'!A27=\"\",\"\",\"No\"))))","v":""},{"$f":"IF('Datos Iniciales'!B27=\"\",\"\",'Datos Iniciales'!B27)","v":""},{"$f":"IF('Datos Iniciales'!C27=\"\",\"\",'Datos Iniciales'!C27)","v":""},{"$f":"IF('Datos Iniciales'!D27=\"\",\"\",'Datos Iniciales'!D27)","v":""},{"$f":"IF('Datos Iniciales'!E27=datos!$I$2,datos!$J$2,(IF('Datos Iniciales'!E27=datos!$I$3,datos!$J$3,(IF('Datos Iniciales'!E27=datos!$I$4,datos!$J$4,(IF('Datos Iniciales'!E27=datos!$I$5,datos!$J$5,(IF('Datos Iniciales'!E27=datos!$I$6,datos!$J$6,(IF('Datos Iniciales'!E27=datos!$I$7,datos!$J$7,(IF('Datos Iniciales'!E27=datos!$I$2,datos!$J$2,(IF('Datos Iniciales'!E27=datos!$I$8,datos!$J$8,(IF('Datos Iniciales'!E27=datos!$I$9,datos!$J$9,(IF('Datos Iniciales'!E27=datos!$I$10,datos!$J$10,(IF('Datos Iniciales'!E27=datos!$I$11,datos!$J$11,(IF('Datos Iniciales'!E27=datos!$I$12,datos!$J$12,(IF('Datos Iniciales'!E27=datos!$I$13,datos!$J$13,(IF('Datos Iniciales'!E27=datos!$I$14,datos!$J$14,(IF('Datos Iniciales'!E27=datos!$I$15,datos!$J$15,\"\")))))))))))))))))))))))))))))","v":""},{"$f":"IF('Datos Iniciales'!F27=\"\",\"\",'Datos Iniciales'!F27)","v":""},{"$f":"IFERROR(datos!B26,\"\")","v":""},null,null,null,null,{"$f":"IF('Datos Iniciales'!H27=\"\",\"\",'Datos Iniciales'!H27)","v":""},{"$f":"IF('Datos Iniciales'!I27=\"\",\"\",datos!$K$2)","v":""},{"$f":"IFERROR(VLOOKUP('Datos Iniciales'!J27,datos!O25:P1144,2,FALSE),\"\")","v":""},null,{"$f":"IF('Datos Iniciales'!K27=\"\",\"\",(CONCATENATE(RIGHT('Datos Iniciales'!K27,1),\"-\",'Datos Iniciales'!L27,\"-\",'Datos Iniciales'!M27)))","v":""},null,null,null,{"$f":"IF('Datos Iniciales'!N27=\"\",\"\",'Datos Iniciales'!N27)","v":""},{"$f":"IF('Datos Iniciales'!O27=\"\",\"\",'Datos Iniciales'!O27)","v":""},null,null,null,null,{"$f":"IF('Datos Iniciales'!P27=\"\",\"\",'Datos Iniciales'!P27)","v":""},null,null,null,null,null,null,null,null,null,null,null,null,{"$f":"IF('Datos Iniciales'!B27=\"\",\"\",(IF('Datos Iniciales'!B27=\"Si\",\"002\",\"003\")))","v":""},null,{"$f":"IF('Datos Iniciales'!Q27=\"\",\"\",(IF('Datos Iniciales'!Q27=datos!S26,\"0\",\"2\")))","v":""},{"$f":"IF('Datos Iniciales'!B27=\"\",\"\",(IF('Datos Iniciales'!B27=\"Si\",\"O-48\",\"O-49\")))","v":""}]
[{"$f":"IF('Datos Iniciales'!B28=\"\",\"\",\"Si\")","v":""},{"$f":"(IF('Datos Iniciales'!A28=\"Cliente\",\"Si\",(IF('Datos Iniciales'!A28=\"\",\"\",\"No\"))))","v":""},{"$f":"(IF('Datos Iniciales'!A28=\"Distribuidor\",\"Si\",(IF('Datos Iniciales'!A28=\"\",\"\",\"No\"))))","v":""},{"$f":"(IF('Datos Iniciales'!A28=\"Otros\",\"Si\",(IF('Datos Iniciales'!A28=\"\",\"\",\"No\"))))","v":""},{"$f":"(IF('Datos Iniciales'!A28=\"Prospecto\",\"Si\",(IF('Datos Iniciales'!A28=\"\",\"\",\"No\"))))","v":""},{"$f":"(IF('Datos Iniciales'!A28=\"Proveedor\",\"Si\",(IF('Datos Iniciales'!A28=\"\",\"\",\"No\"))))","v":""},{"$f":"IF('Datos Iniciales'!B28=\"\",\"\",'Datos Iniciales'!B28)","v":""},{"$f":"IF('Datos Iniciales'!C28=\"\",\"\",'Datos Iniciales'!C28)","v":""},{"$f":"IF('Datos Iniciales'!D28=\"\",\"\",'Datos Iniciales'!D28)","v":""},{"$f":"IF('Datos Iniciales'!E28=datos!$I$2,datos!$J$2,(IF('Datos Iniciales'!E28=datos!$I$3,datos!$J$3,(IF('Datos Iniciales'!E28=datos!$I$4,datos!$J$4,(IF('Datos Iniciales'!E28=datos!$I$5,datos!$J$5,(IF('Datos Iniciales'!E28=datos!$I$6,datos!$J$6,(IF('Datos Iniciales'!E28=datos!$I$7,datos!$J$7,(IF('Datos Iniciales'!E28=datos!$I$2,datos!$J$2,(IF('Datos Iniciales'!E28=datos!$I$8,datos!$J$8,(IF('Datos Iniciales'!E28=datos!$I$9,datos!$J$9,(IF('Datos Iniciales'!E28=datos!$I$10,datos!$J$10,(IF('Datos Iniciales'!E28=datos!$I$11,datos!$J$11,(IF('Datos Iniciales'!E28=datos!$I$12,datos!$J$12,(IF('Datos Iniciales'!E28=datos!$I$13,datos!$J$13,(IF('Datos Iniciales'!E28=datos!$I$14,datos!$J$14,(IF('Datos Iniciales'!E28=datos!$I$15,datos!$J$15,\"\")))))))))))))))))))))))))))))","v":""},{"$f":"IF('Datos Iniciales'!F28=\"\",\"\",'Datos Iniciales'!F28)","v":""},{"$f":"IFERROR(datos!B27,\"\")","v":""},null,null,null,null,{"$f":"IF('Datos Iniciales'!H28=\"\",\"\",'Datos Iniciales'!H28)","v":""},{"$f":"IF('Datos Iniciales'!I28=\"\",\"\",datos!$K$2)","v":""},{"$f":"IFERROR(VLOOKUP('Datos Iniciales'!J28,datos!O26:P1145,2,FALSE),\"\")","v":""},null,{"$f":"IF('Datos Iniciales'!K28=\"\",\"\",(CONCATENATE(RIGHT('Datos Iniciales'!K28,1),\"-\",'Datos Iniciales'!L28,\"-\",'Datos Iniciales'!M28)))","v":""},null,null,null,{"$f":"IF('Datos Iniciales'!N28=\"\",\"\",'Datos Iniciales'!N28)","v":""},{"$f":"IF('Datos Iniciales'!O28=\"\",\"\",'Datos Iniciales'!O28)","v":""},null,null,null,null,{"$f":"IF('Datos Iniciales'!P28=\"\",\"\",'Datos Iniciales'!P28)","v":""},null,null,null,null,null,null,null,null,null,null,null,null,{"$f":"IF('Datos Iniciales'!B28=\"\",\"\",(IF('Datos Iniciales'!B28=\"Si\",\"002\",\"003\")))","v":""},null,{"$f":"IF('Datos Iniciales'!Q28=\"\",\"\",(IF('Datos Iniciales'!Q28=datos!S27,\"0\",\"2\")))","v":""},{"$f":"IF('Datos Iniciales'!B28=\"\",\"\",(IF('Datos Iniciales'!B28=\"Si\",\"O-48\",\"O-49\")))","v":""}]
[{"$f":"IF('Datos Iniciales'!B29=\"\",\"\",\"Si\")","v":""},{"$f":"(IF('Datos Iniciales'!A29=\"Cliente\",\"Si\",(IF('Datos Iniciales'!A29=\"\",\"\",\"No\"))))","v":""},{"$f":"(IF('Datos Iniciales'!A29=\"Distribuidor\",\"Si\",(IF('Datos Iniciales'!A29=\"\",\"\",\"No\"))))","v":""},{"$f":"(IF('Datos Iniciales'!A29=\"Otros\",\"Si\",(IF('Datos Iniciales'!A29=\"\",\"\",\"No\"))))","v":""},{"$f":"(IF('Datos Iniciales'!A29=\"Prospecto\",\"Si\",(IF('Datos Iniciales'!A29=\"\",\"\",\"No\"))))","v":""},{"$f":"(IF('Datos Iniciales'!A29=\"Proveedor\",\"Si\",(IF('Datos Iniciales'!A29=\"\",\"\",\"No\"))))","v":""},{"$f":"IF('Datos Iniciales'!B29=\"\",\"\",'Datos Iniciales'!B29)","v":""},{"$f":"IF('Datos Iniciales'!C29=\"\",\"\",'Datos Iniciales'!C29)","v":""},{"$f":"IF('Datos Iniciales'!D29=\"\",\"\",'Datos Iniciales'!D29)","v":""},{"$f":"IF('Datos Iniciales'!E29=datos!$I$2,datos!$J$2,(IF('Datos Iniciales'!E29=datos!$I$3,datos!$J$3,(IF('Datos Iniciales'!E29=datos!$I$4,datos!$J$4,(IF('Datos Iniciales'!E29=datos!$I$5,datos!$J$5,(IF('Datos Iniciales'!E29=datos!$I$6,datos!$J$6,(IF('Datos Iniciales'!E29=datos!$I$7,datos!$J$7,(IF('Datos Iniciales'!E29=datos!$I$2,datos!$J$2,(IF('Datos Iniciales'!E29=datos!$I$8,datos!$J$8,(IF('Datos Iniciales'!E29=datos!$I$9,datos!$J$9,(IF('Datos Iniciales'!E29=datos!$I$10,datos!$J$10,(IF('Datos Iniciales'!E29=datos!$I$11,datos!$J$11,(IF('Datos Iniciales'!E29=datos!$I$12,datos!$J$12,(IF('Datos Iniciales'!E29=datos!$I$13,datos!$J$13,(IF('Datos Iniciales'!E29=datos!$I$14,datos!$J$14,(IF('Datos Iniciales'!E29=datos!$I$15,datos!$J$15,\"\")))))))))))))))))))))))))))))","v":""},{"$f":"IF('Datos Iniciales'!F29=\"\",\"\",'Datos Iniciales'!F29)","v":""},{"$f":"IFERROR(datos!B28,\"\")","v":""},null,null,null,null,{"$f":"IF('Datos Iniciales'!H29=\"\",\"\",'Datos Iniciales'!H29)","v":""},{"$f":"IF('Datos Iniciales'!I29=\"\",\"\",datos!$K$2)","v":""},{"$f":"IFERROR(VLOOKUP('Datos Iniciales'!J29,datos!O27:P1146,2,FALSE),\"\")","v":""},null,{"$f":"IF('Datos Iniciales'!K29=\"\",\"\",(CONCATENATE(RIGHT('Datos Iniciales'!K29,1),\"-\",'Datos Iniciales'!L29,\"-\",'Datos Iniciales'!M29)))","v":""},null,null,null,{"$f":"IF('Datos Iniciales'!N29=\"\",\"\",'Datos Iniciales'!N29)","v":""},{"$f":"IF('Datos Iniciales'!O29=\"\",\"\",'Datos Iniciales'!O29)","v":""},null,null,null,null,{"$f":"IF('Datos Iniciales'!P29=\"\",\"\",'Datos Iniciales'!P29)","v":""},null,null,null,null,null,null,null,null,null,null,null,null,{"$f":"IF('Datos Iniciales'!B29=\"\",\"\",(IF('Datos Iniciales'!B29=\"Si\",\"002\",\"003\")))","v":""},null,{"$f":"IF('Datos Iniciales'!Q29=\"\",\"\",(IF('Datos Iniciales'!Q29=datos!S28,\"0\",\"2\")))","v":""},{"$f":"IF('Datos Iniciales'!B29=\"\",\"\",(IF('Datos Iniciales'!B29=\"Si\",\"O-48\",\"O-49\")))","v":""}]
[{"$f":"IF('Datos Iniciales'!B30=\"\",\"\",\"Si\")","v":""},{"$f":"(IF('Datos Iniciales'!A30=\"Cliente\",\"Si\",(IF('Datos Iniciales'!A30=\"\",\"\",\"No\"))))","v":""},{"$f":"(IF('Datos Iniciales'!A30=\"Distribuidor\",\"Si\",(IF('Datos Iniciales'!A30=\"\",\"\",\"No\"))))","v":""},{"$f":"(IF('Datos Iniciales'!A30=\"Otros\",\"Si\",(IF('Datos Iniciales'!A30=\"\",\"\",\"No\"))))","v":""},{"$f":"(IF('Datos Iniciales'!A30=\"Prospecto\",\"Si\",(IF('Datos Iniciales'!A30=\"\",\"\",\"No\"))))","v":""},{"$f":"(IF('Datos Iniciales'!A30=\"Proveedor\",\"Si\",(IF('Datos Iniciales'!A30=\"\",\"\",\"No\"))))","v":""},{"$f":"IF('Datos Iniciales'!B30=\"\",\"\",'Datos Iniciales'!B30)","v":""},{"$f":"IF('Datos Iniciales'!C30=\"\",\"\",'Datos Iniciales'!C30)","v":""},{"$f":"IF('Datos Iniciales'!D30=\"\",\"\",'Datos Iniciales'!D30)","v":""},{"$f":"IF('Datos Iniciales'!E30=datos!$I$2,datos!$J$2,(IF('Datos Iniciales'!E30=datos!$I$3,datos!$J$3,(IF('Datos Iniciales'!E30=datos!$I$4,datos!$J$4,(IF('Datos Iniciales'!E30=datos!$I$5,datos!$J$5,(IF('Datos Iniciales'!E30=datos!$I$6,datos!$J$6,(IF('Datos Iniciales'!E30=datos!$I$7,datos!$J$7,(IF('Datos Iniciales'!E30=datos!$I$2,datos!$J$2,(IF('Datos Iniciales'!E30=datos!$I$8,datos!$J$8,(IF('Datos Iniciales'!E30=datos!$I$9,datos!$J$9,(IF('Datos Iniciales'!E30=datos!$I$10,datos!$J$10,(IF('Datos Iniciales'!E30=datos!$I$11,datos!$J$11,(IF('Datos Iniciales'!E30=datos!$I$12,datos!$J$12,(IF('Datos Iniciales'!E30=datos!$I$13,datos!$J$13,(IF('Datos Iniciales'!E30=datos!$I$14,datos!$J$14,(IF('Datos Iniciales'!E30=datos!$I$15,datos!$J$15,\"\")))))))))))))))))))))))))))))","v":""},{"$f":"IF('Datos Iniciales'!F30=\"\",\"\",'Datos Iniciales'!F30)","v":""},{"$f":"IFERROR(datos!B29,\"\")","v":""},null,null,null,null,{"$f":"IF('Datos Iniciales'!H30=\"\",\"\",'Datos Iniciales'!H30)","v":""},{"$f":"IF('Datos Iniciales'!I30=\"\",\"\",datos!$K$2)","v":""},{"$f":"IFERROR(VLOOKUP('Datos Iniciales'!J30,datos!O28:P1147,2,FALSE),\"\")","v":""},null,{"$f":"IF('Datos Iniciales'!K30=\"\",\"\",(CONCATENATE(RIGHT('Datos Iniciales'!K30,1),\"-\",'Datos Iniciales'!L30,\"-\",'Datos Iniciales'!M30)))","v":""},null,null,null,{"$f":"IF('Datos Iniciales'!N30=\"\",\"\",'Datos Iniciales'!N30)","v":""},{"$f":"IF('Datos Iniciales'!O30=\"\",\"\",'Datos Iniciales'!O30)","v":""},null,null,null,null,{"$f":"IF('Datos Iniciales'!P30=\"\",\"\",'Datos Iniciales'!P30)","v":""},null,null,null,null,null,null,null,null,null,null,null,null,{"$f":"IF('Datos Iniciales'!B30=\"\",\"\",(IF('Datos Iniciales'!B30=\"Si\",\"002\",\"003\")))","v":""},null,{"$f":"IF('Datos Iniciales'!Q30=\"\",\"\",(IF('Datos Iniciales'!Q30=datos!S29,\"0\",\"2\")))","v":""},{"$f":"IF('Datos Iniciales'!B30=\"\",\"\",(IF('Datos Iniciales'!B30=\"Si\",\"O-48\",\"O-49\")))","v":""}]
[{"$f":"IF('Datos Iniciales'!B31=\"\",\"\",\"Si\")","v":""},{"$f":"(IF('Datos Iniciales'!A31=\"Cliente\",\"Si\",(IF('Datos Iniciales'!A31=\"\",\"\",\"No\"))))","v":""},{"$f":"(IF('Datos Iniciales'!A31=\"Distribuidor\",\"Si\",(IF('Datos Iniciales'!A31=\"\",\"\",\"No\"))))","v":""},{"$f":"(IF('Datos Iniciales'!A31=\"Otros\",\"Si\",(IF('Datos Iniciales'!A31=\"\",\"\",\"No\"))))","v":""},{"$f":"(IF('Datos Iniciales'!A31=\"Prospecto\",\"Si\",(IF('Datos Iniciales'!A31=\"\",\"\",\"No\"))))","v":""},{"$f":"(IF('Datos Iniciales'!A31=\"Proveedor\",\"Si\",(IF('Datos Iniciales'!A31=\"\",\"\",\"No\"))))","v":""},{"$f":"IF('Datos Iniciales'!B31=\"\",\"\",'Datos Iniciales'!B31)","v":""},{"$f":"IF('Datos Iniciales'!C31=\"\",\"\",'Datos Iniciales'!C31)","v":""},{"$f":"IF('Datos Iniciales'!D31=\"\",\"\",'Datos Iniciales'!D31)","v":""},{"$f":"IF('Datos Iniciales'!E31=datos!$I$2,datos!$J$2,(IF('Datos Iniciales'!E31=datos!$I$3,datos!$J$3,(IF('Datos Iniciales'!E31=datos!$I$4,datos!$J$4,(IF('Datos Iniciales'!E31=datos!$I$5,datos!$J$5,(IF('Datos Iniciales'!E31=datos!$I$6,datos!$J$6,(IF('Datos Iniciales'!E31=datos!$I$7,datos!$J$7,(IF('Datos Iniciales'!E31=datos!$I$2,datos!$J$2,(IF('Datos Iniciales'!E31=datos!$I$8,datos!$J$8,(IF('Datos Iniciales'!E31=datos!$I$9,datos!$J$9,(IF('Datos Iniciales'!E31=datos!$I$10,datos!$J$10,(IF('Datos Iniciales'!E31=datos!$I$11,datos!$J$11,(IF('Datos Iniciales'!E31=datos!$I$12,datos!$J$12,(IF('Datos Iniciales'!E31=datos!$I$13,datos!$J$13,(IF('Datos Iniciales'!E31=datos!$I$14,datos!$J$14,(IF('Datos Iniciales'!E31=datos!$I$15,datos!$J$15,\"\")))))))))))))))))))))))))))))","v":""},{"$f":"IF('Datos Iniciales'!F31=\"\",\"\",'Datos Iniciales'!F31)","v":""},{"$f":"IFERROR(datos!B30,\"\")","v":""},null,null,null,null,{"$f":"IF('Datos Iniciales'!H31=\"\",\"\",'Datos Iniciales'!H31)","v":""},{"$f":"IF('Datos Iniciales'!I31=\"\",\"\",datos!$K$2)","v":""},{"$f":"IFERROR(VLOOKUP('Datos Iniciales'!J31,datos!O29:P1148,2,FALSE),\"\")","v":""},null,{"$f":"IF('Datos Iniciales'!K31=\"\",\"\",(CONCATENATE(RIGHT('Datos Iniciales'!K31,1),\"-\",'Datos Iniciales'!L31,\"-\",'Datos Iniciales'!M31)))","v":""},null,null,null,{"$f":"IF('Datos Iniciales'!N31=\"\",\"\",'Datos Iniciales'!N31)","v":""},{"$f":"IF('Datos Iniciales'!O31=\"\",\"\",'Datos Iniciales'!O31)","v":""},null,null,null,null,{"$f":"IF('Datos Iniciales'!P31=\"\",\"\",'Datos Iniciales'!P31)","v":""},null,null,null,null,null,null,null,null,null,null,null,null,{"$f":"IF('Datos Iniciales'!B31=\"\",\"\",(IF('Datos Iniciales'!B31=\"Si\",\"002\",\"003\")))","v":""},null,{"$f":"IF('Datos Iniciales'!Q31=\"\",\"\",(IF('Datos Iniciales'!Q31=datos!S30,\"0\",\"2\")))","v":""},{"$f":"IF('Datos Iniciales'!B31=\"\",\"\",(IF('Datos Iniciales'!B31=\"Si\",\"O-48\",\"O-49\")))","v":""}]
[{"$f":"IF('Datos Iniciales'!B32=\"\",\"\",\"Si\")","v":""},{"$f":"(IF('Datos Iniciales'!A32=\"Cliente\",\"Si\",(IF('Datos Iniciales'!A32=\"\",\"\",\"No\"))))","v":""},{"$f":"(IF('Datos Iniciales'!A32=\"Distribuidor\",\"Si\",(IF('Datos Iniciales'!A32=\"\",\"\",\"No\"))))","v":""},{"$f":"(IF('Datos Iniciales'!A32=\"Otros\",\"Si\",(IF('Datos Iniciales'!A32=\"\",\"\",\"No\"))))","v":""},{"$f":"(IF('Datos Iniciales'!A32=\"Prospecto\",\"Si\",(IF('Datos Iniciales'!A32=\"\",\"\",\"No\"))))","v":""},{"$f":"(IF('Datos Iniciales'!A32=\"Proveedor\",\"Si\",(IF('Datos Iniciales'!A32=\"\",\"\",\"No\"))))","v":""},{"$f":"IF('Datos Iniciales'!B32=\"\",\"\",'Datos Iniciales'!B32)","v":""},{"$f":"IF('Datos Iniciales'!C32=\"\",\"\",'Datos Iniciales'!C32)","v":""},{"$f":"IF('Datos Iniciales'!D32=\"\",\"\",'Datos Iniciales'!D32)","v":""},{"$f":"IF('Datos Iniciales'!E32=datos!$I$2,datos!$J$2,(IF('Datos Iniciales'!E32=datos!$I$3,datos!$J$3,(IF('Datos Iniciales'!E32=datos!$I$4,datos!$J$4,(IF('Datos Iniciales'!E32=datos!$I$5,datos!$J$5,(IF('Datos Iniciales'!E32=datos!$I$6,datos!$J$6,(IF('Datos Iniciales'!E32=datos!$I$7,datos!$J$7,(IF('Datos Iniciales'!E32=datos!$I$2,datos!$J$2,(IF('Datos Iniciales'!E32=datos!$I$8,datos!$J$8,(IF('Datos Iniciales'!E32=datos!$I$9,datos!$J$9,(IF('Datos Iniciales'!E32=datos!$I$10,datos!$J$10,(IF('Datos Iniciales'!E32=datos!$I$11,datos!$J$11,(IF('Datos Iniciales'!E32=datos!$I$12,datos!$J$12,(IF('Datos Iniciales'!E32=datos!$I$13,datos!$J$13,(IF('Datos Iniciales'!E32=datos!$I$14,datos!$J$14,(IF('Datos Iniciales'!E32=datos!$I$15,datos!$J$15,\"\")))))))))))))))))))))))))))))","v":""},{"$f":"IF('Datos Iniciales'!F32=\"\",\"\",'Datos Iniciales'!F32)","v":""},{"$f":"IFERROR(datos!B31,\"\")","v":""},null,null,null,null,{"$f":"IF('Datos Iniciales'!H32=\"\",\"\",'Datos Iniciales'!H32)","v":""},{"$f":"IF('Datos Iniciales'!I32=\"\",\"\",datos!$K$2)","v":""},{"$f":"IFERROR(VLOOKUP('Datos Iniciales'!J32,datos!O30:P1149,2,FALSE),\"\")","v":""},null,{"$f":"IF('Datos Iniciales'!K32=\"\",\"\",(CONCATENATE(RIGHT('Datos Iniciales'!K32,1),\"-\",'Datos Iniciales'!L32,\"-\",'Datos Iniciales'!M32)))","v":""},null,null,null,{"$f":"IF('Datos Iniciales'!N32=\"\",\"\",'Datos Iniciales'!N32)","v":""},{"$f":"IF('Datos Iniciales'!O32=\"\",\"\",'Datos Iniciales'!O32)","v":""},null,null,null,null,{"$f":"IF('Datos Iniciales'!P32=\"\",\"\",'Datos Iniciales'!P32)","v":""},null,null,null,null,null,null,null,null,null,null,null,null,{"$f":"IF('Datos Iniciales'!B32=\"\",\"\",(IF('Datos Iniciales'!B32=\"Si\",\"002\",\"003\")))","v":""},null,{"$f":"IF('Datos Iniciales'!Q32=\"\",\"\",(IF('Datos Iniciales'!Q32=datos!S31,\"0\",\"2\")))","v":""},{"$f":"IF('Datos Iniciales'!B32=\"\",\"\",(IF('Datos Iniciales'!B32=\"Si\",\"O-48\",\"O-49\")))","v":""}]
[{"$f":"IF('Datos Iniciales'!B33=\"\",\"\",\"Si\")","v":""},{"$f":"(IF('Datos Iniciales'!A33=\"Cliente\",\"Si\",(IF('Datos Iniciales'!A33=\"\",\"\",\"No\"))))","v":""},{"$f":"(IF('Datos Iniciales'!A33=\"Distribuidor\",\"Si\",(IF('Datos Iniciales'!A33=\"\",\"\",\"No\"))))","v":""},{"$f":"(IF('Datos Iniciales'!A33=\"Otros\",\"Si\",(IF('Datos Iniciales'!A33=\"\",\"\",\"No\"))))","v":""},{"$f":"(IF('Datos Iniciales'!A33=\"Prospecto\",\"Si\",(IF('Datos Iniciales'!A33=\"\",\"\",\"No\"))))","v":""},{"$f":"(IF('Datos Iniciales'!A33=\"Proveedor\",\"Si\",(IF('Datos Iniciales'!A33=\"\",\"\",\"No\"))))","v":""},{"$f":"IF('Datos Iniciales'!B33=\"\",\"\",'Datos Iniciales'!B33)","v":""},{"$f":"IF('Datos Iniciales'!C33=\"\",\"\",'Datos Iniciales'!C33)","v":""},{"$f":"IF('Datos Iniciales'!D33=\"\",\"\",'Datos Iniciales'!D33)","v":""},{"$f":"IF('Datos Iniciales'!E33=datos!$I$2,datos!$J$2,(IF('Datos Iniciales'!E33=datos!$I$3,datos!$J$3,(IF('Datos Iniciales'!E33=datos!$I$4,datos!$J$4,(IF('Datos Iniciales'!E33=datos!$I$5,datos!$J$5,(IF('Datos Iniciales'!E33=datos!$I$6,datos!$J$6,(IF('Datos Iniciales'!E33=datos!$I$7,datos!$J$7,(IF('Datos Iniciales'!E33=datos!$I$2,datos!$J$2,(IF('Datos Iniciales'!E33=datos!$I$8,datos!$J$8,(IF('Datos Iniciales'!E33=datos!$I$9,datos!$J$9,(IF('Datos Iniciales'!E33=datos!$I$10,datos!$J$10,(IF('Datos Iniciales'!E33=datos!$I$11,datos!$J$11,(IF('Datos Iniciales'!E33=datos!$I$12,datos!$J$12,(IF('Datos Iniciales'!E33=datos!$I$13,datos!$J$13,(IF('Datos Iniciales'!E33=datos!$I$14,datos!$J$14,(IF('Datos Iniciales'!E33=datos!$I$15,datos!$J$15,\"\")))))))))))))))))))))))))))))","v":""},{"$f":"IF('Datos Iniciales'!F33=\"\",\"\",'Datos Iniciales'!F33)","v":""},{"$f":"IFERROR(datos!B32,\"\")","v":""},null,null,null,null,{"$f":"IF('Datos Iniciales'!H33=\"\",\"\",'Datos Iniciales'!H33)","v":""},{"$f":"IF('Datos Iniciales'!I33=\"\",\"\",datos!$K$2)","v":""},{"$f":"IFERROR(VLOOKUP('Datos Iniciales'!J33,datos!O31:P1150,2,FALSE),\"\")","v":""},null,{"$f":"IF('Datos Iniciales'!K33=\"\",\"\",(CONCATENATE(RIGHT('Datos Iniciales'!K33,1),\"-\",'Datos Iniciales'!L33,\"-\",'Datos Iniciales'!M33)))","v":""},null,null,null,{"$f":"IF('Datos Iniciales'!N33=\"\",\"\",'Datos Iniciales'!N33)","v":""},{"$f":"IF('Datos Iniciales'!O33=\"\",\"\",'Datos Iniciales'!O33)","v":""},null,null,null,null,{"$f":"IF('Datos Iniciales'!P33=\"\",\"\",'Datos Iniciales'!P33)","v":""},null,null,null,null,null,null,null,null,null,null,null,null,{"$f":"IF('Datos Iniciales'!B33=\"\",\"\",(IF('Datos Iniciales'!B33=\"Si\",\"002\",\"003\")))","v":""},null,{"$f":"IF('Datos Iniciales'!Q33=\"\",\"\",(IF('Datos Iniciales'!Q33=datos!S32,\"0\",\"2\")))","v":""},{"$f":"IF('Datos Iniciales'!B33=\"\",\"\",(IF('Datos Iniciales'!B33=\"Si\",\"O-48\",\"O-49\")))","v":""}]
[{"$f":"IF('Datos Iniciales'!B34=\"\",\"\",\"Si\")","v":""},{"$f":"(IF('Datos Iniciales'!A34=\"Cliente\",\"Si\",(IF('Datos Iniciales'!A34=\"\",\"\",\"No\"))))","v":""},{"$f":"(IF('Datos Iniciales'!A34=\"Distribuidor\",\"Si\",(IF('Datos Iniciales'!A34=\"\",\"\",\"No\"))))","v":""},{"$f":"(IF('Datos Iniciales'!A34=\"Otros\",\"Si\",(IF('Datos Iniciales'!A34=\"\",\"\",\"No\"))))","v":""},{"$f":"(IF('Datos Iniciales'!A34=\"Prospecto\",\"Si\",(IF('Datos Iniciales'!A34=\"\",\"\",\"No\"))))","v":""},{"$f":"(IF('Datos Iniciales'!A34=\"Proveedor\",\"Si\",(IF('Datos Iniciales'!A34=\"\",\"\",\"No\"))))","v":""},{"$f":"IF('Datos Iniciales'!B34=\"\",\"\",'Datos Iniciales'!B34)","v":""},{"$f":"IF('Datos Iniciales'!C34=\"\",\"\",'Datos Iniciales'!C34)","v":""},{"$f":"IF('Datos Iniciales'!D34=\"\",\"\",'Datos Iniciales'!D34)","v":""},{"$f":"IF('Datos Iniciales'!E34=datos!$I$2,datos!$J$2,(IF('Datos Iniciales'!E34=datos!$I$3,datos!$J$3,(IF('Datos Iniciales'!E34=datos!$I$4,datos!$J$4,(IF('Datos Iniciales'!E34=datos!$I$5,datos!$J$5,(IF('Datos Iniciales'!E34=datos!$I$6,datos!$J$6,(IF('Datos Iniciales'!E34=datos!$I$7,datos!$J$7,(IF('Datos Iniciales'!E34=datos!$I$2,datos!$J$2,(IF('Datos Iniciales'!E34=datos!$I$8,datos!$J$8,(IF('Datos Iniciales'!E34=datos!$I$9,datos!$J$9,(IF('Datos Iniciales'!E34=datos!$I$10,datos!$J$10,(IF('Datos Iniciales'!E34=datos!$I$11,datos!$J$11,(IF('Datos Iniciales'!E34=datos!$I$12,datos!$J$12,(IF('Datos Iniciales'!E34=datos!$I$13,datos!$J$13,(IF('Datos Iniciales'!E34=datos!$I$14,datos!$J$14,(IF('Datos Iniciales'!E34=datos!$I$15,datos!$J$15,\"\")))))))))))))))))))))))))))))","v":""},{"$f":"IF('Datos Iniciales'!F34=\"\",\"\",'Datos Iniciales'!F34)","v":""},{"$f":"IFERROR(datos!B33,\"\")","v":""},null,null,null,null,{"$f":"IF('Datos Iniciales'!H34=\"\",\"\",'Datos Iniciales'!H34)","v":""},{"$f":"IF('Datos Iniciales'!I34=\"\",\"\",datos!$K$2)","v":""},{"$f":"IFERROR(VLOOKUP('Datos Iniciales'!J34,datos!O32:P1151,2,FALSE),\"\")","v":""},null,{"$f":"IF('Datos Iniciales'!K34=\"\",\"\",(CONCATENATE(RIGHT('Datos Iniciales'!K34,1),\"-\",'Datos Iniciales'!L34,\"-\",'Datos Iniciales'!M34)))","v":""},null,null,null,{"$f":"IF('Datos Iniciales'!N34=\"\",\"\",'Datos Iniciales'!N34)","v":""},{"$f":"IF('Datos Iniciales'!O34=\"\",\"\",'Datos Iniciales'!O34)","v":""},null,null,null,null,{"$f":"IF('Datos Iniciales'!P34=\"\",\"\",'Datos Iniciales'!P34)","v":""},null,null,null,null,null,null,null,null,null,null,null,null,{"$f":"IF('Datos Iniciales'!B34=\"\",\"\",(IF('Datos Iniciales'!B34=\"Si\",\"002\",\"003\")))","v":""},null,{"$f":"IF('Datos Iniciales'!Q34=\"\",\"\",(IF('Datos Iniciales'!Q34=datos!S33,\"0\",\"2\")))","v":""},{"$f":"IF('Datos Iniciales'!B34=\"\",\"\",(IF('Datos Iniciales'!B34=\"Si\",\"O-48\",\"O-49\")))","v":""}]
[{"$f":"IF('Datos Iniciales'!B35=\"\",\"\",\"Si\")","v":""},{"$f":"(IF('Datos Iniciales'!A35=\"Cliente\",\"Si\",(IF('Datos Iniciales'!A35=\"\",\"\",\"No\"))))","v":""},{"$f":"(IF('Datos Iniciales'!A35=\"Distribuidor\",\"Si\",(IF('Datos Iniciales'!A35=\"\",\"\",\"No\"))))","v":""},{"$f":"(IF('Datos Iniciales'!A35=\"Otros\",\"Si\",(IF('Datos Iniciales'!A35=\"\",\"\",\"No\"))))","v":""},{"$f":"(IF('Datos Iniciales'!A35=\"Prospecto\",\"Si\",(IF('Datos Iniciales'!A35=\"\",\"\",\"No\"))))","v":""},{"$f":"(IF('Datos Iniciales'!A35=\"Proveedor\",\"Si\",(IF('Datos Iniciales'!A35=\"\",\"\",\"No\"))))","v":""},{"$f":"IF('Datos Iniciales'!B35=\"\",\"\",'Datos Iniciales'!B35)","v":""},{"$f":"IF('Datos Iniciales'!C35=\"\",\"\",'Datos Iniciales'!C35)","v":""},{"$f":"IF('Datos Iniciales'!D35=\"\",\"\",'Datos Iniciales'!D35)","v":""},{"$f":"IF('Datos Iniciales'!E35=datos!$I$2,datos!$J$2,(IF('Datos Iniciales'!E35=datos!$I$3,datos!$J$3,(IF('Datos Iniciales'!E35=datos!$I$4,datos!$J$4,(IF('Datos Iniciales'!E35=datos!$I$5,datos!$J$5,(IF('Datos Iniciales'!E35=datos!$I$6,datos!$J$6,(IF('Datos Iniciales'!E35=datos!$I$7,datos!$J$7,(IF('Datos Iniciales'!E35=datos!$I$2,datos!$J$2,(IF('Datos Iniciales'!E35=datos!$I$8,datos!$J$8,(IF('Datos Iniciales'!E35=datos!$I$9,datos!$J$9,(IF('Datos Iniciales'!E35=datos!$I$10,datos!$J$10,(IF('Datos Iniciales'!E35=datos!$I$11,datos!$J$11,(IF('Datos Iniciales'!E35=datos!$I$12,datos!$J$12,(IF('Datos Iniciales'!E35=datos!$I$13,datos!$J$13,(IF('Datos Iniciales'!E35=datos!$I$14,datos!$J$14,(IF('Datos Iniciales'!E35=datos!$I$15,datos!$J$15,\"\")))))))))))))))))))))))))))))","v":""},{"$f":"IF('Datos Iniciales'!F35=\"\",\"\",'Datos Iniciales'!F35)","v":""},{"$f":"IFERROR(datos!B34,\"\")","v":""},null,null,null,null,{"$f":"IF('Datos Iniciales'!H35=\"\",\"\",'Datos Iniciales'!H35)","v":""},{"$f":"IF('Datos Iniciales'!I35=\"\",\"\",datos!$K$2)","v":""},{"$f":"IFERROR(VLOOKUP('Datos Iniciales'!J35,datos!O33:P1152,2,FALSE),\"\")","v":""},null,{"$f":"IF('Datos Iniciales'!K35=\"\",\"\",(CONCATENATE(RIGHT('Datos Iniciales'!K35,1),\"-\",'Datos Iniciales'!L35,\"-\",'Datos Iniciales'!M35)))","v":""},null,null,null,{"$f":"IF('Datos Iniciales'!N35=\"\",\"\",'Datos Iniciales'!N35)","v":""},{"$f":"IF('Datos Iniciales'!O35=\"\",\"\",'Datos Iniciales'!O35)","v":""},null,null,null,null,{"$f":"IF('Datos Iniciales'!P35=\"\",\"\",'Datos Iniciales'!P35)","v":""},null,null,null,null,null,null,null,null,null,null,null,null,{"$f":"IF('Datos Iniciales'!B35=\"\",\"\",(IF('Datos Iniciales'!B35=\"Si\",\"002\",\"003\")))","v":""},null,{"$f":"IF('Datos Iniciales'!Q35=\"\",\"\",(IF('Datos Iniciales'!Q35=datos!S34,\"0\",\"2\")))","v":""},{"$f":"IF('Datos Iniciales'!B35=\"\",\"\",(IF('Datos Iniciales'!B35=\"Si\",\"O-48\",\"O-49\")))","v":""}]
[{"$f":"IF('Datos Iniciales'!B36=\"\",\"\",\"Si\")","v":""},{"$f":"(IF('Datos Iniciales'!A36=\"Cliente\",\"Si\",(IF('Datos Iniciales'!A36=\"\",\"\",\"No\"))))","v":""},{"$f":"(IF('Datos Iniciales'!A36=\"Distribuidor\",\"Si\",(IF('Datos Iniciales'!A36=\"\",\"\",\"No\"))))","v":""},{"$f":"(IF('Datos Iniciales'!A36=\"Otros\",\"Si\",(IF('Datos Iniciales'!A36=\"\",\"\",\"No\"))))","v":""},{"$f":"(IF('Datos Iniciales'!A36=\"Prospecto\",\"Si\",(IF('Datos Iniciales'!A36=\"\",\"\",\"No\"))))","v":""},{"$f":"(IF('Datos Iniciales'!A36=\"Proveedor\",\"Si\",(IF('Datos Iniciales'!A36=\"\",\"\",\"No\"))))","v":""},{"$f":"IF('Datos Iniciales'!B36=\"\",\"\",'Datos Iniciales'!B36)","v":""},{"$f":"IF('Datos Iniciales'!C36=\"\",\"\",'Datos Iniciales'!C36)","v":""},{"$f":"IF('Datos Iniciales'!D36=\"\",\"\",'Datos Iniciales'!D36)","v":""},{"$f":"IF('Datos Iniciales'!E36=datos!$I$2,datos!$J$2,(IF('Datos Iniciales'!E36=datos!$I$3,datos!$J$3,(IF('Datos Iniciales'!E36=datos!$I$4,datos!$J$4,(IF('Datos Iniciales'!E36=datos!$I$5,datos!$J$5,(IF('Datos Iniciales'!E36=datos!$I$6,datos!$J$6,(IF('Datos Iniciales'!E36=datos!$I$7,datos!$J$7,(IF('Datos Iniciales'!E36=datos!$I$2,datos!$J$2,(IF('Datos Iniciales'!E36=datos!$I$8,datos!$J$8,(IF('Datos Iniciales'!E36=datos!$I$9,datos!$J$9,(IF('Datos Iniciales'!E36=datos!$I$10,datos!$J$10,(IF('Datos Iniciales'!E36=datos!$I$11,datos!$J$11,(IF('Datos Iniciales'!E36=datos!$I$12,datos!$J$12,(IF('Datos Iniciales'!E36=datos!$I$13,datos!$J$13,(IF('Datos Iniciales'!E36=datos!$I$14,datos!$J$14,(IF('Datos Iniciales'!E36=datos!$I$15,datos!$J$15,\"\")))))))))))))))))))))))))))))","v":""},{"$f":"IF('Datos Iniciales'!F36=\"\",\"\",'Datos Iniciales'!F36)","v":""},{"$f":"IFERROR(datos!B35,\"\")","v":""},null,null,null,null,{"$f":"IF('Datos Iniciales'!H36=\"\",\"\",'Datos Iniciales'!H36)","v":""},{"$f":"IF('Datos Iniciales'!I36=\"\",\"\",datos!$K$2)","v":""},{"$f":"IFERROR(VLOOKUP('Datos Iniciales'!J36,datos!O34:P1153,2,FALSE),\"\")","v":""},null,{"$f":"IF('Datos Iniciales'!K36=\"\",\"\",(CONCATENATE(RIGHT('Datos Iniciales'!K36,1),\"-\",'Datos Iniciales'!L36,\"-\",'Datos Iniciales'!M36)))","v":""},null,null,null,{"$f":"IF('Datos Iniciales'!N36=\"\",\"\",'Datos Iniciales'!N36)","v":""},{"$f":"IF('Datos Iniciales'!O36=\"\",\"\",'Datos Iniciales'!O36)","v":""},null,null,null,null,{"$f":"IF('Datos Iniciales'!P36=\"\",\"\",'Datos Iniciales'!P36)","v":""},null,null,null,null,null,null,null,null,null,null,null,null,{"$f":"IF('Datos Iniciales'!B36=\"\",\"\",(IF('Datos Iniciales'!B36=\"Si\",\"002\",\"003\")))","v":""},null,{"$f":"IF('Datos Iniciales'!Q36=\"\",\"\",(IF('Datos Iniciales'!Q36=datos!S35,\"0\",\"2\")))","v":""},{"$f":"IF('Datos Iniciales'!B36=\"\",\"\",(IF('Datos Iniciales'!B36=\"Si\",\"O-48\",\"O-49\")))","v":""}]
[{"$f":"IF('Datos Iniciales'!B37=\"\",\"\",\"Si\")","v":""},{"$f":"(IF('Datos Iniciales'!A37=\"Cliente\",\"Si\",(IF('Datos Iniciales'!A37=\"\",\"\",\"No\"))))","v":""},{"$f":"(IF('Datos Iniciales'!A37=\"Distribuidor\",\"Si\",(IF('Datos Iniciales'!A37=\"\",\"\",\"No\"))))","v":""},{"$f":"(IF('Datos Iniciales'!A37=\"Otros\",\"Si\",(IF('Datos Iniciales'!A37=\"\",\"\",\"No\"))))","v":""},{"$f":"(IF('Datos Iniciales'!A37=\"Prospecto\",\"Si\",(IF('Datos Iniciales'!A37=\"\",\"\",\"No\"))))","v":""},{"$f":"(IF('Datos Iniciales'!A37=\"Proveedor\",\"Si\",(IF('Datos Iniciales'!A37=\"\",\"\",\"No\"))))","v":""},{"$f":"IF('Datos Iniciales'!B37=\"\",\"\",'Datos Iniciales'!B37)","v":""},{"$f":"IF('Datos Iniciales'!C37=\"\",\"\",'Datos Iniciales'!C37)","v":""},{"$f":"IF('Datos Iniciales'!D37=\"\",\"\",'Datos Iniciales'!D37)","v":""},{"$f":"IF('Datos Iniciales'!E37=datos!$I$2,datos!$J$2,(IF('Datos Iniciales'!E37=datos!$I$3,datos!$J$3,(IF('Datos Iniciales'!E37=datos!$I$4,datos!$J$4,(IF('Datos Iniciales'!E37=datos!$I$5,datos!$J$5,(IF('Datos Iniciales'!E37=datos!$I$6,datos!$J$6,(IF('Datos Iniciales'!E37=datos!$I$7,datos!$J$7,(IF('Datos Iniciales'!E37=datos!$I$2,datos!$J$2,(IF('Datos Iniciales'!E37=datos!$I$8,datos!$J$8,(IF('Datos Iniciales'!E37=datos!$I$9,datos!$J$9,(IF('Datos Iniciales'!E37=datos!$I$10,datos!$J$10,(IF('Datos Iniciales'!E37=datos!$I$11,datos!$J$11,(IF('Datos Iniciales'!E37=datos!$I$12,datos!$J$12,(IF('Datos Iniciales'!E37=datos!$I$13,datos!$J$13,(IF('Datos Iniciales'!E37=datos!$I$14,datos!$J$14,(IF('Datos Iniciales'!E37=datos!$I$15,datos!$J$15,\"\")))))))))))))))))))))))))))))","v":""},{"$f":"IF('Datos Iniciales'!F37=\"\",\"\",'Datos Iniciales'!F37)","v":""},{"$f":"IFERROR(datos!B36,\"\")","v":""},null,null,null,null,{"$f":"IF('Datos Iniciales'!H37=\"\",\"\",'Datos Iniciales'!H37)","v":""},{"$f":"IF('Datos Iniciales'!I37=\"\",\"\",datos!$K$2)","v":""},{"$f":"IFERROR(VLOOKUP('Datos Iniciales'!J37,datos!O35:P1154,2,FALSE),\"\")","v":""},null,{"$f":"IF('Datos Iniciales'!K37=\"\",\"\",(CONCATENATE(RIGHT('Datos Iniciales'!K37,1),\"-\",'Datos Iniciales'!L37,\"-\",'Datos Iniciales'!M37)))","v":""},null,null,null,{"$f":"IF('Datos Iniciales'!N37=\"\",\"\",'Datos Iniciales'!N37)","v":""},{"$f":"IF('Datos Iniciales'!O37=\"\",\"\",'Datos Iniciales'!O37)","v":""},null,null,null,null,{"$f":"IF('Datos Iniciales'!P37=\"\",\"\",'Datos Iniciales'!P37)","v":""},null,null,null,null,null,null,null,null,null,null,null,null,{"$f":"IF('Datos Iniciales'!B37=\"\",\"\",(IF('Datos Iniciales'!B37=\"Si\",\"002\",\"003\")))","v":""},null,{"$f":"IF('Datos Iniciales'!Q37=\"\",\"\",(IF('Datos Iniciales'!Q37=datos!S36,\"0\",\"2\")))","v":""},{"$f":"IF('Datos Iniciales'!B37=\"\",\"\",(IF('Datos Iniciales'!B37=\"Si\",\"O-48\",\"O-49\")))","v":""}]
[{"$f":"IF('Datos Iniciales'!B38=\"\",\"\",\"Si\")","v":""},{"$f":"(IF('Datos Iniciales'!A38=\"Cliente\",\"Si\",(IF('Datos Iniciales'!A38=\"\",\"\",\"No\"))))","v":""},{"$f":"(IF('Datos Iniciales'!A38=\"Distribuidor\",\"Si\",(IF('Datos Iniciales'!A38=\"\",\"\",\"No\"))))","v":""},{"$f":"(IF('Datos Iniciales'!A38=\"Otros\",\"Si\",(IF('Datos Iniciales'!A38=\"\",\"\",\"No\"))))","v":""},{"$f":"(IF('Datos Iniciales'!A38=\"Prospecto\",\"Si\",(IF('Datos Iniciales'!A38=\"\",\"\",\"No\"))))","v":""},{"$f":"(IF('Datos Iniciales'!A38=\"Proveedor\",\"Si\",(IF('Datos Iniciales'!A38=\"\",\"\",\"No\"))))","v":""},{"$f":"IF('Datos Iniciales'!B38=\"\",\"\",'Datos Iniciales'!B38)","v":""},{"$f":"IF('Datos Iniciales'!C38=\"\",\"\",'Datos Iniciales'!C38)","v":""},{"$f":"IF('Datos Iniciales'!D38=\"\",\"\",'Datos Iniciales'!D38)","v":""},{"$f":"IF('Datos Iniciales'!E38=datos!$I$2,datos!$J$2,(IF('Datos Iniciales'!E38=datos!$I$3,datos!$J$3,(IF('Datos Iniciales'!E38=datos!$I$4,datos!$J$4,(IF('Datos Iniciales'!E38=datos!$I$5,datos!$J$5,(IF('Datos Iniciales'!E38=datos!$I$6,datos!$J$6,(IF('Datos Iniciales'!E38=datos!$I$7,datos!$J$7,(IF('Datos Iniciales'!E38=datos!$I$2,datos!$J$2,(IF('Datos Iniciales'!E38=datos!$I$8,datos!$J$8,(IF('Datos Iniciales'!E38=datos!$I$9,datos!$J$9,(IF('Datos Iniciales'!E38=datos!$I$10,datos!$J$10,(IF('Datos Iniciales'!E38=datos!$I$11,datos!$J$11,(IF('Datos Iniciales'!E38=datos!$I$12,datos!$J$12,(IF('Datos Iniciales'!E38=datos!$I$13,datos!$J$13,(IF('Datos Iniciales'!E38=datos!$I$14,datos!$J$14,(IF('Datos Iniciales'!E38=datos!$I$15,datos!$J$15,\"\")))))))))))))))))))))))))))))","v":""},{"$f":"IF('Datos Iniciales'!F38=\"\",\"\",'Datos Iniciales'!F38)","v":""},{"$f":"IFERROR(datos!B37,\"\")","v":""},null,null,null,null,{"$f":"IF('Datos Iniciales'!H38=\"\",\"\",'Datos Iniciales'!H38)","v":""},{"$f":"IF('Datos Iniciales'!I38=\"\",\"\",datos!$K$2)","v":""},{"$f":"IFERROR(VLOOKUP('Datos Iniciales'!J38,datos!O36:P1155,2,FALSE),\"\")","v":""},null,{"$f":"IF('Datos Iniciales'!K38=\"\",\"\",(CONCATENATE(RIGHT('Datos Iniciales'!K38,1),\"-\",'Datos Iniciales'!L38,\"-\",'Datos Iniciales'!M38)))","v":""},null,null,null,{"$f":"IF('Datos Iniciales'!N38=\"\",\"\",'Datos Iniciales'!N38)","v":""},{"$f":"IF('Datos Iniciales'!O38=\"\",\"\",'Datos Iniciales'!O38)","v":""},null,null,null,null,{"$f":"IF('Datos Iniciales'!P38=\"\",\"\",'Datos Iniciales'!P38)","v":""},null,null,null,null,null,null,null,null,null,null,null,null,{"$f":"IF('Datos Iniciales'!B38=\"\",\"\",(IF('Datos Iniciales'!B38=\"Si\",\"002\",\"003\")))","v":""},null,{"$f":"IF('Datos Iniciales'!Q38=\"\",\"\",(IF('Datos Iniciales'!Q38=datos!S37,\"0\",\"2\")))","v":""},{"$f":"IF('Datos Iniciales'!B38=\"\",\"\",(IF('Datos Iniciales'!B38=\"Si\",\"O-48\",\"O-49\")))","v":""}]
[{"$f":"IF('Datos Iniciales'!B39=\"\",\"\",\"Si\")","v":""},{"$f":"(IF('Datos Iniciales'!A39=\"Cliente\",\"Si\",(IF('Datos Iniciales'!A39=\"\",\"\",\"No\"))))","v":""},{"$f":"(IF('Datos Iniciales'!A39=\"Distribuidor\",\"Si\",(IF('Datos Iniciales'!A39=\"\",\"\",\"No\"))))","v":""},{"$f":"(IF('Datos Iniciales'!A39=\"Otros\",\"Si\",(IF('Datos Iniciales'!A39=\"\",\"\",\"No\"))))","v":""},{"$f":"(IF('Datos Iniciales'!A39=\"Prospecto\",\"Si\",(IF('Datos Iniciales'!A39=\"\",\"\",\"No\"))))","v":""},{"$f":"(IF('Datos Iniciales'!A39=\"Proveedor\",\"Si\",(IF('Datos Iniciales'!A39=\"\",\"\",\"No\"))))","v":""},{"$f":"IF('Datos Iniciales'!B39=\"\",\"\",'Datos Iniciales'!B39)","v":""},{"$f":"IF('Datos Iniciales'!C39=\"\",\"\",'Datos Iniciales'!C39)","v":""},{"$f":"IF('Datos Iniciales'!D39=\"\",\"\",'Datos Iniciales'!D39)","v":""},{"$f":"IF('Datos Iniciales'!E39=datos!$I$2,datos!$J$2,(IF('Datos Iniciales'!E39=datos!$I$3,datos!$J$3,(IF('Datos Iniciales'!E39=datos!$I$4,datos!$J$4,(IF('Datos Iniciales'!E39=datos!$I$5,datos!$J$5,(IF('Datos Iniciales'!E39=datos!$I$6,datos!$J$6,(IF('Datos Iniciales'!E39=datos!$I$7,datos!$J$7,(IF('Datos Iniciales'!E39=datos!$I$2,datos!$J$2,(IF('Datos Iniciales'!E39=datos!$I$8,datos!$J$8,(IF('Datos Iniciales'!E39=datos!$I$9,datos!$J$9,(IF('Datos Iniciales'!E39=datos!$I$10,datos!$J$10,(IF('Datos Iniciales'!E39=datos!$I$11,datos!$J$11,(IF('Datos Iniciales'!E39=datos!$I$12,datos!$J$12,(IF('Datos Iniciales'!E39=datos!$I$13,datos!$J$13,(IF('Datos Iniciales'!E39=datos!$I$14,datos!$J$14,(IF('Datos Iniciales'!E39=datos!$I$15,datos!$J$15,\"\")))))))))))))))))))))))))))))","v":""},{"$f":"IF('Datos Iniciales'!F39=\"\",\"\",'Datos Iniciales'!F39)","v":""},{"$f":"IFERROR(datos!B38,\"\")","v":""},null,null,null,null,{"$f":"IF('Datos Iniciales'!H39=\"\",\"\",'Datos Iniciales'!H39)","v":""},{"$f":"IF('Datos Iniciales'!I39=\"\",\"\",datos!$K$2)","v":""},{"$f":"IFERROR(VLOOKUP('Datos Iniciales'!J39,datos!O37:P1156,2,FALSE),\"\")","v":""},null,{"$f":"IF('Datos Iniciales'!K39=\"\",\"\",(CONCATENATE(RIGHT('Datos Iniciales'!K39,1),\"-\",'Datos Iniciales'!L39,\"-\",'Datos Iniciales'!M39)))","v":""},null,null,null,{"$f":"IF('Datos Iniciales'!N39=\"\",\"\",'Datos Iniciales'!N39)","v":""},{"$f":"IF('Datos Iniciales'!O39=\"\",\"\",'Datos Iniciales'!O39)","v":""},null,null,null,null,{"$f":"IF('Datos Iniciales'!P39=\"\",\"\",'Datos Iniciales'!P39)","v":""},null,null,null,null,null,null,null,null,null,null,null,null,{"$f":"IF('Datos Iniciales'!B39=\"\",\"\",(IF('Datos Iniciales'!B39=\"Si\",\"002\",\"003\")))","v":""},null,{"$f":"IF('Datos Iniciales'!Q39=\"\",\"\",(IF('Datos Iniciales'!Q39=datos!S38,\"0\",\"2\")))","v":""},{"$f":"IF('Datos Iniciales'!B39=\"\",\"\",(IF('Datos Iniciales'!B39=\"Si\",\"O-48\",\"O-49\")))","v":""}]
[{"$f":"IF('Datos Iniciales'!B40=\"\",\"\",\"Si\")","v":""},{"$f":"(IF('Datos Iniciales'!A40=\"Cliente\",\"Si\",(IF('Datos Iniciales'!A40=\"\",\"\",\"No\"))))","v":""},{"$f":"(IF('Datos Iniciales'!A40=\"Distribuidor\",\"Si\",(IF('Datos Iniciales'!A40=\"\",\"\",\"No\"))))","v":""},{"$f":"(IF('Datos Iniciales'!A40=\"Otros\",\"Si\",(IF('Datos Iniciales'!A40=\"\",\"\",\"No\"))))","v":""},{"$f":"(IF('Datos Iniciales'!A40=\"Prospecto\",\"Si\",(IF('Datos Iniciales'!A40=\"\",\"\",\"No\"))))","v":""},{"$f":"(IF('Datos Iniciales'!A40=\"Proveedor\",\"Si\",(IF('Datos Iniciales'!A40=\"\",\"\",\"No\"))))","v":""},{"$f":"IF('Datos Iniciales'!B40=\"\",\"\",'Datos Iniciales'!B40)","v":""},{"$f":"IF('Datos Iniciales'!C40=\"\",\"\",'Datos Iniciales'!C40)","v":""},{"$f":"IF('Datos Iniciales'!D40=\"\",\"\",'Datos Iniciales'!D40)","v":""},{"$f":"IF('Datos Iniciales'!E40=datos!$I$2,datos!$J$2,(IF('Datos Iniciales'!E40=datos!$I$3,datos!$J$3,(IF('Datos Iniciales'!E40=datos!$I$4,datos!$J$4,(IF('Datos Iniciales'!E40=datos!$I$5,datos!$J$5,(IF('Datos Iniciales'!E40=datos!$I$6,datos!$J$6,(IF('Datos Iniciales'!E40=datos!$I$7,datos!$J$7,(IF('Datos Iniciales'!E40=datos!$I$2,datos!$J$2,(IF('Datos Iniciales'!E40=datos!$I$8,datos!$J$8,(IF('Datos Iniciales'!E40=datos!$I$9,datos!$J$9,(IF('Datos Iniciales'!E40=datos!$I$10,datos!$J$10,(IF('Datos Iniciales'!E40=datos!$I$11,datos!$J$11,(IF('Datos Iniciales'!E40=datos!$I$12,datos!$J$12,(IF('Datos Iniciales'!E40=datos!$I$13,datos!$J$13,(IF('Datos Iniciales'!E40=datos!$I$14,datos!$J$14,(IF('Datos Iniciales'!E40=datos!$I$15,datos!$J$15,\"\")))))))))))))))))))))))))))))","v":""},{"$f":"IF('Datos Iniciales'!F40=\"\",\"\",'Datos Iniciales'!F40)","v":""},{"$f":"IFERROR(datos!B39,\"\")","v":""},null,null,null,null,{"$f":"IF('Datos Iniciales'!H40=\"\",\"\",'Datos Iniciales'!H40)","v":""},{"$f":"IF('Datos Iniciales'!I40=\"\",\"\",datos!$K$2)","v":""},{"$f":"IFERROR(VLOOKUP('Datos Iniciales'!J40,datos!O38:P1157,2,FALSE),\"\")","v":""},null,{"$f":"IF('Datos Iniciales'!K40=\"\",\"\",(CONCATENATE(RIGHT('Datos Iniciales'!K40,1),\"-\",'Datos Iniciales'!L40,\"-\",'Datos Iniciales'!M40)))","v":""},null,null,null,{"$f":"IF('Datos Iniciales'!N40=\"\",\"\",'Datos Iniciales'!N40)","v":""},{"$f":"IF('Datos Iniciales'!O40=\"\",\"\",'Datos Iniciales'!O40)","v":""},null,null,null,null,{"$f":"IF('Datos Iniciales'!P40=\"\",\"\",'Datos Iniciales'!P40)","v":""},null,null,null,null,null,null,null,null,null,null,null,null,{"$f":"IF('Datos Iniciales'!B40=\"\",\"\",(IF('Datos Iniciales'!B40=\"Si\",\"002\",\"003\")))","v":""},null,{"$f":"IF('Datos Iniciales'!Q40=\"\",\"\",(IF('Datos Iniciales'!Q40=datos!S39,\"0\",\"2\")))","v":""},{"$f":"IF('Datos Iniciales'!B40=\"\",\"\",(IF('Datos Iniciales'!B40=\"Si\",\"O-48\",\"O-49\")))","v":""}]
[{"$f":"IF('Datos Iniciales'!B41=\"\",\"\",\"Si\")","v":""},{"$f":"(IF('Datos Iniciales'!A41=\"Cliente\",\"Si\",(IF('Datos Iniciales'!A41=\"\",\"\",\"No\"))))","v":""},{"$f":"(IF('Datos Iniciales'!A41=\"Distribuidor\",\"Si\",(IF('Datos Iniciales'!A41=\"\",\"\",\"No\"))))","v":""},{"$f":"(IF('Datos Iniciales'!A41=\"Otros\",\"Si\",(IF('Datos Iniciales'!A41=\"\",\"\",\"No\"))))","v":""},{"$f":"(IF('Datos Iniciales'!A41=\"Prospecto\",\"Si\",(IF('Datos Iniciales'!A41=\"\",\"\",\"No\"))))","v":""},{"$f":"(IF('Datos Iniciales'!A41=\"Proveedor\",\"Si\",(IF('Datos Iniciales'!A41=\"\",\"\",\"No\"))))","v":""},{"$f":"IF('Datos Iniciales'!B41=\"\",\"\",'Datos Iniciales'!B41)","v":""},{"$f":"IF('Datos Iniciales'!C41=\"\",\"\",'Datos Iniciales'!C41)","v":""},{"$f":"IF('Datos Iniciales'!D41=\"\",\"\",'Datos Iniciales'!D41)","v":""},{"$f":"IF('Datos Iniciales'!E41=datos!$I$2,datos!$J$2,(IF('Datos Iniciales'!E41=datos!$I$3,datos!$J$3,(IF('Datos Iniciales'!E41=datos!$I$4,datos!$J$4,(IF('Datos Iniciales'!E41=datos!$I$5,datos!$J$5,(IF('Datos Iniciales'!E41=datos!$I$6,datos!$J$6,(IF('Datos Iniciales'!E41=datos!$I$7,datos!$J$7,(IF('Datos Iniciales'!E41=datos!$I$2,datos!$J$2,(IF('Datos Iniciales'!E41=datos!$I$8,datos!$J$8,(IF('Datos Iniciales'!E41=datos!$I$9,datos!$J$9,(IF('Datos Iniciales'!E41=datos!$I$10,datos!$J$10,(IF('Datos Iniciales'!E41=datos!$I$11,datos!$J$11,(IF('Datos Iniciales'!E41=datos!$I$12,datos!$J$12,(IF('Datos Iniciales'!E41=datos!$I$13,datos!$J$13,(IF('Datos Iniciales'!E41=datos!$I$14,datos!$J$14,(IF('Datos Iniciales'!E41=datos!$I$15,datos!$J$15,\"\")))))))))))))))))))))))))))))","v":""},{"$f":"IF('Datos Iniciales'!F41=\"\",\"\",'Datos Iniciales'!F41)","v":""},{"$f":"IFERROR(datos!B40,\"\")","v":""},null,null,null,null,{"$f":"IF('Datos Iniciales'!H41=\"\",\"\",'Datos Iniciales'!H41)","v":""},{"$f":"IF('Datos Iniciales'!I41=\"\",\"\",datos!$K$2)","v":""},{"$f":"IFERROR(VLOOKUP('Datos Iniciales'!J41,datos!O39:P1158,2,FALSE),\"\")","v":""},null,{"$f":"IF('Datos Iniciales'!K41=\"\",\"\",(CONCATENATE(RIGHT('Datos Iniciales'!K41,1),\"-\",'Datos Iniciales'!L41,\"-\",'Datos Iniciales'!M41)))","v":""},null,null,null,{"$f":"IF('Datos Iniciales'!N41=\"\",\"\",'Datos Iniciales'!N41)","v":""},{"$f":"IF('Datos Iniciales'!O41=\"\",\"\",'Datos Iniciales'!O41)","v":""},null,null,null,null,{"$f":"IF('Datos Iniciales'!P41=\"\",\"\",'Datos Iniciales'!P41)","v":""},null,null,null,null,null,null,null,null,null,null,null,null,{"$f":"IF('Datos Iniciales'!B41=\"\",\"\",(IF('Datos Iniciales'!B41=\"Si\",\"002\",\"003\")))","v":""},null,{"$f":"IF('Datos Iniciales'!Q41=\"\",\"\",(IF('Datos Iniciales'!Q41=datos!S40,\"0\",\"2\")))","v":""},{"$f":"IF('Datos Iniciales'!B41=\"\",\"\",(IF('Datos Iniciales'!B41=\"Si\",\"O-48\",\"O-49\")))","v":""}]
[{"$f":"IF('Datos Iniciales'!B42=\"\",\"\",\"Si\")","v":""},{"$f":"(IF('Datos Iniciales'!A42=\"Cliente\",\"Si\",(IF('Datos Iniciales'!A42=\"\",\"\",\"No\"))))","v":""},{"$f":"(IF('Datos Iniciales'!A42=\"Distribuidor\",\"Si\",(IF('Datos Iniciales'!A42=\"\",\"\",\"No\"))))","v":""},{"$f":"(IF('Datos Iniciales'!A42=\"Otros\",\"Si\",(IF('Datos Iniciales'!A42=\"\",\"\",\"No\"))))","v":""},{"$f":"(IF('Datos Iniciales'!A42=\"Prospecto\",\"Si\",(IF('Datos Iniciales'!A42=\"\",\"\",\"No\"))))","v":""},{"$f":"(IF('Datos Iniciales'!A42=\"Proveedor\",\"Si\",(IF('Datos Iniciales'!A42=\"\",\"\",\"No\"))))","v":""},{"$f":"IF('Datos Iniciales'!B42=\"\",\"\",'Datos Iniciales'!B42)","v":""},{"$f":"IF('Datos Iniciales'!C42=\"\",\"\",'Datos Iniciales'!C42)","v":""},{"$f":"IF('Datos Iniciales'!D42=\"\",\"\",'Datos Iniciales'!D42)","v":""},{"$f":"IF('Datos Iniciales'!E42=datos!$I$2,datos!$J$2,(IF('Datos Iniciales'!E42=datos!$I$3,datos!$J$3,(IF('Datos Iniciales'!E42=datos!$I$4,datos!$J$4,(IF('Datos Iniciales'!E42=datos!$I$5,datos!$J$5,(IF('Datos Iniciales'!E42=datos!$I$6,datos!$J$6,(IF('Datos Iniciales'!E42=datos!$I$7,datos!$J$7,(IF('Datos Iniciales'!E42=datos!$I$2,datos!$J$2,(IF('Datos Iniciales'!E42=datos!$I$8,datos!$J$8,(IF('Datos Iniciales'!E42=datos!$I$9,datos!$J$9,(IF('Datos Iniciales'!E42=datos!$I$10,datos!$J$10,(IF('Datos Iniciales'!E42=datos!$I$11,datos!$J$11,(IF('Datos Iniciales'!E42=datos!$I$12,datos!$J$12,(IF('Datos Iniciales'!E42=datos!$I$13,datos!$J$13,(IF('Datos Iniciales'!E42=datos!$I$14,datos!$J$14,(IF('Datos Iniciales'!E42=datos!$I$15,datos!$J$15,\"\")))))))))))))))))))))))))))))","v":""},{"$f":"IF('Datos Iniciales'!F42=\"\",\"\",'Datos Iniciales'!F42)","v":""},{"$f":"IFERROR(datos!B41,\"\")","v":""},null,null,null,null,{"$f":"IF('Datos Iniciales'!H42=\"\",\"\",'Datos Iniciales'!H42)","v":""},{"$f":"IF('Datos Iniciales'!I42=\"\",\"\",datos!$K$2)","v":""},{"$f":"IFERROR(VLOOKUP('Datos Iniciales'!J42,datos!O40:P1159,2,FALSE),\"\")","v":""},null,{"$f":"IF('Datos Iniciales'!K42=\"\",\"\",(CONCATENATE(RIGHT('Datos Iniciales'!K42,1),\"-\",'Datos Iniciales'!L42,\"-\",'Datos Iniciales'!M42)))","v":""},null,null,null,{"$f":"IF('Datos Iniciales'!N42=\"\",\"\",'Datos Iniciales'!N42)","v":""},{"$f":"IF('Datos Iniciales'!O42=\"\",\"\",'Datos Iniciales'!O42)","v":""},null,null,null,null,{"$f":"IF('Datos Iniciales'!P42=\"\",\"\",'Datos Iniciales'!P42)","v":""},null,null,null,null,null,null,null,null,null,null,null,null,{"$f":"IF('Datos Iniciales'!B42=\"\",\"\",(IF('Datos Iniciales'!B42=\"Si\",\"002\",\"003\")))","v":""},null,{"$f":"IF('Datos Iniciales'!Q42=\"\",\"\",(IF('Datos Iniciales'!Q42=datos!S41,\"0\",\"2\")))","v":""},{"$f":"IF('Datos Iniciales'!B42=\"\",\"\",(IF('Datos Iniciales'!B42=\"Si\",\"O-48\",\"O-49\")))","v":""}]
[{"$f":"IF('Datos Iniciales'!B43=\"\",\"\",\"Si\")","v":""},{"$f":"(IF('Datos Iniciales'!A43=\"Cliente\",\"Si\",(IF('Datos Iniciales'!A43=\"\",\"\",\"No\"))))","v":""},{"$f":"(IF('Datos Iniciales'!A43=\"Distribuidor\",\"Si\",(IF('Datos Iniciales'!A43=\"\",\"\",\"No\"))))","v":""},{"$f":"(IF('Datos Iniciales'!A43=\"Otros\",\"Si\",(IF('Datos Iniciales'!A43=\"\",\"\",\"No\"))))","v":""},{"$f":"(IF('Datos Iniciales'!A43=\"Prospecto\",\"Si\",(IF('Datos Iniciales'!A43=\"\",\"\",\"No\"))))","v":""},{"$f":"(IF('Datos Iniciales'!A43=\"Proveedor\",\"Si\",(IF('Datos Iniciales'!A43=\"\",\"\",\"No\"))))","v":""},{"$f":"IF('Datos Iniciales'!B43=\"\",\"\",'Datos Iniciales'!B43)","v":""},{"$f":"IF('Datos Iniciales'!C43=\"\",\"\",'Datos Iniciales'!C43)","v":""},{"$f":"IF('Datos Iniciales'!D43=\"\",\"\",'Datos Iniciales'!D43)","v":""},{"$f":"IF('Datos Iniciales'!E43=datos!$I$2,datos!$J$2,(IF('Datos Iniciales'!E43=datos!$I$3,datos!$J$3,(IF('Datos Iniciales'!E43=datos!$I$4,datos!$J$4,(IF('Datos Iniciales'!E43=datos!$I$5,datos!$J$5,(IF('Datos Iniciales'!E43=datos!$I$6,datos!$J$6,(IF('Datos Iniciales'!E43=datos!$I$7,datos!$J$7,(IF('Datos Iniciales'!E43=datos!$I$2,datos!$J$2,(IF('Datos Iniciales'!E43=datos!$I$8,datos!$J$8,(IF('Datos Iniciales'!E43=datos!$I$9,datos!$J$9,(IF('Datos Iniciales'!E43=datos!$I$10,datos!$J$10,(IF('Datos Iniciales'!E43=datos!$I$11,datos!$J$11,(IF('Datos Iniciales'!E43=datos!$I$12,datos!$J$12,(IF('Datos Iniciales'!E43=datos!$I$13,datos!$J$13,(IF('Datos Iniciales'!E43=datos!$I$14,datos!$J$14,(IF('Datos Iniciales'!E43=datos!$I$15,datos!$J$15,\"\")))))))))))))))))))))))))))))","v":""},{"$f":"IF('Datos Iniciales'!F43=\"\",\"\",'Datos Iniciales'!F43)","v":""},{"$f":"IFERROR(datos!B42,\"\")","v":""},null,null,null,null,{"$f":"IF('Datos Iniciales'!H43=\"\",\"\",'Datos Iniciales'!H43)","v":""},{"$f":"IF('Datos Iniciales'!I43=\"\",\"\",datos!$K$2)","v":""},{"$f":"IFERROR(VLOOKUP('Datos Iniciales'!J43,datos!O41:P1160,2,FALSE),\"\")","v":""},null,{"$f":"IF('Datos Iniciales'!K43=\"\",\"\",(CONCATENATE(RIGHT('Datos Iniciales'!K43,1),\"-\",'Datos Iniciales'!L43,\"-\",'Datos Iniciales'!M43)))","v":""},null,null,null,{"$f":"IF('Datos Iniciales'!N43=\"\",\"\",'Datos Iniciales'!N43)","v":""},{"$f":"IF('Datos Iniciales'!O43=\"\",\"\",'Datos Iniciales'!O43)","v":""},null,null,null,null,{"$f":"IF('Datos Iniciales'!P43=\"\",\"\",'Datos Iniciales'!P43)","v":""},null,null,null,null,null,null,null,null,null,null,null,null,{"$f":"IF('Datos Iniciales'!B43=\"\",\"\",(IF('Datos Iniciales'!B43=\"Si\",\"002\",\"003\")))","v":""},null,{"$f":"IF('Datos Iniciales'!Q43=\"\",\"\",(IF('Datos Iniciales'!Q43=datos!S42,\"0\",\"2\")))","v":""},{"$f":"IF('Datos Iniciales'!B43=\"\",\"\",(IF('Datos Iniciales'!B43=\"Si\",\"O-48\",\"O-49\")))","v":""}]
[{"$f":"IF('Datos Iniciales'!B44=\"\",\"\",\"Si\")","v":""},{"$f":"(IF('Datos Iniciales'!A44=\"Cliente\",\"Si\",(IF('Datos Iniciales'!A44=\"\",\"\",\"No\"))))","v":""},{"$f":"(IF('Datos Iniciales'!A44=\"Distribuidor\",\"Si\",(IF('Datos Iniciales'!A44=\"\",\"\",\"No\"))))","v":""},{"$f":"(IF('Datos Iniciales'!A44=\"Otros\",\"Si\",(IF('Datos Iniciales'!A44=\"\",\"\",\"No\"))))","v":""},{"$f":"(IF('Datos Iniciales'!A44=\"Prospecto\",\"Si\",(IF('Datos Iniciales'!A44=\"\",\"\",\"No\"))))","v":""},{"$f":"(IF('Datos Iniciales'!A44=\"Proveedor\",\"Si\",(IF('Datos Iniciales'!A44=\"\",\"\",\"No\"))))","v":""},{"$f":"IF('Datos Iniciales'!B44=\"\",\"\",'Datos Iniciales'!B44)","v":""},{"$f":"IF('Datos Iniciales'!C44=\"\",\"\",'Datos Iniciales'!C44)","v":""},{"$f":"IF('Datos Iniciales'!D44=\"\",\"\",'Datos Iniciales'!D44)","v":""},{"$f":"IF('Datos Iniciales'!E44=datos!$I$2,datos!$J$2,(IF('Datos Iniciales'!E44=datos!$I$3,datos!$J$3,(IF('Datos Iniciales'!E44=datos!$I$4,datos!$J$4,(IF('Datos Iniciales'!E44=datos!$I$5,datos!$J$5,(IF('Datos Iniciales'!E44=datos!$I$6,datos!$J$6,(IF('Datos Iniciales'!E44=datos!$I$7,datos!$J$7,(IF('Datos Iniciales'!E44=datos!$I$2,datos!$J$2,(IF('Datos Iniciales'!E44=datos!$I$8,datos!$J$8,(IF('Datos Iniciales'!E44=datos!$I$9,datos!$J$9,(IF('Datos Iniciales'!E44=datos!$I$10,datos!$J$10,(IF('Datos Iniciales'!E44=datos!$I$11,datos!$J$11,(IF('Datos Iniciales'!E44=datos!$I$12,datos!$J$12,(IF('Datos Iniciales'!E44=datos!$I$13,datos!$J$13,(IF('Datos Iniciales'!E44=datos!$I$14,datos!$J$14,(IF('Datos Iniciales'!E44=datos!$I$15,datos!$J$15,\"\")))))))))))))))))))))))))))))","v":""},{"$f":"IF('Datos Iniciales'!F44=\"\",\"\",'Datos Iniciales'!F44)","v":""},{"$f":"IFERROR(datos!B43,\"\")","v":""},null,null,null,null,{"$f":"IF('Datos Iniciales'!H44=\"\",\"\",'Datos Iniciales'!H44)","v":""},{"$f":"IF('Datos Iniciales'!I44=\"\",\"\",datos!$K$2)","v":""},{"$f":"IFERROR(VLOOKUP('Datos Iniciales'!J44,datos!O42:P1161,2,FALSE),\"\")","v":""},null,{"$f":"IF('Datos Iniciales'!K44=\"\",\"\",(CONCATENATE(RIGHT('Datos Iniciales'!K44,1),\"-\",'Datos Iniciales'!L44,\"-\",'Datos Iniciales'!M44)))","v":""},null,null,null,{"$f":"IF('Datos Iniciales'!N44=\"\",\"\",'Datos Iniciales'!N44)","v":""},{"$f":"IF('Datos Iniciales'!O44=\"\",\"\",'Datos Iniciales'!O44)","v":""},null,null,null,null,{"$f":"IF('Datos Iniciales'!P44=\"\",\"\",'Datos Iniciales'!P44)","v":""},null,null,null,null,null,null,null,null,null,null,null,null,{"$f":"IF('Datos Iniciales'!B44=\"\",\"\",(IF('Datos Iniciales'!B44=\"Si\",\"002\",\"003\")))","v":""},null,{"$f":"IF('Datos Iniciales'!Q44=\"\",\"\",(IF('Datos Iniciales'!Q44=datos!S43,\"0\",\"2\")))","v":""},{"$f":"IF('Datos Iniciales'!B44=\"\",\"\",(IF('Datos Iniciales'!B44=\"Si\",\"O-48\",\"O-49\")))","v":""}]
[{"$f":"IF('Datos Iniciales'!B45=\"\",\"\",\"Si\")","v":""},{"$f":"(IF('Datos Iniciales'!A45=\"Cliente\",\"Si\",(IF('Datos Iniciales'!A45=\"\",\"\",\"No\"))))","v":""},{"$f":"(IF('Datos Iniciales'!A45=\"Distribuidor\",\"Si\",(IF('Datos Iniciales'!A45=\"\",\"\",\"No\"))))","v":""},{"$f":"(IF('Datos Iniciales'!A45=\"Otros\",\"Si\",(IF('Datos Iniciales'!A45=\"\",\"\",\"No\"))))","v":""},{"$f":"(IF('Datos Iniciales'!A45=\"Prospecto\",\"Si\",(IF('Datos Iniciales'!A45=\"\",\"\",\"No\"))))","v":""},{"$f":"(IF('Datos Iniciales'!A45=\"Proveedor\",\"Si\",(IF('Datos Iniciales'!A45=\"\",\"\",\"No\"))))","v":""},{"$f":"IF('Datos Iniciales'!B45=\"\",\"\",'Datos Iniciales'!B45)","v":""},{"$f":"IF('Datos Iniciales'!C45=\"\",\"\",'Datos Iniciales'!C45)","v":""},{"$f":"IF('Datos Iniciales'!D45=\"\",\"\",'Datos Iniciales'!D45)","v":""},{"$f":"IF('Datos Iniciales'!E45=datos!$I$2,datos!$J$2,(IF('Datos Iniciales'!E45=datos!$I$3,datos!$J$3,(IF('Datos Iniciales'!E45=datos!$I$4,datos!$J$4,(IF('Datos Iniciales'!E45=datos!$I$5,datos!$J$5,(IF('Datos Iniciales'!E45=datos!$I$6,datos!$J$6,(IF('Datos Iniciales'!E45=datos!$I$7,datos!$J$7,(IF('Datos Iniciales'!E45=datos!$I$2,datos!$J$2,(IF('Datos Iniciales'!E45=datos!$I$8,datos!$J$8,(IF('Datos Iniciales'!E45=datos!$I$9,datos!$J$9,(IF('Datos Iniciales'!E45=datos!$I$10,datos!$J$10,(IF('Datos Iniciales'!E45=datos!$I$11,datos!$J$11,(IF('Datos Iniciales'!E45=datos!$I$12,datos!$J$12,(IF('Datos Iniciales'!E45=datos!$I$13,datos!$J$13,(IF('Datos Iniciales'!E45=datos!$I$14,datos!$J$14,(IF('Datos Iniciales'!E45=datos!$I$15,datos!$J$15,\"\")))))))))))))))))))))))))))))","v":""},{"$f":"IF('Datos Iniciales'!F45=\"\",\"\",'Datos Iniciales'!F45)","v":""},{"$f":"IFERROR(datos!B44,\"\")","v":""},null,null,null,null,{"$f":"IF('Datos Iniciales'!H45=\"\",\"\",'Datos Iniciales'!H45)","v":""},{"$f":"IF('Datos Iniciales'!I45=\"\",\"\",datos!$K$2)","v":""},{"$f":"IFERROR(VLOOKUP('Datos Iniciales'!J45,datos!O43:P1162,2,FALSE),\"\")","v":""},null,{"$f":"IF('Datos Iniciales'!K45=\"\",\"\",(CONCATENATE(RIGHT('Datos Iniciales'!K45,1),\"-\",'Datos Iniciales'!L45,\"-\",'Datos Iniciales'!M45)))","v":""},null,null,null,{"$f":"IF('Datos Iniciales'!N45=\"\",\"\",'Datos Iniciales'!N45)","v":""},{"$f":"IF('Datos Iniciales'!O45=\"\",\"\",'Datos Iniciales'!O45)","v":""},null,null,null,null,{"$f":"IF('Datos Iniciales'!P45=\"\",\"\",'Datos Iniciales'!P45)","v":""},null,null,null,null,null,null,null,null,null,null,null,null,{"$f":"IF('Datos Iniciales'!B45=\"\",\"\",(IF('Datos Iniciales'!B45=\"Si\",\"002\",\"003\")))","v":""},null,{"$f":"IF('Datos Iniciales'!Q45=\"\",\"\",(IF('Datos Iniciales'!Q45=datos!S44,\"0\",\"2\")))","v":""},{"$f":"IF('Datos Iniciales'!B45=\"\",\"\",(IF('Datos Iniciales'!B45=\"Si\",\"O-48\",\"O-49\")))","v":""}]
[{"$f":"IF('Datos Iniciales'!B46=\"\",\"\",\"Si\")","v":""},{"$f":"(IF('Datos Iniciales'!A46=\"Cliente\",\"Si\",(IF('Datos Iniciales'!A46=\"\",\"\",\"No\"))))","v":""},{"$f":"(IF('Datos Iniciales'!A46=\"Distribuidor\",\"Si\",(IF('Datos Iniciales'!A46=\"\",\"\",\"No\"))))","v":""},{"$f":"(IF('Datos Iniciales'!A46=\"Otros\",\"Si\",(IF('Datos Iniciales'!A46=\"\",\"\",\"No\"))))","v":""},{"$f":"(IF('Datos Iniciales'!A46=\"Prospecto\",\"Si\",(IF('Datos Iniciales'!A46=\"\",\"\",\"No\"))))","v":""},{"$f":"(IF('Datos Iniciales'!A46=\"Proveedor\",\"Si\",(IF('Datos Iniciales'!A46=\"\",\"\",\"No\"))))","v":""},{"$f":"IF('Datos Iniciales'!B46=\"\",\"\",'Datos Iniciales'!B46)","v":""},{"$f":"IF('Datos Iniciales'!C46=\"\",\"\",'Datos Iniciales'!C46)","v":""},{"$f":"IF('Datos Iniciales'!D46=\"\",\"\",'Datos Iniciales'!D46)","v":""},{"$f":"IF('Datos Iniciales'!E46=datos!$I$2,datos!$J$2,(IF('Datos Iniciales'!E46=datos!$I$3,datos!$J$3,(IF('Datos Iniciales'!E46=datos!$I$4,datos!$J$4,(IF('Datos Iniciales'!E46=datos!$I$5,datos!$J$5,(IF('Datos Iniciales'!E46=datos!$I$6,datos!$J$6,(IF('Datos Iniciales'!E46=datos!$I$7,datos!$J$7,(IF('Datos Iniciales'!E46=datos!$I$2,datos!$J$2,(IF('Datos Iniciales'!E46=datos!$I$8,datos!$J$8,(IF('Datos Iniciales'!E46=datos!$I$9,datos!$J$9,(IF('Datos Iniciales'!E46=datos!$I$10,datos!$J$10,(IF('Datos Iniciales'!E46=datos!$I$11,datos!$J$11,(IF('Datos Iniciales'!E46=datos!$I$12,datos!$J$12,(IF('Datos Iniciales'!E46=datos!$I$13,datos!$J$13,(IF('Datos Iniciales'!E46=datos!$I$14,datos!$J$14,(IF('Datos Iniciales'!E46=datos!$I$15,datos!$J$15,\"\")))))))))))))))))))))))))))))","v":""},{"$f":"IF('Datos Iniciales'!F46=\"\",\"\",'Datos Iniciales'!F46)","v":""},{"$f":"IFERROR(datos!B45,\"\")","v":""},null,null,null,null,{"$f":"IF('Datos Iniciales'!H46=\"\",\"\",'Datos Iniciales'!H46)","v":""},{"$f":"IF('Datos Iniciales'!I46=\"\",\"\",datos!$K$2)","v":""},{"$f":"IFERROR(VLOOKUP('Datos Iniciales'!J46,datos!O44:P1163,2,FALSE),\"\")","v":""},null,{"$f":"IF('Datos Iniciales'!K46=\"\",\"\",(CONCATENATE(RIGHT('Datos Iniciales'!K46,1),\"-\",'Datos Iniciales'!L46,\"-\",'Datos Iniciales'!M46)))","v":""},null,null,null,{"$f":"IF('Datos Iniciales'!N46=\"\",\"\",'Datos Iniciales'!N46)","v":""},{"$f":"IF('Datos Iniciales'!O46=\"\",\"\",'Datos Iniciales'!O46)","v":""},null,null,null,null,{"$f":"IF('Datos Iniciales'!P46=\"\",\"\",'Datos Iniciales'!P46)","v":""},null,null,null,null,null,null,null,null,null,null,null,null,{"$f":"IF('Datos Iniciales'!B46=\"\",\"\",(IF('Datos Iniciales'!B46=\"Si\",\"002\",\"003\")))","v":""},null,{"$f":"IF('Datos Iniciales'!Q46=\"\",\"\",(IF('Datos Iniciales'!Q46=datos!S45,\"0\",\"2\")))","v":""},{"$f":"IF('Datos Iniciales'!B46=\"\",\"\",(IF('Datos Iniciales'!B46=\"Si\",\"O-48\",\"O-49\")))","v":""}]
[{"$f":"IF('Datos Iniciales'!B47=\"\",\"\",\"Si\")","v":""},{"$f":"(IF('Datos Iniciales'!A47=\"Cliente\",\"Si\",(IF('Datos Iniciales'!A47=\"\",\"\",\"No\"))))","v":""},{"$f":"(IF('Datos Iniciales'!A47=\"Distribuidor\",\"Si\",(IF('Datos Iniciales'!A47=\"\",\"\",\"No\"))))","v":""},{"$f":"(IF('Datos Iniciales'!A47=\"Otros\",\"Si\",(IF('Datos Iniciales'!A47=\"\",\"\",\"No\"))))","v":""},{"$f":"(IF('Datos Iniciales'!A47=\"Prospecto\",\"Si\",(IF('Datos Iniciales'!A47=\"\",\"\",\"No\"))))","v":""},{"$f":"(IF('Datos Iniciales'!A47=\"Proveedor\",\"Si\",(IF('Datos Iniciales'!A47=\"\",\"\",\"No\"))))","v":""},{"$f":"IF('Datos Iniciales'!B47=\"\",\"\",'Datos Iniciales'!B47)","v":""},{"$f":"IF('Datos Iniciales'!C47=\"\",\"\",'Datos Iniciales'!C47)","v":""},{"$f":"IF('Datos Iniciales'!D47=\"\",\"\",'Datos Iniciales'!D47)","v":""},{"$f":"IF('Datos Iniciales'!E47=datos!$I$2,datos!$J$2,(IF('Datos Iniciales'!E47=datos!$I$3,datos!$J$3,(IF('Datos Iniciales'!E47=datos!$I$4,datos!$J$4,(IF('Datos Iniciales'!E47=datos!$I$5,datos!$J$5,(IF('Datos Iniciales'!E47=datos!$I$6,datos!$J$6,(IF('Datos Iniciales'!E47=datos!$I$7,datos!$J$7,(IF('Datos Iniciales'!E47=datos!$I$2,datos!$J$2,(IF('Datos Iniciales'!E47=datos!$I$8,datos!$J$8,(IF('Datos Iniciales'!E47=datos!$I$9,datos!$J$9,(IF('Datos Iniciales'!E47=datos!$I$10,datos!$J$10,(IF('Datos Iniciales'!E47=datos!$I$11,datos!$J$11,(IF('Datos Iniciales'!E47=datos!$I$12,datos!$J$12,(IF('Datos Iniciales'!E47=datos!$I$13,datos!$J$13,(IF('Datos Iniciales'!E47=datos!$I$14,datos!$J$14,(IF('Datos Iniciales'!E47=datos!$I$15,datos!$J$15,\"\")))))))))))))))))))))))))))))","v":""},{"$f":"IF('Datos Iniciales'!F47=\"\",\"\",'Datos Iniciales'!F47)","v":""},{"$f":"IFERROR(datos!B46,\"\")","v":""},null,null,null,null,{"$f":"IF('Datos Iniciales'!H47=\"\",\"\",'Datos Iniciales'!H47)","v":""},{"$f":"IF('Datos Iniciales'!I47=\"\",\"\",datos!$K$2)","v":""},{"$f":"IFERROR(VLOOKUP('Datos Iniciales'!J47,datos!O45:P1164,2,FALSE),\"\")","v":""},null,{"$f":"IF('Datos Iniciales'!K47=\"\",\"\",(CONCATENATE(RIGHT('Datos Iniciales'!K47,1),\"-\",'Datos Iniciales'!L47,\"-\",'Datos Iniciales'!M47)))","v":""},null,null,null,{"$f":"IF('Datos Iniciales'!N47=\"\",\"\",'Datos Iniciales'!N47)","v":""},{"$f":"IF('Datos Iniciales'!O47=\"\",\"\",'Datos Iniciales'!O47)","v":""},null,null,null,null,{"$f":"IF('Datos Iniciales'!P47=\"\",\"\",'Datos Iniciales'!P47)","v":""},null,null,null,null,null,null,null,null,null,null,null,null,{"$f":"IF('Datos Iniciales'!B47=\"\",\"\",(IF('Datos Iniciales'!B47=\"Si\",\"002\",\"003\")))","v":""},null,{"$f":"IF('Datos Iniciales'!Q47=\"\",\"\",(IF('Datos Iniciales'!Q47=datos!S46,\"0\",\"2\")))","v":""},{"$f":"IF('Datos Iniciales'!B47=\"\",\"\",(IF('Datos Iniciales'!B47=\"Si\",\"O-48\",\"O-49\")))","v":""}]
[{"$f":"IF('Datos Iniciales'!B48=\"\",\"\",\"Si\")","v":""},{"$f":"(IF('Datos Iniciales'!A48=\"Cliente\",\"Si\",(IF('Datos Iniciales'!A48=\"\",\"\",\"No\"))))","v":""},{"$f":"(IF('Datos Iniciales'!A48=\"Distribuidor\",\"Si\",(IF('Datos Iniciales'!A48=\"\",\"\",\"No\"))))","v":""},{"$f":"(IF('Datos Iniciales'!A48=\"Otros\",\"Si\",(IF('Datos Iniciales'!A48=\"\",\"\",\"No\"))))","v":""},{"$f":"(IF('Datos Iniciales'!A48=\"Prospecto\",\"Si\",(IF('Datos Iniciales'!A48=\"\",\"\",\"No\"))))","v":""},{"$f":"(IF('Datos Iniciales'!A48=\"Proveedor\",\"Si\",(IF('Datos Iniciales'!A48=\"\",\"\",\"No\"))))","v":""},{"$f":"IF('Datos Iniciales'!B48=\"\",\"\",'Datos Iniciales'!B48)","v":""},{"$f":"IF('Datos Iniciales'!C48=\"\",\"\",'Datos Iniciales'!C48)","v":""},{"$f":"IF('Datos Iniciales'!D48=\"\",\"\",'Datos Iniciales'!D48)","v":""},{"$f":"IF('Datos Iniciales'!E48=datos!$I$2,datos!$J$2,(IF('Datos Iniciales'!E48=datos!$I$3,datos!$J$3,(IF('Datos Iniciales'!E48=datos!$I$4,datos!$J$4,(IF('Datos Iniciales'!E48=datos!$I$5,datos!$J$5,(IF('Datos Iniciales'!E48=datos!$I$6,datos!$J$6,(IF('Datos Iniciales'!E48=datos!$I$7,datos!$J$7,(IF('Datos Iniciales'!E48=datos!$I$2,datos!$J$2,(IF('Datos Iniciales'!E48=datos!$I$8,datos!$J$8,(IF('Datos Iniciales'!E48=datos!$I$9,datos!$J$9,(IF('Datos Iniciales'!E48=datos!$I$10,datos!$J$10,(IF('Datos Iniciales'!E48=datos!$I$11,datos!$J$11,(IF('Datos Iniciales'!E48=datos!$I$12,datos!$J$12,(IF('Datos Iniciales'!E48=datos!$I$13,datos!$J$13,(IF('Datos Iniciales'!E48=datos!$I$14,datos!$J$14,(IF('Datos Iniciales'!E48=datos!$I$15,datos!$J$15,\"\")))))))))))))))))))))))))))))","v":""},{"$f":"IF('Datos Iniciales'!F48=\"\",\"\",'Datos Iniciales'!F48)","v":""},{"$f":"IFERROR(datos!B47,\"\")","v":""},null,null,null,null,{"$f":"IF('Datos Iniciales'!H48=\"\",\"\",'Datos Iniciales'!H48)","v":""},{"$f":"IF('Datos Iniciales'!I48=\"\",\"\",datos!$K$2)","v":""},{"$f":"IFERROR(VLOOKUP('Datos Iniciales'!J48,datos!O46:P1165,2,FALSE),\"\")","v":""},null,{"$f":"IF('Datos Iniciales'!K48=\"\",\"\",(CONCATENATE(RIGHT('Datos Iniciales'!K48,1),\"-\",'Datos Iniciales'!L48,\"-\",'Datos Iniciales'!M48)))","v":""},null,null,null,{"$f":"IF('Datos Iniciales'!N48=\"\",\"\",'Datos Iniciales'!N48)","v":""},{"$f":"IF('Datos Iniciales'!O48=\"\",\"\",'Datos Iniciales'!O48)","v":""},null,null,null,null,{"$f":"IF('Datos Iniciales'!P48=\"\",\"\",'Datos Iniciales'!P48)","v":""},null,null,null,null,null,null,null,null,null,null,null,null,{"$f":"IF('Datos Iniciales'!B48=\"\",\"\",(IF('Datos Iniciales'!B48=\"Si\",\"002\",\"003\")))","v":""},null,{"$f":"IF('Datos Iniciales'!Q48=\"\",\"\",(IF('Datos Iniciales'!Q48=datos!S47,\"0\",\"2\")))","v":""},{"$f":"IF('Datos Iniciales'!B48=\"\",\"\",(IF('Datos Iniciales'!B48=\"Si\",\"O-48\",\"O-49\")))","v":""}]
[{"$f":"IF('Datos Iniciales'!B49=\"\",\"\",\"Si\")","v":""},{"$f":"(IF('Datos Iniciales'!A49=\"Cliente\",\"Si\",(IF('Datos Iniciales'!A49=\"\",\"\",\"No\"))))","v":""},{"$f":"(IF('Datos Iniciales'!A49=\"Distribuidor\",\"Si\",(IF('Datos Iniciales'!A49=\"\",\"\",\"No\"))))","v":""},{"$f":"(IF('Datos Iniciales'!A49=\"Otros\",\"Si\",(IF('Datos Iniciales'!A49=\"\",\"\",\"No\"))))","v":""},{"$f":"(IF('Datos Iniciales'!A49=\"Prospecto\",\"Si\",(IF('Datos Iniciales'!A49=\"\",\"\",\"No\"))))","v":""},{"$f":"(IF('Datos Iniciales'!A49=\"Proveedor\",\"Si\",(IF('Datos Iniciales'!A49=\"\",\"\",\"No\"))))","v":""},{"$f":"IF('Datos Iniciales'!B49=\"\",\"\",'Datos Iniciales'!B49)","v":""},{"$f":"IF('Datos Iniciales'!C49=\"\",\"\",'Datos Iniciales'!C49)","v":""},{"$f":"IF('Datos Iniciales'!D49=\"\",\"\",'Datos Iniciales'!D49)","v":""},{"$f":"IF('Datos Iniciales'!E49=datos!$I$2,datos!$J$2,(IF('Datos Iniciales'!E49=datos!$I$3,datos!$J$3,(IF('Datos Iniciales'!E49=datos!$I$4,datos!$J$4,(IF('Datos Iniciales'!E49=datos!$I$5,datos!$J$5,(IF('Datos Iniciales'!E49=datos!$I$6,datos!$J$6,(IF('Datos Iniciales'!E49=datos!$I$7,datos!$J$7,(IF('Datos Iniciales'!E49=datos!$I$2,datos!$J$2,(IF('Datos Iniciales'!E49=datos!$I$8,datos!$J$8,(IF('Datos Iniciales'!E49=datos!$I$9,datos!$J$9,(IF('Datos Iniciales'!E49=datos!$I$10,datos!$J$10,(IF('Datos Iniciales'!E49=datos!$I$11,datos!$J$11,(IF('Datos Iniciales'!E49=datos!$I$12,datos!$J$12,(IF('Datos Iniciales'!E49=datos!$I$13,datos!$J$13,(IF('Datos Iniciales'!E49=datos!$I$14,datos!$J$14,(IF('Datos Iniciales'!E49=datos!$I$15,datos!$J$15,\"\")))))))))))))))))))))))))))))","v":""},{"$f":"IF('Datos Iniciales'!F49=\"\",\"\",'Datos Iniciales'!F49)","v":""},{"$f":"IFERROR(datos!B48,\"\")","v":""},null,null,null,null,{"$f":"IF('Datos Iniciales'!H49=\"\",\"\",'Datos Iniciales'!H49)","v":""},{"$f":"IF('Datos Iniciales'!I49=\"\",\"\",datos!$K$2)","v":""},{"$f":"IFERROR(VLOOKUP('Datos Iniciales'!J49,datos!O47:P1166,2,FALSE),\"\")","v":""},null,{"$f":"IF('Datos Iniciales'!K49=\"\",\"\",(CONCATENATE(RIGHT('Datos Iniciales'!K49,1),\"-\",'Datos Iniciales'!L49,\"-\",'Datos Iniciales'!M49)))","v":""},null,null,null,{"$f":"IF('Datos Iniciales'!N49=\"\",\"\",'Datos Iniciales'!N49)","v":""},{"$f":"IF('Datos Iniciales'!O49=\"\",\"\",'Datos Iniciales'!O49)","v":""},null,null,null,null,{"$f":"IF('Datos Iniciales'!P49=\"\",\"\",'Datos Iniciales'!P49)","v":""},null,null,null,null,null,null,null,null,null,null,null,null,{"$f":"IF('Datos Iniciales'!B49=\"\",\"\",(IF('Datos Iniciales'!B49=\"Si\",\"002\",\"003\")))","v":""},null,{"$f":"IF('Datos Iniciales'!Q49=\"\",\"\",(IF('Datos Iniciales'!Q49=datos!S48,\"0\",\"2\")))","v":""},{"$f":"IF('Datos Iniciales'!B49=\"\",\"\",(IF('Datos Iniciales'!B49=\"Si\",\"O-48\",\"O-49\")))","v":""}]
[{"$f":"IF('Datos Iniciales'!B50=\"\",\"\",\"Si\")","v":""},{"$f":"(IF('Datos Iniciales'!A50=\"Cliente\",\"Si\",(IF('Datos Iniciales'!A50=\"\",\"\",\"No\"))))","v":""},{"$f":"(IF('Datos Iniciales'!A50=\"Distribuidor\",\"Si\",(IF('Datos Iniciales'!A50=\"\",\"\",\"No\"))))","v":""},{"$f":"(IF('Datos Iniciales'!A50=\"Otros\",\"Si\",(IF('Datos Iniciales'!A50=\"\",\"\",\"No\"))))","v":""},{"$f":"(IF('Datos Iniciales'!A50=\"Prospecto\",\"Si\",(IF('Datos Iniciales'!A50=\"\",\"\",\"No\"))))","v":""},{"$f":"(IF('Datos Iniciales'!A50=\"Proveedor\",\"Si\",(IF('Datos Iniciales'!A50=\"\",\"\",\"No\"))))","v":""},{"$f":"IF('Datos Iniciales'!B50=\"\",\"\",'Datos Iniciales'!B50)","v":""},{"$f":"IF('Datos Iniciales'!C50=\"\",\"\",'Datos Iniciales'!C50)","v":""},{"$f":"IF('Datos Iniciales'!D50=\"\",\"\",'Datos Iniciales'!D50)","v":""},{"$f":"IF('Datos Iniciales'!E50=datos!$I$2,datos!$J$2,(IF('Datos Iniciales'!E50=datos!$I$3,datos!$J$3,(IF('Datos Iniciales'!E50=datos!$I$4,datos!$J$4,(IF('Datos Iniciales'!E50=datos!$I$5,datos!$J$5,(IF('Datos Iniciales'!E50=datos!$I$6,datos!$J$6,(IF('Datos Iniciales'!E50=datos!$I$7,datos!$J$7,(IF('Datos Iniciales'!E50=datos!$I$2,datos!$J$2,(IF('Datos Iniciales'!E50=datos!$I$8,datos!$J$8,(IF('Datos Iniciales'!E50=datos!$I$9,datos!$J$9,(IF('Datos Iniciales'!E50=datos!$I$10,datos!$J$10,(IF('Datos Iniciales'!E50=datos!$I$11,datos!$J$11,(IF('Datos Iniciales'!E50=datos!$I$12,datos!$J$12,(IF('Datos Iniciales'!E50=datos!$I$13,datos!$J$13,(IF('Datos Iniciales'!E50=datos!$I$14,datos!$J$14,(IF('Datos Iniciales'!E50=datos!$I$15,datos!$J$15,\"\")))))))))))))))))))))))))))))","v":""},{"$f":"IF('Datos Iniciales'!F50=\"\",\"\",'Datos Iniciales'!F50)","v":""},{"$f":"IFERROR(datos!B49,\"\")","v":""},null,null,null,null,{"$f":"IF('Datos Iniciales'!H50=\"\",\"\",'Datos Iniciales'!H50)","v":""},{"$f":"IF('Datos Iniciales'!I50=\"\",\"\",datos!$K$2)","v":""},{"$f":"IFERROR(VLOOKUP('Datos Iniciales'!J50,datos!O48:P1167,2,FALSE),\"\")","v":""},null,{"$f":"IF('Datos Iniciales'!K50=\"\",\"\",(CONCATENATE(RIGHT('Datos Iniciales'!K50,1),\"-\",'Datos Iniciales'!L50,\"-\",'Datos Iniciales'!M50)))","v":""},null,null,null,{"$f":"IF('Datos Iniciales'!N50=\"\",\"\",'Datos Iniciales'!N50)","v":""},{"$f":"IF('Datos Iniciales'!O50=\"\",\"\",'Datos Iniciales'!O50)","v":""},null,null,null,null,{"$f":"IF('Datos Iniciales'!P50=\"\",\"\",'Datos Iniciales'!P50)","v":""},null,null,null,null,null,null,null,null,null,null,null,null,{"$f":"IF('Datos Iniciales'!B50=\"\",\"\",(IF('Datos Iniciales'!B50=\"Si\",\"002\",\"003\")))","v":""},null,{"$f":"IF('Datos Iniciales'!Q50=\"\",\"\",(IF('Datos Iniciales'!Q50=datos!S49,\"0\",\"2\")))","v":""},{"$f":"IF('Datos Iniciales'!B50=\"\",\"\",(IF('Datos Iniciales'!B50=\"Si\",\"O-48\",\"O-49\")))","v":""}]
[{"$f":"IF('Datos Iniciales'!B51=\"\",\"\",\"Si\")","v":""},{"$f":"(IF('Datos Iniciales'!A51=\"Cliente\",\"Si\",(IF('Datos Iniciales'!A51=\"\",\"\",\"No\"))))","v":""},{"$f":"(IF('Datos Iniciales'!A51=\"Distribuidor\",\"Si\",(IF('Datos Iniciales'!A51=\"\",\"\",\"No\"))))","v":""},{"$f":"(IF('Datos Iniciales'!A51=\"Otros\",\"Si\",(IF('Datos Iniciales'!A51=\"\",\"\",\"No\"))))","v":""},{"$f":"(IF('Datos Iniciales'!A51=\"Prospecto\",\"Si\",(IF('Datos Iniciales'!A51=\"\",\"\",\"No\"))))","v":""},{"$f":"(IF('Datos Iniciales'!A51=\"Proveedor\",\"Si\",(IF('Datos Iniciales'!A51=\"\",\"\",\"No\"))))","v":""},{"$f":"IF('Datos Iniciales'!B51=\"\",\"\",'Datos Iniciales'!B51)","v":""},{"$f":"IF('Datos Iniciales'!C51=\"\",\"\",'Datos Iniciales'!C51)","v":""},{"$f":"IF('Datos Iniciales'!D51=\"\",\"\",'Datos Iniciales'!D51)","v":""},{"$f":"IF('Datos Iniciales'!E51=datos!$I$2,datos!$J$2,(IF('Datos Iniciales'!E51=datos!$I$3,datos!$J$3,(IF('Datos Iniciales'!E51=datos!$I$4,datos!$J$4,(IF('Datos Iniciales'!E51=datos!$I$5,datos!$J$5,(IF('Datos Iniciales'!E51=datos!$I$6,datos!$J$6,(IF('Datos Iniciales'!E51=datos!$I$7,datos!$J$7,(IF('Datos Iniciales'!E51=datos!$I$2,datos!$J$2,(IF('Datos Iniciales'!E51=datos!$I$8,datos!$J$8,(IF('Datos Iniciales'!E51=datos!$I$9,datos!$J$9,(IF('Datos Iniciales'!E51=datos!$I$10,datos!$J$10,(IF('Datos Iniciales'!E51=datos!$I$11,datos!$J$11,(IF('Datos Iniciales'!E51=datos!$I$12,datos!$J$12,(IF('Datos Iniciales'!E51=datos!$I$13,datos!$J$13,(IF('Datos Iniciales'!E51=datos!$I$14,datos!$J$14,(IF('Datos Iniciales'!E51=datos!$I$15,datos!$J$15,\"\")))))))))))))))))))))))))))))","v":""},{"$f":"IF('Datos Iniciales'!F51=\"\",\"\",'Datos Iniciales'!F51)","v":""},{"$f":"IFERROR(datos!B50,\"\")","v":""},null,null,null,null,{"$f":"IF('Datos Iniciales'!H51=\"\",\"\",'Datos Iniciales'!H51)","v":""},{"$f":"IF('Datos Iniciales'!I51=\"\",\"\",datos!$K$2)","v":""},{"$f":"IFERROR(VLOOKUP('Datos Iniciales'!J51,datos!O49:P1168,2,FALSE),\"\")","v":""},null,{"$f":"IF('Datos Iniciales'!K51=\"\",\"\",(CONCATENATE(RIGHT('Datos Iniciales'!K51,1),\"-\",'Datos Iniciales'!L51,\"-\",'Datos Iniciales'!M51)))","v":""},null,null,null,{"$f":"IF('Datos Iniciales'!N51=\"\",\"\",'Datos Iniciales'!N51)","v":""},{"$f":"IF('Datos Iniciales'!O51=\"\",\"\",'Datos Iniciales'!O51)","v":""},null,null,null,null,{"$f":"IF('Datos Iniciales'!P51=\"\",\"\",'Datos Iniciales'!P51)","v":""},null,null,null,null,null,null,null,null,null,null,null,null,{"$f":"IF('Datos Iniciales'!B51=\"\",\"\",(IF('Datos Iniciales'!B51=\"Si\",\"002\",\"003\")))","v":""},null,{"$f":"IF('Datos Iniciales'!Q51=\"\",\"\",(IF('Datos Iniciales'!Q51=datos!S50,\"0\",\"2\")))","v":""},{"$f":"IF('Datos Iniciales'!B51=\"\",\"\",(IF('Datos Iniciales'!B51=\"Si\",\"O-48\",\"O-49\")))","v":""}]
[{"$f":"IF('Datos Iniciales'!B52=\"\",\"\",\"Si\")","v":""},{"$f":"(IF('Datos Iniciales'!A52=\"Cliente\",\"Si\",(IF('Datos Iniciales'!A52=\"\",\"\",\"No\"))))","v":""},{"$f":"(IF('Datos Iniciales'!A52=\"Distribuidor\",\"Si\",(IF('Datos Iniciales'!A52=\"\",\"\",\"No\"))))","v":""},{"$f":"(IF('Datos Iniciales'!A52=\"Otros\",\"Si\",(IF('Datos Iniciales'!A52=\"\",\"\",\"No\"))))","v":""},{"$f":"(IF('Datos Iniciales'!A52=\"Prospecto\",\"Si\",(IF('Datos Iniciales'!A52=\"\",\"\",\"No\"))))","v":""},{"$f":"(IF('Datos Iniciales'!A52=\"Proveedor\",\"Si\",(IF('Datos Iniciales'!A52=\"\",\"\",\"No\"))))","v":""},{"$f":"IF('Datos Iniciales'!B52=\"\",\"\",'Datos Iniciales'!B52)","v":""},{"$f":"IF('Datos Iniciales'!C52=\"\",\"\",'Datos Iniciales'!C52)","v":""},{"$f":"IF('Datos Iniciales'!D52=\"\",\"\",'Datos Iniciales'!D52)","v":""},{"$f":"IF('Datos Iniciales'!E52=datos!$I$2,datos!$J$2,(IF('Datos Iniciales'!E52=datos!$I$3,datos!$J$3,(IF('Datos Iniciales'!E52=datos!$I$4,datos!$J$4,(IF('Datos Iniciales'!E52=datos!$I$5,datos!$J$5,(IF('Datos Iniciales'!E52=datos!$I$6,datos!$J$6,(IF('Datos Iniciales'!E52=datos!$I$7,datos!$J$7,(IF('Datos Iniciales'!E52=datos!$I$2,datos!$J$2,(IF('Datos Iniciales'!E52=datos!$I$8,datos!$J$8,(IF('Datos Iniciales'!E52=datos!$I$9,datos!$J$9,(IF('Datos Iniciales'!E52=datos!$I$10,datos!$J$10,(IF('Datos Iniciales'!E52=datos!$I$11,datos!$J$11,(IF('Datos Iniciales'!E52=datos!$I$12,datos!$J$12,(IF('Datos Iniciales'!E52=datos!$I$13,datos!$J$13,(IF('Datos Iniciales'!E52=datos!$I$14,datos!$J$14,(IF('Datos Iniciales'!E52=datos!$I$15,datos!$J$15,\"\")))))))))))))))))))))))))))))","v":""},{"$f":"IF('Datos Iniciales'!F52=\"\",\"\",'Datos Iniciales'!F52)","v":""},{"$f":"IFERROR(datos!B51,\"\")","v":""},null,null,null,null,{"$f":"IF('Datos Iniciales'!H52=\"\",\"\",'Datos Iniciales'!H52)","v":""},{"$f":"IF('Datos Iniciales'!I52=\"\",\"\",datos!$K$2)","v":""},{"$f":"IFERROR(VLOOKUP('Datos Iniciales'!J52,datos!O50:P1169,2,FALSE),\"\")","v":""},null,{"$f":"IF('Datos Iniciales'!K52=\"\",\"\",(CONCATENATE(RIGHT('Datos Iniciales'!K52,1),\"-\",'Datos Iniciales'!L52,\"-\",'Datos Iniciales'!M52)))","v":""},null,null,null,{"$f":"IF('Datos Iniciales'!N52=\"\",\"\",'Datos Iniciales'!N52)","v":""},{"$f":"IF('Datos Iniciales'!O52=\"\",\"\",'Datos Iniciales'!O52)","v":""},null,null,null,null,{"$f":"IF('Datos Iniciales'!P52=\"\",\"\",'Datos Iniciales'!P52)","v":""},null,null,null,null,null,null,null,null,null,null,null,null,{"$f":"IF('Datos Iniciales'!B52=\"\",\"\",(IF('Datos Iniciales'!B52=\"Si\",\"002\",\"003\")))","v":""},null,{"$f":"IF('Datos Iniciales'!Q52=\"\",\"\",(IF('Datos Iniciales'!Q52=datos!S51,\"0\",\"2\")))","v":""},{"$f":"IF('Datos Iniciales'!B52=\"\",\"\",(IF('Datos Iniciales'!B52=\"Si\",\"O-48\",\"O-49\")))","v":""}]
[{"$f":"IF('Datos Iniciales'!B53=\"\",\"\",\"Si\")","v":""},{"$f":"(IF('Datos Iniciales'!A53=\"Cliente\",\"Si\",(IF('Datos Iniciales'!A53=\"\",\"\",\"No\"))))","v":""},{"$f":"(IF('Datos Iniciales'!A53=\"Distribuidor\",\"Si\",(IF('Datos Iniciales'!A53=\"\",\"\",\"No\"))))","v":""},{"$f":"(IF('Datos Iniciales'!A53=\"Otros\",\"Si\",(IF('Datos Iniciales'!A53=\"\",\"\",\"No\"))))","v":""},{"$f":"(IF('Datos Iniciales'!A53=\"Prospecto\",\"Si\",(IF('Datos Iniciales'!A53=\"\",\"\",\"No\"))))","v":""},{"$f":"(IF('Datos Iniciales'!A53=\"Proveedor\",\"Si\",(IF('Datos Iniciales'!A53=\"\",\"\",\"No\"))))","v":""},{"$f":"IF('Datos Iniciales'!B53=\"\",\"\",'Datos Iniciales'!B53)","v":""},{"$f":"IF('Datos Iniciales'!C53=\"\",\"\",'Datos Iniciales'!C53)","v":""},{"$f":"IF('Datos Iniciales'!D53=\"\",\"\",'Datos Iniciales'!D53)","v":""},{"$f":"IF('Datos Iniciales'!E53=datos!$I$2,datos!$J$2,(IF('Datos Iniciales'!E53=datos!$I$3,datos!$J$3,(IF('Datos Iniciales'!E53=datos!$I$4,datos!$J$4,(IF('Datos Iniciales'!E53=datos!$I$5,datos!$J$5,(IF('Datos Iniciales'!E53=datos!$I$6,datos!$J$6,(IF('Datos Iniciales'!E53=datos!$I$7,datos!$J$7,(IF('Datos Iniciales'!E53=datos!$I$2,datos!$J$2,(IF('Datos Iniciales'!E53=datos!$I$8,datos!$J$8,(IF('Datos Iniciales'!E53=datos!$I$9,datos!$J$9,(IF('Datos Iniciales'!E53=datos!$I$10,datos!$J$10,(IF('Datos Iniciales'!E53=datos!$I$11,datos!$J$11,(IF('Datos Iniciales'!E53=datos!$I$12,datos!$J$12,(IF('Datos Iniciales'!E53=datos!$I$13,datos!$J$13,(IF('Datos Iniciales'!E53=datos!$I$14,datos!$J$14,(IF('Datos Iniciales'!E53=datos!$I$15,datos!$J$15,\"\")))))))))))))))))))))))))))))","v":""},{"$f":"IF('Datos Iniciales'!F53=\"\",\"\",'Datos Iniciales'!F53)","v":""},{"$f":"IFERROR(datos!B52,\"\")","v":""},null,null,null,null,{"$f":"IF('Datos Iniciales'!H53=\"\",\"\",'Datos Iniciales'!H53)","v":""},{"$f":"IF('Datos Iniciales'!I53=\"\",\"\",datos!$K$2)","v":""},{"$f":"IFERROR(VLOOKUP('Datos Iniciales'!J53,datos!O51:P1170,2,FALSE),\"\")","v":""},null,{"$f":"IF('Datos Iniciales'!K53=\"\",\"\",(CONCATENATE(RIGHT('Datos Iniciales'!K53,1),\"-\",'Datos Iniciales'!L53,\"-\",'Datos Iniciales'!M53)))","v":""},null,null,null,{"$f":"IF('Datos Iniciales'!N53=\"\",\"\",'Datos Iniciales'!N53)","v":""},{"$f":"IF('Datos Iniciales'!O53=\"\",\"\",'Datos Iniciales'!O53)","v":""},null,null,null,null,{"$f":"IF('Datos Iniciales'!P53=\"\",\"\",'Datos Iniciales'!P53)","v":""},null,null,null,null,null,null,null,null,null,null,null,null,{"$f":"IF('Datos Iniciales'!B53=\"\",\"\",(IF('Datos Iniciales'!B53=\"Si\",\"002\",\"003\")))","v":""},null,{"$f":"IF('Datos Iniciales'!Q53=\"\",\"\",(IF('Datos Iniciales'!Q53=datos!S52,\"0\",\"2\")))","v":""},{"$f":"IF('Datos Iniciales'!B53=\"\",\"\",(IF('Datos Iniciales'!B53=\"Si\",\"O-48\",\"O-49\")))","v":""}]
[{"$f":"IF('Datos Iniciales'!B54=\"\",\"\",\"Si\")","v":""},{"$f":"(IF('Datos Iniciales'!A54=\"Cliente\",\"Si\",(IF('Datos Iniciales'!A54=\"\",\"\",\"No\"))))","v":""},{"$f":"(IF('Datos Iniciales'!A54=\"Distribuidor\",\"Si\",(IF('Datos Iniciales'!A54=\"\",\"\",\"No\"))))","v":""},{"$f":"(IF('Datos Iniciales'!A54=\"Otros\",\"Si\",(IF('Datos Iniciales'!A54=\"\",\"\",\"No\"))))","v":""},{"$f":"(IF('Datos Iniciales'!A54=\"Prospecto\",\"Si\",(IF('Datos Iniciales'!A54=\"\",\"\",\"No\"))))","v":""},{"$f":"(IF('Datos Iniciales'!A54=\"Proveedor\",\"Si\",(IF('Datos Iniciales'!A54=\"\",\"\",\"No\"))))","v":""},{"$f":"IF('Datos Iniciales'!B54=\"\",\"\",'Datos Iniciales'!B54)","v":""},{"$f":"IF('Datos Iniciales'!C54=\"\",\"\",'Datos Iniciales'!C54)","v":""},{"$f":"IF('Datos Iniciales'!D54=\"\",\"\",'Datos Iniciales'!D54)","v":""},{"$f":"IF('Datos Iniciales'!E54=datos!$I$2,datos!$J$2,(IF('Datos Iniciales'!E54=datos!$I$3,datos!$J$3,(IF('Datos Iniciales'!E54=datos!$I$4,datos!$J$4,(IF('Datos Iniciales'!E54=datos!$I$5,datos!$J$5,(IF('Datos Iniciales'!E54=datos!$I$6,datos!$J$6,(IF('Datos Iniciales'!E54=datos!$I$7,datos!$J$7,(IF('Datos Iniciales'!E54=datos!$I$2,datos!$J$2,(IF('Datos Iniciales'!E54=datos!$I$8,datos!$J$8,(IF('Datos Iniciales'!E54=datos!$I$9,datos!$J$9,(IF('Datos Iniciales'!E54=datos!$I$10,datos!$J$10,(IF('Datos Iniciales'!E54=datos!$I$11,datos!$J$11,(IF('Datos Iniciales'!E54=datos!$I$12,datos!$J$12,(IF('Datos Iniciales'!E54=datos!$I$13,datos!$J$13,(IF('Datos Iniciales'!E54=datos!$I$14,datos!$J$14,(IF('Datos Iniciales'!E54=datos!$I$15,datos!$J$15,\"\")))))))))))))))))))))))))))))","v":""},{"$f":"IF('Datos Iniciales'!F54=\"\",\"\",'Datos Iniciales'!F54)","v":""},{"$f":"IFERROR(datos!B53,\"\")","v":""},null,null,null,null,{"$f":"IF('Datos Iniciales'!H54=\"\",\"\",'Datos Iniciales'!H54)","v":""},{"$f":"IF('Datos Iniciales'!I54=\"\",\"\",datos!$K$2)","v":""},{"$f":"IFERROR(VLOOKUP('Datos Iniciales'!J54,datos!O52:P1171,2,FALSE),\"\")","v":""},null,{"$f":"IF('Datos Iniciales'!K54=\"\",\"\",(CONCATENATE(RIGHT('Datos Iniciales'!K54,1),\"-\",'Datos Iniciales'!L54,\"-\",'Datos Iniciales'!M54)))","v":""},null,null,null,{"$f":"IF('Datos Iniciales'!N54=\"\",\"\",'Datos Iniciales'!N54)","v":""},{"$f":"IF('Datos Iniciales'!O54=\"\",\"\",'Datos Iniciales'!O54)","v":""},null,null,null,null,{"$f":"IF('Datos Iniciales'!P54=\"\",\"\",'Datos Iniciales'!P54)","v":""},null,null,null,null,null,null,null,null,null,null,null,null,{"$f":"IF('Datos Iniciales'!B54=\"\",\"\",(IF('Datos Iniciales'!B54=\"Si\",\"002\",\"003\")))","v":""},null,{"$f":"IF('Datos Iniciales'!Q54=\"\",\"\",(IF('Datos Iniciales'!Q54=datos!S53,\"0\",\"2\")))","v":""},{"$f":"IF('Datos Iniciales'!B54=\"\",\"\",(IF('Datos Iniciales'!B54=\"Si\",\"O-48\",\"O-49\")))","v":""}]
[{"$f":"IF('Datos Iniciales'!B55=\"\",\"\",\"Si\")","v":""},{"$f":"(IF('Datos Iniciales'!A55=\"Cliente\",\"Si\",(IF('Datos Iniciales'!A55=\"\",\"\",\"No\"))))","v":""},{"$f":"(IF('Datos Iniciales'!A55=\"Distribuidor\",\"Si\",(IF('Datos Iniciales'!A55=\"\",\"\",\"No\"))))","v":""},{"$f":"(IF('Datos Iniciales'!A55=\"Otros\",\"Si\",(IF('Datos Iniciales'!A55=\"\",\"\",\"No\"))))","v":""},{"$f":"(IF('Datos Iniciales'!A55=\"Prospecto\",\"Si\",(IF('Datos Iniciales'!A55=\"\",\"\",\"No\"))))","v":""},{"$f":"(IF('Datos Iniciales'!A55=\"Proveedor\",\"Si\",(IF('Datos Iniciales'!A55=\"\",\"\",\"No\"))))","v":""},{"$f":"IF('Datos Iniciales'!B55=\"\",\"\",'Datos Iniciales'!B55)","v":""},{"$f":"IF('Datos Iniciales'!C55=\"\",\"\",'Datos Iniciales'!C55)","v":""},{"$f":"IF('Datos Iniciales'!D55=\"\",\"\",'Datos Iniciales'!D55)","v":""},{"$f":"IF('Datos Iniciales'!E55=datos!$I$2,datos!$J$2,(IF('Datos Iniciales'!E55=datos!$I$3,datos!$J$3,(IF('Datos Iniciales'!E55=datos!$I$4,datos!$J$4,(IF('Datos Iniciales'!E55=datos!$I$5,datos!$J$5,(IF('Datos Iniciales'!E55=datos!$I$6,datos!$J$6,(IF('Datos Iniciales'!E55=datos!$I$7,datos!$J$7,(IF('Datos Iniciales'!E55=datos!$I$2,datos!$J$2,(IF('Datos Iniciales'!E55=datos!$I$8,datos!$J$8,(IF('Datos Iniciales'!E55=datos!$I$9,datos!$J$9,(IF('Datos Iniciales'!E55=datos!$I$10,datos!$J$10,(IF('Datos Iniciales'!E55=datos!$I$11,datos!$J$11,(IF('Datos Iniciales'!E55=datos!$I$12,datos!$J$12,(IF('Datos Iniciales'!E55=datos!$I$13,datos!$J$13,(IF('Datos Iniciales'!E55=datos!$I$14,datos!$J$14,(IF('Datos Iniciales'!E55=datos!$I$15,datos!$J$15,\"\")))))))))))))))))))))))))))))","v":""},{"$f":"IF('Datos Iniciales'!F55=\"\",\"\",'Datos Iniciales'!F55)","v":""},{"$f":"IFERROR(datos!B54,\"\")","v":""},null,null,null,null,{"$f":"IF('Datos Iniciales'!H55=\"\",\"\",'Datos Iniciales'!H55)","v":""},{"$f":"IF('Datos Iniciales'!I55=\"\",\"\",datos!$K$2)","v":""},{"$f":"IFERROR(VLOOKUP('Datos Iniciales'!J55,datos!O53:P1172,2,FALSE),\"\")","v":""},null,{"$f":"IF('Datos Iniciales'!K55=\"\",\"\",(CONCATENATE(RIGHT('Datos Iniciales'!K55,1),\"-\",'Datos Iniciales'!L55,\"-\",'Datos Iniciales'!M55)))","v":""},null,null,null,{"$f":"IF('Datos Iniciales'!N55=\"\",\"\",'Datos Iniciales'!N55)","v":""},{"$f":"IF('Datos Iniciales'!O55=\"\",\"\",'Datos Iniciales'!O55)","v":""},null,null,null,null,{"$f":"IF('Datos Iniciales'!P55=\"\",\"\",'Datos Iniciales'!P55)","v":""},null,null,null,null,null,null,null,null,null,null,null,null,{"$f":"IF('Datos Iniciales'!B55=\"\",\"\",(IF('Datos Iniciales'!B55=\"Si\",\"002\",\"003\")))","v":""},null,{"$f":"IF('Datos Iniciales'!Q55=\"\",\"\",(IF('Datos Iniciales'!Q55=datos!S54,\"0\",\"2\")))","v":""},{"$f":"IF('Datos Iniciales'!B55=\"\",\"\",(IF('Datos Iniciales'!B55=\"Si\",\"O-48\",\"O-49\")))","v":""}]
[{"$f":"IF('Datos Iniciales'!B56=\"\",\"\",\"Si\")","v":""},{"$f":"(IF('Datos Iniciales'!A56=\"Cliente\",\"Si\",(IF('Datos Iniciales'!A56=\"\",\"\",\"No\"))))","v":""},{"$f":"(IF('Datos Iniciales'!A56=\"Distribuidor\",\"Si\",(IF('Datos Iniciales'!A56=\"\",\"\",\"No\"))))","v":""},{"$f":"(IF('Datos Iniciales'!A56=\"Otros\",\"Si\",(IF('Datos Iniciales'!A56=\"\",\"\",\"No\"))))","v":""},{"$f":"(IF('Datos Iniciales'!A56=\"Prospecto\",\"Si\",(IF('Datos Iniciales'!A56=\"\",\"\",\"No\"))))","v":""},{"$f":"(IF('Datos Iniciales'!A56=\"Proveedor\",\"Si\",(IF('Datos Iniciales'!A56=\"\",\"\",\"No\"))))","v":""},{"$f":"IF('Datos Iniciales'!B56=\"\",\"\",'Datos Iniciales'!B56)","v":""},{"$f":"IF('Datos Iniciales'!C56=\"\",\"\",'Datos Iniciales'!C56)","v":""},{"$f":"IF('Datos Iniciales'!D56=\"\",\"\",'Datos Iniciales'!D56)","v":""},{"$f":"IF('Datos Iniciales'!E56=datos!$I$2,datos!$J$2,(IF('Datos Iniciales'!E56=datos!$I$3,datos!$J$3,(IF('Datos Iniciales'!E56=datos!$I$4,datos!$J$4,(IF('Datos Iniciales'!E56=datos!$I$5,datos!$J$5,(IF('Datos Iniciales'!E56=datos!$I$6,datos!$J$6,(IF('Datos Iniciales'!E56=datos!$I$7,datos!$J$7,(IF('Datos Iniciales'!E56=datos!$I$2,datos!$J$2,(IF('Datos Iniciales'!E56=datos!$I$8,datos!$J$8,(IF('Datos Iniciales'!E56=datos!$I$9,datos!$J$9,(IF('Datos Iniciales'!E56=datos!$I$10,datos!$J$10,(IF('Datos Iniciales'!E56=datos!$I$11,datos!$J$11,(IF('Datos Iniciales'!E56=datos!$I$12,datos!$J$12,(IF('Datos Iniciales'!E56=datos!$I$13,datos!$J$13,(IF('Datos Iniciales'!E56=datos!$I$14,datos!$J$14,(IF('Datos Iniciales'!E56=datos!$I$15,datos!$J$15,\"\")))))))))))))))))))))))))))))","v":""},{"$f":"IF('Datos Iniciales'!F56=\"\",\"\",'Datos Iniciales'!F56)","v":""},{"$f":"IFERROR(datos!B55,\"\")","v":""},null,null,null,null,{"$f":"IF('Datos Iniciales'!H56=\"\",\"\",'Datos Iniciales'!H56)","v":""},{"$f":"IF('Datos Iniciales'!I56=\"\",\"\",datos!$K$2)","v":""},{"$f":"IFERROR(VLOOKUP('Datos Iniciales'!J56,datos!O54:P1173,2,FALSE),\"\")","v":""},null,{"$f":"IF('Datos Iniciales'!K56=\"\",\"\",(CONCATENATE(RIGHT('Datos Iniciales'!K56,1),\"-\",'Datos Iniciales'!L56,\"-\",'Datos Iniciales'!M56)))","v":""},null,null,null,{"$f":"IF('Datos Iniciales'!N56=\"\",\"\",'Datos Iniciales'!N56)","v":""},{"$f":"IF('Datos Iniciales'!O56=\"\",\"\",'Datos Iniciales'!O56)","v":""},null,null,null,null,{"$f":"IF('Datos Iniciales'!P56=\"\",\"\",'Datos Iniciales'!P56)","v":""},null,null,null,null,null,null,null,null,null,null,null,null,{"$f":"IF('Datos Iniciales'!B56=\"\",\"\",(IF('Datos Iniciales'!B56=\"Si\",\"002\",\"003\")))","v":""},null,{"$f":"IF('Datos Iniciales'!Q56=\"\",\"\",(IF('Datos Iniciales'!Q56=datos!S55,\"0\",\"2\")))","v":""},{"$f":"IF('Datos Iniciales'!B56=\"\",\"\",(IF('Datos Iniciales'!B56=\"Si\",\"O-48\",\"O-49\")))","v":""}]
[{"$f":"IF('Datos Iniciales'!B57=\"\",\"\",\"Si\")","v":""},{"$f":"(IF('Datos Iniciales'!A57=\"Cliente\",\"Si\",(IF('Datos Iniciales'!A57=\"\",\"\",\"No\"))))","v":""},{"$f":"(IF('Datos Iniciales'!A57=\"Distribuidor\",\"Si\",(IF('Datos Iniciales'!A57=\"\",\"\",\"No\"))))","v":""},{"$f":"(IF('Datos Iniciales'!A57=\"Otros\",\"Si\",(IF('Datos Iniciales'!A57=\"\",\"\",\"No\"))))","v":""},{"$f":"(IF('Datos Iniciales'!A57=\"Prospecto\",\"Si\",(IF('Datos Iniciales'!A57=\"\",\"\",\"No\"))))","v":""},{"$f":"(IF('Datos Iniciales'!A57=\"Proveedor\",\"Si\",(IF('Datos Iniciales'!A57=\"\",\"\",\"No\"))))","v":""},{"$f":"IF('Datos Iniciales'!B57=\"\",\"\",'Datos Iniciales'!B57)","v":""},{"$f":"IF('Datos Iniciales'!C57=\"\",\"\",'Datos Iniciales'!C57)","v":""},{"$f":"IF('Datos Iniciales'!D57=\"\",\"\",'Datos Iniciales'!D57)","v":""},{"$f":"IF('Datos Iniciales'!E57=datos!$I$2,datos!$J$2,(IF('Datos Iniciales'!E57=datos!$I$3,datos!$J$3,(IF('Datos Iniciales'!E57=datos!$I$4,datos!$J$4,(IF('Datos Iniciales'!E57=datos!$I$5,datos!$J$5,(IF('Datos Iniciales'!E57=datos!$I$6,datos!$J$6,(IF('Datos Iniciales'!E57=datos!$I$7,datos!$J$7,(IF('Datos Iniciales'!E57=datos!$I$2,datos!$J$2,(IF('Datos Iniciales'!E57=datos!$I$8,datos!$J$8,(IF('Datos Iniciales'!E57=datos!$I$9,datos!$J$9,(IF('Datos Iniciales'!E57=datos!$I$10,datos!$J$10,(IF('Datos Iniciales'!E57=datos!$I$11,datos!$J$11,(IF('Datos Iniciales'!E57=datos!$I$12,datos!$J$12,(IF('Datos Iniciales'!E57=datos!$I$13,datos!$J$13,(IF('Datos Iniciales'!E57=datos!$I$14,datos!$J$14,(IF('Datos Iniciales'!E57=datos!$I$15,datos!$J$15,\"\")))))))))))))))))))))))))))))","v":""},{"$f":"IF('Datos Iniciales'!F57=\"\",\"\",'Datos Iniciales'!F57)","v":""},{"$f":"IFERROR(datos!B56,\"\")","v":""},null,null,null,null,{"$f":"IF('Datos Iniciales'!H57=\"\",\"\",'Datos Iniciales'!H57)","v":""},{"$f":"IF('Datos Iniciales'!I57=\"\",\"\",datos!$K$2)","v":""},{"$f":"IFERROR(VLOOKUP('Datos Iniciales'!J57,datos!O55:P1174,2,FALSE),\"\")","v":""},null,{"$f":"IF('Datos Iniciales'!K57=\"\",\"\",(CONCATENATE(RIGHT('Datos Iniciales'!K57,1),\"-\",'Datos Iniciales'!L57,\"-\",'Datos Iniciales'!M57)))","v":""},null,null,null,{"$f":"IF('Datos Iniciales'!N57=\"\",\"\",'Datos Iniciales'!N57)","v":""},{"$f":"IF('Datos Iniciales'!O57=\"\",\"\",'Datos Iniciales'!O57)","v":""},null,null,null,null,{"$f":"IF('Datos Iniciales'!P57=\"\",\"\",'Datos Iniciales'!P57)","v":""},null,null,null,null,null,null,null,null,null,null,null,null,{"$f":"IF('Datos Iniciales'!B57=\"\",\"\",(IF('Datos Iniciales'!B57=\"Si\",\"002\",\"003\")))","v":""},null,{"$f":"IF('Datos Iniciales'!Q57=\"\",\"\",(IF('Datos Iniciales'!Q57=datos!S56,\"0\",\"2\")))","v":""},{"$f":"IF('Datos Iniciales'!B57=\"\",\"\",(IF('Datos Iniciales'!B57=\"Si\",\"O-48\",\"O-49\")))","v":""}]
[{"$f":"IF('Datos Iniciales'!B58=\"\",\"\",\"Si\")","v":""},{"$f":"(IF('Datos Iniciales'!A58=\"Cliente\",\"Si\",(IF('Datos Iniciales'!A58=\"\",\"\",\"No\"))))","v":""},{"$f":"(IF('Datos Iniciales'!A58=\"Distribuidor\",\"Si\",(IF('Datos Iniciales'!A58=\"\",\"\",\"No\"))))","v":""},{"$f":"(IF('Datos Iniciales'!A58=\"Otros\",\"Si\",(IF('Datos Iniciales'!A58=\"\",\"\",\"No\"))))","v":""},{"$f":"(IF('Datos Iniciales'!A58=\"Prospecto\",\"Si\",(IF('Datos Iniciales'!A58=\"\",\"\",\"No\"))))","v":""},{"$f":"(IF('Datos Iniciales'!A58=\"Proveedor\",\"Si\",(IF('Datos Iniciales'!A58=\"\",\"\",\"No\"))))","v":""},{"$f":"IF('Datos Iniciales'!B58=\"\",\"\",'Datos Iniciales'!B58)","v":""},{"$f":"IF('Datos Iniciales'!C58=\"\",\"\",'Datos Iniciales'!C58)","v":""},{"$f":"IF('Datos Iniciales'!D58=\"\",\"\",'Datos Iniciales'!D58)","v":""},{"$f":"IF('Datos Iniciales'!E58=datos!$I$2,datos!$J$2,(IF('Datos Iniciales'!E58=datos!$I$3,datos!$J$3,(IF('Datos Iniciales'!E58=datos!$I$4,datos!$J$4,(IF('Datos Iniciales'!E58=datos!$I$5,datos!$J$5,(IF('Datos Iniciales'!E58=datos!$I$6,datos!$J$6,(IF('Datos Iniciales'!E58=datos!$I$7,datos!$J$7,(IF('Datos Iniciales'!E58=datos!$I$2,datos!$J$2,(IF('Datos Iniciales'!E58=datos!$I$8,datos!$J$8,(IF('Datos Iniciales'!E58=datos!$I$9,datos!$J$9,(IF('Datos Iniciales'!E58=datos!$I$10,datos!$J$10,(IF('Datos Iniciales'!E58=datos!$I$11,datos!$J$11,(IF('Datos Iniciales'!E58=datos!$I$12,datos!$J$12,(IF('Datos Iniciales'!E58=datos!$I$13,datos!$J$13,(IF('Datos Iniciales'!E58=datos!$I$14,datos!$J$14,(IF('Datos Iniciales'!E58=datos!$I$15,datos!$J$15,\"\")))))))))))))))))))))))))))))","v":""},{"$f":"IF('Datos Iniciales'!F58=\"\",\"\",'Datos Iniciales'!F58)","v":""},{"$f":"IFERROR(datos!B57,\"\")","v":""},null,null,null,null,{"$f":"IF('Datos Iniciales'!H58=\"\",\"\",'Datos Iniciales'!H58)","v":""},{"$f":"IF('Datos Iniciales'!I58=\"\",\"\",datos!$K$2)","v":""},{"$f":"IFERROR(VLOOKUP('Datos Iniciales'!J58,datos!O56:P1175,2,FALSE),\"\")","v":""},null,{"$f":"IF('Datos Iniciales'!K58=\"\",\"\",(CONCATENATE(RIGHT('Datos Iniciales'!K58,1),\"-\",'Datos Iniciales'!L58,\"-\",'Datos Iniciales'!M58)))","v":""},null,null,null,{"$f":"IF('Datos Iniciales'!N58=\"\",\"\",'Datos Iniciales'!N58)","v":""},{"$f":"IF('Datos Iniciales'!O58=\"\",\"\",'Datos Iniciales'!O58)","v":""},null,null,null,null,{"$f":"IF('Datos Iniciales'!P58=\"\",\"\",'Datos Iniciales'!P58)","v":""},null,null,null,null,null,null,null,null,null,null,null,null,{"$f":"IF('Datos Iniciales'!B58=\"\",\"\",(IF('Datos Iniciales'!B58=\"Si\",\"002\",\"003\")))","v":""},null,{"$f":"IF('Datos Iniciales'!Q58=\"\",\"\",(IF('Datos Iniciales'!Q58=datos!S57,\"0\",\"2\")))","v":""},{"$f":"IF('Datos Iniciales'!B58=\"\",\"\",(IF('Datos Iniciales'!B58=\"Si\",\"O-48\",\"O-49\")))","v":""}]
[{"$f":"IF('Datos Iniciales'!B59=\"\",\"\",\"Si\")","v":""},{"$f":"(IF('Datos Iniciales'!A59=\"Cliente\",\"Si\",(IF('Datos Iniciales'!A59=\"\",\"\",\"No\"))))","v":""},{"$f":"(IF('Datos Iniciales'!A59=\"Distribuidor\",\"Si\",(IF('Datos Iniciales'!A59=\"\",\"\",\"No\"))))","v":""},{"$f":"(IF('Datos Iniciales'!A59=\"Otros\",\"Si\",(IF('Datos Iniciales'!A59=\"\",\"\",\"No\"))))","v":""},{"$f":"(IF('Datos Iniciales'!A59=\"Prospecto\",\"Si\",(IF('Datos Iniciales'!A59=\"\",\"\",\"No\"))))","v":""},{"$f":"(IF('Datos Iniciales'!A59=\"Proveedor\",\"Si\",(IF('Datos Iniciales'!A59=\"\",\"\",\"No\"))))","v":""},{"$f":"IF('Datos Iniciales'!B59=\"\",\"\",'Datos Iniciales'!B59)","v":""},{"$f":"IF('Datos Iniciales'!C59=\"\",\"\",'Datos Iniciales'!C59)","v":""},{"$f":"IF('Datos Iniciales'!D59=\"\",\"\",'Datos Iniciales'!D59)","v":""},{"$f":"IF('Datos Iniciales'!E59=datos!$I$2,datos!$J$2,(IF('Datos Iniciales'!E59=datos!$I$3,datos!$J$3,(IF('Datos Iniciales'!E59=datos!$I$4,datos!$J$4,(IF('Datos Iniciales'!E59=datos!$I$5,datos!$J$5,(IF('Datos Iniciales'!E59=datos!$I$6,datos!$J$6,(IF('Datos Iniciales'!E59=datos!$I$7,datos!$J$7,(IF('Datos Iniciales'!E59=datos!$I$2,datos!$J$2,(IF('Datos Iniciales'!E59=datos!$I$8,datos!$J$8,(IF('Datos Iniciales'!E59=datos!$I$9,datos!$J$9,(IF('Datos Iniciales'!E59=datos!$I$10,datos!$J$10,(IF('Datos Iniciales'!E59=datos!$I$11,datos!$J$11,(IF('Datos Iniciales'!E59=datos!$I$12,datos!$J$12,(IF('Datos Iniciales'!E59=datos!$I$13,datos!$J$13,(IF('Datos Iniciales'!E59=datos!$I$14,datos!$J$14,(IF('Datos Iniciales'!E59=datos!$I$15,datos!$J$15,\"\")))))))))))))))))))))))))))))","v":""},{"$f":"IF('Datos Iniciales'!F59=\"\",\"\",'Datos Iniciales'!F59)","v":""},{"$f":"IFERROR(datos!B58,\"\")","v":""},null,null,null,null,{"$f":"IF('Datos Iniciales'!H59=\"\",\"\",'Datos Iniciales'!H59)","v":""},{"$f":"IF('Datos Iniciales'!I59=\"\",\"\",datos!$K$2)","v":""},{"$f":"IFERROR(VLOOKUP('Datos Iniciales'!J59,datos!O57:P1176,2,FALSE),\"\")","v":""},null,{"$f":"IF('Datos Iniciales'!K59=\"\",\"\",(CONCATENATE(RIGHT('Datos Iniciales'!K59,1),\"-\",'Datos Iniciales'!L59,\"-\",'Datos Iniciales'!M59)))","v":""},null,null,null,{"$f":"IF('Datos Iniciales'!N59=\"\",\"\",'Datos Iniciales'!N59)","v":""},{"$f":"IF('Datos Iniciales'!O59=\"\",\"\",'Datos Iniciales'!O59)","v":""},null,null,null,null,{"$f":"IF('Datos Iniciales'!P59=\"\",\"\",'Datos Iniciales'!P59)","v":""},null,null,null,null,null,null,null,null,null,null,null,null,{"$f":"IF('Datos Iniciales'!B59=\"\",\"\",(IF('Datos Iniciales'!B59=\"Si\",\"002\",\"003\")))","v":""},null,{"$f":"IF('Datos Iniciales'!Q59=\"\",\"\",(IF('Datos Iniciales'!Q59=datos!S58,\"0\",\"2\")))","v":""},{"$f":"IF('Datos Iniciales'!B59=\"\",\"\",(IF('Datos Iniciales'!B59=\"Si\",\"O-48\",\"O-49\")))","v":""}]
[{"$f":"IF('Datos Iniciales'!B60=\"\",\"\",\"Si\")","v":""},{"$f":"(IF('Datos Iniciales'!A60=\"Cliente\",\"Si\",(IF('Datos Iniciales'!A60=\"\",\"\",\"No\"))))","v":""},{"$f":"(IF('Datos Iniciales'!A60=\"Distribuidor\",\"Si\",(IF('Datos Iniciales'!A60=\"\",\"\",\"No\"))))","v":""},{"$f":"(IF('Datos Iniciales'!A60=\"Otros\",\"Si\",(IF('Datos Iniciales'!A60=\"\",\"\",\"No\"))))","v":""},{"$f":"(IF('Datos Iniciales'!A60=\"Prospecto\",\"Si\",(IF('Datos Iniciales'!A60=\"\",\"\",\"No\"))))","v":""},{"$f":"(IF('Datos Iniciales'!A60=\"Proveedor\",\"Si\",(IF('Datos Iniciales'!A60=\"\",\"\",\"No\"))))","v":""},{"$f":"IF('Datos Iniciales'!B60=\"\",\"\",'Datos Iniciales'!B60)","v":""},{"$f":"IF('Datos Iniciales'!C60=\"\",\"\",'Datos Iniciales'!C60)","v":""},{"$f":"IF('Datos Iniciales'!D60=\"\",\"\",'Datos Iniciales'!D60)","v":""},{"$f":"IF('Datos Iniciales'!E60=datos!$I$2,datos!$J$2,(IF('Datos Iniciales'!E60=datos!$I$3,datos!$J$3,(IF('Datos Iniciales'!E60=datos!$I$4,datos!$J$4,(IF('Datos Iniciales'!E60=datos!$I$5,datos!$J$5,(IF('Datos Iniciales'!E60=datos!$I$6,datos!$J$6,(IF('Datos Iniciales'!E60=datos!$I$7,datos!$J$7,(IF('Datos Iniciales'!E60=datos!$I$2,datos!$J$2,(IF('Datos Iniciales'!E60=datos!$I$8,datos!$J$8,(IF('Datos Iniciales'!E60=datos!$I$9,datos!$J$9,(IF('Datos Iniciales'!E60=datos!$I$10,datos!$J$10,(IF('Datos Iniciales'!E60=datos!$I$11,datos!$J$11,(IF('Datos Iniciales'!E60=datos!$I$12,datos!$J$12,(IF('Datos Iniciales'!E60=datos!$I$13,datos!$J$13,(IF('Datos Iniciales'!E60=datos!$I$14,datos!$J$14,(IF('Datos Iniciales'!E60=datos!$I$15,datos!$J$15,\"\")))))))))))))))))))))))))))))","v":""},{"$f":"IF('Datos Iniciales'!F60=\"\",\"\",'Datos Iniciales'!F60)","v":""},{"$f":"IFERROR(datos!B59,\"\")","v":""},null,null,null,null,{"$f":"IF('Datos Iniciales'!H60=\"\",\"\",'Datos Iniciales'!H60)","v":""},{"$f":"IF('Datos Iniciales'!I60=\"\",\"\",datos!$K$2)","v":""},{"$f":"IFERROR(VLOOKUP('Datos Iniciales'!J60,datos!O58:P1177,2,FALSE),\"\")","v":""},null,{"$f":"IF('Datos Iniciales'!K60=\"\",\"\",(CONCATENATE(RIGHT('Datos Iniciales'!K60,1),\"-\",'Datos Iniciales'!L60,\"-\",'Datos Iniciales'!M60)))","v":""},null,null,null,{"$f":"IF('Datos Iniciales'!N60=\"\",\"\",'Datos Iniciales'!N60)","v":""},{"$f":"IF('Datos Iniciales'!O60=\"\",\"\",'Datos Iniciales'!O60)","v":""},null,null,null,null,{"$f":"IF('Datos Iniciales'!P60=\"\",\"\",'Datos Iniciales'!P60)","v":""},null,null,null,null,null,null,null,null,null,null,null,null,{"$f":"IF('Datos Iniciales'!B60=\"\",\"\",(IF('Datos Iniciales'!B60=\"Si\",\"002\",\"003\")))","v":""},null,{"$f":"IF('Datos Iniciales'!Q60=\"\",\"\",(IF('Datos Iniciales'!Q60=datos!S59,\"0\",\"2\")))","v":""},{"$f":"IF('Datos Iniciales'!B60=\"\",\"\",(IF('Datos Iniciales'!B60=\"Si\",\"O-48\",\"O-49\")))","v":""}]
[{"$f":"IF('Datos Iniciales'!B61=\"\",\"\",\"Si\")","v":""},{"$f":"(IF('Datos Iniciales'!A61=\"Cliente\",\"Si\",(IF('Datos Iniciales'!A61=\"\",\"\",\"No\"))))","v":""},{"$f":"(IF('Datos Iniciales'!A61=\"Distribuidor\",\"Si\",(IF('Datos Iniciales'!A61=\"\",\"\",\"No\"))))","v":""},{"$f":"(IF('Datos Iniciales'!A61=\"Otros\",\"Si\",(IF('Datos Iniciales'!A61=\"\",\"\",\"No\"))))","v":""},{"$f":"(IF('Datos Iniciales'!A61=\"Prospecto\",\"Si\",(IF('Datos Iniciales'!A61=\"\",\"\",\"No\"))))","v":""},{"$f":"(IF('Datos Iniciales'!A61=\"Proveedor\",\"Si\",(IF('Datos Iniciales'!A61=\"\",\"\",\"No\"))))","v":""},{"$f":"IF('Datos Iniciales'!B61=\"\",\"\",'Datos Iniciales'!B61)","v":""},{"$f":"IF('Datos Iniciales'!C61=\"\",\"\",'Datos Iniciales'!C61)","v":""},{"$f":"IF('Datos Iniciales'!D61=\"\",\"\",'Datos Iniciales'!D61)","v":""},{"$f":"IF('Datos Iniciales'!E61=datos!$I$2,datos!$J$2,(IF('Datos Iniciales'!E61=datos!$I$3,datos!$J$3,(IF('Datos Iniciales'!E61=datos!$I$4,datos!$J$4,(IF('Datos Iniciales'!E61=datos!$I$5,datos!$J$5,(IF('Datos Iniciales'!E61=datos!$I$6,datos!$J$6,(IF('Datos Iniciales'!E61=datos!$I$7,datos!$J$7,(IF('Datos Iniciales'!E61=datos!$I$2,datos!$J$2,(IF('Datos Iniciales'!E61=datos!$I$8,datos!$J$8,(IF('Datos Iniciales'!E61=datos!$I$9,datos!$J$9,(IF('Datos Iniciales'!E61=datos!$I$10,datos!$J$10,(IF('Datos Iniciales'!E61=datos!$I$11,datos!$J$11,(IF('Datos Iniciales'!E61=datos!$I$12,datos!$J$12,(IF('Datos Iniciales'!E61=datos!$I$13,datos!$J$13,(IF('Datos Iniciales'!E61=datos!$I$14,datos!$J$14,(IF('Datos Iniciales'!E61=datos!$I$15,datos!$J$15,\"\")))))))))))))))))))))))))))))","v":""},{"$f":"IF('Datos Iniciales'!F61=\"\",\"\",'Datos Iniciales'!F61)","v":""},{"$f":"IFERROR(datos!B60,\"\")","v":""},null,null,null,null,{"$f":"IF('Datos Iniciales'!H61=\"\",\"\",'Datos Iniciales'!H61)","v":""},{"$f":"IF('Datos Iniciales'!I61=\"\",\"\",datos!$K$2)","v":""},{"$f":"IFERROR(VLOOKUP('Datos Iniciales'!J61,datos!O59:P1178,2,FALSE),\"\")","v":""},null,{"$f":"IF('Datos Iniciales'!K61=\"\",\"\",(CONCATENATE(RIGHT('Datos Iniciales'!K61,1),\"-\",'Datos Iniciales'!L61,\"-\",'Datos Iniciales'!M61)))","v":""},null,null,null,{"$f":"IF('Datos Iniciales'!N61=\"\",\"\",'Datos Iniciales'!N61)","v":""},{"$f":"IF('Datos Iniciales'!O61=\"\",\"\",'Datos Iniciales'!O61)","v":""},null,null,null,null,{"$f":"IF('Datos Iniciales'!P61=\"\",\"\",'Datos Iniciales'!P61)","v":""},null,null,null,null,null,null,null,null,null,null,null,null,{"$f":"IF('Datos Iniciales'!B61=\"\",\"\",(IF('Datos Iniciales'!B61=\"Si\",\"002\",\"003\")))","v":""},null,{"$f":"IF('Datos Iniciales'!Q61=\"\",\"\",(IF('Datos Iniciales'!Q61=datos!S60,\"0\",\"2\")))","v":""},{"$f":"IF('Datos Iniciales'!B61=\"\",\"\",(IF('Datos Iniciales'!B61=\"Si\",\"O-48\",\"O-49\")))","v":""}]
[{"$f":"IF('Datos Iniciales'!B62=\"\",\"\",\"Si\")","v":""},{"$f":"(IF('Datos Iniciales'!A62=\"Cliente\",\"Si\",(IF('Datos Iniciales'!A62=\"\",\"\",\"No\"))))","v":""},{"$f":"(IF('Datos Iniciales'!A62=\"Distribuidor\",\"Si\",(IF('Datos Iniciales'!A62=\"\",\"\",\"No\"))))","v":""},{"$f":"(IF('Datos Iniciales'!A62=\"Otros\",\"Si\",(IF('Datos Iniciales'!A62=\"\",\"\",\"No\"))))","v":""},{"$f":"(IF('Datos Iniciales'!A62=\"Prospecto\",\"Si\",(IF('Datos Iniciales'!A62=\"\",\"\",\"No\"))))","v":""},{"$f":"(IF('Datos Iniciales'!A62=\"Proveedor\",\"Si\",(IF('Datos Iniciales'!A62=\"\",\"\",\"No\"))))","v":""},{"$f":"IF('Datos Iniciales'!B62=\"\",\"\",'Datos Iniciales'!B62)","v":""},{"$f":"IF('Datos Iniciales'!C62=\"\",\"\",'Datos Iniciales'!C62)","v":""},{"$f":"IF('Datos Iniciales'!D62=\"\",\"\",'Datos Iniciales'!D62)","v":""},{"$f":"IF('Datos Iniciales'!E62=datos!$I$2,datos!$J$2,(IF('Datos Iniciales'!E62=datos!$I$3,datos!$J$3,(IF('Datos Iniciales'!E62=datos!$I$4,datos!$J$4,(IF('Datos Iniciales'!E62=datos!$I$5,datos!$J$5,(IF('Datos Iniciales'!E62=datos!$I$6,datos!$J$6,(IF('Datos Iniciales'!E62=datos!$I$7,datos!$J$7,(IF('Datos Iniciales'!E62=datos!$I$2,datos!$J$2,(IF('Datos Iniciales'!E62=datos!$I$8,datos!$J$8,(IF('Datos Iniciales'!E62=datos!$I$9,datos!$J$9,(IF('Datos Iniciales'!E62=datos!$I$10,datos!$J$10,(IF('Datos Iniciales'!E62=datos!$I$11,datos!$J$11,(IF('Datos Iniciales'!E62=datos!$I$12,datos!$J$12,(IF('Datos Iniciales'!E62=datos!$I$13,datos!$J$13,(IF('Datos Iniciales'!E62=datos!$I$14,datos!$J$14,(IF('Datos Iniciales'!E62=datos!$I$15,datos!$J$15,\"\")))))))))))))))))))))))))))))","v":""},{"$f":"IF('Datos Iniciales'!F62=\"\",\"\",'Datos Iniciales'!F62)","v":""},{"$f":"IFERROR(datos!B61,\"\")","v":""},null,null,null,null,{"$f":"IF('Datos Iniciales'!H62=\"\",\"\",'Datos Iniciales'!H62)","v":""},{"$f":"IF('Datos Iniciales'!I62=\"\",\"\",datos!$K$2)","v":""},{"$f":"IFERROR(VLOOKUP('Datos Iniciales'!J62,datos!O60:P1179,2,FALSE),\"\")","v":""},null,{"$f":"IF('Datos Iniciales'!K62=\"\",\"\",(CONCATENATE(RIGHT('Datos Iniciales'!K62,1),\"-\",'Datos Iniciales'!L62,\"-\",'Datos Iniciales'!M62)))","v":""},null,null,null,{"$f":"IF('Datos Iniciales'!N62=\"\",\"\",'Datos Iniciales'!N62)","v":""},{"$f":"IF('Datos Iniciales'!O62=\"\",\"\",'Datos Iniciales'!O62)","v":""},null,null,null,null,{"$f":"IF('Datos Iniciales'!P62=\"\",\"\",'Datos Iniciales'!P62)","v":""},null,null,null,null,null,null,null,null,null,null,null,null,{"$f":"IF('Datos Iniciales'!B62=\"\",\"\",(IF('Datos Iniciales'!B62=\"Si\",\"002\",\"003\")))","v":""},null,{"$f":"IF('Datos Iniciales'!Q62=\"\",\"\",(IF('Datos Iniciales'!Q62=datos!S61,\"0\",\"2\")))","v":""},{"$f":"IF('Datos Iniciales'!B62=\"\",\"\",(IF('Datos Iniciales'!B62=\"Si\",\"O-48\",\"O-49\")))","v":""}]
[{"$f":"IF('Datos Iniciales'!B63=\"\",\"\",\"Si\")","v":""},{"$f":"(IF('Datos Iniciales'!A63=\"Cliente\",\"Si\",(IF('Datos Iniciales'!A63=\"\",\"\",\"No\"))))","v":""},{"$f":"(IF('Datos Iniciales'!A63=\"Distribuidor\",\"Si\",(IF('Datos Iniciales'!A63=\"\",\"\",\"No\"))))","v":""},{"$f":"(IF('Datos Iniciales'!A63=\"Otros\",\"Si\",(IF('Datos Iniciales'!A63=\"\",\"\",\"No\"))))","v":""},{"$f":"(IF('Datos Iniciales'!A63=\"Prospecto\",\"Si\",(IF('Datos Iniciales'!A63=\"\",\"\",\"No\"))))","v":""},{"$f":"(IF('Datos Iniciales'!A63=\"Proveedor\",\"Si\",(IF('Datos Iniciales'!A63=\"\",\"\",\"No\"))))","v":""},{"$f":"IF('Datos Iniciales'!B63=\"\",\"\",'Datos Iniciales'!B63)","v":""},{"$f":"IF('Datos Iniciales'!C63=\"\",\"\",'Datos Iniciales'!C63)","v":""},{"$f":"IF('Datos Iniciales'!D63=\"\",\"\",'Datos Iniciales'!D63)","v":""},{"$f":"IF('Datos Iniciales'!E63=datos!$I$2,datos!$J$2,(IF('Datos Iniciales'!E63=datos!$I$3,datos!$J$3,(IF('Datos Iniciales'!E63=datos!$I$4,datos!$J$4,(IF('Datos Iniciales'!E63=datos!$I$5,datos!$J$5,(IF('Datos Iniciales'!E63=datos!$I$6,datos!$J$6,(IF('Datos Iniciales'!E63=datos!$I$7,datos!$J$7,(IF('Datos Iniciales'!E63=datos!$I$2,datos!$J$2,(IF('Datos Iniciales'!E63=datos!$I$8,datos!$J$8,(IF('Datos Iniciales'!E63=datos!$I$9,datos!$J$9,(IF('Datos Iniciales'!E63=datos!$I$10,datos!$J$10,(IF('Datos Iniciales'!E63=datos!$I$11,datos!$J$11,(IF('Datos Iniciales'!E63=datos!$I$12,datos!$J$12,(IF('Datos Iniciales'!E63=datos!$I$13,datos!$J$13,(IF('Datos Iniciales'!E63=datos!$I$14,datos!$J$14,(IF('Datos Iniciales'!E63=datos!$I$15,datos!$J$15,\"\")))))))))))))))))))))))))))))","v":""},{"$f":"IF('Datos Iniciales'!F63=\"\",\"\",'Datos Iniciales'!F63)","v":""},{"$f":"IFERROR(datos!B62,\"\")","v":""},null,null,null,null,{"$f":"IF('Datos Iniciales'!H63=\"\",\"\",'Datos Iniciales'!H63)","v":""},{"$f":"IF('Datos Iniciales'!I63=\"\",\"\",datos!$K$2)","v":""},{"$f":"IFERROR(VLOOKUP('Datos Iniciales'!J63,datos!O61:P1180,2,FALSE),\"\")","v":""},null,{"$f":"IF('Datos Iniciales'!K63=\"\",\"\",(CONCATENATE(RIGHT('Datos Iniciales'!K63,1),\"-\",'Datos Iniciales'!L63,\"-\",'Datos Iniciales'!M63)))","v":""},null,null,null,{"$f":"IF('Datos Iniciales'!N63=\"\",\"\",'Datos Iniciales'!N63)","v":""},{"$f":"IF('Datos Iniciales'!O63=\"\",\"\",'Datos Iniciales'!O63)","v":""},null,null,null,null,{"$f":"IF('Datos Iniciales'!P63=\"\",\"\",'Datos Iniciales'!P63)","v":""},null,null,null,null,null,null,null,null,null,null,null,null,{"$f":"IF('Datos Iniciales'!B63=\"\",\"\",(IF('Datos Iniciales'!B63=\"Si\",\"002\",\"003\")))","v":""},null,{"$f":"IF('Datos Iniciales'!Q63=\"\",\"\",(IF('Datos Iniciales'!Q63=datos!S62,\"0\",\"2\")))","v":""},{"$f":"IF('Datos Iniciales'!B63=\"\",\"\",(IF('Datos Iniciales'!B63=\"Si\",\"O-48\",\"O-49\")))","v":""}]
[{"$f":"IF('Datos Iniciales'!B64=\"\",\"\",\"Si\")","v":""},{"$f":"(IF('Datos Iniciales'!A64=\"Cliente\",\"Si\",(IF('Datos Iniciales'!A64=\"\",\"\",\"No\"))))","v":""},{"$f":"(IF('Datos Iniciales'!A64=\"Distribuidor\",\"Si\",(IF('Datos Iniciales'!A64=\"\",\"\",\"No\"))))","v":""},{"$f":"(IF('Datos Iniciales'!A64=\"Otros\",\"Si\",(IF('Datos Iniciales'!A64=\"\",\"\",\"No\"))))","v":""},{"$f":"(IF('Datos Iniciales'!A64=\"Prospecto\",\"Si\",(IF('Datos Iniciales'!A64=\"\",\"\",\"No\"))))","v":""},{"$f":"(IF('Datos Iniciales'!A64=\"Proveedor\",\"Si\",(IF('Datos Iniciales'!A64=\"\",\"\",\"No\"))))","v":""},{"$f":"IF('Datos Iniciales'!B64=\"\",\"\",'Datos Iniciales'!B64)","v":""},{"$f":"IF('Datos Iniciales'!C64=\"\",\"\",'Datos Iniciales'!C64)","v":""},{"$f":"IF('Datos Iniciales'!D64=\"\",\"\",'Datos Iniciales'!D64)","v":""},{"$f":"IF('Datos Iniciales'!E64=datos!$I$2,datos!$J$2,(IF('Datos Iniciales'!E64=datos!$I$3,datos!$J$3,(IF('Datos Iniciales'!E64=datos!$I$4,datos!$J$4,(IF('Datos Iniciales'!E64=datos!$I$5,datos!$J$5,(IF('Datos Iniciales'!E64=datos!$I$6,datos!$J$6,(IF('Datos Iniciales'!E64=datos!$I$7,datos!$J$7,(IF('Datos Iniciales'!E64=datos!$I$2,datos!$J$2,(IF('Datos Iniciales'!E64=datos!$I$8,datos!$J$8,(IF('Datos Iniciales'!E64=datos!$I$9,datos!$J$9,(IF('Datos Iniciales'!E64=datos!$I$10,datos!$J$10,(IF('Datos Iniciales'!E64=datos!$I$11,datos!$J$11,(IF('Datos Iniciales'!E64=datos!$I$12,datos!$J$12,(IF('Datos Iniciales'!E64=datos!$I$13,datos!$J$13,(IF('Datos Iniciales'!E64=datos!$I$14,datos!$J$14,(IF('Datos Iniciales'!E64=datos!$I$15,datos!$J$15,\"\")))))))))))))))))))))))))))))","v":""},{"$f":"IF('Datos Iniciales'!F64=\"\",\"\",'Datos Iniciales'!F64)","v":""},{"$f":"IFERROR(datos!B63,\"\")","v":""},null,null,null,null,{"$f":"IF('Datos Iniciales'!H64=\"\",\"\",'Datos Iniciales'!H64)","v":""},{"$f":"IF('Datos Iniciales'!I64=\"\",\"\",datos!$K$2)","v":""},{"$f":"IFERROR(VLOOKUP('Datos Iniciales'!J64,datos!O62:P1181,2,FALSE),\"\")","v":""},null,{"$f":"IF('Datos Iniciales'!K64=\"\",\"\",(CONCATENATE(RIGHT('Datos Iniciales'!K64,1),\"-\",'Datos Iniciales'!L64,\"-\",'Datos Iniciales'!M64)))","v":""},null,null,null,{"$f":"IF('Datos Iniciales'!N64=\"\",\"\",'Datos Iniciales'!N64)","v":""},{"$f":"IF('Datos Iniciales'!O64=\"\",\"\",'Datos Iniciales'!O64)","v":""},null,null,null,null,{"$f":"IF('Datos Iniciales'!P64=\"\",\"\",'Datos Iniciales'!P64)","v":""},null,null,null,null,null,null,null,null,null,null,null,null,{"$f":"IF('Datos Iniciales'!B64=\"\",\"\",(IF('Datos Iniciales'!B64=\"Si\",\"002\",\"003\")))","v":""},null,{"$f":"IF('Datos Iniciales'!Q64=\"\",\"\",(IF('Datos Iniciales'!Q64=datos!S63,\"0\",\"2\")))","v":""},{"$f":"IF('Datos Iniciales'!B64=\"\",\"\",(IF('Datos Iniciales'!B64=\"Si\",\"O-48\",\"O-49\")))","v":""}]
[{"$f":"IF('Datos Iniciales'!B65=\"\",\"\",\"Si\")","v":""},{"$f":"(IF('Datos Iniciales'!A65=\"Cliente\",\"Si\",(IF('Datos Iniciales'!A65=\"\",\"\",\"No\"))))","v":""},{"$f":"(IF('Datos Iniciales'!A65=\"Distribuidor\",\"Si\",(IF('Datos Iniciales'!A65=\"\",\"\",\"No\"))))","v":""},{"$f":"(IF('Datos Iniciales'!A65=\"Otros\",\"Si\",(IF('Datos Iniciales'!A65=\"\",\"\",\"No\"))))","v":""},{"$f":"(IF('Datos Iniciales'!A65=\"Prospecto\",\"Si\",(IF('Datos Iniciales'!A65=\"\",\"\",\"No\"))))","v":""},{"$f":"(IF('Datos Iniciales'!A65=\"Proveedor\",\"Si\",(IF('Datos Iniciales'!A65=\"\",\"\",\"No\"))))","v":""},{"$f":"IF('Datos Iniciales'!B65=\"\",\"\",'Datos Iniciales'!B65)","v":""},{"$f":"IF('Datos Iniciales'!C65=\"\",\"\",'Datos Iniciales'!C65)","v":""},{"$f":"IF('Datos Iniciales'!D65=\"\",\"\",'Datos Iniciales'!D65)","v":""},{"$f":"IF('Datos Iniciales'!E65=datos!$I$2,datos!$J$2,(IF('Datos Iniciales'!E65=datos!$I$3,datos!$J$3,(IF('Datos Iniciales'!E65=datos!$I$4,datos!$J$4,(IF('Datos Iniciales'!E65=datos!$I$5,datos!$J$5,(IF('Datos Iniciales'!E65=datos!$I$6,datos!$J$6,(IF('Datos Iniciales'!E65=datos!$I$7,datos!$J$7,(IF('Datos Iniciales'!E65=datos!$I$2,datos!$J$2,(IF('Datos Iniciales'!E65=datos!$I$8,datos!$J$8,(IF('Datos Iniciales'!E65=datos!$I$9,datos!$J$9,(IF('Datos Iniciales'!E65=datos!$I$10,datos!$J$10,(IF('Datos Iniciales'!E65=datos!$I$11,datos!$J$11,(IF('Datos Iniciales'!E65=datos!$I$12,datos!$J$12,(IF('Datos Iniciales'!E65=datos!$I$13,datos!$J$13,(IF('Datos Iniciales'!E65=datos!$I$14,datos!$J$14,(IF('Datos Iniciales'!E65=datos!$I$15,datos!$J$15,\"\")))))))))))))))))))))))))))))","v":""},{"$f":"IF('Datos Iniciales'!F65=\"\",\"\",'Datos Iniciales'!F65)","v":""},{"$f":"IFERROR(datos!B64,\"\")","v":""},null,null,null,null,{"$f":"IF('Datos Iniciales'!H65=\"\",\"\",'Datos Iniciales'!H65)","v":""},{"$f":"IF('Datos Iniciales'!I65=\"\",\"\",datos!$K$2)","v":""},{"$f":"IFERROR(VLOOKUP('Datos Iniciales'!J65,datos!O63:P1182,2,FALSE),\"\")","v":""},null,{"$f":"IF('Datos Iniciales'!K65=\"\",\"\",(CONCATENATE(RIGHT('Datos Iniciales'!K65,1),\"-\",'Datos Iniciales'!L65,\"-\",'Datos Iniciales'!M65)))","v":""},null,null,null,{"$f":"IF('Datos Iniciales'!N65=\"\",\"\",'Datos Iniciales'!N65)","v":""},{"$f":"IF('Datos Iniciales'!O65=\"\",\"\",'Datos Iniciales'!O65)","v":""},null,null,null,null,{"$f":"IF('Datos Iniciales'!P65=\"\",\"\",'Datos Iniciales'!P65)","v":""},null,null,null,null,null,null,null,null,null,null,null,null,{"$f":"IF('Datos Iniciales'!B65=\"\",\"\",(IF('Datos Iniciales'!B65=\"Si\",\"002\",\"003\")))","v":""},null,{"$f":"IF('Datos Iniciales'!Q65=\"\",\"\",(IF('Datos Iniciales'!Q65=datos!S64,\"0\",\"2\")))","v":""},{"$f":"IF('Datos Iniciales'!B65=\"\",\"\",(IF('Datos Iniciales'!B65=\"Si\",\"O-48\",\"O-49\")))","v":""}]
[{"$f":"IF('Datos Iniciales'!B66=\"\",\"\",\"Si\")","v":""},{"$f":"(IF('Datos Iniciales'!A66=\"Cliente\",\"Si\",(IF('Datos Iniciales'!A66=\"\",\"\",\"No\"))))","v":""},{"$f":"(IF('Datos Iniciales'!A66=\"Distribuidor\",\"Si\",(IF('Datos Iniciales'!A66=\"\",\"\",\"No\"))))","v":""},{"$f":"(IF('Datos Iniciales'!A66=\"Otros\",\"Si\",(IF('Datos Iniciales'!A66=\"\",\"\",\"No\"))))","v":""},{"$f":"(IF('Datos Iniciales'!A66=\"Prospecto\",\"Si\",(IF('Datos Iniciales'!A66=\"\",\"\",\"No\"))))","v":""},{"$f":"(IF('Datos Iniciales'!A66=\"Proveedor\",\"Si\",(IF('Datos Iniciales'!A66=\"\",\"\",\"No\"))))","v":""},{"$f":"IF('Datos Iniciales'!B66=\"\",\"\",'Datos Iniciales'!B66)","v":""},{"$f":"IF('Datos Iniciales'!C66=\"\",\"\",'Datos Iniciales'!C66)","v":""},{"$f":"IF('Datos Iniciales'!D66=\"\",\"\",'Datos Iniciales'!D66)","v":""},{"$f":"IF('Datos Iniciales'!E66=datos!$I$2,datos!$J$2,(IF('Datos Iniciales'!E66=datos!$I$3,datos!$J$3,(IF('Datos Iniciales'!E66=datos!$I$4,datos!$J$4,(IF('Datos Iniciales'!E66=datos!$I$5,datos!$J$5,(IF('Datos Iniciales'!E66=datos!$I$6,datos!$J$6,(IF('Datos Iniciales'!E66=datos!$I$7,datos!$J$7,(IF('Datos Iniciales'!E66=datos!$I$2,datos!$J$2,(IF('Datos Iniciales'!E66=datos!$I$8,datos!$J$8,(IF('Datos Iniciales'!E66=datos!$I$9,datos!$J$9,(IF('Datos Iniciales'!E66=datos!$I$10,datos!$J$10,(IF('Datos Iniciales'!E66=datos!$I$11,datos!$J$11,(IF('Datos Iniciales'!E66=datos!$I$12,datos!$J$12,(IF('Datos Iniciales'!E66=datos!$I$13,datos!$J$13,(IF('Datos Iniciales'!E66=datos!$I$14,datos!$J$14,(IF('Datos Iniciales'!E66=datos!$I$15,datos!$J$15,\"\")))))))))))))))))))))))))))))","v":""},{"$f":"IF('Datos Iniciales'!F66=\"\",\"\",'Datos Iniciales'!F66)","v":""},{"$f":"IFERROR(datos!B65,\"\")","v":""},null,null,null,null,{"$f":"IF('Datos Iniciales'!H66=\"\",\"\",'Datos Iniciales'!H66)","v":""},{"$f":"IF('Datos Iniciales'!I66=\"\",\"\",datos!$K$2)","v":""},{"$f":"IFERROR(VLOOKUP('Datos Iniciales'!J66,datos!O64:P1183,2,FALSE),\"\")","v":""},null,{"$f":"IF('Datos Iniciales'!K66=\"\",\"\",(CONCATENATE(RIGHT('Datos Iniciales'!K66,1),\"-\",'Datos Iniciales'!L66,\"-\",'Datos Iniciales'!M66)))","v":""},null,null,null,{"$f":"IF('Datos Iniciales'!N66=\"\",\"\",'Datos Iniciales'!N66)","v":""},{"$f":"IF('Datos Iniciales'!O66=\"\",\"\",'Datos Iniciales'!O66)","v":""},null,null,null,null,{"$f":"IF('Datos Iniciales'!P66=\"\",\"\",'Datos Iniciales'!P66)","v":""},null,null,null,null,null,null,null,null,null,null,null,null,{"$f":"IF('Datos Iniciales'!B66=\"\",\"\",(IF('Datos Iniciales'!B66=\"Si\",\"002\",\"003\")))","v":""},null,{"$f":"IF('Datos Iniciales'!Q66=\"\",\"\",(IF('Datos Iniciales'!Q66=datos!S65,\"0\",\"2\")))","v":""},{"$f":"IF('Datos Iniciales'!B66=\"\",\"\",(IF('Datos Iniciales'!B66=\"Si\",\"O-48\",\"O-49\")))","v":""}]
[{"$f":"IF('Datos Iniciales'!B67=\"\",\"\",\"Si\")","v":""},{"$f":"(IF('Datos Iniciales'!A67=\"Cliente\",\"Si\",(IF('Datos Iniciales'!A67=\"\",\"\",\"No\"))))","v":""},{"$f":"(IF('Datos Iniciales'!A67=\"Distribuidor\",\"Si\",(IF('Datos Iniciales'!A67=\"\",\"\",\"No\"))))","v":""},{"$f":"(IF('Datos Iniciales'!A67=\"Otros\",\"Si\",(IF('Datos Iniciales'!A67=\"\",\"\",\"No\"))))","v":""},{"$f":"(IF('Datos Iniciales'!A67=\"Prospecto\",\"Si\",(IF('Datos Iniciales'!A67=\"\",\"\",\"No\"))))","v":""},{"$f":"(IF('Datos Iniciales'!A67=\"Proveedor\",\"Si\",(IF('Datos Iniciales'!A67=\"\",\"\",\"No\"))))","v":""},{"$f":"IF('Datos Iniciales'!B67=\"\",\"\",'Datos Iniciales'!B67)","v":""},{"$f":"IF('Datos Iniciales'!C67=\"\",\"\",'Datos Iniciales'!C67)","v":""},{"$f":"IF('Datos Iniciales'!D67=\"\",\"\",'Datos Iniciales'!D67)","v":""},{"$f":"IF('Datos Iniciales'!E67=datos!$I$2,datos!$J$2,(IF('Datos Iniciales'!E67=datos!$I$3,datos!$J$3,(IF('Datos Iniciales'!E67=datos!$I$4,datos!$J$4,(IF('Datos Iniciales'!E67=datos!$I$5,datos!$J$5,(IF('Datos Iniciales'!E67=datos!$I$6,datos!$J$6,(IF('Datos Iniciales'!E67=datos!$I$7,datos!$J$7,(IF('Datos Iniciales'!E67=datos!$I$2,datos!$J$2,(IF('Datos Iniciales'!E67=datos!$I$8,datos!$J$8,(IF('Datos Iniciales'!E67=datos!$I$9,datos!$J$9,(IF('Datos Iniciales'!E67=datos!$I$10,datos!$J$10,(IF('Datos Iniciales'!E67=datos!$I$11,datos!$J$11,(IF('Datos Iniciales'!E67=datos!$I$12,datos!$J$12,(IF('Datos Iniciales'!E67=datos!$I$13,datos!$J$13,(IF('Datos Iniciales'!E67=datos!$I$14,datos!$J$14,(IF('Datos Iniciales'!E67=datos!$I$15,datos!$J$15,\"\")))))))))))))))))))))))))))))","v":""},{"$f":"IF('Datos Iniciales'!F67=\"\",\"\",'Datos Iniciales'!F67)","v":""},{"$f":"IFERROR(datos!B66,\"\")","v":""},null,null,null,null,{"$f":"IF('Datos Iniciales'!H67=\"\",\"\",'Datos Iniciales'!H67)","v":""},{"$f":"IF('Datos Iniciales'!I67=\"\",\"\",datos!$K$2)","v":""},{"$f":"IFERROR(VLOOKUP('Datos Iniciales'!J67,datos!O65:P1184,2,FALSE),\"\")","v":""},null,{"$f":"IF('Datos Iniciales'!K67=\"\",\"\",(CONCATENATE(RIGHT('Datos Iniciales'!K67,1),\"-\",'Datos Iniciales'!L67,\"-\",'Datos Iniciales'!M67)))","v":""},null,null,null,{"$f":"IF('Datos Iniciales'!N67=\"\",\"\",'Datos Iniciales'!N67)","v":""},{"$f":"IF('Datos Iniciales'!O67=\"\",\"\",'Datos Iniciales'!O67)","v":""},null,null,null,null,{"$f":"IF('Datos Iniciales'!P67=\"\",\"\",'Datos Iniciales'!P67)","v":""},null,null,null,null,null,null,null,null,null,null,null,null,{"$f":"IF('Datos Iniciales'!B67=\"\",\"\",(IF('Datos Iniciales'!B67=\"Si\",\"002\",\"003\")))","v":""},null,{"$f":"IF('Datos Iniciales'!Q67=\"\",\"\",(IF('Datos Iniciales'!Q67=datos!S66,\"0\",\"2\")))","v":""},{"$f":"IF('Datos Iniciales'!B67=\"\",\"\",(IF('Datos Iniciales'!B67=\"Si\",\"O-48\",\"O-49\")))","v":""}]
[{"$f":"IF('Datos Iniciales'!B68=\"\",\"\",\"Si\")","v":""},{"$f":"(IF('Datos Iniciales'!A68=\"Cliente\",\"Si\",(IF('Datos Iniciales'!A68=\"\",\"\",\"No\"))))","v":""},{"$f":"(IF('Datos Iniciales'!A68=\"Distribuidor\",\"Si\",(IF('Datos Iniciales'!A68=\"\",\"\",\"No\"))))","v":""},{"$f":"(IF('Datos Iniciales'!A68=\"Otros\",\"Si\",(IF('Datos Iniciales'!A68=\"\",\"\",\"No\"))))","v":""},{"$f":"(IF('Datos Iniciales'!A68=\"Prospecto\",\"Si\",(IF('Datos Iniciales'!A68=\"\",\"\",\"No\"))))","v":""},{"$f":"(IF('Datos Iniciales'!A68=\"Proveedor\",\"Si\",(IF('Datos Iniciales'!A68=\"\",\"\",\"No\"))))","v":""},{"$f":"IF('Datos Iniciales'!B68=\"\",\"\",'Datos Iniciales'!B68)","v":""},{"$f":"IF('Datos Iniciales'!C68=\"\",\"\",'Datos Iniciales'!C68)","v":""},{"$f":"IF('Datos Iniciales'!D68=\"\",\"\",'Datos Iniciales'!D68)","v":""},{"$f":"IF('Datos Iniciales'!E68=datos!$I$2,datos!$J$2,(IF('Datos Iniciales'!E68=datos!$I$3,datos!$J$3,(IF('Datos Iniciales'!E68=datos!$I$4,datos!$J$4,(IF('Datos Iniciales'!E68=datos!$I$5,datos!$J$5,(IF('Datos Iniciales'!E68=datos!$I$6,datos!$J$6,(IF('Datos Iniciales'!E68=datos!$I$7,datos!$J$7,(IF('Datos Iniciales'!E68=datos!$I$2,datos!$J$2,(IF('Datos Iniciales'!E68=datos!$I$8,datos!$J$8,(IF('Datos Iniciales'!E68=datos!$I$9,datos!$J$9,(IF('Datos Iniciales'!E68=datos!$I$10,datos!$J$10,(IF('Datos Iniciales'!E68=datos!$I$11,datos!$J$11,(IF('Datos Iniciales'!E68=datos!$I$12,datos!$J$12,(IF('Datos Iniciales'!E68=datos!$I$13,datos!$J$13,(IF('Datos Iniciales'!E68=datos!$I$14,datos!$J$14,(IF('Datos Iniciales'!E68=datos!$I$15,datos!$J$15,\"\")))))))))))))))))))))))))))))","v":""},{"$f":"IF('Datos Iniciales'!F68=\"\",\"\",'Datos Iniciales'!F68)","v":""},{"$f":"IFERROR(datos!B67,\"\")","v":""},null,null,null,null,{"$f":"IF('Datos Iniciales'!H68=\"\",\"\",'Datos Iniciales'!H68)","v":""},{"$f":"IF('Datos Iniciales'!I68=\"\",\"\",datos!$K$2)","v":""},{"$f":"IFERROR(VLOOKUP('Datos Iniciales'!J68,datos!O66:P1185,2,FALSE),\"\")","v":""},null,{"$f":"IF('Datos Iniciales'!K68=\"\",\"\",(CONCATENATE(RIGHT('Datos Iniciales'!K68,1),\"-\",'Datos Iniciales'!L68,\"-\",'Datos Iniciales'!M68)))","v":""},null,null,null,{"$f":"IF('Datos Iniciales'!N68=\"\",\"\",'Datos Iniciales'!N68)","v":""},{"$f":"IF('Datos Iniciales'!O68=\"\",\"\",'Datos Iniciales'!O68)","v":""},null,null,null,null,{"$f":"IF('Datos Iniciales'!P68=\"\",\"\",'Datos Iniciales'!P68)","v":""},null,null,null,null,null,null,null,null,null,null,null,null,{"$f":"IF('Datos Iniciales'!B68=\"\",\"\",(IF('Datos Iniciales'!B68=\"Si\",\"002\",\"003\")))","v":""},null,{"$f":"IF('Datos Iniciales'!Q68=\"\",\"\",(IF('Datos Iniciales'!Q68=datos!S67,\"0\",\"2\")))","v":""},{"$f":"IF('Datos Iniciales'!B68=\"\",\"\",(IF('Datos Iniciales'!B68=\"Si\",\"O-48\",\"O-49\")))","v":""}]
[{"$f":"IF('Datos Iniciales'!B69=\"\",\"\",\"Si\")","v":""},{"$f":"(IF('Datos Iniciales'!A69=\"Cliente\",\"Si\",(IF('Datos Iniciales'!A69=\"\",\"\",\"No\"))))","v":""},{"$f":"(IF('Datos Iniciales'!A69=\"Distribuidor\",\"Si\",(IF('Datos Iniciales'!A69=\"\",\"\",\"No\"))))","v":""},{"$f":"(IF('Datos Iniciales'!A69=\"Otros\",\"Si\",(IF('Datos Iniciales'!A69=\"\",\"\",\"No\"))))","v":""},{"$f":"(IF('Datos Iniciales'!A69=\"Prospecto\",\"Si\",(IF('Datos Iniciales'!A69=\"\",\"\",\"No\"))))","v":""},{"$f":"(IF('Datos Iniciales'!A69=\"Proveedor\",\"Si\",(IF('Datos Iniciales'!A69=\"\",\"\",\"No\"))))","v":""},{"$f":"IF('Datos Iniciales'!B69=\"\",\"\",'Datos Iniciales'!B69)","v":""},{"$f":"IF('Datos Iniciales'!C69=\"\",\"\",'Datos Iniciales'!C69)","v":""},{"$f":"IF('Datos Iniciales'!D69=\"\",\"\",'Datos Iniciales'!D69)","v":""},{"$f":"IF('Datos Iniciales'!E69=datos!$I$2,datos!$J$2,(IF('Datos Iniciales'!E69=datos!$I$3,datos!$J$3,(IF('Datos Iniciales'!E69=datos!$I$4,datos!$J$4,(IF('Datos Iniciales'!E69=datos!$I$5,datos!$J$5,(IF('Datos Iniciales'!E69=datos!$I$6,datos!$J$6,(IF('Datos Iniciales'!E69=datos!$I$7,datos!$J$7,(IF('Datos Iniciales'!E69=datos!$I$2,datos!$J$2,(IF('Datos Iniciales'!E69=datos!$I$8,datos!$J$8,(IF('Datos Iniciales'!E69=datos!$I$9,datos!$J$9,(IF('Datos Iniciales'!E69=datos!$I$10,datos!$J$10,(IF('Datos Iniciales'!E69=datos!$I$11,datos!$J$11,(IF('Datos Iniciales'!E69=datos!$I$12,datos!$J$12,(IF('Datos Iniciales'!E69=datos!$I$13,datos!$J$13,(IF('Datos Iniciales'!E69=datos!$I$14,datos!$J$14,(IF('Datos Iniciales'!E69=datos!$I$15,datos!$J$15,\"\")))))))))))))))))))))))))))))","v":""},{"$f":"IF('Datos Iniciales'!F69=\"\",\"\",'Datos Iniciales'!F69)","v":""},{"$f":"IFERROR(datos!B68,\"\")","v":""},null,null,null,null,{"$f":"IF('Datos Iniciales'!H69=\"\",\"\",'Datos Iniciales'!H69)","v":""},{"$f":"IF('Datos Iniciales'!I69=\"\",\"\",datos!$K$2)","v":""},{"$f":"IFERROR(VLOOKUP('Datos Iniciales'!J69,datos!O67:P1186,2,FALSE),\"\")","v":""},null,{"$f":"IF('Datos Iniciales'!K69=\"\",\"\",(CONCATENATE(RIGHT('Datos Iniciales'!K69,1),\"-\",'Datos Iniciales'!L69,\"-\",'Datos Iniciales'!M69)))","v":""},null,null,null,{"$f":"IF('Datos Iniciales'!N69=\"\",\"\",'Datos Iniciales'!N69)","v":""},{"$f":"IF('Datos Iniciales'!O69=\"\",\"\",'Datos Iniciales'!O69)","v":""},null,null,null,null,{"$f":"IF('Datos Iniciales'!P69=\"\",\"\",'Datos Iniciales'!P69)","v":""},null,null,null,null,null,null,null,null,null,null,null,null,{"$f":"IF('Datos Iniciales'!B69=\"\",\"\",(IF('Datos Iniciales'!B69=\"Si\",\"002\",\"003\")))","v":""},null,{"$f":"IF('Datos Iniciales'!Q69=\"\",\"\",(IF('Datos Iniciales'!Q69=datos!S68,\"0\",\"2\")))","v":""},{"$f":"IF('Datos Iniciales'!B69=\"\",\"\",(IF('Datos Iniciales'!B69=\"Si\",\"O-48\",\"O-49\")))","v":""}]
[{"$f":"IF('Datos Iniciales'!B70=\"\",\"\",\"Si\")","v":""},{"$f":"(IF('Datos Iniciales'!A70=\"Cliente\",\"Si\",(IF('Datos Iniciales'!A70=\"\",\"\",\"No\"))))","v":""},{"$f":"(IF('Datos Iniciales'!A70=\"Distribuidor\",\"Si\",(IF('Datos Iniciales'!A70=\"\",\"\",\"No\"))))","v":""},{"$f":"(IF('Datos Iniciales'!A70=\"Otros\",\"Si\",(IF('Datos Iniciales'!A70=\"\",\"\",\"No\"))))","v":""},{"$f":"(IF('Datos Iniciales'!A70=\"Prospecto\",\"Si\",(IF('Datos Iniciales'!A70=\"\",\"\",\"No\"))))","v":""},{"$f":"(IF('Datos Iniciales'!A70=\"Proveedor\",\"Si\",(IF('Datos Iniciales'!A70=\"\",\"\",\"No\"))))","v":""},{"$f":"IF('Datos Iniciales'!B70=\"\",\"\",'Datos Iniciales'!B70)","v":""},{"$f":"IF('Datos Iniciales'!C70=\"\",\"\",'Datos Iniciales'!C70)","v":""},{"$f":"IF('Datos Iniciales'!D70=\"\",\"\",'Datos Iniciales'!D70)","v":""},{"$f":"IF('Datos Iniciales'!E70=datos!$I$2,datos!$J$2,(IF('Datos Iniciales'!E70=datos!$I$3,datos!$J$3,(IF('Datos Iniciales'!E70=datos!$I$4,datos!$J$4,(IF('Datos Iniciales'!E70=datos!$I$5,datos!$J$5,(IF('Datos Iniciales'!E70=datos!$I$6,datos!$J$6,(IF('Datos Iniciales'!E70=datos!$I$7,datos!$J$7,(IF('Datos Iniciales'!E70=datos!$I$2,datos!$J$2,(IF('Datos Iniciales'!E70=datos!$I$8,datos!$J$8,(IF('Datos Iniciales'!E70=datos!$I$9,datos!$J$9,(IF('Datos Iniciales'!E70=datos!$I$10,datos!$J$10,(IF('Datos Iniciales'!E70=datos!$I$11,datos!$J$11,(IF('Datos Iniciales'!E70=datos!$I$12,datos!$J$12,(IF('Datos Iniciales'!E70=datos!$I$13,datos!$J$13,(IF('Datos Iniciales'!E70=datos!$I$14,datos!$J$14,(IF('Datos Iniciales'!E70=datos!$I$15,datos!$J$15,\"\")))))))))))))))))))))))))))))","v":""},{"$f":"IF('Datos Iniciales'!F70=\"\",\"\",'Datos Iniciales'!F70)","v":""},{"$f":"IFERROR(datos!B69,\"\")","v":""},null,null,null,null,{"$f":"IF('Datos Iniciales'!H70=\"\",\"\",'Datos Iniciales'!H70)","v":""},{"$f":"IF('Datos Iniciales'!I70=\"\",\"\",datos!$K$2)","v":""},{"$f":"IFERROR(VLOOKUP('Datos Iniciales'!J70,datos!O68:P1187,2,FALSE),\"\")","v":""},null,{"$f":"IF('Datos Iniciales'!K70=\"\",\"\",(CONCATENATE(RIGHT('Datos Iniciales'!K70,1),\"-\",'Datos Iniciales'!L70,\"-\",'Datos Iniciales'!M70)))","v":""},null,null,null,{"$f":"IF('Datos Iniciales'!N70=\"\",\"\",'Datos Iniciales'!N70)","v":""},{"$f":"IF('Datos Iniciales'!O70=\"\",\"\",'Datos Iniciales'!O70)","v":""},null,null,null,null,{"$f":"IF('Datos Iniciales'!P70=\"\",\"\",'Datos Iniciales'!P70)","v":""},null,null,null,null,null,null,null,null,null,null,null,null,{"$f":"IF('Datos Iniciales'!B70=\"\",\"\",(IF('Datos Iniciales'!B70=\"Si\",\"002\",\"003\")))","v":""},null,{"$f":"IF('Datos Iniciales'!Q70=\"\",\"\",(IF('Datos Iniciales'!Q70=datos!S69,\"0\",\"2\")))","v":""},{"$f":"IF('Datos Iniciales'!B70=\"\",\"\",(IF('Datos Iniciales'!B70=\"Si\",\"O-48\",\"O-49\")))","v":""}]
[{"$f":"IF('Datos Iniciales'!B71=\"\",\"\",\"Si\")","v":""},{"$f":"(IF('Datos Iniciales'!A71=\"Cliente\",\"Si\",(IF('Datos Iniciales'!A71=\"\",\"\",\"No\"))))","v":""},{"$f":"(IF('Datos Iniciales'!A71=\"Distribuidor\",\"Si\",(IF('Datos Iniciales'!A71=\"\",\"\",\"No\"))))","v":""},{"$f":"(IF('Datos Iniciales'!A71=\"Otros\",\"Si\",(IF('Datos Iniciales'!A71=\"\",\"\",\"No\"))))","v":""},{"$f":"(IF('Datos Iniciales'!A71=\"Prospecto\",\"Si\",(IF('Datos Iniciales'!A71=\"\",\"\",\"No\"))))","v":""},{"$f":"(IF('Datos Iniciales'!A71=\"Proveedor\",\"Si\",(IF('Datos Iniciales'!A71=\"\",\"\",\"No\"))))","v":""},{"$f":"IF('Datos Iniciales'!B71=\"\",\"\",'Datos Iniciales'!B71)","v":""},{"$f":"IF('Datos Iniciales'!C71=\"\",\"\",'Datos Iniciales'!C71)","v":""},{"$f":"IF('Datos Iniciales'!D71=\"\",\"\",'Datos Iniciales'!D71)","v":""},{"$f":"IF('Datos Iniciales'!E71=datos!$I$2,datos!$J$2,(IF('Datos Iniciales'!E71=datos!$I$3,datos!$J$3,(IF('Datos Iniciales'!E71=datos!$I$4,datos!$J$4,(IF('Datos Iniciales'!E71=datos!$I$5,datos!$J$5,(IF('Datos Iniciales'!E71=datos!$I$6,datos!$J$6,(IF('Datos Iniciales'!E71=datos!$I$7,datos!$J$7,(IF('Datos Iniciales'!E71=datos!$I$2,datos!$J$2,(IF('Datos Iniciales'!E71=datos!$I$8,datos!$J$8,(IF('Datos Iniciales'!E71=datos!$I$9,datos!$J$9,(IF('Datos Iniciales'!E71=datos!$I$10,datos!$J$10,(IF('Datos Iniciales'!E71=datos!$I$11,datos!$J$11,(IF('Datos Iniciales'!E71=datos!$I$12,datos!$J$12,(IF('Datos Iniciales'!E71=datos!$I$13,datos!$J$13,(IF('Datos Iniciales'!E71=datos!$I$14,datos!$J$14,(IF('Datos Iniciales'!E71=datos!$I$15,datos!$J$15,\"\")))))))))))))))))))))))))))))","v":""},{"$f":"IF('Datos Iniciales'!F71=\"\",\"\",'Datos Iniciales'!F71)","v":""},{"$f":"IFERROR(datos!B70,\"\")","v":""},null,null,null,null,{"$f":"IF('Datos Iniciales'!H71=\"\",\"\",'Datos Iniciales'!H71)","v":""},{"$f":"IF('Datos Iniciales'!I71=\"\",\"\",datos!$K$2)","v":""},{"$f":"IFERROR(VLOOKUP('Datos Iniciales'!J71,datos!O69:P1188,2,FALSE),\"\")","v":""},null,{"$f":"IF('Datos Iniciales'!K71=\"\",\"\",(CONCATENATE(RIGHT('Datos Iniciales'!K71,1),\"-\",'Datos Iniciales'!L71,\"-\",'Datos Iniciales'!M71)))","v":""},null,null,null,{"$f":"IF('Datos Iniciales'!N71=\"\",\"\",'Datos Iniciales'!N71)","v":""},{"$f":"IF('Datos Iniciales'!O71=\"\",\"\",'Datos Iniciales'!O71)","v":""},null,null,null,null,{"$f":"IF('Datos Iniciales'!P71=\"\",\"\",'Datos Iniciales'!P71)","v":""},null,null,null,null,null,null,null,null,null,null,null,null,{"$f":"IF('Datos Iniciales'!B71=\"\",\"\",(IF('Datos Iniciales'!B71=\"Si\",\"002\",\"003\")))","v":""},null,{"$f":"IF('Datos Iniciales'!Q71=\"\",\"\",(IF('Datos Iniciales'!Q71=datos!S70,\"0\",\"2\")))","v":""},{"$f":"IF('Datos Iniciales'!B71=\"\",\"\",(IF('Datos Iniciales'!B71=\"Si\",\"O-48\",\"O-49\")))","v":""}]
[{"$f":"IF('Datos Iniciales'!B72=\"\",\"\",\"Si\")","v":""},{"$f":"(IF('Datos Iniciales'!A72=\"Cliente\",\"Si\",(IF('Datos Iniciales'!A72=\"\",\"\",\"No\"))))","v":""},{"$f":"(IF('Datos Iniciales'!A72=\"Distribuidor\",\"Si\",(IF('Datos Iniciales'!A72=\"\",\"\",\"No\"))))","v":""},{"$f":"(IF('Datos Iniciales'!A72=\"Otros\",\"Si\",(IF('Datos Iniciales'!A72=\"\",\"\",\"No\"))))","v":""},{"$f":"(IF('Datos Iniciales'!A72=\"Prospecto\",\"Si\",(IF('Datos Iniciales'!A72=\"\",\"\",\"No\"))))","v":""},{"$f":"(IF('Datos Iniciales'!A72=\"Proveedor\",\"Si\",(IF('Datos Iniciales'!A72=\"\",\"\",\"No\"))))","v":""},{"$f":"IF('Datos Iniciales'!B72=\"\",\"\",'Datos Iniciales'!B72)","v":""},{"$f":"IF('Datos Iniciales'!C72=\"\",\"\",'Datos Iniciales'!C72)","v":""},{"$f":"IF('Datos Iniciales'!D72=\"\",\"\",'Datos Iniciales'!D72)","v":""},{"$f":"IF('Datos Iniciales'!E72=datos!$I$2,datos!$J$2,(IF('Datos Iniciales'!E72=datos!$I$3,datos!$J$3,(IF('Datos Iniciales'!E72=datos!$I$4,datos!$J$4,(IF('Datos Iniciales'!E72=datos!$I$5,datos!$J$5,(IF('Datos Iniciales'!E72=datos!$I$6,datos!$J$6,(IF('Datos Iniciales'!E72=datos!$I$7,datos!$J$7,(IF('Datos Iniciales'!E72=datos!$I$2,datos!$J$2,(IF('Datos Iniciales'!E72=datos!$I$8,datos!$J$8,(IF('Datos Iniciales'!E72=datos!$I$9,datos!$J$9,(IF('Datos Iniciales'!E72=datos!$I$10,datos!$J$10,(IF('Datos Iniciales'!E72=datos!$I$11,datos!$J$11,(IF('Datos Iniciales'!E72=datos!$I$12,datos!$J$12,(IF('Datos Iniciales'!E72=datos!$I$13,datos!$J$13,(IF('Datos Iniciales'!E72=datos!$I$14,datos!$J$14,(IF('Datos Iniciales'!E72=datos!$I$15,datos!$J$15,\"\")))))))))))))))))))))))))))))","v":""},{"$f":"IF('Datos Iniciales'!F72=\"\",\"\",'Datos Iniciales'!F72)","v":""},{"$f":"IFERROR(datos!B71,\"\")","v":""},null,null,null,null,{"$f":"IF('Datos Iniciales'!H72=\"\",\"\",'Datos Iniciales'!H72)","v":""},{"$f":"IF('Datos Iniciales'!I72=\"\",\"\",datos!$K$2)","v":""},{"$f":"IFERROR(VLOOKUP('Datos Iniciales'!J72,datos!O70:P1189,2,FALSE),\"\")","v":""},null,{"$f":"IF('Datos Iniciales'!K72=\"\",\"\",(CONCATENATE(RIGHT('Datos Iniciales'!K72,1),\"-\",'Datos Iniciales'!L72,\"-\",'Datos Iniciales'!M72)))","v":""},null,null,null,{"$f":"IF('Datos Iniciales'!N72=\"\",\"\",'Datos Iniciales'!N72)","v":""},{"$f":"IF('Datos Iniciales'!O72=\"\",\"\",'Datos Iniciales'!O72)","v":""},null,null,null,null,{"$f":"IF('Datos Iniciales'!P72=\"\",\"\",'Datos Iniciales'!P72)","v":""},null,null,null,null,null,null,null,null,null,null,null,null,{"$f":"IF('Datos Iniciales'!B72=\"\",\"\",(IF('Datos Iniciales'!B72=\"Si\",\"002\",\"003\")))","v":""},null,{"$f":"IF('Datos Iniciales'!Q72=\"\",\"\",(IF('Datos Iniciales'!Q72=datos!S71,\"0\",\"2\")))","v":""},{"$f":"IF('Datos Iniciales'!B72=\"\",\"\",(IF('Datos Iniciales'!B72=\"Si\",\"O-48\",\"O-49\")))","v":""}]
[{"$f":"IF('Datos Iniciales'!B73=\"\",\"\",\"Si\")","v":""},{"$f":"(IF('Datos Iniciales'!A73=\"Cliente\",\"Si\",(IF('Datos Iniciales'!A73=\"\",\"\",\"No\"))))","v":""},{"$f":"(IF('Datos Iniciales'!A73=\"Distribuidor\",\"Si\",(IF('Datos Iniciales'!A73=\"\",\"\",\"No\"))))","v":""},{"$f":"(IF('Datos Iniciales'!A73=\"Otros\",\"Si\",(IF('Datos Iniciales'!A73=\"\",\"\",\"No\"))))","v":""},{"$f":"(IF('Datos Iniciales'!A73=\"Prospecto\",\"Si\",(IF('Datos Iniciales'!A73=\"\",\"\",\"No\"))))","v":""},{"$f":"(IF('Datos Iniciales'!A73=\"Proveedor\",\"Si\",(IF('Datos Iniciales'!A73=\"\",\"\",\"No\"))))","v":""},{"$f":"IF('Datos Iniciales'!B73=\"\",\"\",'Datos Iniciales'!B73)","v":""},{"$f":"IF('Datos Iniciales'!C73=\"\",\"\",'Datos Iniciales'!C73)","v":""},{"$f":"IF('Datos Iniciales'!D73=\"\",\"\",'Datos Iniciales'!D73)","v":""},{"$f":"IF('Datos Iniciales'!E73=datos!$I$2,datos!$J$2,(IF('Datos Iniciales'!E73=datos!$I$3,datos!$J$3,(IF('Datos Iniciales'!E73=datos!$I$4,datos!$J$4,(IF('Datos Iniciales'!E73=datos!$I$5,datos!$J$5,(IF('Datos Iniciales'!E73=datos!$I$6,datos!$J$6,(IF('Datos Iniciales'!E73=datos!$I$7,datos!$J$7,(IF('Datos Iniciales'!E73=datos!$I$2,datos!$J$2,(IF('Datos Iniciales'!E73=datos!$I$8,datos!$J$8,(IF('Datos Iniciales'!E73=datos!$I$9,datos!$J$9,(IF('Datos Iniciales'!E73=datos!$I$10,datos!$J$10,(IF('Datos Iniciales'!E73=datos!$I$11,datos!$J$11,(IF('Datos Iniciales'!E73=datos!$I$12,datos!$J$12,(IF('Datos Iniciales'!E73=datos!$I$13,datos!$J$13,(IF('Datos Iniciales'!E73=datos!$I$14,datos!$J$14,(IF('Datos Iniciales'!E73=datos!$I$15,datos!$J$15,\"\")))))))))))))))))))))))))))))","v":""},{"$f":"IF('Datos Iniciales'!F73=\"\",\"\",'Datos Iniciales'!F73)","v":""},{"$f":"IFERROR(datos!B72,\"\")","v":""},null,null,null,null,{"$f":"IF('Datos Iniciales'!H73=\"\",\"\",'Datos Iniciales'!H73)","v":""},{"$f":"IF('Datos Iniciales'!I73=\"\",\"\",datos!$K$2)","v":""},{"$f":"IFERROR(VLOOKUP('Datos Iniciales'!J73,datos!O71:P1190,2,FALSE),\"\")","v":""},null,{"$f":"IF('Datos Iniciales'!K73=\"\",\"\",(CONCATENATE(RIGHT('Datos Iniciales'!K73,1),\"-\",'Datos Iniciales'!L73,\"-\",'Datos Iniciales'!M73)))","v":""},null,null,null,{"$f":"IF('Datos Iniciales'!N73=\"\",\"\",'Datos Iniciales'!N73)","v":""},{"$f":"IF('Datos Iniciales'!O73=\"\",\"\",'Datos Iniciales'!O73)","v":""},null,null,null,null,{"$f":"IF('Datos Iniciales'!P73=\"\",\"\",'Datos Iniciales'!P73)","v":""},null,null,null,null,null,null,null,null,null,null,null,null,{"$f":"IF('Datos Iniciales'!B73=\"\",\"\",(IF('Datos Iniciales'!B73=\"Si\",\"002\",\"003\")))","v":""},null,{"$f":"IF('Datos Iniciales'!Q73=\"\",\"\",(IF('Datos Iniciales'!Q73=datos!S72,\"0\",\"2\")))","v":""},{"$f":"IF('Datos Iniciales'!B73=\"\",\"\",(IF('Datos Iniciales'!B73=\"Si\",\"O-48\",\"O-49\")))","v":""}]
[{"$f":"IF('Datos Iniciales'!B74=\"\",\"\",\"Si\")","v":""},{"$f":"(IF('Datos Iniciales'!A74=\"Cliente\",\"Si\",(IF('Datos Iniciales'!A74=\"\",\"\",\"No\"))))","v":""},{"$f":"(IF('Datos Iniciales'!A74=\"Distribuidor\",\"Si\",(IF('Datos Iniciales'!A74=\"\",\"\",\"No\"))))","v":""},{"$f":"(IF('Datos Iniciales'!A74=\"Otros\",\"Si\",(IF('Datos Iniciales'!A74=\"\",\"\",\"No\"))))","v":""},{"$f":"(IF('Datos Iniciales'!A74=\"Prospecto\",\"Si\",(IF('Datos Iniciales'!A74=\"\",\"\",\"No\"))))","v":""},{"$f":"(IF('Datos Iniciales'!A74=\"Proveedor\",\"Si\",(IF('Datos Iniciales'!A74=\"\",\"\",\"No\"))))","v":""},{"$f":"IF('Datos Iniciales'!B74=\"\",\"\",'Datos Iniciales'!B74)","v":""},{"$f":"IF('Datos Iniciales'!C74=\"\",\"\",'Datos Iniciales'!C74)","v":""},{"$f":"IF('Datos Iniciales'!D74=\"\",\"\",'Datos Iniciales'!D74)","v":""},{"$f":"IF('Datos Iniciales'!E74=datos!$I$2,datos!$J$2,(IF('Datos Iniciales'!E74=datos!$I$3,datos!$J$3,(IF('Datos Iniciales'!E74=datos!$I$4,datos!$J$4,(IF('Datos Iniciales'!E74=datos!$I$5,datos!$J$5,(IF('Datos Iniciales'!E74=datos!$I$6,datos!$J$6,(IF('Datos Iniciales'!E74=datos!$I$7,datos!$J$7,(IF('Datos Iniciales'!E74=datos!$I$2,datos!$J$2,(IF('Datos Iniciales'!E74=datos!$I$8,datos!$J$8,(IF('Datos Iniciales'!E74=datos!$I$9,datos!$J$9,(IF('Datos Iniciales'!E74=datos!$I$10,datos!$J$10,(IF('Datos Iniciales'!E74=datos!$I$11,datos!$J$11,(IF('Datos Iniciales'!E74=datos!$I$12,datos!$J$12,(IF('Datos Iniciales'!E74=datos!$I$13,datos!$J$13,(IF('Datos Iniciales'!E74=datos!$I$14,datos!$J$14,(IF('Datos Iniciales'!E74=datos!$I$15,datos!$J$15,\"\")))))))))))))))))))))))))))))","v":""},{"$f":"IF('Datos Iniciales'!F74=\"\",\"\",'Datos Iniciales'!F74)","v":""},{"$f":"IFERROR(datos!B73,\"\")","v":""},null,null,null,null,{"$f":"IF('Datos Iniciales'!H74=\"\",\"\",'Datos Iniciales'!H74)","v":""},{"$f":"IF('Datos Iniciales'!I74=\"\",\"\",datos!$K$2)","v":""},{"$f":"IFERROR(VLOOKUP('Datos Iniciales'!J74,datos!O72:P1191,2,FALSE),\"\")","v":""},null,{"$f":"IF('Datos Iniciales'!K74=\"\",\"\",(CONCATENATE(RIGHT('Datos Iniciales'!K74,1),\"-\",'Datos Iniciales'!L74,\"-\",'Datos Iniciales'!M74)))","v":""},null,null,null,{"$f":"IF('Datos Iniciales'!N74=\"\",\"\",'Datos Iniciales'!N74)","v":""},{"$f":"IF('Datos Iniciales'!O74=\"\",\"\",'Datos Iniciales'!O74)","v":""},null,null,null,null,{"$f":"IF('Datos Iniciales'!P74=\"\",\"\",'Datos Iniciales'!P74)","v":""},null,null,null,null,null,null,null,null,null,null,null,null,{"$f":"IF('Datos Iniciales'!B74=\"\",\"\",(IF('Datos Iniciales'!B74=\"Si\",\"002\",\"003\")))","v":""},null,{"$f":"IF('Datos Iniciales'!Q74=\"\",\"\",(IF('Datos Iniciales'!Q74=datos!S73,\"0\",\"2\")))","v":""},{"$f":"IF('Datos Iniciales'!B74=\"\",\"\",(IF('Datos Iniciales'!B74=\"Si\",\"O-48\",\"O-49\")))","v":""}]
[{"$f":"IF('Datos Iniciales'!B75=\"\",\"\",\"Si\")","v":""},{"$f":"(IF('Datos Iniciales'!A75=\"Cliente\",\"Si\",(IF('Datos Iniciales'!A75=\"\",\"\",\"No\"))))","v":""},{"$f":"(IF('Datos Iniciales'!A75=\"Distribuidor\",\"Si\",(IF('Datos Iniciales'!A75=\"\",\"\",\"No\"))))","v":""},{"$f":"(IF('Datos Iniciales'!A75=\"Otros\",\"Si\",(IF('Datos Iniciales'!A75=\"\",\"\",\"No\"))))","v":""},{"$f":"(IF('Datos Iniciales'!A75=\"Prospecto\",\"Si\",(IF('Datos Iniciales'!A75=\"\",\"\",\"No\"))))","v":""},{"$f":"(IF('Datos Iniciales'!A75=\"Proveedor\",\"Si\",(IF('Datos Iniciales'!A75=\"\",\"\",\"No\"))))","v":""},{"$f":"IF('Datos Iniciales'!B75=\"\",\"\",'Datos Iniciales'!B75)","v":""},{"$f":"IF('Datos Iniciales'!C75=\"\",\"\",'Datos Iniciales'!C75)","v":""},{"$f":"IF('Datos Iniciales'!D75=\"\",\"\",'Datos Iniciales'!D75)","v":""},{"$f":"IF('Datos Iniciales'!E75=datos!$I$2,datos!$J$2,(IF('Datos Iniciales'!E75=datos!$I$3,datos!$J$3,(IF('Datos Iniciales'!E75=datos!$I$4,datos!$J$4,(IF('Datos Iniciales'!E75=datos!$I$5,datos!$J$5,(IF('Datos Iniciales'!E75=datos!$I$6,datos!$J$6,(IF('Datos Iniciales'!E75=datos!$I$7,datos!$J$7,(IF('Datos Iniciales'!E75=datos!$I$2,datos!$J$2,(IF('Datos Iniciales'!E75=datos!$I$8,datos!$J$8,(IF('Datos Iniciales'!E75=datos!$I$9,datos!$J$9,(IF('Datos Iniciales'!E75=datos!$I$10,datos!$J$10,(IF('Datos Iniciales'!E75=datos!$I$11,datos!$J$11,(IF('Datos Iniciales'!E75=datos!$I$12,datos!$J$12,(IF('Datos Iniciales'!E75=datos!$I$13,datos!$J$13,(IF('Datos Iniciales'!E75=datos!$I$14,datos!$J$14,(IF('Datos Iniciales'!E75=datos!$I$15,datos!$J$15,\"\")))))))))))))))))))))))))))))","v":""},{"$f":"IF('Datos Iniciales'!F75=\"\",\"\",'Datos Iniciales'!F75)","v":""},{"$f":"IFERROR(datos!B74,\"\")","v":""},null,null,null,null,{"$f":"IF('Datos Iniciales'!H75=\"\",\"\",'Datos Iniciales'!H75)","v":""},{"$f":"IF('Datos Iniciales'!I75=\"\",\"\",datos!$K$2)","v":""},{"$f":"IFERROR(VLOOKUP('Datos Iniciales'!J75,datos!O73:P1192,2,FALSE),\"\")","v":""},null,{"$f":"IF('Datos Iniciales'!K75=\"\",\"\",(CONCATENATE(RIGHT('Datos Iniciales'!K75,1),\"-\",'Datos Iniciales'!L75,\"-\",'Datos Iniciales'!M75)))","v":""},null,null,null,{"$f":"IF('Datos Iniciales'!N75=\"\",\"\",'Datos Iniciales'!N75)","v":""},{"$f":"IF('Datos Iniciales'!O75=\"\",\"\",'Datos Iniciales'!O75)","v":""},null,null,null,null,{"$f":"IF('Datos Iniciales'!P75=\"\",\"\",'Datos Iniciales'!P75)","v":""},null,null,null,null,null,null,null,null,null,null,null,null,{"$f":"IF('Datos Iniciales'!B75=\"\",\"\",(IF('Datos Iniciales'!B75=\"Si\",\"002\",\"003\")))","v":""},null,{"$f":"IF('Datos Iniciales'!Q75=\"\",\"\",(IF('Datos Iniciales'!Q75=datos!S74,\"0\",\"2\")))","v":""},{"$f":"IF('Datos Iniciales'!B75=\"\",\"\",(IF('Datos Iniciales'!B75=\"Si\",\"O-48\",\"O-49\")))","v":""}]
[{"$f":"IF('Datos Iniciales'!B76=\"\",\"\",\"Si\")","v":""},{"$f":"(IF('Datos Iniciales'!A76=\"Cliente\",\"Si\",(IF('Datos Iniciales'!A76=\"\",\"\",\"No\"))))","v":""},{"$f":"(IF('Datos Iniciales'!A76=\"Distribuidor\",\"Si\",(IF('Datos Iniciales'!A76=\"\",\"\",\"No\"))))","v":""},{"$f":"(IF('Datos Iniciales'!A76=\"Otros\",\"Si\",(IF('Datos Iniciales'!A76=\"\",\"\",\"No\"))))","v":""},{"$f":"(IF('Datos Iniciales'!A76=\"Prospecto\",\"Si\",(IF('Datos Iniciales'!A76=\"\",\"\",\"No\"))))","v":""},{"$f":"(IF('Datos Iniciales'!A76=\"Proveedor\",\"Si\",(IF('Datos Iniciales'!A76=\"\",\"\",\"No\"))))","v":""},{"$f":"IF('Datos Iniciales'!B76=\"\",\"\",'Datos Iniciales'!B76)","v":""},{"$f":"IF('Datos Iniciales'!C76=\"\",\"\",'Datos Iniciales'!C76)","v":""},{"$f":"IF('Datos Iniciales'!D76=\"\",\"\",'Datos Iniciales'!D76)","v":""},{"$f":"IF('Datos Iniciales'!E76=datos!$I$2,datos!$J$2,(IF('Datos Iniciales'!E76=datos!$I$3,datos!$J$3,(IF('Datos Iniciales'!E76=datos!$I$4,datos!$J$4,(IF('Datos Iniciales'!E76=datos!$I$5,datos!$J$5,(IF('Datos Iniciales'!E76=datos!$I$6,datos!$J$6,(IF('Datos Iniciales'!E76=datos!$I$7,datos!$J$7,(IF('Datos Iniciales'!E76=datos!$I$2,datos!$J$2,(IF('Datos Iniciales'!E76=datos!$I$8,datos!$J$8,(IF('Datos Iniciales'!E76=datos!$I$9,datos!$J$9,(IF('Datos Iniciales'!E76=datos!$I$10,datos!$J$10,(IF('Datos Iniciales'!E76=datos!$I$11,datos!$J$11,(IF('Datos Iniciales'!E76=datos!$I$12,datos!$J$12,(IF('Datos Iniciales'!E76=datos!$I$13,datos!$J$13,(IF('Datos Iniciales'!E76=datos!$I$14,datos!$J$14,(IF('Datos Iniciales'!E76=datos!$I$15,datos!$J$15,\"\")))))))))))))))))))))))))))))","v":""},{"$f":"IF('Datos Iniciales'!F76=\"\",\"\",'Datos Iniciales'!F76)","v":""},{"$f":"IFERROR(datos!B75,\"\")","v":""},null,null,null,null,{"$f":"IF('Datos Iniciales'!H76=\"\",\"\",'Datos Iniciales'!H76)","v":""},{"$f":"IF('Datos Iniciales'!I76=\"\",\"\",datos!$K$2)","v":""},{"$f":"IFERROR(VLOOKUP('Datos Iniciales'!J76,datos!O74:P1193,2,FALSE),\"\")","v":""},null,{"$f":"IF('Datos Iniciales'!K76=\"\",\"\",(CONCATENATE(RIGHT('Datos Iniciales'!K76,1),\"-\",'Datos Iniciales'!L76,\"-\",'Datos Iniciales'!M76)))","v":""},null,null,null,{"$f":"IF('Datos Iniciales'!N76=\"\",\"\",'Datos Iniciales'!N76)","v":""},{"$f":"IF('Datos Iniciales'!O76=\"\",\"\",'Datos Iniciales'!O76)","v":""},null,null,null,null,{"$f":"IF('Datos Iniciales'!P76=\"\",\"\",'Datos Iniciales'!P76)","v":""},null,null,null,null,null,null,null,null,null,null,null,null,{"$f":"IF('Datos Iniciales'!B76=\"\",\"\",(IF('Datos Iniciales'!B76=\"Si\",\"002\",\"003\")))","v":""},null,{"$f":"IF('Datos Iniciales'!Q76=\"\",\"\",(IF('Datos Iniciales'!Q76=datos!S75,\"0\",\"2\")))","v":""},{"$f":"IF('Datos Iniciales'!B76=\"\",\"\",(IF('Datos Iniciales'!B76=\"Si\",\"O-48\",\"O-49\")))","v":""}]
[{"$f":"IF('Datos Iniciales'!B77=\"\",\"\",\"Si\")","v":""},{"$f":"(IF('Datos Iniciales'!A77=\"Cliente\",\"Si\",(IF('Datos Iniciales'!A77=\"\",\"\",\"No\"))))","v":""},{"$f":"(IF('Datos Iniciales'!A77=\"Distribuidor\",\"Si\",(IF('Datos Iniciales'!A77=\"\",\"\",\"No\"))))","v":""},{"$f":"(IF('Datos Iniciales'!A77=\"Otros\",\"Si\",(IF('Datos Iniciales'!A77=\"\",\"\",\"No\"))))","v":""},{"$f":"(IF('Datos Iniciales'!A77=\"Prospecto\",\"Si\",(IF('Datos Iniciales'!A77=\"\",\"\",\"No\"))))","v":""},{"$f":"(IF('Datos Iniciales'!A77=\"Proveedor\",\"Si\",(IF('Datos Iniciales'!A77=\"\",\"\",\"No\"))))","v":""},{"$f":"IF('Datos Iniciales'!B77=\"\",\"\",'Datos Iniciales'!B77)","v":""},{"$f":"IF('Datos Iniciales'!C77=\"\",\"\",'Datos Iniciales'!C77)","v":""},{"$f":"IF('Datos Iniciales'!D77=\"\",\"\",'Datos Iniciales'!D77)","v":""},{"$f":"IF('Datos Iniciales'!E77=datos!$I$2,datos!$J$2,(IF('Datos Iniciales'!E77=datos!$I$3,datos!$J$3,(IF('Datos Iniciales'!E77=datos!$I$4,datos!$J$4,(IF('Datos Iniciales'!E77=datos!$I$5,datos!$J$5,(IF('Datos Iniciales'!E77=datos!$I$6,datos!$J$6,(IF('Datos Iniciales'!E77=datos!$I$7,datos!$J$7,(IF('Datos Iniciales'!E77=datos!$I$2,datos!$J$2,(IF('Datos Iniciales'!E77=datos!$I$8,datos!$J$8,(IF('Datos Iniciales'!E77=datos!$I$9,datos!$J$9,(IF('Datos Iniciales'!E77=datos!$I$10,datos!$J$10,(IF('Datos Iniciales'!E77=datos!$I$11,datos!$J$11,(IF('Datos Iniciales'!E77=datos!$I$12,datos!$J$12,(IF('Datos Iniciales'!E77=datos!$I$13,datos!$J$13,(IF('Datos Iniciales'!E77=datos!$I$14,datos!$J$14,(IF('Datos Iniciales'!E77=datos!$I$15,datos!$J$15,\"\")))))))))))))))))))))))))))))","v":""},{"$f":"IF('Datos Iniciales'!F77=\"\",\"\",'Datos Iniciales'!F77)","v":""},{"$f":"IFERROR(datos!B76,\"\")","v":""},null,null,null,null,{"$f":"IF('Datos Iniciales'!H77=\"\",\"\",'Datos Iniciales'!H77)","v":""},{"$f":"IF('Datos Iniciales'!I77=\"\",\"\",datos!$K$2)","v":""},{"$f":"IFERROR(VLOOKUP('Datos Iniciales'!J77,datos!O75:P1194,2,FALSE),\"\")","v":""},null,{"$f":"IF('Datos Iniciales'!K77=\"\",\"\",(CONCATENATE(RIGHT('Datos Iniciales'!K77,1),\"-\",'Datos Iniciales'!L77,\"-\",'Datos Iniciales'!M77)))","v":""},null,null,null,{"$f":"IF('Datos Iniciales'!N77=\"\",\"\",'Datos Iniciales'!N77)","v":""},{"$f":"IF('Datos Iniciales'!O77=\"\",\"\",'Datos Iniciales'!O77)","v":""},null,null,null,null,{"$f":"IF('Datos Iniciales'!P77=\"\",\"\",'Datos Iniciales'!P77)","v":""},null,null,null,null,null,null,null,null,null,null,null,null,{"$f":"IF('Datos Iniciales'!B77=\"\",\"\",(IF('Datos Iniciales'!B77=\"Si\",\"002\",\"003\")))","v":""},null,{"$f":"IF('Datos Iniciales'!Q77=\"\",\"\",(IF('Datos Iniciales'!Q77=datos!S76,\"0\",\"2\")))","v":""},{"$f":"IF('Datos Iniciales'!B77=\"\",\"\",(IF('Datos Iniciales'!B77=\"Si\",\"O-48\",\"O-49\")))","v":""}]
[{"$f":"IF('Datos Iniciales'!B78=\"\",\"\",\"Si\")","v":""},{"$f":"(IF('Datos Iniciales'!A78=\"Cliente\",\"Si\",(IF('Datos Iniciales'!A78=\"\",\"\",\"No\"))))","v":""},{"$f":"(IF('Datos Iniciales'!A78=\"Distribuidor\",\"Si\",(IF('Datos Iniciales'!A78=\"\",\"\",\"No\"))))","v":""},{"$f":"(IF('Datos Iniciales'!A78=\"Otros\",\"Si\",(IF('Datos Iniciales'!A78=\"\",\"\",\"No\"))))","v":""},{"$f":"(IF('Datos Iniciales'!A78=\"Prospecto\",\"Si\",(IF('Datos Iniciales'!A78=\"\",\"\",\"No\"))))","v":""},{"$f":"(IF('Datos Iniciales'!A78=\"Proveedor\",\"Si\",(IF('Datos Iniciales'!A78=\"\",\"\",\"No\"))))","v":""},{"$f":"IF('Datos Iniciales'!B78=\"\",\"\",'Datos Iniciales'!B78)","v":""},{"$f":"IF('Datos Iniciales'!C78=\"\",\"\",'Datos Iniciales'!C78)","v":""},{"$f":"IF('Datos Iniciales'!D78=\"\",\"\",'Datos Iniciales'!D78)","v":""},{"$f":"IF('Datos Iniciales'!E78=datos!$I$2,datos!$J$2,(IF('Datos Iniciales'!E78=datos!$I$3,datos!$J$3,(IF('Datos Iniciales'!E78=datos!$I$4,datos!$J$4,(IF('Datos Iniciales'!E78=datos!$I$5,datos!$J$5,(IF('Datos Iniciales'!E78=datos!$I$6,datos!$J$6,(IF('Datos Iniciales'!E78=datos!$I$7,datos!$J$7,(IF('Datos Iniciales'!E78=datos!$I$2,datos!$J$2,(IF('Datos Iniciales'!E78=datos!$I$8,datos!$J$8,(IF('Datos Iniciales'!E78=datos!$I$9,datos!$J$9,(IF('Datos Iniciales'!E78=datos!$I$10,datos!$J$10,(IF('Datos Iniciales'!E78=datos!$I$11,datos!$J$11,(IF('Datos Iniciales'!E78=datos!$I$12,datos!$J$12,(IF('Datos Iniciales'!E78=datos!$I$13,datos!$J$13,(IF('Datos Iniciales'!E78=datos!$I$14,datos!$J$14,(IF('Datos Iniciales'!E78=datos!$I$15,datos!$J$15,\"\")))))))))))))))))))))))))))))","v":""},{"$f":"IF('Datos Iniciales'!F78=\"\",\"\",'Datos Iniciales'!F78)","v":""},{"$f":"IFERROR(datos!B77,\"\")","v":""},null,null,null,null,{"$f":"IF('Datos Iniciales'!H78=\"\",\"\",'Datos Iniciales'!H78)","v":""},{"$f":"IF('Datos Iniciales'!I78=\"\",\"\",datos!$K$2)","v":""},{"$f":"IFERROR(VLOOKUP('Datos Iniciales'!J78,datos!O76:P1195,2,FALSE),\"\")","v":""},null,{"$f":"IF('Datos Iniciales'!K78=\"\",\"\",(CONCATENATE(RIGHT('Datos Iniciales'!K78,1),\"-\",'Datos Iniciales'!L78,\"-\",'Datos Iniciales'!M78)))","v":""},null,null,null,{"$f":"IF('Datos Iniciales'!N78=\"\",\"\",'Datos Iniciales'!N78)","v":""},{"$f":"IF('Datos Iniciales'!O78=\"\",\"\",'Datos Iniciales'!O78)","v":""},null,null,null,null,{"$f":"IF('Datos Iniciales'!P78=\"\",\"\",'Datos Iniciales'!P78)","v":""},null,null,null,null,null,null,null,null,null,null,null,null,{"$f":"IF('Datos Iniciales'!B78=\"\",\"\",(IF('Datos Iniciales'!B78=\"Si\",\"002\",\"003\")))","v":""},null,{"$f":"IF('Datos Iniciales'!Q78=\"\",\"\",(IF('Datos Iniciales'!Q78=datos!S77,\"0\",\"2\")))","v":""},{"$f":"IF('Datos Iniciales'!B78=\"\",\"\",(IF('Datos Iniciales'!B78=\"Si\",\"O-48\",\"O-49\")))","v":""}]
[{"$f":"IF('Datos Iniciales'!B79=\"\",\"\",\"Si\")","v":""},{"$f":"(IF('Datos Iniciales'!A79=\"Cliente\",\"Si\",(IF('Datos Iniciales'!A79=\"\",\"\",\"No\"))))","v":""},{"$f":"(IF('Datos Iniciales'!A79=\"Distribuidor\",\"Si\",(IF('Datos Iniciales'!A79=\"\",\"\",\"No\"))))","v":""},{"$f":"(IF('Datos Iniciales'!A79=\"Otros\",\"Si\",(IF('Datos Iniciales'!A79=\"\",\"\",\"No\"))))","v":""},{"$f":"(IF('Datos Iniciales'!A79=\"Prospecto\",\"Si\",(IF('Datos Iniciales'!A79=\"\",\"\",\"No\"))))","v":""},{"$f":"(IF('Datos Iniciales'!A79=\"Proveedor\",\"Si\",(IF('Datos Iniciales'!A79=\"\",\"\",\"No\"))))","v":""},{"$f":"IF('Datos Iniciales'!B79=\"\",\"\",'Datos Iniciales'!B79)","v":""},{"$f":"IF('Datos Iniciales'!C79=\"\",\"\",'Datos Iniciales'!C79)","v":""},{"$f":"IF('Datos Iniciales'!D79=\"\",\"\",'Datos Iniciales'!D79)","v":""},{"$f":"IF('Datos Iniciales'!E79=datos!$I$2,datos!$J$2,(IF('Datos Iniciales'!E79=datos!$I$3,datos!$J$3,(IF('Datos Iniciales'!E79=datos!$I$4,datos!$J$4,(IF('Datos Iniciales'!E79=datos!$I$5,datos!$J$5,(IF('Datos Iniciales'!E79=datos!$I$6,datos!$J$6,(IF('Datos Iniciales'!E79=datos!$I$7,datos!$J$7,(IF('Datos Iniciales'!E79=datos!$I$2,datos!$J$2,(IF('Datos Iniciales'!E79=datos!$I$8,datos!$J$8,(IF('Datos Iniciales'!E79=datos!$I$9,datos!$J$9,(IF('Datos Iniciales'!E79=datos!$I$10,datos!$J$10,(IF('Datos Iniciales'!E79=datos!$I$11,datos!$J$11,(IF('Datos Iniciales'!E79=datos!$I$12,datos!$J$12,(IF('Datos Iniciales'!E79=datos!$I$13,datos!$J$13,(IF('Datos Iniciales'!E79=datos!$I$14,datos!$J$14,(IF('Datos Iniciales'!E79=datos!$I$15,datos!$J$15,\"\")))))))))))))))))))))))))))))","v":""},{"$f":"IF('Datos Iniciales'!F79=\"\",\"\",'Datos Iniciales'!F79)","v":""},{"$f":"IFERROR(datos!B78,\"\")","v":""},null,null,null,null,{"$f":"IF('Datos Iniciales'!H79=\"\",\"\",'Datos Iniciales'!H79)","v":""},{"$f":"IF('Datos Iniciales'!I79=\"\",\"\",datos!$K$2)","v":""},{"$f":"IFERROR(VLOOKUP('Datos Iniciales'!J79,datos!O77:P1196,2,FALSE),\"\")","v":""},null,{"$f":"IF('Datos Iniciales'!K79=\"\",\"\",(CONCATENATE(RIGHT('Datos Iniciales'!K79,1),\"-\",'Datos Iniciales'!L79,\"-\",'Datos Iniciales'!M79)))","v":""},null,null,null,{"$f":"IF('Datos Iniciales'!N79=\"\",\"\",'Datos Iniciales'!N79)","v":""},{"$f":"IF('Datos Iniciales'!O79=\"\",\"\",'Datos Iniciales'!O79)","v":""},null,null,null,null,{"$f":"IF('Datos Iniciales'!P79=\"\",\"\",'Datos Iniciales'!P79)","v":""},null,null,null,null,null,null,null,null,null,null,null,null,{"$f":"IF('Datos Iniciales'!B79=\"\",\"\",(IF('Datos Iniciales'!B79=\"Si\",\"002\",\"003\")))","v":""},null,{"$f":"IF('Datos Iniciales'!Q79=\"\",\"\",(IF('Datos Iniciales'!Q79=datos!S78,\"0\",\"2\")))","v":""},{"$f":"IF('Datos Iniciales'!B79=\"\",\"\",(IF('Datos Iniciales'!B79=\"Si\",\"O-48\",\"O-49\")))","v":""}]
[{"$f":"IF('Datos Iniciales'!B80=\"\",\"\",\"Si\")","v":""},{"$f":"(IF('Datos Iniciales'!A80=\"Cliente\",\"Si\",(IF('Datos Iniciales'!A80=\"\",\"\",\"No\"))))","v":""},{"$f":"(IF('Datos Iniciales'!A80=\"Distribuidor\",\"Si\",(IF('Datos Iniciales'!A80=\"\",\"\",\"No\"))))","v":""},{"$f":"(IF('Datos Iniciales'!A80=\"Otros\",\"Si\",(IF('Datos Iniciales'!A80=\"\",\"\",\"No\"))))","v":""},{"$f":"(IF('Datos Iniciales'!A80=\"Prospecto\",\"Si\",(IF('Datos Iniciales'!A80=\"\",\"\",\"No\"))))","v":""},{"$f":"(IF('Datos Iniciales'!A80=\"Proveedor\",\"Si\",(IF('Datos Iniciales'!A80=\"\",\"\",\"No\"))))","v":""},{"$f":"IF('Datos Iniciales'!B80=\"\",\"\",'Datos Iniciales'!B80)","v":""},{"$f":"IF('Datos Iniciales'!C80=\"\",\"\",'Datos Iniciales'!C80)","v":""},{"$f":"IF('Datos Iniciales'!D80=\"\",\"\",'Datos Iniciales'!D80)","v":""},{"$f":"IF('Datos Iniciales'!E80=datos!$I$2,datos!$J$2,(IF('Datos Iniciales'!E80=datos!$I$3,datos!$J$3,(IF('Datos Iniciales'!E80=datos!$I$4,datos!$J$4,(IF('Datos Iniciales'!E80=datos!$I$5,datos!$J$5,(IF('Datos Iniciales'!E80=datos!$I$6,datos!$J$6,(IF('Datos Iniciales'!E80=datos!$I$7,datos!$J$7,(IF('Datos Iniciales'!E80=datos!$I$2,datos!$J$2,(IF('Datos Iniciales'!E80=datos!$I$8,datos!$J$8,(IF('Datos Iniciales'!E80=datos!$I$9,datos!$J$9,(IF('Datos Iniciales'!E80=datos!$I$10,datos!$J$10,(IF('Datos Iniciales'!E80=datos!$I$11,datos!$J$11,(IF('Datos Iniciales'!E80=datos!$I$12,datos!$J$12,(IF('Datos Iniciales'!E80=datos!$I$13,datos!$J$13,(IF('Datos Iniciales'!E80=datos!$I$14,datos!$J$14,(IF('Datos Iniciales'!E80=datos!$I$15,datos!$J$15,\"\")))))))))))))))))))))))))))))","v":""},{"$f":"IF('Datos Iniciales'!F80=\"\",\"\",'Datos Iniciales'!F80)","v":""},{"$f":"IFERROR(datos!B79,\"\")","v":""},null,null,null,null,{"$f":"IF('Datos Iniciales'!H80=\"\",\"\",'Datos Iniciales'!H80)","v":""},{"$f":"IF('Datos Iniciales'!I80=\"\",\"\",datos!$K$2)","v":""},{"$f":"IFERROR(VLOOKUP('Datos Iniciales'!J80,datos!O78:P1197,2,FALSE),\"\")","v":""},null,{"$f":"IF('Datos Iniciales'!K80=\"\",\"\",(CONCATENATE(RIGHT('Datos Iniciales'!K80,1),\"-\",'Datos Iniciales'!L80,\"-\",'Datos Iniciales'!M80)))","v":""},null,null,null,{"$f":"IF('Datos Iniciales'!N80=\"\",\"\",'Datos Iniciales'!N80)","v":""},{"$f":"IF('Datos Iniciales'!O80=\"\",\"\",'Datos Iniciales'!O80)","v":""},null,null,null,null,{"$f":"IF('Datos Iniciales'!P80=\"\",\"\",'Datos Iniciales'!P80)","v":""},null,null,null,null,null,null,null,null,null,null,null,null,{"$f":"IF('Datos Iniciales'!B80=\"\",\"\",(IF('Datos Iniciales'!B80=\"Si\",\"002\",\"003\")))","v":""},null,{"$f":"IF('Datos Iniciales'!Q80=\"\",\"\",(IF('Datos Iniciales'!Q80=datos!S79,\"0\",\"2\")))","v":""},{"$f":"IF('Datos Iniciales'!B80=\"\",\"\",(IF('Datos Iniciales'!B80=\"Si\",\"O-48\",\"O-49\")))","v":""}]
[{"$f":"IF('Datos Iniciales'!B81=\"\",\"\",\"Si\")","v":""},{"$f":"(IF('Datos Iniciales'!A81=\"Cliente\",\"Si\",(IF('Datos Iniciales'!A81=\"\",\"\",\"No\"))))","v":""},{"$f":"(IF('Datos Iniciales'!A81=\"Distribuidor\",\"Si\",(IF('Datos Iniciales'!A81=\"\",\"\",\"No\"))))","v":""},{"$f":"(IF('Datos Iniciales'!A81=\"Otros\",\"Si\",(IF('Datos Iniciales'!A81=\"\",\"\",\"No\"))))","v":""},{"$f":"(IF('Datos Iniciales'!A81=\"Prospecto\",\"Si\",(IF('Datos Iniciales'!A81=\"\",\"\",\"No\"))))","v":""},{"$f":"(IF('Datos Iniciales'!A81=\"Proveedor\",\"Si\",(IF('Datos Iniciales'!A81=\"\",\"\",\"No\"))))","v":""},{"$f":"IF('Datos Iniciales'!B81=\"\",\"\",'Datos Iniciales'!B81)","v":""},{"$f":"IF('Datos Iniciales'!C81=\"\",\"\",'Datos Iniciales'!C81)","v":""},{"$f":"IF('Datos Iniciales'!D81=\"\",\"\",'Datos Iniciales'!D81)","v":""},{"$f":"IF('Datos Iniciales'!E81=datos!$I$2,datos!$J$2,(IF('Datos Iniciales'!E81=datos!$I$3,datos!$J$3,(IF('Datos Iniciales'!E81=datos!$I$4,datos!$J$4,(IF('Datos Iniciales'!E81=datos!$I$5,datos!$J$5,(IF('Datos Iniciales'!E81=datos!$I$6,datos!$J$6,(IF('Datos Iniciales'!E81=datos!$I$7,datos!$J$7,(IF('Datos Iniciales'!E81=datos!$I$2,datos!$J$2,(IF('Datos Iniciales'!E81=datos!$I$8,datos!$J$8,(IF('Datos Iniciales'!E81=datos!$I$9,datos!$J$9,(IF('Datos Iniciales'!E81=datos!$I$10,datos!$J$10,(IF('Datos Iniciales'!E81=datos!$I$11,datos!$J$11,(IF('Datos Iniciales'!E81=datos!$I$12,datos!$J$12,(IF('Datos Iniciales'!E81=datos!$I$13,datos!$J$13,(IF('Datos Iniciales'!E81=datos!$I$14,datos!$J$14,(IF('Datos Iniciales'!E81=datos!$I$15,datos!$J$15,\"\")))))))))))))))))))))))))))))","v":""},{"$f":"IF('Datos Iniciales'!F81=\"\",\"\",'Datos Iniciales'!F81)","v":""},{"$f":"IFERROR(datos!B80,\"\")","v":""},null,null,null,null,{"$f":"IF('Datos Iniciales'!H81=\"\",\"\",'Datos Iniciales'!H81)","v":""},{"$f":"IF('Datos Iniciales'!I81=\"\",\"\",datos!$K$2)","v":""},{"$f":"IFERROR(VLOOKUP('Datos Iniciales'!J81,datos!O79:P1198,2,FALSE),\"\")","v":""},null,{"$f":"IF('Datos Iniciales'!K81=\"\",\"\",(CONCATENATE(RIGHT('Datos Iniciales'!K81,1),\"-\",'Datos Iniciales'!L81,\"-\",'Datos Iniciales'!M81)))","v":""},null,null,null,{"$f":"IF('Datos Iniciales'!N81=\"\",\"\",'Datos Iniciales'!N81)","v":""},{"$f":"IF('Datos Iniciales'!O81=\"\",\"\",'Datos Iniciales'!O81)","v":""},null,null,null,null,{"$f":"IF('Datos Iniciales'!P81=\"\",\"\",'Datos Iniciales'!P81)","v":""},null,null,null,null,null,null,null,null,null,null,null,null,{"$f":"IF('Datos Iniciales'!B81=\"\",\"\",(IF('Datos Iniciales'!B81=\"Si\",\"002\",\"003\")))","v":""},null,{"$f":"IF('Datos Iniciales'!Q81=\"\",\"\",(IF('Datos Iniciales'!Q81=datos!S80,\"0\",\"2\")))","v":""},{"$f":"IF('Datos Iniciales'!B81=\"\",\"\",(IF('Datos Iniciales'!B81=\"Si\",\"O-48\",\"O-49\")))","v":""}]
[{"$f":"IF('Datos Iniciales'!B82=\"\",\"\",\"Si\")","v":""},{"$f":"(IF('Datos Iniciales'!A82=\"Cliente\",\"Si\",(IF('Datos Iniciales'!A82=\"\",\"\",\"No\"))))","v":""},{"$f":"(IF('Datos Iniciales'!A82=\"Distribuidor\",\"Si\",(IF('Datos Iniciales'!A82=\"\",\"\",\"No\"))))","v":""},{"$f":"(IF('Datos Iniciales'!A82=\"Otros\",\"Si\",(IF('Datos Iniciales'!A82=\"\",\"\",\"No\"))))","v":""},{"$f":"(IF('Datos Iniciales'!A82=\"Prospecto\",\"Si\",(IF('Datos Iniciales'!A82=\"\",\"\",\"No\"))))","v":""},{"$f":"(IF('Datos Iniciales'!A82=\"Proveedor\",\"Si\",(IF('Datos Iniciales'!A82=\"\",\"\",\"No\"))))","v":""},{"$f":"IF('Datos Iniciales'!B82=\"\",\"\",'Datos Iniciales'!B82)","v":""},{"$f":"IF('Datos Iniciales'!C82=\"\",\"\",'Datos Iniciales'!C82)","v":""},{"$f":"IF('Datos Iniciales'!D82=\"\",\"\",'Datos Iniciales'!D82)","v":""},{"$f":"IF('Datos Iniciales'!E82=datos!$I$2,datos!$J$2,(IF('Datos Iniciales'!E82=datos!$I$3,datos!$J$3,(IF('Datos Iniciales'!E82=datos!$I$4,datos!$J$4,(IF('Datos Iniciales'!E82=datos!$I$5,datos!$J$5,(IF('Datos Iniciales'!E82=datos!$I$6,datos!$J$6,(IF('Datos Iniciales'!E82=datos!$I$7,datos!$J$7,(IF('Datos Iniciales'!E82=datos!$I$2,datos!$J$2,(IF('Datos Iniciales'!E82=datos!$I$8,datos!$J$8,(IF('Datos Iniciales'!E82=datos!$I$9,datos!$J$9,(IF('Datos Iniciales'!E82=datos!$I$10,datos!$J$10,(IF('Datos Iniciales'!E82=datos!$I$11,datos!$J$11,(IF('Datos Iniciales'!E82=datos!$I$12,datos!$J$12,(IF('Datos Iniciales'!E82=datos!$I$13,datos!$J$13,(IF('Datos Iniciales'!E82=datos!$I$14,datos!$J$14,(IF('Datos Iniciales'!E82=datos!$I$15,datos!$J$15,\"\")))))))))))))))))))))))))))))","v":""},{"$f":"IF('Datos Iniciales'!F82=\"\",\"\",'Datos Iniciales'!F82)","v":""},{"$f":"IFERROR(datos!B81,\"\")","v":""},null,null,null,null,{"$f":"IF('Datos Iniciales'!H82=\"\",\"\",'Datos Iniciales'!H82)","v":""},{"$f":"IF('Datos Iniciales'!I82=\"\",\"\",datos!$K$2)","v":""},{"$f":"IFERROR(VLOOKUP('Datos Iniciales'!J82,datos!O80:P1199,2,FALSE),\"\")","v":""},null,{"$f":"IF('Datos Iniciales'!K82=\"\",\"\",(CONCATENATE(RIGHT('Datos Iniciales'!K82,1),\"-\",'Datos Iniciales'!L82,\"-\",'Datos Iniciales'!M82)))","v":""},null,null,null,{"$f":"IF('Datos Iniciales'!N82=\"\",\"\",'Datos Iniciales'!N82)","v":""},{"$f":"IF('Datos Iniciales'!O82=\"\",\"\",'Datos Iniciales'!O82)","v":""},null,null,null,null,{"$f":"IF('Datos Iniciales'!P82=\"\",\"\",'Datos Iniciales'!P82)","v":""},null,null,null,null,null,null,null,null,null,null,null,null,{"$f":"IF('Datos Iniciales'!B82=\"\",\"\",(IF('Datos Iniciales'!B82=\"Si\",\"002\",\"003\")))","v":""},null,{"$f":"IF('Datos Iniciales'!Q82=\"\",\"\",(IF('Datos Iniciales'!Q82=datos!S81,\"0\",\"2\")))","v":""},{"$f":"IF('Datos Iniciales'!B82=\"\",\"\",(IF('Datos Iniciales'!B82=\"Si\",\"O-48\",\"O-49\")))","v":""}]
[{"$f":"IF('Datos Iniciales'!B83=\"\",\"\",\"Si\")","v":""},{"$f":"(IF('Datos Iniciales'!A83=\"Cliente\",\"Si\",(IF('Datos Iniciales'!A83=\"\",\"\",\"No\"))))","v":""},{"$f":"(IF('Datos Iniciales'!A83=\"Distribuidor\",\"Si\",(IF('Datos Iniciales'!A83=\"\",\"\",\"No\"))))","v":""},{"$f":"(IF('Datos Iniciales'!A83=\"Otros\",\"Si\",(IF('Datos Iniciales'!A83=\"\",\"\",\"No\"))))","v":""},{"$f":"(IF('Datos Iniciales'!A83=\"Prospecto\",\"Si\",(IF('Datos Iniciales'!A83=\"\",\"\",\"No\"))))","v":""},{"$f":"(IF('Datos Iniciales'!A83=\"Proveedor\",\"Si\",(IF('Datos Iniciales'!A83=\"\",\"\",\"No\"))))","v":""},{"$f":"IF('Datos Iniciales'!B83=\"\",\"\",'Datos Iniciales'!B83)","v":""},{"$f":"IF('Datos Iniciales'!C83=\"\",\"\",'Datos Iniciales'!C83)","v":""},{"$f":"IF('Datos Iniciales'!D83=\"\",\"\",'Datos Iniciales'!D83)","v":""},{"$f":"IF('Datos Iniciales'!E83=datos!$I$2,datos!$J$2,(IF('Datos Iniciales'!E83=datos!$I$3,datos!$J$3,(IF('Datos Iniciales'!E83=datos!$I$4,datos!$J$4,(IF('Datos Iniciales'!E83=datos!$I$5,datos!$J$5,(IF('Datos Iniciales'!E83=datos!$I$6,datos!$J$6,(IF('Datos Iniciales'!E83=datos!$I$7,datos!$J$7,(IF('Datos Iniciales'!E83=datos!$I$2,datos!$J$2,(IF('Datos Iniciales'!E83=datos!$I$8,datos!$J$8,(IF('Datos Iniciales'!E83=datos!$I$9,datos!$J$9,(IF('Datos Iniciales'!E83=datos!$I$10,datos!$J$10,(IF('Datos Iniciales'!E83=datos!$I$11,datos!$J$11,(IF('Datos Iniciales'!E83=datos!$I$12,datos!$J$12,(IF('Datos Iniciales'!E83=datos!$I$13,datos!$J$13,(IF('Datos Iniciales'!E83=datos!$I$14,datos!$J$14,(IF('Datos Iniciales'!E83=datos!$I$15,datos!$J$15,\"\")))))))))))))))))))))))))))))","v":""},{"$f":"IF('Datos Iniciales'!F83=\"\",\"\",'Datos Iniciales'!F83)","v":""},{"$f":"IFERROR(datos!B82,\"\")","v":""},null,null,null,null,{"$f":"IF('Datos Iniciales'!H83=\"\",\"\",'Datos Iniciales'!H83)","v":""},{"$f":"IF('Datos Iniciales'!I83=\"\",\"\",datos!$K$2)","v":""},{"$f":"IFERROR(VLOOKUP('Datos Iniciales'!J83,datos!O81:P1200,2,FALSE),\"\")","v":""},null,{"$f":"IF('Datos Iniciales'!K83=\"\",\"\",(CONCATENATE(RIGHT('Datos Iniciales'!K83,1),\"-\",'Datos Iniciales'!L83,\"-\",'Datos Iniciales'!M83)))","v":""},null,null,null,{"$f":"IF('Datos Iniciales'!N83=\"\",\"\",'Datos Iniciales'!N83)","v":""},{"$f":"IF('Datos Iniciales'!O83=\"\",\"\",'Datos Iniciales'!O83)","v":""},null,null,null,null,{"$f":"IF('Datos Iniciales'!P83=\"\",\"\",'Datos Iniciales'!P83)","v":""},null,null,null,null,null,null,null,null,null,null,null,null,{"$f":"IF('Datos Iniciales'!B83=\"\",\"\",(IF('Datos Iniciales'!B83=\"Si\",\"002\",\"003\")))","v":""},null,{"$f":"IF('Datos Iniciales'!Q83=\"\",\"\",(IF('Datos Iniciales'!Q83=datos!S82,\"0\",\"2\")))","v":""},{"$f":"IF('Datos Iniciales'!B83=\"\",\"\",(IF('Datos Iniciales'!B83=\"Si\",\"O-48\",\"O-49\")))","v":""}]
[{"$f":"IF('Datos Iniciales'!B84=\"\",\"\",\"Si\")","v":""},{"$f":"(IF('Datos Iniciales'!A84=\"Cliente\",\"Si\",(IF('Datos Iniciales'!A84=\"\",\"\",\"No\"))))","v":""},{"$f":"(IF('Datos Iniciales'!A84=\"Distribuidor\",\"Si\",(IF('Datos Iniciales'!A84=\"\",\"\",\"No\"))))","v":""},{"$f":"(IF('Datos Iniciales'!A84=\"Otros\",\"Si\",(IF('Datos Iniciales'!A84=\"\",\"\",\"No\"))))","v":""},{"$f":"(IF('Datos Iniciales'!A84=\"Prospecto\",\"Si\",(IF('Datos Iniciales'!A84=\"\",\"\",\"No\"))))","v":""},{"$f":"(IF('Datos Iniciales'!A84=\"Proveedor\",\"Si\",(IF('Datos Iniciales'!A84=\"\",\"\",\"No\"))))","v":""},{"$f":"IF('Datos Iniciales'!B84=\"\",\"\",'Datos Iniciales'!B84)","v":""},{"$f":"IF('Datos Iniciales'!C84=\"\",\"\",'Datos Iniciales'!C84)","v":""},{"$f":"IF('Datos Iniciales'!D84=\"\",\"\",'Datos Iniciales'!D84)","v":""},{"$f":"IF('Datos Iniciales'!E84=datos!$I$2,datos!$J$2,(IF('Datos Iniciales'!E84=datos!$I$3,datos!$J$3,(IF('Datos Iniciales'!E84=datos!$I$4,datos!$J$4,(IF('Datos Iniciales'!E84=datos!$I$5,datos!$J$5,(IF('Datos Iniciales'!E84=datos!$I$6,datos!$J$6,(IF('Datos Iniciales'!E84=datos!$I$7,datos!$J$7,(IF('Datos Iniciales'!E84=datos!$I$2,datos!$J$2,(IF('Datos Iniciales'!E84=datos!$I$8,datos!$J$8,(IF('Datos Iniciales'!E84=datos!$I$9,datos!$J$9,(IF('Datos Iniciales'!E84=datos!$I$10,datos!$J$10,(IF('Datos Iniciales'!E84=datos!$I$11,datos!$J$11,(IF('Datos Iniciales'!E84=datos!$I$12,datos!$J$12,(IF('Datos Iniciales'!E84=datos!$I$13,datos!$J$13,(IF('Datos Iniciales'!E84=datos!$I$14,datos!$J$14,(IF('Datos Iniciales'!E84=datos!$I$15,datos!$J$15,\"\")))))))))))))))))))))))))))))","v":""},{"$f":"IF('Datos Iniciales'!F84=\"\",\"\",'Datos Iniciales'!F84)","v":""},{"$f":"IFERROR(datos!B83,\"\")","v":""},null,null,null,null,{"$f":"IF('Datos Iniciales'!H84=\"\",\"\",'Datos Iniciales'!H84)","v":""},{"$f":"IF('Datos Iniciales'!I84=\"\",\"\",datos!$K$2)","v":""},{"$f":"IFERROR(VLOOKUP('Datos Iniciales'!J84,datos!O82:P1201,2,FALSE),\"\")","v":""},null,{"$f":"IF('Datos Iniciales'!K84=\"\",\"\",(CONCATENATE(RIGHT('Datos Iniciales'!K84,1),\"-\",'Datos Iniciales'!L84,\"-\",'Datos Iniciales'!M84)))","v":""},null,null,null,{"$f":"IF('Datos Iniciales'!N84=\"\",\"\",'Datos Iniciales'!N84)","v":""},{"$f":"IF('Datos Iniciales'!O84=\"\",\"\",'Datos Iniciales'!O84)","v":""},null,null,null,null,{"$f":"IF('Datos Iniciales'!P84=\"\",\"\",'Datos Iniciales'!P84)","v":""},null,null,null,null,null,null,null,null,null,null,null,null,{"$f":"IF('Datos Iniciales'!B84=\"\",\"\",(IF('Datos Iniciales'!B84=\"Si\",\"002\",\"003\")))","v":""},null,{"$f":"IF('Datos Iniciales'!Q84=\"\",\"\",(IF('Datos Iniciales'!Q84=datos!S83,\"0\",\"2\")))","v":""},{"$f":"IF('Datos Iniciales'!B84=\"\",\"\",(IF('Datos Iniciales'!B84=\"Si\",\"O-48\",\"O-49\")))","v":""}]
[{"$f":"IF('Datos Iniciales'!B85=\"\",\"\",\"Si\")","v":""},{"$f":"(IF('Datos Iniciales'!A85=\"Cliente\",\"Si\",(IF('Datos Iniciales'!A85=\"\",\"\",\"No\"))))","v":""},{"$f":"(IF('Datos Iniciales'!A85=\"Distribuidor\",\"Si\",(IF('Datos Iniciales'!A85=\"\",\"\",\"No\"))))","v":""},{"$f":"(IF('Datos Iniciales'!A85=\"Otros\",\"Si\",(IF('Datos Iniciales'!A85=\"\",\"\",\"No\"))))","v":""},{"$f":"(IF('Datos Iniciales'!A85=\"Prospecto\",\"Si\",(IF('Datos Iniciales'!A85=\"\",\"\",\"No\"))))","v":""},{"$f":"(IF('Datos Iniciales'!A85=\"Proveedor\",\"Si\",(IF('Datos Iniciales'!A85=\"\",\"\",\"No\"))))","v":""},{"$f":"IF('Datos Iniciales'!B85=\"\",\"\",'Datos Iniciales'!B85)","v":""},{"$f":"IF('Datos Iniciales'!C85=\"\",\"\",'Datos Iniciales'!C85)","v":""},{"$f":"IF('Datos Iniciales'!D85=\"\",\"\",'Datos Iniciales'!D85)","v":""},{"$f":"IF('Datos Iniciales'!E85=datos!$I$2,datos!$J$2,(IF('Datos Iniciales'!E85=datos!$I$3,datos!$J$3,(IF('Datos Iniciales'!E85=datos!$I$4,datos!$J$4,(IF('Datos Iniciales'!E85=datos!$I$5,datos!$J$5,(IF('Datos Iniciales'!E85=datos!$I$6,datos!$J$6,(IF('Datos Iniciales'!E85=datos!$I$7,datos!$J$7,(IF('Datos Iniciales'!E85=datos!$I$2,datos!$J$2,(IF('Datos Iniciales'!E85=datos!$I$8,datos!$J$8,(IF('Datos Iniciales'!E85=datos!$I$9,datos!$J$9,(IF('Datos Iniciales'!E85=datos!$I$10,datos!$J$10,(IF('Datos Iniciales'!E85=datos!$I$11,datos!$J$11,(IF('Datos Iniciales'!E85=datos!$I$12,datos!$J$12,(IF('Datos Iniciales'!E85=datos!$I$13,datos!$J$13,(IF('Datos Iniciales'!E85=datos!$I$14,datos!$J$14,(IF('Datos Iniciales'!E85=datos!$I$15,datos!$J$15,\"\")))))))))))))))))))))))))))))","v":""},{"$f":"IF('Datos Iniciales'!F85=\"\",\"\",'Datos Iniciales'!F85)","v":""},{"$f":"IFERROR(datos!B84,\"\")","v":""},null,null,null,null,{"$f":"IF('Datos Iniciales'!H85=\"\",\"\",'Datos Iniciales'!H85)","v":""},{"$f":"IF('Datos Iniciales'!I85=\"\",\"\",datos!$K$2)","v":""},{"$f":"IFERROR(VLOOKUP('Datos Iniciales'!J85,datos!O83:P1202,2,FALSE),\"\")","v":""},null,{"$f":"IF('Datos Iniciales'!K85=\"\",\"\",(CONCATENATE(RIGHT('Datos Iniciales'!K85,1),\"-\",'Datos Iniciales'!L85,\"-\",'Datos Iniciales'!M85)))","v":""},null,null,null,{"$f":"IF('Datos Iniciales'!N85=\"\",\"\",'Datos Iniciales'!N85)","v":""},{"$f":"IF('Datos Iniciales'!O85=\"\",\"\",'Datos Iniciales'!O85)","v":""},null,null,null,null,{"$f":"IF('Datos Iniciales'!P85=\"\",\"\",'Datos Iniciales'!P85)","v":""},null,null,null,null,null,null,null,null,null,null,null,null,{"$f":"IF('Datos Iniciales'!B85=\"\",\"\",(IF('Datos Iniciales'!B85=\"Si\",\"002\",\"003\")))","v":""},null,{"$f":"IF('Datos Iniciales'!Q85=\"\",\"\",(IF('Datos Iniciales'!Q85=datos!S84,\"0\",\"2\")))","v":""},{"$f":"IF('Datos Iniciales'!B85=\"\",\"\",(IF('Datos Iniciales'!B85=\"Si\",\"O-48\",\"O-49\")))","v":""}]
[{"$f":"IF('Datos Iniciales'!B86=\"\",\"\",\"Si\")","v":""},{"$f":"(IF('Datos Iniciales'!A86=\"Cliente\",\"Si\",(IF('Datos Iniciales'!A86=\"\",\"\",\"No\"))))","v":""},{"$f":"(IF('Datos Iniciales'!A86=\"Distribuidor\",\"Si\",(IF('Datos Iniciales'!A86=\"\",\"\",\"No\"))))","v":""},{"$f":"(IF('Datos Iniciales'!A86=\"Otros\",\"Si\",(IF('Datos Iniciales'!A86=\"\",\"\",\"No\"))))","v":""},{"$f":"(IF('Datos Iniciales'!A86=\"Prospecto\",\"Si\",(IF('Datos Iniciales'!A86=\"\",\"\",\"No\"))))","v":""},{"$f":"(IF('Datos Iniciales'!A86=\"Proveedor\",\"Si\",(IF('Datos Iniciales'!A86=\"\",\"\",\"No\"))))","v":""},{"$f":"IF('Datos Iniciales'!B86=\"\",\"\",'Datos Iniciales'!B86)","v":""},{"$f":"IF('Datos Iniciales'!C86=\"\",\"\",'Datos Iniciales'!C86)","v":""},{"$f":"IF('Datos Iniciales'!D86=\"\",\"\",'Datos Iniciales'!D86)","v":""},{"$f":"IF('Datos Iniciales'!E86=datos!$I$2,datos!$J$2,(IF('Datos Iniciales'!E86=datos!$I$3,datos!$J$3,(IF('Datos Iniciales'!E86=datos!$I$4,datos!$J$4,(IF('Datos Iniciales'!E86=datos!$I$5,datos!$J$5,(IF('Datos Iniciales'!E86=datos!$I$6,datos!$J$6,(IF('Datos Iniciales'!E86=datos!$I$7,datos!$J$7,(IF('Datos Iniciales'!E86=datos!$I$2,datos!$J$2,(IF('Datos Iniciales'!E86=datos!$I$8,datos!$J$8,(IF('Datos Iniciales'!E86=datos!$I$9,datos!$J$9,(IF('Datos Iniciales'!E86=datos!$I$10,datos!$J$10,(IF('Datos Iniciales'!E86=datos!$I$11,datos!$J$11,(IF('Datos Iniciales'!E86=datos!$I$12,datos!$J$12,(IF('Datos Iniciales'!E86=datos!$I$13,datos!$J$13,(IF('Datos Iniciales'!E86=datos!$I$14,datos!$J$14,(IF('Datos Iniciales'!E86=datos!$I$15,datos!$J$15,\"\")))))))))))))))))))))))))))))","v":""},{"$f":"IF('Datos Iniciales'!F86=\"\",\"\",'Datos Iniciales'!F86)","v":""},{"$f":"IFERROR(datos!B85,\"\")","v":""},null,null,null,null,{"$f":"IF('Datos Iniciales'!H86=\"\",\"\",'Datos Iniciales'!H86)","v":""},{"$f":"IF('Datos Iniciales'!I86=\"\",\"\",datos!$K$2)","v":""},{"$f":"IFERROR(VLOOKUP('Datos Iniciales'!J86,datos!O84:P1203,2,FALSE),\"\")","v":""},null,{"$f":"IF('Datos Iniciales'!K86=\"\",\"\",(CONCATENATE(RIGHT('Datos Iniciales'!K86,1),\"-\",'Datos Iniciales'!L86,\"-\",'Datos Iniciales'!M86)))","v":""},null,null,null,{"$f":"IF('Datos Iniciales'!N86=\"\",\"\",'Datos Iniciales'!N86)","v":""},{"$f":"IF('Datos Iniciales'!O86=\"\",\"\",'Datos Iniciales'!O86)","v":""},null,null,null,null,{"$f":"IF('Datos Iniciales'!P86=\"\",\"\",'Datos Iniciales'!P86)","v":""},null,null,null,null,null,null,null,null,null,null,null,null,{"$f":"IF('Datos Iniciales'!B86=\"\",\"\",(IF('Datos Iniciales'!B86=\"Si\",\"002\",\"003\")))","v":""},null,{"$f":"IF('Datos Iniciales'!Q86=\"\",\"\",(IF('Datos Iniciales'!Q86=datos!S85,\"0\",\"2\")))","v":""},{"$f":"IF('Datos Iniciales'!B86=\"\",\"\",(IF('Datos Iniciales'!B86=\"Si\",\"O-48\",\"O-49\")))","v":""}]
[{"$f":"IF('Datos Iniciales'!B87=\"\",\"\",\"Si\")","v":""},{"$f":"(IF('Datos Iniciales'!A87=\"Cliente\",\"Si\",(IF('Datos Iniciales'!A87=\"\",\"\",\"No\"))))","v":""},{"$f":"(IF('Datos Iniciales'!A87=\"Distribuidor\",\"Si\",(IF('Datos Iniciales'!A87=\"\",\"\",\"No\"))))","v":""},{"$f":"(IF('Datos Iniciales'!A87=\"Otros\",\"Si\",(IF('Datos Iniciales'!A87=\"\",\"\",\"No\"))))","v":""},{"$f":"(IF('Datos Iniciales'!A87=\"Prospecto\",\"Si\",(IF('Datos Iniciales'!A87=\"\",\"\",\"No\"))))","v":""},{"$f":"(IF('Datos Iniciales'!A87=\"Proveedor\",\"Si\",(IF('Datos Iniciales'!A87=\"\",\"\",\"No\"))))","v":""},{"$f":"IF('Datos Iniciales'!B87=\"\",\"\",'Datos Iniciales'!B87)","v":""},{"$f":"IF('Datos Iniciales'!C87=\"\",\"\",'Datos Iniciales'!C87)","v":""},{"$f":"IF('Datos Iniciales'!D87=\"\",\"\",'Datos Iniciales'!D87)","v":""},{"$f":"IF('Datos Iniciales'!E87=datos!$I$2,datos!$J$2,(IF('Datos Iniciales'!E87=datos!$I$3,datos!$J$3,(IF('Datos Iniciales'!E87=datos!$I$4,datos!$J$4,(IF('Datos Iniciales'!E87=datos!$I$5,datos!$J$5,(IF('Datos Iniciales'!E87=datos!$I$6,datos!$J$6,(IF('Datos Iniciales'!E87=datos!$I$7,datos!$J$7,(IF('Datos Iniciales'!E87=datos!$I$2,datos!$J$2,(IF('Datos Iniciales'!E87=datos!$I$8,datos!$J$8,(IF('Datos Iniciales'!E87=datos!$I$9,datos!$J$9,(IF('Datos Iniciales'!E87=datos!$I$10,datos!$J$10,(IF('Datos Iniciales'!E87=datos!$I$11,datos!$J$11,(IF('Datos Iniciales'!E87=datos!$I$12,datos!$J$12,(IF('Datos Iniciales'!E87=datos!$I$13,datos!$J$13,(IF('Datos Iniciales'!E87=datos!$I$14,datos!$J$14,(IF('Datos Iniciales'!E87=datos!$I$15,datos!$J$15,\"\")))))))))))))))))))))))))))))","v":""},{"$f":"IF('Datos Iniciales'!F87=\"\",\"\",'Datos Iniciales'!F87)","v":""},{"$f":"IFERROR(datos!B86,\"\")","v":""},null,null,null,null,{"$f":"IF('Datos Iniciales'!H87=\"\",\"\",'Datos Iniciales'!H87)","v":""},{"$f":"IF('Datos Iniciales'!I87=\"\",\"\",datos!$K$2)","v":""},{"$f":"IFERROR(VLOOKUP('Datos Iniciales'!J87,datos!O85:P1204,2,FALSE),\"\")","v":""},null,{"$f":"IF('Datos Iniciales'!K87=\"\",\"\",(CONCATENATE(RIGHT('Datos Iniciales'!K87,1),\"-\",'Datos Iniciales'!L87,\"-\",'Datos Iniciales'!M87)))","v":""},null,null,null,{"$f":"IF('Datos Iniciales'!N87=\"\",\"\",'Datos Iniciales'!N87)","v":""},{"$f":"IF('Datos Iniciales'!O87=\"\",\"\",'Datos Iniciales'!O87)","v":""},null,null,null,null,{"$f":"IF('Datos Iniciales'!P87=\"\",\"\",'Datos Iniciales'!P87)","v":""},null,null,null,null,null,null,null,null,null,null,null,null,{"$f":"IF('Datos Iniciales'!B87=\"\",\"\",(IF('Datos Iniciales'!B87=\"Si\",\"002\",\"003\")))","v":""},null,{"$f":"IF('Datos Iniciales'!Q87=\"\",\"\",(IF('Datos Iniciales'!Q87=datos!S86,\"0\",\"2\")))","v":""},{"$f":"IF('Datos Iniciales'!B87=\"\",\"\",(IF('Datos Iniciales'!B87=\"Si\",\"O-48\",\"O-49\")))","v":""}]
[{"$f":"IF('Datos Iniciales'!B88=\"\",\"\",\"Si\")","v":""},{"$f":"(IF('Datos Iniciales'!A88=\"Cliente\",\"Si\",(IF('Datos Iniciales'!A88=\"\",\"\",\"No\"))))","v":""},{"$f":"(IF('Datos Iniciales'!A88=\"Distribuidor\",\"Si\",(IF('Datos Iniciales'!A88=\"\",\"\",\"No\"))))","v":""},{"$f":"(IF('Datos Iniciales'!A88=\"Otros\",\"Si\",(IF('Datos Iniciales'!A88=\"\",\"\",\"No\"))))","v":""},{"$f":"(IF('Datos Iniciales'!A88=\"Prospecto\",\"Si\",(IF('Datos Iniciales'!A88=\"\",\"\",\"No\"))))","v":""},{"$f":"(IF('Datos Iniciales'!A88=\"Proveedor\",\"Si\",(IF('Datos Iniciales'!A88=\"\",\"\",\"No\"))))","v":""},{"$f":"IF('Datos Iniciales'!B88=\"\",\"\",'Datos Iniciales'!B88)","v":""},{"$f":"IF('Datos Iniciales'!C88=\"\",\"\",'Datos Iniciales'!C88)","v":""},{"$f":"IF('Datos Iniciales'!D88=\"\",\"\",'Datos Iniciales'!D88)","v":""},{"$f":"IF('Datos Iniciales'!E88=datos!$I$2,datos!$J$2,(IF('Datos Iniciales'!E88=datos!$I$3,datos!$J$3,(IF('Datos Iniciales'!E88=datos!$I$4,datos!$J$4,(IF('Datos Iniciales'!E88=datos!$I$5,datos!$J$5,(IF('Datos Iniciales'!E88=datos!$I$6,datos!$J$6,(IF('Datos Iniciales'!E88=datos!$I$7,datos!$J$7,(IF('Datos Iniciales'!E88=datos!$I$2,datos!$J$2,(IF('Datos Iniciales'!E88=datos!$I$8,datos!$J$8,(IF('Datos Iniciales'!E88=datos!$I$9,datos!$J$9,(IF('Datos Iniciales'!E88=datos!$I$10,datos!$J$10,(IF('Datos Iniciales'!E88=datos!$I$11,datos!$J$11,(IF('Datos Iniciales'!E88=datos!$I$12,datos!$J$12,(IF('Datos Iniciales'!E88=datos!$I$13,datos!$J$13,(IF('Datos Iniciales'!E88=datos!$I$14,datos!$J$14,(IF('Datos Iniciales'!E88=datos!$I$15,datos!$J$15,\"\")))))))))))))))))))))))))))))","v":""},{"$f":"IF('Datos Iniciales'!F88=\"\",\"\",'Datos Iniciales'!F88)","v":""},{"$f":"IFERROR(datos!B87,\"\")","v":""},null,null,null,null,{"$f":"IF('Datos Iniciales'!H88=\"\",\"\",'Datos Iniciales'!H88)","v":""},{"$f":"IF('Datos Iniciales'!I88=\"\",\"\",datos!$K$2)","v":""},{"$f":"IFERROR(VLOOKUP('Datos Iniciales'!J88,datos!O86:P1205,2,FALSE),\"\")","v":""},null,{"$f":"IF('Datos Iniciales'!K88=\"\",\"\",(CONCATENATE(RIGHT('Datos Iniciales'!K88,1),\"-\",'Datos Iniciales'!L88,\"-\",'Datos Iniciales'!M88)))","v":""},null,null,null,{"$f":"IF('Datos Iniciales'!N88=\"\",\"\",'Datos Iniciales'!N88)","v":""},{"$f":"IF('Datos Iniciales'!O88=\"\",\"\",'Datos Iniciales'!O88)","v":""},null,null,null,null,{"$f":"IF('Datos Iniciales'!P88=\"\",\"\",'Datos Iniciales'!P88)","v":""},null,null,null,null,null,null,null,null,null,null,null,null,{"$f":"IF('Datos Iniciales'!B88=\"\",\"\",(IF('Datos Iniciales'!B88=\"Si\",\"002\",\"003\")))","v":""},null,{"$f":"IF('Datos Iniciales'!Q88=\"\",\"\",(IF('Datos Iniciales'!Q88=datos!S87,\"0\",\"2\")))","v":""},{"$f":"IF('Datos Iniciales'!B88=\"\",\"\",(IF('Datos Iniciales'!B88=\"Si\",\"O-48\",\"O-49\")))","v":""}]
[{"$f":"IF('Datos Iniciales'!B89=\"\",\"\",\"Si\")","v":""},{"$f":"(IF('Datos Iniciales'!A89=\"Cliente\",\"Si\",(IF('Datos Iniciales'!A89=\"\",\"\",\"No\"))))","v":""},{"$f":"(IF('Datos Iniciales'!A89=\"Distribuidor\",\"Si\",(IF('Datos Iniciales'!A89=\"\",\"\",\"No\"))))","v":""},{"$f":"(IF('Datos Iniciales'!A89=\"Otros\",\"Si\",(IF('Datos Iniciales'!A89=\"\",\"\",\"No\"))))","v":""},{"$f":"(IF('Datos Iniciales'!A89=\"Prospecto\",\"Si\",(IF('Datos Iniciales'!A89=\"\",\"\",\"No\"))))","v":""},{"$f":"(IF('Datos Iniciales'!A89=\"Proveedor\",\"Si\",(IF('Datos Iniciales'!A89=\"\",\"\",\"No\"))))","v":""},{"$f":"IF('Datos Iniciales'!B89=\"\",\"\",'Datos Iniciales'!B89)","v":""},{"$f":"IF('Datos Iniciales'!C89=\"\",\"\",'Datos Iniciales'!C89)","v":""},{"$f":"IF('Datos Iniciales'!D89=\"\",\"\",'Datos Iniciales'!D89)","v":""},{"$f":"IF('Datos Iniciales'!E89=datos!$I$2,datos!$J$2,(IF('Datos Iniciales'!E89=datos!$I$3,datos!$J$3,(IF('Datos Iniciales'!E89=datos!$I$4,datos!$J$4,(IF('Datos Iniciales'!E89=datos!$I$5,datos!$J$5,(IF('Datos Iniciales'!E89=datos!$I$6,datos!$J$6,(IF('Datos Iniciales'!E89=datos!$I$7,datos!$J$7,(IF('Datos Iniciales'!E89=datos!$I$2,datos!$J$2,(IF('Datos Iniciales'!E89=datos!$I$8,datos!$J$8,(IF('Datos Iniciales'!E89=datos!$I$9,datos!$J$9,(IF('Datos Iniciales'!E89=datos!$I$10,datos!$J$10,(IF('Datos Iniciales'!E89=datos!$I$11,datos!$J$11,(IF('Datos Iniciales'!E89=datos!$I$12,datos!$J$12,(IF('Datos Iniciales'!E89=datos!$I$13,datos!$J$13,(IF('Datos Iniciales'!E89=datos!$I$14,datos!$J$14,(IF('Datos Iniciales'!E89=datos!$I$15,datos!$J$15,\"\")))))))))))))))))))))))))))))","v":""},{"$f":"IF('Datos Iniciales'!F89=\"\",\"\",'Datos Iniciales'!F89)","v":""},{"$f":"IFERROR(datos!B88,\"\")","v":""},null,null,null,null,{"$f":"IF('Datos Iniciales'!H89=\"\",\"\",'Datos Iniciales'!H89)","v":""},{"$f":"IF('Datos Iniciales'!I89=\"\",\"\",datos!$K$2)","v":""},{"$f":"IFERROR(VLOOKUP('Datos Iniciales'!J89,datos!O87:P1206,2,FALSE),\"\")","v":""},null,{"$f":"IF('Datos Iniciales'!K89=\"\",\"\",(CONCATENATE(RIGHT('Datos Iniciales'!K89,1),\"-\",'Datos Iniciales'!L89,\"-\",'Datos Iniciales'!M89)))","v":""},null,null,null,{"$f":"IF('Datos Iniciales'!N89=\"\",\"\",'Datos Iniciales'!N89)","v":""},{"$f":"IF('Datos Iniciales'!O89=\"\",\"\",'Datos Iniciales'!O89)","v":""},null,null,null,null,{"$f":"IF('Datos Iniciales'!P89=\"\",\"\",'Datos Iniciales'!P89)","v":""},null,null,null,null,null,null,null,null,null,null,null,null,{"$f":"IF('Datos Iniciales'!B89=\"\",\"\",(IF('Datos Iniciales'!B89=\"Si\",\"002\",\"003\")))","v":""},null,{"$f":"IF('Datos Iniciales'!Q89=\"\",\"\",(IF('Datos Iniciales'!Q89=datos!S88,\"0\",\"2\")))","v":""},{"$f":"IF('Datos Iniciales'!B89=\"\",\"\",(IF('Datos Iniciales'!B89=\"Si\",\"O-48\",\"O-49\")))","v":""}]
[{"$f":"IF('Datos Iniciales'!B90=\"\",\"\",\"Si\")","v":""},{"$f":"(IF('Datos Iniciales'!A90=\"Cliente\",\"Si\",(IF('Datos Iniciales'!A90=\"\",\"\",\"No\"))))","v":""},{"$f":"(IF('Datos Iniciales'!A90=\"Distribuidor\",\"Si\",(IF('Datos Iniciales'!A90=\"\",\"\",\"No\"))))","v":""},{"$f":"(IF('Datos Iniciales'!A90=\"Otros\",\"Si\",(IF('Datos Iniciales'!A90=\"\",\"\",\"No\"))))","v":""},{"$f":"(IF('Datos Iniciales'!A90=\"Prospecto\",\"Si\",(IF('Datos Iniciales'!A90=\"\",\"\",\"No\"))))","v":""},{"$f":"(IF('Datos Iniciales'!A90=\"Proveedor\",\"Si\",(IF('Datos Iniciales'!A90=\"\",\"\",\"No\"))))","v":""},{"$f":"IF('Datos Iniciales'!B90=\"\",\"\",'Datos Iniciales'!B90)","v":""},{"$f":"IF('Datos Iniciales'!C90=\"\",\"\",'Datos Iniciales'!C90)","v":""},{"$f":"IF('Datos Iniciales'!D90=\"\",\"\",'Datos Iniciales'!D90)","v":""},{"$f":"IF('Datos Iniciales'!E90=datos!$I$2,datos!$J$2,(IF('Datos Iniciales'!E90=datos!$I$3,datos!$J$3,(IF('Datos Iniciales'!E90=datos!$I$4,datos!$J$4,(IF('Datos Iniciales'!E90=datos!$I$5,datos!$J$5,(IF('Datos Iniciales'!E90=datos!$I$6,datos!$J$6,(IF('Datos Iniciales'!E90=datos!$I$7,datos!$J$7,(IF('Datos Iniciales'!E90=datos!$I$2,datos!$J$2,(IF('Datos Iniciales'!E90=datos!$I$8,datos!$J$8,(IF('Datos Iniciales'!E90=datos!$I$9,datos!$J$9,(IF('Datos Iniciales'!E90=datos!$I$10,datos!$J$10,(IF('Datos Iniciales'!E90=datos!$I$11,datos!$J$11,(IF('Datos Iniciales'!E90=datos!$I$12,datos!$J$12,(IF('Datos Iniciales'!E90=datos!$I$13,datos!$J$13,(IF('Datos Iniciales'!E90=datos!$I$14,datos!$J$14,(IF('Datos Iniciales'!E90=datos!$I$15,datos!$J$15,\"\")))))))))))))))))))))))))))))","v":""},{"$f":"IF('Datos Iniciales'!F90=\"\",\"\",'Datos Iniciales'!F90)","v":""},{"$f":"IFERROR(datos!B89,\"\")","v":""},null,null,null,null,{"$f":"IF('Datos Iniciales'!H90=\"\",\"\",'Datos Iniciales'!H90)","v":""},{"$f":"IF('Datos Iniciales'!I90=\"\",\"\",datos!$K$2)","v":""},{"$f":"IFERROR(VLOOKUP('Datos Iniciales'!J90,datos!O88:P1207,2,FALSE),\"\")","v":""},null,{"$f":"IF('Datos Iniciales'!K90=\"\",\"\",(CONCATENATE(RIGHT('Datos Iniciales'!K90,1),\"-\",'Datos Iniciales'!L90,\"-\",'Datos Iniciales'!M90)))","v":""},null,null,null,{"$f":"IF('Datos Iniciales'!N90=\"\",\"\",'Datos Iniciales'!N90)","v":""},{"$f":"IF('Datos Iniciales'!O90=\"\",\"\",'Datos Iniciales'!O90)","v":""},null,null,null,null,{"$f":"IF('Datos Iniciales'!P90=\"\",\"\",'Datos Iniciales'!P90)","v":""},null,null,null,null,null,null,null,null,null,null,null,null,{"$f":"IF('Datos Iniciales'!B90=\"\",\"\",(IF('Datos Iniciales'!B90=\"Si\",\"002\",\"003\")))","v":""},null,{"$f":"IF('Datos Iniciales'!Q90=\"\",\"\",(IF('Datos Iniciales'!Q90=datos!S89,\"0\",\"2\")))","v":""},{"$f":"IF('Datos Iniciales'!B90=\"\",\"\",(IF('Datos Iniciales'!B90=\"Si\",\"O-48\",\"O-49\")))","v":""}]
[{"$f":"IF('Datos Iniciales'!B91=\"\",\"\",\"Si\")","v":""},{"$f":"(IF('Datos Iniciales'!A91=\"Cliente\",\"Si\",(IF('Datos Iniciales'!A91=\"\",\"\",\"No\"))))","v":""},{"$f":"(IF('Datos Iniciales'!A91=\"Distribuidor\",\"Si\",(IF('Datos Iniciales'!A91=\"\",\"\",\"No\"))))","v":""},{"$f":"(IF('Datos Iniciales'!A91=\"Otros\",\"Si\",(IF('Datos Iniciales'!A91=\"\",\"\",\"No\"))))","v":""},{"$f":"(IF('Datos Iniciales'!A91=\"Prospecto\",\"Si\",(IF('Datos Iniciales'!A91=\"\",\"\",\"No\"))))","v":""},{"$f":"(IF('Datos Iniciales'!A91=\"Proveedor\",\"Si\",(IF('Datos Iniciales'!A91=\"\",\"\",\"No\"))))","v":""},{"$f":"IF('Datos Iniciales'!B91=\"\",\"\",'Datos Iniciales'!B91)","v":""},{"$f":"IF('Datos Iniciales'!C91=\"\",\"\",'Datos Iniciales'!C91)","v":""},{"$f":"IF('Datos Iniciales'!D91=\"\",\"\",'Datos Iniciales'!D91)","v":""},{"$f":"IF('Datos Iniciales'!E91=datos!$I$2,datos!$J$2,(IF('Datos Iniciales'!E91=datos!$I$3,datos!$J$3,(IF('Datos Iniciales'!E91=datos!$I$4,datos!$J$4,(IF('Datos Iniciales'!E91=datos!$I$5,datos!$J$5,(IF('Datos Iniciales'!E91=datos!$I$6,datos!$J$6,(IF('Datos Iniciales'!E91=datos!$I$7,datos!$J$7,(IF('Datos Iniciales'!E91=datos!$I$2,datos!$J$2,(IF('Datos Iniciales'!E91=datos!$I$8,datos!$J$8,(IF('Datos Iniciales'!E91=datos!$I$9,datos!$J$9,(IF('Datos Iniciales'!E91=datos!$I$10,datos!$J$10,(IF('Datos Iniciales'!E91=datos!$I$11,datos!$J$11,(IF('Datos Iniciales'!E91=datos!$I$12,datos!$J$12,(IF('Datos Iniciales'!E91=datos!$I$13,datos!$J$13,(IF('Datos Iniciales'!E91=datos!$I$14,datos!$J$14,(IF('Datos Iniciales'!E91=datos!$I$15,datos!$J$15,\"\")))))))))))))))))))))))))))))","v":""},{"$f":"IF('Datos Iniciales'!F91=\"\",\"\",'Datos Iniciales'!F91)","v":""},{"$f":"IFERROR(datos!B90,\"\")","v":""},null,null,null,null,{"$f":"IF('Datos Iniciales'!H91=\"\",\"\",'Datos Iniciales'!H91)","v":""},{"$f":"IF('Datos Iniciales'!I91=\"\",\"\",datos!$K$2)","v":""},{"$f":"IFERROR(VLOOKUP('Datos Iniciales'!J91,datos!O89:P1208,2,FALSE),\"\")","v":""},null,{"$f":"IF('Datos Iniciales'!K91=\"\",\"\",(CONCATENATE(RIGHT('Datos Iniciales'!K91,1),\"-\",'Datos Iniciales'!L91,\"-\",'Datos Iniciales'!M91)))","v":""},null,null,null,{"$f":"IF('Datos Iniciales'!N91=\"\",\"\",'Datos Iniciales'!N91)","v":""},{"$f":"IF('Datos Iniciales'!O91=\"\",\"\",'Datos Iniciales'!O91)","v":""},null,null,null,null,{"$f":"IF('Datos Iniciales'!P91=\"\",\"\",'Datos Iniciales'!P91)","v":""},null,null,null,null,null,null,null,null,null,null,null,null,{"$f":"IF('Datos Iniciales'!B91=\"\",\"\",(IF('Datos Iniciales'!B91=\"Si\",\"002\",\"003\")))","v":""},null,{"$f":"IF('Datos Iniciales'!Q91=\"\",\"\",(IF('Datos Iniciales'!Q91=datos!S90,\"0\",\"2\")))","v":""},{"$f":"IF('Datos Iniciales'!B91=\"\",\"\",(IF('Datos Iniciales'!B91=\"Si\",\"O-48\",\"O-49\")))","v":""}]
[{"$f":"IF('Datos Iniciales'!B92=\"\",\"\",\"Si\")","v":""},{"$f":"(IF('Datos Iniciales'!A92=\"Cliente\",\"Si\",(IF('Datos Iniciales'!A92=\"\",\"\",\"No\"))))","v":""},{"$f":"(IF('Datos Iniciales'!A92=\"Distribuidor\",\"Si\",(IF('Datos Iniciales'!A92=\"\",\"\",\"No\"))))","v":""},{"$f":"(IF('Datos Iniciales'!A92=\"Otros\",\"Si\",(IF('Datos Iniciales'!A92=\"\",\"\",\"No\"))))","v":""},{"$f":"(IF('Datos Iniciales'!A92=\"Prospecto\",\"Si\",(IF('Datos Iniciales'!A92=\"\",\"\",\"No\"))))","v":""},{"$f":"(IF('Datos Iniciales'!A92=\"Proveedor\",\"Si\",(IF('Datos Iniciales'!A92=\"\",\"\",\"No\"))))","v":""},{"$f":"IF('Datos Iniciales'!B92=\"\",\"\",'Datos Iniciales'!B92)","v":""},{"$f":"IF('Datos Iniciales'!C92=\"\",\"\",'Datos Iniciales'!C92)","v":""},{"$f":"IF('Datos Iniciales'!D92=\"\",\"\",'Datos Iniciales'!D92)","v":""},{"$f":"IF('Datos Iniciales'!E92=datos!$I$2,datos!$J$2,(IF('Datos Iniciales'!E92=datos!$I$3,datos!$J$3,(IF('Datos Iniciales'!E92=datos!$I$4,datos!$J$4,(IF('Datos Iniciales'!E92=datos!$I$5,datos!$J$5,(IF('Datos Iniciales'!E92=datos!$I$6,datos!$J$6,(IF('Datos Iniciales'!E92=datos!$I$7,datos!$J$7,(IF('Datos Iniciales'!E92=datos!$I$2,datos!$J$2,(IF('Datos Iniciales'!E92=datos!$I$8,datos!$J$8,(IF('Datos Iniciales'!E92=datos!$I$9,datos!$J$9,(IF('Datos Iniciales'!E92=datos!$I$10,datos!$J$10,(IF('Datos Iniciales'!E92=datos!$I$11,datos!$J$11,(IF('Datos Iniciales'!E92=datos!$I$12,datos!$J$12,(IF('Datos Iniciales'!E92=datos!$I$13,datos!$J$13,(IF('Datos Iniciales'!E92=datos!$I$14,datos!$J$14,(IF('Datos Iniciales'!E92=datos!$I$15,datos!$J$15,\"\")))))))))))))))))))))))))))))","v":""},{"$f":"IF('Datos Iniciales'!F92=\"\",\"\",'Datos Iniciales'!F92)","v":""},{"$f":"IFERROR(datos!B91,\"\")","v":""},null,null,null,null,{"$f":"IF('Datos Iniciales'!H92=\"\",\"\",'Datos Iniciales'!H92)","v":""},{"$f":"IF('Datos Iniciales'!I92=\"\",\"\",datos!$K$2)","v":""},{"$f":"IFERROR(VLOOKUP('Datos Iniciales'!J92,datos!O90:P1209,2,FALSE),\"\")","v":""},null,{"$f":"IF('Datos Iniciales'!K92=\"\",\"\",(CONCATENATE(RIGHT('Datos Iniciales'!K92,1),\"-\",'Datos Iniciales'!L92,\"-\",'Datos Iniciales'!M92)))","v":""},null,null,null,{"$f":"IF('Datos Iniciales'!N92=\"\",\"\",'Datos Iniciales'!N92)","v":""},{"$f":"IF('Datos Iniciales'!O92=\"\",\"\",'Datos Iniciales'!O92)","v":""},null,null,null,null,{"$f":"IF('Datos Iniciales'!P92=\"\",\"\",'Datos Iniciales'!P92)","v":""},null,null,null,null,null,null,null,null,null,null,null,null,{"$f":"IF('Datos Iniciales'!B92=\"\",\"\",(IF('Datos Iniciales'!B92=\"Si\",\"002\",\"003\")))","v":""},null,{"$f":"IF('Datos Iniciales'!Q92=\"\",\"\",(IF('Datos Iniciales'!Q92=datos!S91,\"0\",\"2\")))","v":""},{"$f":"IF('Datos Iniciales'!B92=\"\",\"\",(IF('Datos Iniciales'!B92=\"Si\",\"O-48\",\"O-49\")))","v":""}]
[{"$f":"IF('Datos Iniciales'!B93=\"\",\"\",\"Si\")","v":""},{"$f":"(IF('Datos Iniciales'!A93=\"Cliente\",\"Si\",(IF('Datos Iniciales'!A93=\"\",\"\",\"No\"))))","v":""},{"$f":"(IF('Datos Iniciales'!A93=\"Distribuidor\",\"Si\",(IF('Datos Iniciales'!A93=\"\",\"\",\"No\"))))","v":""},{"$f":"(IF('Datos Iniciales'!A93=\"Otros\",\"Si\",(IF('Datos Iniciales'!A93=\"\",\"\",\"No\"))))","v":""},{"$f":"(IF('Datos Iniciales'!A93=\"Prospecto\",\"Si\",(IF('Datos Iniciales'!A93=\"\",\"\",\"No\"))))","v":""},{"$f":"(IF('Datos Iniciales'!A93=\"Proveedor\",\"Si\",(IF('Datos Iniciales'!A93=\"\",\"\",\"No\"))))","v":""},{"$f":"IF('Datos Iniciales'!B93=\"\",\"\",'Datos Iniciales'!B93)","v":""},{"$f":"IF('Datos Iniciales'!C93=\"\",\"\",'Datos Iniciales'!C93)","v":""},{"$f":"IF('Datos Iniciales'!D93=\"\",\"\",'Datos Iniciales'!D93)","v":""},{"$f":"IF('Datos Iniciales'!E93=datos!$I$2,datos!$J$2,(IF('Datos Iniciales'!E93=datos!$I$3,datos!$J$3,(IF('Datos Iniciales'!E93=datos!$I$4,datos!$J$4,(IF('Datos Iniciales'!E93=datos!$I$5,datos!$J$5,(IF('Datos Iniciales'!E93=datos!$I$6,datos!$J$6,(IF('Datos Iniciales'!E93=datos!$I$7,datos!$J$7,(IF('Datos Iniciales'!E93=datos!$I$2,datos!$J$2,(IF('Datos Iniciales'!E93=datos!$I$8,datos!$J$8,(IF('Datos Iniciales'!E93=datos!$I$9,datos!$J$9,(IF('Datos Iniciales'!E93=datos!$I$10,datos!$J$10,(IF('Datos Iniciales'!E93=datos!$I$11,datos!$J$11,(IF('Datos Iniciales'!E93=datos!$I$12,datos!$J$12,(IF('Datos Iniciales'!E93=datos!$I$13,datos!$J$13,(IF('Datos Iniciales'!E93=datos!$I$14,datos!$J$14,(IF('Datos Iniciales'!E93=datos!$I$15,datos!$J$15,\"\")))))))))))))))))))))))))))))","v":""},{"$f":"IF('Datos Iniciales'!F93=\"\",\"\",'Datos Iniciales'!F93)","v":""},{"$f":"IFERROR(datos!B92,\"\")","v":""},null,null,null,null,{"$f":"IF('Datos Iniciales'!H93=\"\",\"\",'Datos Iniciales'!H93)","v":""},{"$f":"IF('Datos Iniciales'!I93=\"\",\"\",datos!$K$2)","v":""},{"$f":"IFERROR(VLOOKUP('Datos Iniciales'!J93,datos!O91:P1210,2,FALSE),\"\")","v":""},null,{"$f":"IF('Datos Iniciales'!K93=\"\",\"\",(CONCATENATE(RIGHT('Datos Iniciales'!K93,1),\"-\",'Datos Iniciales'!L93,\"-\",'Datos Iniciales'!M93)))","v":""},null,null,null,{"$f":"IF('Datos Iniciales'!N93=\"\",\"\",'Datos Iniciales'!N93)","v":""},{"$f":"IF('Datos Iniciales'!O93=\"\",\"\",'Datos Iniciales'!O93)","v":""},null,null,null,null,{"$f":"IF('Datos Iniciales'!P93=\"\",\"\",'Datos Iniciales'!P93)","v":""},null,null,null,null,null,null,null,null,null,null,null,null,{"$f":"IF('Datos Iniciales'!B93=\"\",\"\",(IF('Datos Iniciales'!B93=\"Si\",\"002\",\"003\")))","v":""},null,{"$f":"IF('Datos Iniciales'!Q93=\"\",\"\",(IF('Datos Iniciales'!Q93=datos!S92,\"0\",\"2\")))","v":""},{"$f":"IF('Datos Iniciales'!B93=\"\",\"\",(IF('Datos Iniciales'!B93=\"Si\",\"O-48\",\"O-49\")))","v":""}]
[{"$f":"IF('Datos Iniciales'!B94=\"\",\"\",\"Si\")","v":""},{"$f":"(IF('Datos Iniciales'!A94=\"Cliente\",\"Si\",(IF('Datos Iniciales'!A94=\"\",\"\",\"No\"))))","v":""},{"$f":"(IF('Datos Iniciales'!A94=\"Distribuidor\",\"Si\",(IF('Datos Iniciales'!A94=\"\",\"\",\"No\"))))","v":""},{"$f":"(IF('Datos Iniciales'!A94=\"Otros\",\"Si\",(IF('Datos Iniciales'!A94=\"\",\"\",\"No\"))))","v":""},{"$f":"(IF('Datos Iniciales'!A94=\"Prospecto\",\"Si\",(IF('Datos Iniciales'!A94=\"\",\"\",\"No\"))))","v":""},{"$f":"(IF('Datos Iniciales'!A94=\"Proveedor\",\"Si\",(IF('Datos Iniciales'!A94=\"\",\"\",\"No\"))))","v":""},{"$f":"IF('Datos Iniciales'!B94=\"\",\"\",'Datos Iniciales'!B94)","v":""},{"$f":"IF('Datos Iniciales'!C94=\"\",\"\",'Datos Iniciales'!C94)","v":""},{"$f":"IF('Datos Iniciales'!D94=\"\",\"\",'Datos Iniciales'!D94)","v":""},{"$f":"IF('Datos Iniciales'!E94=datos!$I$2,datos!$J$2,(IF('Datos Iniciales'!E94=datos!$I$3,datos!$J$3,(IF('Datos Iniciales'!E94=datos!$I$4,datos!$J$4,(IF('Datos Iniciales'!E94=datos!$I$5,datos!$J$5,(IF('Datos Iniciales'!E94=datos!$I$6,datos!$J$6,(IF('Datos Iniciales'!E94=datos!$I$7,datos!$J$7,(IF('Datos Iniciales'!E94=datos!$I$2,datos!$J$2,(IF('Datos Iniciales'!E94=datos!$I$8,datos!$J$8,(IF('Datos Iniciales'!E94=datos!$I$9,datos!$J$9,(IF('Datos Iniciales'!E94=datos!$I$10,datos!$J$10,(IF('Datos Iniciales'!E94=datos!$I$11,datos!$J$11,(IF('Datos Iniciales'!E94=datos!$I$12,datos!$J$12,(IF('Datos Iniciales'!E94=datos!$I$13,datos!$J$13,(IF('Datos Iniciales'!E94=datos!$I$14,datos!$J$14,(IF('Datos Iniciales'!E94=datos!$I$15,datos!$J$15,\"\")))))))))))))))))))))))))))))","v":""},{"$f":"IF('Datos Iniciales'!F94=\"\",\"\",'Datos Iniciales'!F94)","v":""},{"$f":"IFERROR(datos!B93,\"\")","v":""},null,null,null,null,{"$f":"IF('Datos Iniciales'!H94=\"\",\"\",'Datos Iniciales'!H94)","v":""},{"$f":"IF('Datos Iniciales'!I94=\"\",\"\",datos!$K$2)","v":""},{"$f":"IFERROR(VLOOKUP('Datos Iniciales'!J94,datos!O92:P1211,2,FALSE),\"\")","v":""},null,{"$f":"IF('Datos Iniciales'!K94=\"\",\"\",(CONCATENATE(RIGHT('Datos Iniciales'!K94,1),\"-\",'Datos Iniciales'!L94,\"-\",'Datos Iniciales'!M94)))","v":""},null,null,null,{"$f":"IF('Datos Iniciales'!N94=\"\",\"\",'Datos Iniciales'!N94)","v":""},{"$f":"IF('Datos Iniciales'!O94=\"\",\"\",'Datos Iniciales'!O94)","v":""},null,null,null,null,{"$f":"IF('Datos Iniciales'!P94=\"\",\"\",'Datos Iniciales'!P94)","v":""},null,null,null,null,null,null,null,null,null,null,null,null,{"$f":"IF('Datos Iniciales'!B94=\"\",\"\",(IF('Datos Iniciales'!B94=\"Si\",\"002\",\"003\")))","v":""},null,{"$f":"IF('Datos Iniciales'!Q94=\"\",\"\",(IF('Datos Iniciales'!Q94=datos!S93,\"0\",\"2\")))","v":""},{"$f":"IF('Datos Iniciales'!B94=\"\",\"\",(IF('Datos Iniciales'!B94=\"Si\",\"O-48\",\"O-49\")))","v":""}]
[{"$f":"IF('Datos Iniciales'!B95=\"\",\"\",\"Si\")","v":""},{"$f":"(IF('Datos Iniciales'!A95=\"Cliente\",\"Si\",(IF('Datos Iniciales'!A95=\"\",\"\",\"No\"))))","v":""},{"$f":"(IF('Datos Iniciales'!A95=\"Distribuidor\",\"Si\",(IF('Datos Iniciales'!A95=\"\",\"\",\"No\"))))","v":""},{"$f":"(IF('Datos Iniciales'!A95=\"Otros\",\"Si\",(IF('Datos Iniciales'!A95=\"\",\"\",\"No\"))))","v":""},{"$f":"(IF('Datos Iniciales'!A95=\"Prospecto\",\"Si\",(IF('Datos Iniciales'!A95=\"\",\"\",\"No\"))))","v":""},{"$f":"(IF('Datos Iniciales'!A95=\"Proveedor\",\"Si\",(IF('Datos Iniciales'!A95=\"\",\"\",\"No\"))))","v":""},{"$f":"IF('Datos Iniciales'!B95=\"\",\"\",'Datos Iniciales'!B95)","v":""},{"$f":"IF('Datos Iniciales'!C95=\"\",\"\",'Datos Iniciales'!C95)","v":""},{"$f":"IF('Datos Iniciales'!D95=\"\",\"\",'Datos Iniciales'!D95)","v":""},{"$f":"IF('Datos Iniciales'!E95=datos!$I$2,datos!$J$2,(IF('Datos Iniciales'!E95=datos!$I$3,datos!$J$3,(IF('Datos Iniciales'!E95=datos!$I$4,datos!$J$4,(IF('Datos Iniciales'!E95=datos!$I$5,datos!$J$5,(IF('Datos Iniciales'!E95=datos!$I$6,datos!$J$6,(IF('Datos Iniciales'!E95=datos!$I$7,datos!$J$7,(IF('Datos Iniciales'!E95=datos!$I$2,datos!$J$2,(IF('Datos Iniciales'!E95=datos!$I$8,datos!$J$8,(IF('Datos Iniciales'!E95=datos!$I$9,datos!$J$9,(IF('Datos Iniciales'!E95=datos!$I$10,datos!$J$10,(IF('Datos Iniciales'!E95=datos!$I$11,datos!$J$11,(IF('Datos Iniciales'!E95=datos!$I$12,datos!$J$12,(IF('Datos Iniciales'!E95=datos!$I$13,datos!$J$13,(IF('Datos Iniciales'!E95=datos!$I$14,datos!$J$14,(IF('Datos Iniciales'!E95=datos!$I$15,datos!$J$15,\"\")))))))))))))))))))))))))))))","v":""},{"$f":"IF('Datos Iniciales'!F95=\"\",\"\",'Datos Iniciales'!F95)","v":""},{"$f":"IFERROR(datos!B94,\"\")","v":""},null,null,null,null,{"$f":"IF('Datos Iniciales'!H95=\"\",\"\",'Datos Iniciales'!H95)","v":""},{"$f":"IF('Datos Iniciales'!I95=\"\",\"\",datos!$K$2)","v":""},{"$f":"IFERROR(VLOOKUP('Datos Iniciales'!J95,datos!O93:P1212,2,FALSE),\"\")","v":""},null,{"$f":"IF('Datos Iniciales'!K95=\"\",\"\",(CONCATENATE(RIGHT('Datos Iniciales'!K95,1),\"-\",'Datos Iniciales'!L95,\"-\",'Datos Iniciales'!M95)))","v":""},null,null,null,{"$f":"IF('Datos Iniciales'!N95=\"\",\"\",'Datos Iniciales'!N95)","v":""},{"$f":"IF('Datos Iniciales'!O95=\"\",\"\",'Datos Iniciales'!O95)","v":""},null,null,null,null,{"$f":"IF('Datos Iniciales'!P95=\"\",\"\",'Datos Iniciales'!P95)","v":""},null,null,null,null,null,null,null,null,null,null,null,null,{"$f":"IF('Datos Iniciales'!B95=\"\",\"\",(IF('Datos Iniciales'!B95=\"Si\",\"002\",\"003\")))","v":""},null,{"$f":"IF('Datos Iniciales'!Q95=\"\",\"\",(IF('Datos Iniciales'!Q95=datos!S94,\"0\",\"2\")))","v":""},{"$f":"IF('Datos Iniciales'!B95=\"\",\"\",(IF('Datos Iniciales'!B95=\"Si\",\"O-48\",\"O-49\")))","v":""}]
[{"$f":"IF('Datos Iniciales'!B96=\"\",\"\",\"Si\")","v":""},{"$f":"(IF('Datos Iniciales'!A96=\"Cliente\",\"Si\",(IF('Datos Iniciales'!A96=\"\",\"\",\"No\"))))","v":""},{"$f":"(IF('Datos Iniciales'!A96=\"Distribuidor\",\"Si\",(IF('Datos Iniciales'!A96=\"\",\"\",\"No\"))))","v":""},{"$f":"(IF('Datos Iniciales'!A96=\"Otros\",\"Si\",(IF('Datos Iniciales'!A96=\"\",\"\",\"No\"))))","v":""},{"$f":"(IF('Datos Iniciales'!A96=\"Prospecto\",\"Si\",(IF('Datos Iniciales'!A96=\"\",\"\",\"No\"))))","v":""},{"$f":"(IF('Datos Iniciales'!A96=\"Proveedor\",\"Si\",(IF('Datos Iniciales'!A96=\"\",\"\",\"No\"))))","v":""},{"$f":"IF('Datos Iniciales'!B96=\"\",\"\",'Datos Iniciales'!B96)","v":""},{"$f":"IF('Datos Iniciales'!C96=\"\",\"\",'Datos Iniciales'!C96)","v":""},{"$f":"IF('Datos Iniciales'!D96=\"\",\"\",'Datos Iniciales'!D96)","v":""},{"$f":"IF('Datos Iniciales'!E96=datos!$I$2,datos!$J$2,(IF('Datos Iniciales'!E96=datos!$I$3,datos!$J$3,(IF('Datos Iniciales'!E96=datos!$I$4,datos!$J$4,(IF('Datos Iniciales'!E96=datos!$I$5,datos!$J$5,(IF('Datos Iniciales'!E96=datos!$I$6,datos!$J$6,(IF('Datos Iniciales'!E96=datos!$I$7,datos!$J$7,(IF('Datos Iniciales'!E96=datos!$I$2,datos!$J$2,(IF('Datos Iniciales'!E96=datos!$I$8,datos!$J$8,(IF('Datos Iniciales'!E96=datos!$I$9,datos!$J$9,(IF('Datos Iniciales'!E96=datos!$I$10,datos!$J$10,(IF('Datos Iniciales'!E96=datos!$I$11,datos!$J$11,(IF('Datos Iniciales'!E96=datos!$I$12,datos!$J$12,(IF('Datos Iniciales'!E96=datos!$I$13,datos!$J$13,(IF('Datos Iniciales'!E96=datos!$I$14,datos!$J$14,(IF('Datos Iniciales'!E96=datos!$I$15,datos!$J$15,\"\")))))))))))))))))))))))))))))","v":""},{"$f":"IF('Datos Iniciales'!F96=\"\",\"\",'Datos Iniciales'!F96)","v":""},{"$f":"IFERROR(datos!B95,\"\")","v":""},null,null,null,null,{"$f":"IF('Datos Iniciales'!H96=\"\",\"\",'Datos Iniciales'!H96)","v":""},{"$f":"IF('Datos Iniciales'!I96=\"\",\"\",datos!$K$2)","v":""},{"$f":"IFERROR(VLOOKUP('Datos Iniciales'!J96,datos!O94:P1213,2,FALSE),\"\")","v":""},null,{"$f":"IF('Datos Iniciales'!K96=\"\",\"\",(CONCATENATE(RIGHT('Datos Iniciales'!K96,1),\"-\",'Datos Iniciales'!L96,\"-\",'Datos Iniciales'!M96)))","v":""},null,null,null,{"$f":"IF('Datos Iniciales'!N96=\"\",\"\",'Datos Iniciales'!N96)","v":""},{"$f":"IF('Datos Iniciales'!O96=\"\",\"\",'Datos Iniciales'!O96)","v":""},null,null,null,null,{"$f":"IF('Datos Iniciales'!P96=\"\",\"\",'Datos Iniciales'!P96)","v":""},null,null,null,null,null,null,null,null,null,null,null,null,{"$f":"IF('Datos Iniciales'!B96=\"\",\"\",(IF('Datos Iniciales'!B96=\"Si\",\"002\",\"003\")))","v":""},null,{"$f":"IF('Datos Iniciales'!Q96=\"\",\"\",(IF('Datos Iniciales'!Q96=datos!S95,\"0\",\"2\")))","v":""},{"$f":"IF('Datos Iniciales'!B96=\"\",\"\",(IF('Datos Iniciales'!B96=\"Si\",\"O-48\",\"O-49\")))","v":""}]
[{"$f":"IF('Datos Iniciales'!B97=\"\",\"\",\"Si\")","v":""},{"$f":"(IF('Datos Iniciales'!A97=\"Cliente\",\"Si\",(IF('Datos Iniciales'!A97=\"\",\"\",\"No\"))))","v":""},{"$f":"(IF('Datos Iniciales'!A97=\"Distribuidor\",\"Si\",(IF('Datos Iniciales'!A97=\"\",\"\",\"No\"))))","v":""},{"$f":"(IF('Datos Iniciales'!A97=\"Otros\",\"Si\",(IF('Datos Iniciales'!A97=\"\",\"\",\"No\"))))","v":""},{"$f":"(IF('Datos Iniciales'!A97=\"Prospecto\",\"Si\",(IF('Datos Iniciales'!A97=\"\",\"\",\"No\"))))","v":""},{"$f":"(IF('Datos Iniciales'!A97=\"Proveedor\",\"Si\",(IF('Datos Iniciales'!A97=\"\",\"\",\"No\"))))","v":""},{"$f":"IF('Datos Iniciales'!B97=\"\",\"\",'Datos Iniciales'!B97)","v":""},{"$f":"IF('Datos Iniciales'!C97=\"\",\"\",'Datos Iniciales'!C97)","v":""},{"$f":"IF('Datos Iniciales'!D97=\"\",\"\",'Datos Iniciales'!D97)","v":""},{"$f":"IF('Datos Iniciales'!E97=datos!$I$2,datos!$J$2,(IF('Datos Iniciales'!E97=datos!$I$3,datos!$J$3,(IF('Datos Iniciales'!E97=datos!$I$4,datos!$J$4,(IF('Datos Iniciales'!E97=datos!$I$5,datos!$J$5,(IF('Datos Iniciales'!E97=datos!$I$6,datos!$J$6,(IF('Datos Iniciales'!E97=datos!$I$7,datos!$J$7,(IF('Datos Iniciales'!E97=datos!$I$2,datos!$J$2,(IF('Datos Iniciales'!E97=datos!$I$8,datos!$J$8,(IF('Datos Iniciales'!E97=datos!$I$9,datos!$J$9,(IF('Datos Iniciales'!E97=datos!$I$10,datos!$J$10,(IF('Datos Iniciales'!E97=datos!$I$11,datos!$J$11,(IF('Datos Iniciales'!E97=datos!$I$12,datos!$J$12,(IF('Datos Iniciales'!E97=datos!$I$13,datos!$J$13,(IF('Datos Iniciales'!E97=datos!$I$14,datos!$J$14,(IF('Datos Iniciales'!E97=datos!$I$15,datos!$J$15,\"\")))))))))))))))))))))))))))))","v":""},{"$f":"IF('Datos Iniciales'!F97=\"\",\"\",'Datos Iniciales'!F97)","v":""},{"$f":"IFERROR(datos!B96,\"\")","v":""},null,null,null,null,{"$f":"IF('Datos Iniciales'!H97=\"\",\"\",'Datos Iniciales'!H97)","v":""},{"$f":"IF('Datos Iniciales'!I97=\"\",\"\",datos!$K$2)","v":""},{"$f":"IFERROR(VLOOKUP('Datos Iniciales'!J97,datos!O95:P1214,2,FALSE),\"\")","v":""},null,{"$f":"IF('Datos Iniciales'!K97=\"\",\"\",(CONCATENATE(RIGHT('Datos Iniciales'!K97,1),\"-\",'Datos Iniciales'!L97,\"-\",'Datos Iniciales'!M97)))","v":""},null,null,null,{"$f":"IF('Datos Iniciales'!N97=\"\",\"\",'Datos Iniciales'!N97)","v":""},{"$f":"IF('Datos Iniciales'!O97=\"\",\"\",'Datos Iniciales'!O97)","v":""},null,null,null,null,{"$f":"IF('Datos Iniciales'!P97=\"\",\"\",'Datos Iniciales'!P97)","v":""},null,null,null,null,null,null,null,null,null,null,null,null,{"$f":"IF('Datos Iniciales'!B97=\"\",\"\",(IF('Datos Iniciales'!B97=\"Si\",\"002\",\"003\")))","v":""},null,{"$f":"IF('Datos Iniciales'!Q97=\"\",\"\",(IF('Datos Iniciales'!Q97=datos!S96,\"0\",\"2\")))","v":""},{"$f":"IF('Datos Iniciales'!B97=\"\",\"\",(IF('Datos Iniciales'!B97=\"Si\",\"O-48\",\"O-49\")))","v":""}]
[{"$f":"IF('Datos Iniciales'!B98=\"\",\"\",\"Si\")","v":""},{"$f":"(IF('Datos Iniciales'!A98=\"Cliente\",\"Si\",(IF('Datos Iniciales'!A98=\"\",\"\",\"No\"))))","v":""},{"$f":"(IF('Datos Iniciales'!A98=\"Distribuidor\",\"Si\",(IF('Datos Iniciales'!A98=\"\",\"\",\"No\"))))","v":""},{"$f":"(IF('Datos Iniciales'!A98=\"Otros\",\"Si\",(IF('Datos Iniciales'!A98=\"\",\"\",\"No\"))))","v":""},{"$f":"(IF('Datos Iniciales'!A98=\"Prospecto\",\"Si\",(IF('Datos Iniciales'!A98=\"\",\"\",\"No\"))))","v":""},{"$f":"(IF('Datos Iniciales'!A98=\"Proveedor\",\"Si\",(IF('Datos Iniciales'!A98=\"\",\"\",\"No\"))))","v":""},{"$f":"IF('Datos Iniciales'!B98=\"\",\"\",'Datos Iniciales'!B98)","v":""},{"$f":"IF('Datos Iniciales'!C98=\"\",\"\",'Datos Iniciales'!C98)","v":""},{"$f":"IF('Datos Iniciales'!D98=\"\",\"\",'Datos Iniciales'!D98)","v":""},{"$f":"IF('Datos Iniciales'!E98=datos!$I$2,datos!$J$2,(IF('Datos Iniciales'!E98=datos!$I$3,datos!$J$3,(IF('Datos Iniciales'!E98=datos!$I$4,datos!$J$4,(IF('Datos Iniciales'!E98=datos!$I$5,datos!$J$5,(IF('Datos Iniciales'!E98=datos!$I$6,datos!$J$6,(IF('Datos Iniciales'!E98=datos!$I$7,datos!$J$7,(IF('Datos Iniciales'!E98=datos!$I$2,datos!$J$2,(IF('Datos Iniciales'!E98=datos!$I$8,datos!$J$8,(IF('Datos Iniciales'!E98=datos!$I$9,datos!$J$9,(IF('Datos Iniciales'!E98=datos!$I$10,datos!$J$10,(IF('Datos Iniciales'!E98=datos!$I$11,datos!$J$11,(IF('Datos Iniciales'!E98=datos!$I$12,datos!$J$12,(IF('Datos Iniciales'!E98=datos!$I$13,datos!$J$13,(IF('Datos Iniciales'!E98=datos!$I$14,datos!$J$14,(IF('Datos Iniciales'!E98=datos!$I$15,datos!$J$15,\"\")))))))))))))))))))))))))))))","v":""},{"$f":"IF('Datos Iniciales'!F98=\"\",\"\",'Datos Iniciales'!F98)","v":""},{"$f":"IFERROR(datos!B97,\"\")","v":""},null,null,null,null,{"$f":"IF('Datos Iniciales'!H98=\"\",\"\",'Datos Iniciales'!H98)","v":""},{"$f":"IF('Datos Iniciales'!I98=\"\",\"\",datos!$K$2)","v":""},{"$f":"IFERROR(VLOOKUP('Datos Iniciales'!J98,datos!O96:P1215,2,FALSE),\"\")","v":""},null,{"$f":"IF('Datos Iniciales'!K98=\"\",\"\",(CONCATENATE(RIGHT('Datos Iniciales'!K98,1),\"-\",'Datos Iniciales'!L98,\"-\",'Datos Iniciales'!M98)))","v":""},null,null,null,{"$f":"IF('Datos Iniciales'!N98=\"\",\"\",'Datos Iniciales'!N98)","v":""},{"$f":"IF('Datos Iniciales'!O98=\"\",\"\",'Datos Iniciales'!O98)","v":""},null,null,null,null,{"$f":"IF('Datos Iniciales'!P98=\"\",\"\",'Datos Iniciales'!P98)","v":""},null,null,null,null,null,null,null,null,null,null,null,null,{"$f":"IF('Datos Iniciales'!B98=\"\",\"\",(IF('Datos Iniciales'!B98=\"Si\",\"002\",\"003\")))","v":""},null,{"$f":"IF('Datos Iniciales'!Q98=\"\",\"\",(IF('Datos Iniciales'!Q98=datos!S97,\"0\",\"2\")))","v":""},{"$f":"IF('Datos Iniciales'!B98=\"\",\"\",(IF('Datos Iniciales'!B98=\"Si\",\"O-48\",\"O-49\")))","v":""}]
[{"$f":"IF('Datos Iniciales'!B99=\"\",\"\",\"Si\")","v":""},{"$f":"(IF('Datos Iniciales'!A99=\"Cliente\",\"Si\",(IF('Datos Iniciales'!A99=\"\",\"\",\"No\"))))","v":""},{"$f":"(IF('Datos Iniciales'!A99=\"Distribuidor\",\"Si\",(IF('Datos Iniciales'!A99=\"\",\"\",\"No\"))))","v":""},{"$f":"(IF('Datos Iniciales'!A99=\"Otros\",\"Si\",(IF('Datos Iniciales'!A99=\"\",\"\",\"No\"))))","v":""},{"$f":"(IF('Datos Iniciales'!A99=\"Prospecto\",\"Si\",(IF('Datos Iniciales'!A99=\"\",\"\",\"No\"))))","v":""},{"$f":"(IF('Datos Iniciales'!A99=\"Proveedor\",\"Si\",(IF('Datos Iniciales'!A99=\"\",\"\",\"No\"))))","v":""},{"$f":"IF('Datos Iniciales'!B99=\"\",\"\",'Datos Iniciales'!B99)","v":""},{"$f":"IF('Datos Iniciales'!C99=\"\",\"\",'Datos Iniciales'!C99)","v":""},{"$f":"IF('Datos Iniciales'!D99=\"\",\"\",'Datos Iniciales'!D99)","v":""},{"$f":"IF('Datos Iniciales'!E99=datos!$I$2,datos!$J$2,(IF('Datos Iniciales'!E99=datos!$I$3,datos!$J$3,(IF('Datos Iniciales'!E99=datos!$I$4,datos!$J$4,(IF('Datos Iniciales'!E99=datos!$I$5,datos!$J$5,(IF('Datos Iniciales'!E99=datos!$I$6,datos!$J$6,(IF('Datos Iniciales'!E99=datos!$I$7,datos!$J$7,(IF('Datos Iniciales'!E99=datos!$I$2,datos!$J$2,(IF('Datos Iniciales'!E99=datos!$I$8,datos!$J$8,(IF('Datos Iniciales'!E99=datos!$I$9,datos!$J$9,(IF('Datos Iniciales'!E99=datos!$I$10,datos!$J$10,(IF('Datos Iniciales'!E99=datos!$I$11,datos!$J$11,(IF('Datos Iniciales'!E99=datos!$I$12,datos!$J$12,(IF('Datos Iniciales'!E99=datos!$I$13,datos!$J$13,(IF('Datos Iniciales'!E99=datos!$I$14,datos!$J$14,(IF('Datos Iniciales'!E99=datos!$I$15,datos!$J$15,\"\")))))))))))))))))))))))))))))","v":""},{"$f":"IF('Datos Iniciales'!F99=\"\",\"\",'Datos Iniciales'!F99)","v":""},{"$f":"IFERROR(datos!B98,\"\")","v":""},null,null,null,null,{"$f":"IF('Datos Iniciales'!H99=\"\",\"\",'Datos Iniciales'!H99)","v":""},{"$f":"IF('Datos Iniciales'!I99=\"\",\"\",datos!$K$2)","v":""},{"$f":"IFERROR(VLOOKUP('Datos Iniciales'!J99,datos!O97:P1216,2,FALSE),\"\")","v":""},null,{"$f":"IF('Datos Iniciales'!K99=\"\",\"\",(CONCATENATE(RIGHT('Datos Iniciales'!K99,1),\"-\",'Datos Iniciales'!L99,\"-\",'Datos Iniciales'!M99)))","v":""},null,null,null,{"$f":"IF('Datos Iniciales'!N99=\"\",\"\",'Datos Iniciales'!N99)","v":""},{"$f":"IF('Datos Iniciales'!O99=\"\",\"\",'Datos Iniciales'!O99)","v":""},null,null,null,null,{"$f":"IF('Datos Iniciales'!P99=\"\",\"\",'Datos Iniciales'!P99)","v":""},null,null,null,null,null,null,null,null,null,null,null,null,{"$f":"IF('Datos Iniciales'!B99=\"\",\"\",(IF('Datos Iniciales'!B99=\"Si\",\"002\",\"003\")))","v":""},null,{"$f":"IF('Datos Iniciales'!Q99=\"\",\"\",(IF('Datos Iniciales'!Q99=datos!S98,\"0\",\"2\")))","v":""},{"$f":"IF('Datos Iniciales'!B99=\"\",\"\",(IF('Datos Iniciales'!B99=\"Si\",\"O-48\",\"O-49\")))","v":""}]
[{"$f":"IF('Datos Iniciales'!B100=\"\",\"\",\"Si\")","v":""},{"$f":"(IF('Datos Iniciales'!A100=\"Cliente\",\"Si\",(IF('Datos Iniciales'!A100=\"\",\"\",\"No\"))))","v":""},{"$f":"(IF('Datos Iniciales'!A100=\"Distribuidor\",\"Si\",(IF('Datos Iniciales'!A100=\"\",\"\",\"No\"))))","v":""},{"$f":"(IF('Datos Iniciales'!A100=\"Otros\",\"Si\",(IF('Datos Iniciales'!A100=\"\",\"\",\"No\"))))","v":""},{"$f":"(IF('Datos Iniciales'!A100=\"Prospecto\",\"Si\",(IF('Datos Iniciales'!A100=\"\",\"\",\"No\"))))","v":""},{"$f":"(IF('Datos Iniciales'!A100=\"Proveedor\",\"Si\",(IF('Datos Iniciales'!A100=\"\",\"\",\"No\"))))","v":""},{"$f":"IF('Datos Iniciales'!B100=\"\",\"\",'Datos Iniciales'!B100)","v":""},{"$f":"IF('Datos Iniciales'!C100=\"\",\"\",'Datos Iniciales'!C100)","v":""},{"$f":"IF('Datos Iniciales'!D100=\"\",\"\",'Datos Iniciales'!D100)","v":""},{"$f":"IF('Datos Iniciales'!E100=datos!$I$2,datos!$J$2,(IF('Datos Iniciales'!E100=datos!$I$3,datos!$J$3,(IF('Datos Iniciales'!E100=datos!$I$4,datos!$J$4,(IF('Datos Iniciales'!E100=datos!$I$5,datos!$J$5,(IF('Datos Iniciales'!E100=datos!$I$6,datos!$J$6,(IF('Datos Iniciales'!E100=datos!$I$7,datos!$J$7,(IF('Datos Iniciales'!E100=datos!$I$2,datos!$J$2,(IF('Datos Iniciales'!E100=datos!$I$8,datos!$J$8,(IF('Datos Iniciales'!E100=datos!$I$9,datos!$J$9,(IF('Datos Iniciales'!E100=datos!$I$10,datos!$J$10,(IF('Datos Iniciales'!E100=datos!$I$11,datos!$J$11,(IF('Datos Iniciales'!E100=datos!$I$12,datos!$J$12,(IF('Datos Iniciales'!E100=datos!$I$13,datos!$J$13,(IF('Datos Iniciales'!E100=datos!$I$14,datos!$J$14,(IF('Datos Iniciales'!E100=datos!$I$15,datos!$J$15,\"\")))))))))))))))))))))))))))))","v":""},{"$f":"IF('Datos Iniciales'!F100=\"\",\"\",'Datos Iniciales'!F100)","v":""},{"$f":"IFERROR(datos!B99,\"\")","v":""},null,null,null,null,{"$f":"IF('Datos Iniciales'!H100=\"\",\"\",'Datos Iniciales'!H100)","v":""},{"$f":"IF('Datos Iniciales'!I100=\"\",\"\",datos!$K$2)","v":""},{"$f":"IFERROR(VLOOKUP('Datos Iniciales'!J100,datos!O98:P1217,2,FALSE),\"\")","v":""},null,{"$f":"IF('Datos Iniciales'!K100=\"\",\"\",(CONCATENATE(RIGHT('Datos Iniciales'!K100,1),\"-\",'Datos Iniciales'!L100,\"-\",'Datos Iniciales'!M100)))","v":""},null,null,null,{"$f":"IF('Datos Iniciales'!N100=\"\",\"\",'Datos Iniciales'!N100)","v":""},{"$f":"IF('Datos Iniciales'!O100=\"\",\"\",'Datos Iniciales'!O100)","v":""},null,null,null,null,{"$f":"IF('Datos Iniciales'!P100=\"\",\"\",'Datos Iniciales'!P100)","v":""},null,null,null,null,null,null,null,null,null,null,null,null,{"$f":"IF('Datos Iniciales'!B100=\"\",\"\",(IF('Datos Iniciales'!B100=\"Si\",\"002\",\"003\")))","v":""},null,{"$f":"IF('Datos Iniciales'!Q100=\"\",\"\",(IF('Datos Iniciales'!Q100=datos!S99,\"0\",\"2\")))","v":""},{"$f":"IF('Datos Iniciales'!B100=\"\",\"\",(IF('Datos Iniciales'!B100=\"Si\",\"O-48\",\"O-49\")))","v":""}]
[{"$f":"IF('Datos Iniciales'!B101=\"\",\"\",\"Si\")","v":""},{"$f":"(IF('Datos Iniciales'!A101=\"Cliente\",\"Si\",(IF('Datos Iniciales'!A101=\"\",\"\",\"No\"))))","v":""},{"$f":"(IF('Datos Iniciales'!A101=\"Distribuidor\",\"Si\",(IF('Datos Iniciales'!A101=\"\",\"\",\"No\"))))","v":""},{"$f":"(IF('Datos Iniciales'!A101=\"Otros\",\"Si\",(IF('Datos Iniciales'!A101=\"\",\"\",\"No\"))))","v":""},{"$f":"(IF('Datos Iniciales'!A101=\"Prospecto\",\"Si\",(IF('Datos Iniciales'!A101=\"\",\"\",\"No\"))))","v":""},{"$f":"(IF('Datos Iniciales'!A101=\"Proveedor\",\"Si\",(IF('Datos Iniciales'!A101=\"\",\"\",\"No\"))))","v":""},{"$f":"IF('Datos Iniciales'!B101=\"\",\"\",'Datos Iniciales'!B101)","v":""},{"$f":"IF('Datos Iniciales'!C101=\"\",\"\",'Datos Iniciales'!C101)","v":""},{"$f":"IF('Datos Iniciales'!D101=\"\",\"\",'Datos Iniciales'!D101)","v":""},{"$f":"IF('Datos Iniciales'!E101=datos!$I$2,datos!$J$2,(IF('Datos Iniciales'!E101=datos!$I$3,datos!$J$3,(IF('Datos Iniciales'!E101=datos!$I$4,datos!$J$4,(IF('Datos Iniciales'!E101=datos!$I$5,datos!$J$5,(IF('Datos Iniciales'!E101=datos!$I$6,datos!$J$6,(IF('Datos Iniciales'!E101=datos!$I$7,datos!$J$7,(IF('Datos Iniciales'!E101=datos!$I$2,datos!$J$2,(IF('Datos Iniciales'!E101=datos!$I$8,datos!$J$8,(IF('Datos Iniciales'!E101=datos!$I$9,datos!$J$9,(IF('Datos Iniciales'!E101=datos!$I$10,datos!$J$10,(IF('Datos Iniciales'!E101=datos!$I$11,datos!$J$11,(IF('Datos Iniciales'!E101=datos!$I$12,datos!$J$12,(IF('Datos Iniciales'!E101=datos!$I$13,datos!$J$13,(IF('Datos Iniciales'!E101=datos!$I$14,datos!$J$14,(IF('Datos Iniciales'!E101=datos!$I$15,datos!$J$15,\"\")))))))))))))))))))))))))))))","v":""},{"$f":"IF('Datos Iniciales'!F101=\"\",\"\",'Datos Iniciales'!F101)","v":""},{"$f":"IFERROR(datos!B100,\"\")","v":""},null,null,null,null,{"$f":"IF('Datos Iniciales'!H101=\"\",\"\",'Datos Iniciales'!H101)","v":""},{"$f":"IF('Datos Iniciales'!I101=\"\",\"\",datos!$K$2)","v":""},{"$f":"IFERROR(VLOOKUP('Datos Iniciales'!J101,datos!O99:P1218,2,FALSE),\"\")","v":""},null,{"$f":"IF('Datos Iniciales'!K101=\"\",\"\",(CONCATENATE(RIGHT('Datos Iniciales'!K101,1),\"-\",'Datos Iniciales'!L101,\"-\",'Datos Iniciales'!M101)))","v":""},null,null,null,{"$f":"IF('Datos Iniciales'!N101=\"\",\"\",'Datos Iniciales'!N101)","v":""},{"$f":"IF('Datos Iniciales'!O101=\"\",\"\",'Datos Iniciales'!O101)","v":""},null,null,null,null,{"$f":"IF('Datos Iniciales'!P101=\"\",\"\",'Datos Iniciales'!P101)","v":""},null,null,null,null,null,null,null,null,null,null,null,null,{"$f":"IF('Datos Iniciales'!B101=\"\",\"\",(IF('Datos Iniciales'!B101=\"Si\",\"002\",\"003\")))","v":""},null,{"$f":"IF('Datos Iniciales'!Q101=\"\",\"\",(IF('Datos Iniciales'!Q101=datos!S100,\"0\",\"2\")))","v":""},{"$f":"IF('Datos Iniciales'!B101=\"\",\"\",(IF('Datos Iniciales'!B101=\"Si\",\"O-48\",\"O-49\")))","v":""}]
[{"$f":"IF('Datos Iniciales'!B102=\"\",\"\",\"Si\")","v":""},{"$f":"(IF('Datos Iniciales'!A102=\"Cliente\",\"Si\",(IF('Datos Iniciales'!A102=\"\",\"\",\"No\"))))","v":""},{"$f":"(IF('Datos Iniciales'!A102=\"Distribuidor\",\"Si\",(IF('Datos Iniciales'!A102=\"\",\"\",\"No\"))))","v":""},{"$f":"(IF('Datos Iniciales'!A102=\"Otros\",\"Si\",(IF('Datos Iniciales'!A102=\"\",\"\",\"No\"))))","v":""},{"$f":"(IF('Datos Iniciales'!A102=\"Prospecto\",\"Si\",(IF('Datos Iniciales'!A102=\"\",\"\",\"No\"))))","v":""},{"$f":"(IF('Datos Iniciales'!A102=\"Proveedor\",\"Si\",(IF('Datos Iniciales'!A102=\"\",\"\",\"No\"))))","v":""},{"$f":"IF('Datos Iniciales'!B102=\"\",\"\",'Datos Iniciales'!B102)","v":""},{"$f":"IF('Datos Iniciales'!C102=\"\",\"\",'Datos Iniciales'!C102)","v":""},{"$f":"IF('Datos Iniciales'!D102=\"\",\"\",'Datos Iniciales'!D102)","v":""},{"$f":"IF('Datos Iniciales'!E102=datos!$I$2,datos!$J$2,(IF('Datos Iniciales'!E102=datos!$I$3,datos!$J$3,(IF('Datos Iniciales'!E102=datos!$I$4,datos!$J$4,(IF('Datos Iniciales'!E102=datos!$I$5,datos!$J$5,(IF('Datos Iniciales'!E102=datos!$I$6,datos!$J$6,(IF('Datos Iniciales'!E102=datos!$I$7,datos!$J$7,(IF('Datos Iniciales'!E102=datos!$I$2,datos!$J$2,(IF('Datos Iniciales'!E102=datos!$I$8,datos!$J$8,(IF('Datos Iniciales'!E102=datos!$I$9,datos!$J$9,(IF('Datos Iniciales'!E102=datos!$I$10,datos!$J$10,(IF('Datos Iniciales'!E102=datos!$I$11,datos!$J$11,(IF('Datos Iniciales'!E102=datos!$I$12,datos!$J$12,(IF('Datos Iniciales'!E102=datos!$I$13,datos!$J$13,(IF('Datos Iniciales'!E102=datos!$I$14,datos!$J$14,(IF('Datos Iniciales'!E102=datos!$I$15,datos!$J$15,\"\")))))))))))))))))))))))))))))","v":""},{"$f":"IF('Datos Iniciales'!F102=\"\",\"\",'Datos Iniciales'!F102)","v":""},{"$f":"IFERROR(datos!B101,\"\")","v":""},null,null,null,null,{"$f":"IF('Datos Iniciales'!H102=\"\",\"\",'Datos Iniciales'!H102)","v":""},{"$f":"IF('Datos Iniciales'!I102=\"\",\"\",datos!$K$2)","v":""},{"$f":"IFERROR(VLOOKUP('Datos Iniciales'!J102,datos!O100:P1219,2,FALSE),\"\")","v":""},null,{"$f":"IF('Datos Iniciales'!K102=\"\",\"\",(CONCATENATE(RIGHT('Datos Iniciales'!K102,1),\"-\",'Datos Iniciales'!L102,\"-\",'Datos Iniciales'!M102)))","v":""},null,null,null,{"$f":"IF('Datos Iniciales'!N102=\"\",\"\",'Datos Iniciales'!N102)","v":""},{"$f":"IF('Datos Iniciales'!O102=\"\",\"\",'Datos Iniciales'!O102)","v":""},null,null,null,null,{"$f":"IF('Datos Iniciales'!P102=\"\",\"\",'Datos Iniciales'!P102)","v":""},null,null,null,null,null,null,null,null,null,null,null,null,{"$f":"IF('Datos Iniciales'!B102=\"\",\"\",(IF('Datos Iniciales'!B102=\"Si\",\"002\",\"003\")))","v":""},null,{"$f":"IF('Datos Iniciales'!Q102=\"\",\"\",(IF('Datos Iniciales'!Q102=datos!S101,\"0\",\"2\")))","v":""},{"$f":"IF('Datos Iniciales'!B102=\"\",\"\",(IF('Datos Iniciales'!B102=\"Si\",\"O-48\",\"O-49\")))","v":""}]
[{"$f":"IF('Datos Iniciales'!B103=\"\",\"\",\"Si\")","v":""},{"$f":"(IF('Datos Iniciales'!A103=\"Cliente\",\"Si\",(IF('Datos Iniciales'!A103=\"\",\"\",\"No\"))))","v":""},{"$f":"(IF('Datos Iniciales'!A103=\"Distribuidor\",\"Si\",(IF('Datos Iniciales'!A103=\"\",\"\",\"No\"))))","v":""},{"$f":"(IF('Datos Iniciales'!A103=\"Otros\",\"Si\",(IF('Datos Iniciales'!A103=\"\",\"\",\"No\"))))","v":""},{"$f":"(IF('Datos Iniciales'!A103=\"Prospecto\",\"Si\",(IF('Datos Iniciales'!A103=\"\",\"\",\"No\"))))","v":""},{"$f":"(IF('Datos Iniciales'!A103=\"Proveedor\",\"Si\",(IF('Datos Iniciales'!A103=\"\",\"\",\"No\"))))","v":""},{"$f":"IF('Datos Iniciales'!B103=\"\",\"\",'Datos Iniciales'!B103)","v":""},{"$f":"IF('Datos Iniciales'!C103=\"\",\"\",'Datos Iniciales'!C103)","v":""},{"$f":"IF('Datos Iniciales'!D103=\"\",\"\",'Datos Iniciales'!D103)","v":""},{"$f":"IF('Datos Iniciales'!E103=datos!$I$2,datos!$J$2,(IF('Datos Iniciales'!E103=datos!$I$3,datos!$J$3,(IF('Datos Iniciales'!E103=datos!$I$4,datos!$J$4,(IF('Datos Iniciales'!E103=datos!$I$5,datos!$J$5,(IF('Datos Iniciales'!E103=datos!$I$6,datos!$J$6,(IF('Datos Iniciales'!E103=datos!$I$7,datos!$J$7,(IF('Datos Iniciales'!E103=datos!$I$2,datos!$J$2,(IF('Datos Iniciales'!E103=datos!$I$8,datos!$J$8,(IF('Datos Iniciales'!E103=datos!$I$9,datos!$J$9,(IF('Datos Iniciales'!E103=datos!$I$10,datos!$J$10,(IF('Datos Iniciales'!E103=datos!$I$11,datos!$J$11,(IF('Datos Iniciales'!E103=datos!$I$12,datos!$J$12,(IF('Datos Iniciales'!E103=datos!$I$13,datos!$J$13,(IF('Datos Iniciales'!E103=datos!$I$14,datos!$J$14,(IF('Datos Iniciales'!E103=datos!$I$15,datos!$J$15,\"\")))))))))))))))))))))))))))))","v":""},{"$f":"IF('Datos Iniciales'!F103=\"\",\"\",'Datos Iniciales'!F103)","v":""},{"$f":"IFERROR(datos!B102,\"\")","v":""},null,null,null,null,{"$f":"IF('Datos Iniciales'!H103=\"\",\"\",'Datos Iniciales'!H103)","v":""},{"$f":"IF('Datos Iniciales'!I103=\"\",\"\",datos!$K$2)","v":""},{"$f":"IFERROR(VLOOKUP('Datos Iniciales'!J103,datos!O101:P1220,2,FALSE),\"\")","v":""},null,{"$f":"IF('Datos Iniciales'!K103=\"\",\"\",(CONCATENATE(RIGHT('Datos Iniciales'!K103,1),\"-\",'Datos Iniciales'!L103,\"-\",'Datos Iniciales'!M103)))","v":""},null,null,null,{"$f":"IF('Datos Iniciales'!N103=\"\",\"\",'Datos Iniciales'!N103)","v":""},{"$f":"IF('Datos Iniciales'!O103=\"\",\"\",'Datos Iniciales'!O103)","v":""},null,null,null,null,{"$f":"IF('Datos Iniciales'!P103=\"\",\"\",'Datos Iniciales'!P103)","v":""},null,null,null,null,null,null,null,null,null,null,null,null,{"$f":"IF('Datos Iniciales'!B103=\"\",\"\",(IF('Datos Iniciales'!B103=\"Si\",\"002\",\"003\")))","v":""},null,{"$f":"IF('Datos Iniciales'!Q103=\"\",\"\",(IF('Datos Iniciales'!Q103=datos!S102,\"0\",\"2\")))","v":""},{"$f":"IF('Datos Iniciales'!B103=\"\",\"\",(IF('Datos Iniciales'!B103=\"Si\",\"O-48\",\"O-49\")))","v":""}]
[{"$f":"IF('Datos Iniciales'!B104=\"\",\"\",\"Si\")","v":""},{"$f":"(IF('Datos Iniciales'!A104=\"Cliente\",\"Si\",(IF('Datos Iniciales'!A104=\"\",\"\",\"No\"))))","v":""},{"$f":"(IF('Datos Iniciales'!A104=\"Distribuidor\",\"Si\",(IF('Datos Iniciales'!A104=\"\",\"\",\"No\"))))","v":""},{"$f":"(IF('Datos Iniciales'!A104=\"Otros\",\"Si\",(IF('Datos Iniciales'!A104=\"\",\"\",\"No\"))))","v":""},{"$f":"(IF('Datos Iniciales'!A104=\"Prospecto\",\"Si\",(IF('Datos Iniciales'!A104=\"\",\"\",\"No\"))))","v":""},{"$f":"(IF('Datos Iniciales'!A104=\"Proveedor\",\"Si\",(IF('Datos Iniciales'!A104=\"\",\"\",\"No\"))))","v":""},{"$f":"IF('Datos Iniciales'!B104=\"\",\"\",'Datos Iniciales'!B104)","v":""},{"$f":"IF('Datos Iniciales'!C104=\"\",\"\",'Datos Iniciales'!C104)","v":""},{"$f":"IF('Datos Iniciales'!D104=\"\",\"\",'Datos Iniciales'!D104)","v":""},{"$f":"IF('Datos Iniciales'!E104=datos!$I$2,datos!$J$2,(IF('Datos Iniciales'!E104=datos!$I$3,datos!$J$3,(IF('Datos Iniciales'!E104=datos!$I$4,datos!$J$4,(IF('Datos Iniciales'!E104=datos!$I$5,datos!$J$5,(IF('Datos Iniciales'!E104=datos!$I$6,datos!$J$6,(IF('Datos Iniciales'!E104=datos!$I$7,datos!$J$7,(IF('Datos Iniciales'!E104=datos!$I$2,datos!$J$2,(IF('Datos Iniciales'!E104=datos!$I$8,datos!$J$8,(IF('Datos Iniciales'!E104=datos!$I$9,datos!$J$9,(IF('Datos Iniciales'!E104=datos!$I$10,datos!$J$10,(IF('Datos Iniciales'!E104=datos!$I$11,datos!$J$11,(IF('Datos Iniciales'!E104=datos!$I$12,datos!$J$12,(IF('Datos Iniciales'!E104=datos!$I$13,datos!$J$13,(IF('Datos Iniciales'!E104=datos!$I$14,datos!$J$14,(IF('Datos Iniciales'!E104=datos!$I$15,datos!$J$15,\"\")))))))))))))))))))))))))))))","v":""},{"$f":"IF('Datos Iniciales'!F104=\"\",\"\",'Datos Iniciales'!F104)","v":""},{"$f":"IFERROR(datos!B103,\"\")","v":""},null,null,null,null,{"$f":"IF('Datos Iniciales'!H104=\"\",\"\",'Datos Iniciales'!H104)","v":""},{"$f":"IF('Datos Iniciales'!I104=\"\",\"\",datos!$K$2)","v":""},{"$f":"IFERROR(VLOOKUP('Datos Iniciales'!J104,datos!O102:P1221,2,FALSE),\"\")","v":""},null,{"$f":"IF('Datos Iniciales'!K104=\"\",\"\",(CONCATENATE(RIGHT('Datos Iniciales'!K104,1),\"-\",'Datos Iniciales'!L104,\"-\",'Datos Iniciales'!M104)))","v":""},null,null,null,{"$f":"IF('Datos Iniciales'!N104=\"\",\"\",'Datos Iniciales'!N104)","v":""},{"$f":"IF('Datos Iniciales'!O104=\"\",\"\",'Datos Iniciales'!O104)","v":""},null,null,null,null,{"$f":"IF('Datos Iniciales'!P104=\"\",\"\",'Datos Iniciales'!P104)","v":""},null,null,null,null,null,null,null,null,null,null,null,null,{"$f":"IF('Datos Iniciales'!B104=\"\",\"\",(IF('Datos Iniciales'!B104=\"Si\",\"002\",\"003\")))","v":""},null,{"$f":"IF('Datos Iniciales'!Q104=\"\",\"\",(IF('Datos Iniciales'!Q104=datos!S103,\"0\",\"2\")))","v":""},{"$f":"IF('Datos Iniciales'!B104=\"\",\"\",(IF('Datos Iniciales'!B104=\"Si\",\"O-48\",\"O-49\")))","v":""}]
[{"$f":"IF('Datos Iniciales'!B105=\"\",\"\",\"Si\")","v":""},{"$f":"(IF('Datos Iniciales'!A105=\"Cliente\",\"Si\",(IF('Datos Iniciales'!A105=\"\",\"\",\"No\"))))","v":""},{"$f":"(IF('Datos Iniciales'!A105=\"Distribuidor\",\"Si\",(IF('Datos Iniciales'!A105=\"\",\"\",\"No\"))))","v":""},{"$f":"(IF('Datos Iniciales'!A105=\"Otros\",\"Si\",(IF('Datos Iniciales'!A105=\"\",\"\",\"No\"))))","v":""},{"$f":"(IF('Datos Iniciales'!A105=\"Prospecto\",\"Si\",(IF('Datos Iniciales'!A105=\"\",\"\",\"No\"))))","v":""},{"$f":"(IF('Datos Iniciales'!A105=\"Proveedor\",\"Si\",(IF('Datos Iniciales'!A105=\"\",\"\",\"No\"))))","v":""},{"$f":"IF('Datos Iniciales'!B105=\"\",\"\",'Datos Iniciales'!B105)","v":""},{"$f":"IF('Datos Iniciales'!C105=\"\",\"\",'Datos Iniciales'!C105)","v":""},{"$f":"IF('Datos Iniciales'!D105=\"\",\"\",'Datos Iniciales'!D105)","v":""},{"$f":"IF('Datos Iniciales'!E105=datos!$I$2,datos!$J$2,(IF('Datos Iniciales'!E105=datos!$I$3,datos!$J$3,(IF('Datos Iniciales'!E105=datos!$I$4,datos!$J$4,(IF('Datos Iniciales'!E105=datos!$I$5,datos!$J$5,(IF('Datos Iniciales'!E105=datos!$I$6,datos!$J$6,(IF('Datos Iniciales'!E105=datos!$I$7,datos!$J$7,(IF('Datos Iniciales'!E105=datos!$I$2,datos!$J$2,(IF('Datos Iniciales'!E105=datos!$I$8,datos!$J$8,(IF('Datos Iniciales'!E105=datos!$I$9,datos!$J$9,(IF('Datos Iniciales'!E105=datos!$I$10,datos!$J$10,(IF('Datos Iniciales'!E105=datos!$I$11,datos!$J$11,(IF('Datos Iniciales'!E105=datos!$I$12,datos!$J$12,(IF('Datos Iniciales'!E105=datos!$I$13,datos!$J$13,(IF('Datos Iniciales'!E105=datos!$I$14,datos!$J$14,(IF('Datos Iniciales'!E105=datos!$I$15,datos!$J$15,\"\")))))))))))))))))))))))))))))","v":""},{"$f":"IF('Datos Iniciales'!F105=\"\",\"\",'Datos Iniciales'!F105)","v":""},{"$f":"IFERROR(datos!B104,\"\")","v":""},null,null,null,null,{"$f":"IF('Datos Iniciales'!H105=\"\",\"\",'Datos Iniciales'!H105)","v":""},{"$f":"IF('Datos Iniciales'!I105=\"\",\"\",datos!$K$2)","v":""},{"$f":"IFERROR(VLOOKUP('Datos Iniciales'!J105,datos!O103:P1222,2,FALSE),\"\")","v":""},null,{"$f":"IF('Datos Iniciales'!K105=\"\",\"\",(CONCATENATE(RIGHT('Datos Iniciales'!K105,1),\"-\",'Datos Iniciales'!L105,\"-\",'Datos Iniciales'!M105)))","v":""},null,null,null,{"$f":"IF('Datos Iniciales'!N105=\"\",\"\",'Datos Iniciales'!N105)","v":""},{"$f":"IF('Datos Iniciales'!O105=\"\",\"\",'Datos Iniciales'!O105)","v":""},null,null,null,null,{"$f":"IF('Datos Iniciales'!P105=\"\",\"\",'Datos Iniciales'!P105)","v":""},null,null,null,null,null,null,null,null,null,null,null,null,{"$f":"IF('Datos Iniciales'!B105=\"\",\"\",(IF('Datos Iniciales'!B105=\"Si\",\"002\",\"003\")))","v":""},null,{"$f":"IF('Datos Iniciales'!Q105=\"\",\"\",(IF('Datos Iniciales'!Q105=datos!S104,\"0\",\"2\")))","v":""},{"$f":"IF('Datos Iniciales'!B105=\"\",\"\",(IF('Datos Iniciales'!B105=\"Si\",\"O-48\",\"O-49\")))","v":""}]
[{"$f":"IF('Datos Iniciales'!B106=\"\",\"\",\"Si\")","v":""},{"$f":"(IF('Datos Iniciales'!A106=\"Cliente\",\"Si\",(IF('Datos Iniciales'!A106=\"\",\"\",\"No\"))))","v":""},{"$f":"(IF('Datos Iniciales'!A106=\"Distribuidor\",\"Si\",(IF('Datos Iniciales'!A106=\"\",\"\",\"No\"))))","v":""},{"$f":"(IF('Datos Iniciales'!A106=\"Otros\",\"Si\",(IF('Datos Iniciales'!A106=\"\",\"\",\"No\"))))","v":""},{"$f":"(IF('Datos Iniciales'!A106=\"Prospecto\",\"Si\",(IF('Datos Iniciales'!A106=\"\",\"\",\"No\"))))","v":""},{"$f":"(IF('Datos Iniciales'!A106=\"Proveedor\",\"Si\",(IF('Datos Iniciales'!A106=\"\",\"\",\"No\"))))","v":""},{"$f":"IF('Datos Iniciales'!B106=\"\",\"\",'Datos Iniciales'!B106)","v":""},{"$f":"IF('Datos Iniciales'!C106=\"\",\"\",'Datos Iniciales'!C106)","v":""},{"$f":"IF('Datos Iniciales'!D106=\"\",\"\",'Datos Iniciales'!D106)","v":""},{"$f":"IF('Datos Iniciales'!E106=datos!$I$2,datos!$J$2,(IF('Datos Iniciales'!E106=datos!$I$3,datos!$J$3,(IF('Datos Iniciales'!E106=datos!$I$4,datos!$J$4,(IF('Datos Iniciales'!E106=datos!$I$5,datos!$J$5,(IF('Datos Iniciales'!E106=datos!$I$6,datos!$J$6,(IF('Datos Iniciales'!E106=datos!$I$7,datos!$J$7,(IF('Datos Iniciales'!E106=datos!$I$2,datos!$J$2,(IF('Datos Iniciales'!E106=datos!$I$8,datos!$J$8,(IF('Datos Iniciales'!E106=datos!$I$9,datos!$J$9,(IF('Datos Iniciales'!E106=datos!$I$10,datos!$J$10,(IF('Datos Iniciales'!E106=datos!$I$11,datos!$J$11,(IF('Datos Iniciales'!E106=datos!$I$12,datos!$J$12,(IF('Datos Iniciales'!E106=datos!$I$13,datos!$J$13,(IF('Datos Iniciales'!E106=datos!$I$14,datos!$J$14,(IF('Datos Iniciales'!E106=datos!$I$15,datos!$J$15,\"\")))))))))))))))))))))))))))))","v":""},{"$f":"IF('Datos Iniciales'!F106=\"\",\"\",'Datos Iniciales'!F106)","v":""},{"$f":"IFERROR(datos!B105,\"\")","v":""},null,null,null,null,{"$f":"IF('Datos Iniciales'!H106=\"\",\"\",'Datos Iniciales'!H106)","v":""},{"$f":"IF('Datos Iniciales'!I106=\"\",\"\",datos!$K$2)","v":""},{"$f":"IFERROR(VLOOKUP('Datos Iniciales'!J106,datos!O104:P1223,2,FALSE),\"\")","v":""},null,{"$f":"IF('Datos Iniciales'!K106=\"\",\"\",(CONCATENATE(RIGHT('Datos Iniciales'!K106,1),\"-\",'Datos Iniciales'!L106,\"-\",'Datos Iniciales'!M106)))","v":""},null,null,null,{"$f":"IF('Datos Iniciales'!N106=\"\",\"\",'Datos Iniciales'!N106)","v":""},{"$f":"IF('Datos Iniciales'!O106=\"\",\"\",'Datos Iniciales'!O106)","v":""},null,null,null,null,{"$f":"IF('Datos Iniciales'!P106=\"\",\"\",'Datos Iniciales'!P106)","v":""},null,null,null,null,null,null,null,null,null,null,null,null,{"$f":"IF('Datos Iniciales'!B106=\"\",\"\",(IF('Datos Iniciales'!B106=\"Si\",\"002\",\"003\")))","v":""},null,{"$f":"IF('Datos Iniciales'!Q106=\"\",\"\",(IF('Datos Iniciales'!Q106=datos!S105,\"0\",\"2\")))","v":""},{"$f":"IF('Datos Iniciales'!B106=\"\",\"\",(IF('Datos Iniciales'!B106=\"Si\",\"O-48\",\"O-49\")))","v":""}]
[{"$f":"IF('Datos Iniciales'!B107=\"\",\"\",\"Si\")","v":""},{"$f":"(IF('Datos Iniciales'!A107=\"Cliente\",\"Si\",(IF('Datos Iniciales'!A107=\"\",\"\",\"No\"))))","v":""},{"$f":"(IF('Datos Iniciales'!A107=\"Distribuidor\",\"Si\",(IF('Datos Iniciales'!A107=\"\",\"\",\"No\"))))","v":""},{"$f":"(IF('Datos Iniciales'!A107=\"Otros\",\"Si\",(IF('Datos Iniciales'!A107=\"\",\"\",\"No\"))))","v":""},{"$f":"(IF('Datos Iniciales'!A107=\"Prospecto\",\"Si\",(IF('Datos Iniciales'!A107=\"\",\"\",\"No\"))))","v":""},{"$f":"(IF('Datos Iniciales'!A107=\"Proveedor\",\"Si\",(IF('Datos Iniciales'!A107=\"\",\"\",\"No\"))))","v":""},{"$f":"IF('Datos Iniciales'!B107=\"\",\"\",'Datos Iniciales'!B107)","v":""},{"$f":"IF('Datos Iniciales'!C107=\"\",\"\",'Datos Iniciales'!C107)","v":""},{"$f":"IF('Datos Iniciales'!D107=\"\",\"\",'Datos Iniciales'!D107)","v":""},{"$f":"IF('Datos Iniciales'!E107=datos!$I$2,datos!$J$2,(IF('Datos Iniciales'!E107=datos!$I$3,datos!$J$3,(IF('Datos Iniciales'!E107=datos!$I$4,datos!$J$4,(IF('Datos Iniciales'!E107=datos!$I$5,datos!$J$5,(IF('Datos Iniciales'!E107=datos!$I$6,datos!$J$6,(IF('Datos Iniciales'!E107=datos!$I$7,datos!$J$7,(IF('Datos Iniciales'!E107=datos!$I$2,datos!$J$2,(IF('Datos Iniciales'!E107=datos!$I$8,datos!$J$8,(IF('Datos Iniciales'!E107=datos!$I$9,datos!$J$9,(IF('Datos Iniciales'!E107=datos!$I$10,datos!$J$10,(IF('Datos Iniciales'!E107=datos!$I$11,datos!$J$11,(IF('Datos Iniciales'!E107=datos!$I$12,datos!$J$12,(IF('Datos Iniciales'!E107=datos!$I$13,datos!$J$13,(IF('Datos Iniciales'!E107=datos!$I$14,datos!$J$14,(IF('Datos Iniciales'!E107=datos!$I$15,datos!$J$15,\"\")))))))))))))))))))))))))))))","v":""},{"$f":"IF('Datos Iniciales'!F107=\"\",\"\",'Datos Iniciales'!F107)","v":""},{"$f":"IFERROR(datos!B106,\"\")","v":""},null,null,null,null,{"$f":"IF('Datos Iniciales'!H107=\"\",\"\",'Datos Iniciales'!H107)","v":""},{"$f":"IF('Datos Iniciales'!I107=\"\",\"\",datos!$K$2)","v":""},{"$f":"IFERROR(VLOOKUP('Datos Iniciales'!J107,datos!O105:P1224,2,FALSE),\"\")","v":""},null,{"$f":"IF('Datos Iniciales'!K107=\"\",\"\",(CONCATENATE(RIGHT('Datos Iniciales'!K107,1),\"-\",'Datos Iniciales'!L107,\"-\",'Datos Iniciales'!M107)))","v":""},null,null,null,{"$f":"IF('Datos Iniciales'!N107=\"\",\"\",'Datos Iniciales'!N107)","v":""},{"$f":"IF('Datos Iniciales'!O107=\"\",\"\",'Datos Iniciales'!O107)","v":""},null,null,null,null,{"$f":"IF('Datos Iniciales'!P107=\"\",\"\",'Datos Iniciales'!P107)","v":""},null,null,null,null,null,null,null,null,null,null,null,null,{"$f":"IF('Datos Iniciales'!B107=\"\",\"\",(IF('Datos Iniciales'!B107=\"Si\",\"002\",\"003\")))","v":""},null,{"$f":"IF('Datos Iniciales'!Q107=\"\",\"\",(IF('Datos Iniciales'!Q107=datos!S106,\"0\",\"2\")))","v":""},{"$f":"IF('Datos Iniciales'!B107=\"\",\"\",(IF('Datos Iniciales'!B107=\"Si\",\"O-48\",\"O-49\")))","v":""}]
[{"$f":"IF('Datos Iniciales'!B108=\"\",\"\",\"Si\")","v":""},{"$f":"(IF('Datos Iniciales'!A108=\"Cliente\",\"Si\",(IF('Datos Iniciales'!A108=\"\",\"\",\"No\"))))","v":""},{"$f":"(IF('Datos Iniciales'!A108=\"Distribuidor\",\"Si\",(IF('Datos Iniciales'!A108=\"\",\"\",\"No\"))))","v":""},{"$f":"(IF('Datos Iniciales'!A108=\"Otros\",\"Si\",(IF('Datos Iniciales'!A108=\"\",\"\",\"No\"))))","v":""},{"$f":"(IF('Datos Iniciales'!A108=\"Prospecto\",\"Si\",(IF('Datos Iniciales'!A108=\"\",\"\",\"No\"))))","v":""},{"$f":"(IF('Datos Iniciales'!A108=\"Proveedor\",\"Si\",(IF('Datos Iniciales'!A108=\"\",\"\",\"No\"))))","v":""},{"$f":"IF('Datos Iniciales'!B108=\"\",\"\",'Datos Iniciales'!B108)","v":""},{"$f":"IF('Datos Iniciales'!C108=\"\",\"\",'Datos Iniciales'!C108)","v":""},{"$f":"IF('Datos Iniciales'!D108=\"\",\"\",'Datos Iniciales'!D108)","v":""},{"$f":"IF('Datos Iniciales'!E108=datos!$I$2,datos!$J$2,(IF('Datos Iniciales'!E108=datos!$I$3,datos!$J$3,(IF('Datos Iniciales'!E108=datos!$I$4,datos!$J$4,(IF('Datos Iniciales'!E108=datos!$I$5,datos!$J$5,(IF('Datos Iniciales'!E108=datos!$I$6,datos!$J$6,(IF('Datos Iniciales'!E108=datos!$I$7,datos!$J$7,(IF('Datos Iniciales'!E108=datos!$I$2,datos!$J$2,(IF('Datos Iniciales'!E108=datos!$I$8,datos!$J$8,(IF('Datos Iniciales'!E108=datos!$I$9,datos!$J$9,(IF('Datos Iniciales'!E108=datos!$I$10,datos!$J$10,(IF('Datos Iniciales'!E108=datos!$I$11,datos!$J$11,(IF('Datos Iniciales'!E108=datos!$I$12,datos!$J$12,(IF('Datos Iniciales'!E108=datos!$I$13,datos!$J$13,(IF('Datos Iniciales'!E108=datos!$I$14,datos!$J$14,(IF('Datos Iniciales'!E108=datos!$I$15,datos!$J$15,\"\")))))))))))))))))))))))))))))","v":""},{"$f":"IF('Datos Iniciales'!F108=\"\",\"\",'Datos Iniciales'!F108)","v":""},{"$f":"IFERROR(datos!B107,\"\")","v":""},null,null,null,null,{"$f":"IF('Datos Iniciales'!H108=\"\",\"\",'Datos Iniciales'!H108)","v":""},{"$f":"IF('Datos Iniciales'!I108=\"\",\"\",datos!$K$2)","v":""},{"$f":"IFERROR(VLOOKUP('Datos Iniciales'!J108,datos!O106:P1225,2,FALSE),\"\")","v":""},null,{"$f":"IF('Datos Iniciales'!K108=\"\",\"\",(CONCATENATE(RIGHT('Datos Iniciales'!K108,1),\"-\",'Datos Iniciales'!L108,\"-\",'Datos Iniciales'!M108)))","v":""},null,null,null,{"$f":"IF('Datos Iniciales'!N108=\"\",\"\",'Datos Iniciales'!N108)","v":""},{"$f":"IF('Datos Iniciales'!O108=\"\",\"\",'Datos Iniciales'!O108)","v":""},null,null,null,null,{"$f":"IF('Datos Iniciales'!P108=\"\",\"\",'Datos Iniciales'!P108)","v":""},null,null,null,null,null,null,null,null,null,null,null,null,{"$f":"IF('Datos Iniciales'!B108=\"\",\"\",(IF('Datos Iniciales'!B108=\"Si\",\"002\",\"003\")))","v":""},null,{"$f":"IF('Datos Iniciales'!Q108=\"\",\"\",(IF('Datos Iniciales'!Q108=datos!S107,\"0\",\"2\")))","v":""},{"$f":"IF('Datos Iniciales'!B108=\"\",\"\",(IF('Datos Iniciales'!B108=\"Si\",\"O-48\",\"O-49\")))","v":""}]
[{"$f":"IF('Datos Iniciales'!B109=\"\",\"\",\"Si\")","v":""},{"$f":"(IF('Datos Iniciales'!A109=\"Cliente\",\"Si\",(IF('Datos Iniciales'!A109=\"\",\"\",\"No\"))))","v":""},{"$f":"(IF('Datos Iniciales'!A109=\"Distribuidor\",\"Si\",(IF('Datos Iniciales'!A109=\"\",\"\",\"No\"))))","v":""},{"$f":"(IF('Datos Iniciales'!A109=\"Otros\",\"Si\",(IF('Datos Iniciales'!A109=\"\",\"\",\"No\"))))","v":""},{"$f":"(IF('Datos Iniciales'!A109=\"Prospecto\",\"Si\",(IF('Datos Iniciales'!A109=\"\",\"\",\"No\"))))","v":""},{"$f":"(IF('Datos Iniciales'!A109=\"Proveedor\",\"Si\",(IF('Datos Iniciales'!A109=\"\",\"\",\"No\"))))","v":""},{"$f":"IF('Datos Iniciales'!B109=\"\",\"\",'Datos Iniciales'!B109)","v":""},{"$f":"IF('Datos Iniciales'!C109=\"\",\"\",'Datos Iniciales'!C109)","v":""},{"$f":"IF('Datos Iniciales'!D109=\"\",\"\",'Datos Iniciales'!D109)","v":""},{"$f":"IF('Datos Iniciales'!E109=datos!$I$2,datos!$J$2,(IF('Datos Iniciales'!E109=datos!$I$3,datos!$J$3,(IF('Datos Iniciales'!E109=datos!$I$4,datos!$J$4,(IF('Datos Iniciales'!E109=datos!$I$5,datos!$J$5,(IF('Datos Iniciales'!E109=datos!$I$6,datos!$J$6,(IF('Datos Iniciales'!E109=datos!$I$7,datos!$J$7,(IF('Datos Iniciales'!E109=datos!$I$2,datos!$J$2,(IF('Datos Iniciales'!E109=datos!$I$8,datos!$J$8,(IF('Datos Iniciales'!E109=datos!$I$9,datos!$J$9,(IF('Datos Iniciales'!E109=datos!$I$10,datos!$J$10,(IF('Datos Iniciales'!E109=datos!$I$11,datos!$J$11,(IF('Datos Iniciales'!E109=datos!$I$12,datos!$J$12,(IF('Datos Iniciales'!E109=datos!$I$13,datos!$J$13,(IF('Datos Iniciales'!E109=datos!$I$14,datos!$J$14,(IF('Datos Iniciales'!E109=datos!$I$15,datos!$J$15,\"\")))))))))))))))))))))))))))))","v":""},{"$f":"IF('Datos Iniciales'!F109=\"\",\"\",'Datos Iniciales'!F109)","v":""},{"$f":"IFERROR(datos!B108,\"\")","v":""},null,null,null,null,{"$f":"IF('Datos Iniciales'!H109=\"\",\"\",'Datos Iniciales'!H109)","v":""},{"$f":"IF('Datos Iniciales'!I109=\"\",\"\",datos!$K$2)","v":""},{"$f":"IFERROR(VLOOKUP('Datos Iniciales'!J109,datos!O107:P1226,2,FALSE),\"\")","v":""},null,{"$f":"IF('Datos Iniciales'!K109=\"\",\"\",(CONCATENATE(RIGHT('Datos Iniciales'!K109,1),\"-\",'Datos Iniciales'!L109,\"-\",'Datos Iniciales'!M109)))","v":""},null,null,null,{"$f":"IF('Datos Iniciales'!N109=\"\",\"\",'Datos Iniciales'!N109)","v":""},{"$f":"IF('Datos Iniciales'!O109=\"\",\"\",'Datos Iniciales'!O109)","v":""},null,null,null,null,{"$f":"IF('Datos Iniciales'!P109=\"\",\"\",'Datos Iniciales'!P109)","v":""},null,null,null,null,null,null,null,null,null,null,null,null,{"$f":"IF('Datos Iniciales'!B109=\"\",\"\",(IF('Datos Iniciales'!B109=\"Si\",\"002\",\"003\")))","v":""},null,{"$f":"IF('Datos Iniciales'!Q109=\"\",\"\",(IF('Datos Iniciales'!Q109=datos!S108,\"0\",\"2\")))","v":""},{"$f":"IF('Datos Iniciales'!B109=\"\",\"\",(IF('Datos Iniciales'!B109=\"Si\",\"O-48\",\"O-49\")))","v":""}]
[{"$f":"IF('Datos Iniciales'!B110=\"\",\"\",\"Si\")","v":""},{"$f":"(IF('Datos Iniciales'!A110=\"Cliente\",\"Si\",(IF('Datos Iniciales'!A110=\"\",\"\",\"No\"))))","v":""},{"$f":"(IF('Datos Iniciales'!A110=\"Distribuidor\",\"Si\",(IF('Datos Iniciales'!A110=\"\",\"\",\"No\"))))","v":""},{"$f":"(IF('Datos Iniciales'!A110=\"Otros\",\"Si\",(IF('Datos Iniciales'!A110=\"\",\"\",\"No\"))))","v":""},{"$f":"(IF('Datos Iniciales'!A110=\"Prospecto\",\"Si\",(IF('Datos Iniciales'!A110=\"\",\"\",\"No\"))))","v":""},{"$f":"(IF('Datos Iniciales'!A110=\"Proveedor\",\"Si\",(IF('Datos Iniciales'!A110=\"\",\"\",\"No\"))))","v":""},{"$f":"IF('Datos Iniciales'!B110=\"\",\"\",'Datos Iniciales'!B110)","v":""},{"$f":"IF('Datos Iniciales'!C110=\"\",\"\",'Datos Iniciales'!C110)","v":""},{"$f":"IF('Datos Iniciales'!D110=\"\",\"\",'Datos Iniciales'!D110)","v":""},{"$f":"IF('Datos Iniciales'!E110=datos!$I$2,datos!$J$2,(IF('Datos Iniciales'!E110=datos!$I$3,datos!$J$3,(IF('Datos Iniciales'!E110=datos!$I$4,datos!$J$4,(IF('Datos Iniciales'!E110=datos!$I$5,datos!$J$5,(IF('Datos Iniciales'!E110=datos!$I$6,datos!$J$6,(IF('Datos Iniciales'!E110=datos!$I$7,datos!$J$7,(IF('Datos Iniciales'!E110=datos!$I$2,datos!$J$2,(IF('Datos Iniciales'!E110=datos!$I$8,datos!$J$8,(IF('Datos Iniciales'!E110=datos!$I$9,datos!$J$9,(IF('Datos Iniciales'!E110=datos!$I$10,datos!$J$10,(IF('Datos Iniciales'!E110=datos!$I$11,datos!$J$11,(IF('Datos Iniciales'!E110=datos!$I$12,datos!$J$12,(IF('Datos Iniciales'!E110=datos!$I$13,datos!$J$13,(IF('Datos Iniciales'!E110=datos!$I$14,datos!$J$14,(IF('Datos Iniciales'!E110=datos!$I$15,datos!$J$15,\"\")))))))))))))))))))))))))))))","v":""},{"$f":"IF('Datos Iniciales'!F110=\"\",\"\",'Datos Iniciales'!F110)","v":""},{"$f":"IFERROR(datos!B109,\"\")","v":""},null,null,null,null,{"$f":"IF('Datos Iniciales'!H110=\"\",\"\",'Datos Iniciales'!H110)","v":""},{"$f":"IF('Datos Iniciales'!I110=\"\",\"\",datos!$K$2)","v":""},{"$f":"IFERROR(VLOOKUP('Datos Iniciales'!J110,datos!O108:P1227,2,FALSE),\"\")","v":""},null,{"$f":"IF('Datos Iniciales'!K110=\"\",\"\",(CONCATENATE(RIGHT('Datos Iniciales'!K110,1),\"-\",'Datos Iniciales'!L110,\"-\",'Datos Iniciales'!M110)))","v":""},null,null,null,{"$f":"IF('Datos Iniciales'!N110=\"\",\"\",'Datos Iniciales'!N110)","v":""},{"$f":"IF('Datos Iniciales'!O110=\"\",\"\",'Datos Iniciales'!O110)","v":""},null,null,null,null,{"$f":"IF('Datos Iniciales'!P110=\"\",\"\",'Datos Iniciales'!P110)","v":""},null,null,null,null,null,null,null,null,null,null,null,null,{"$f":"IF('Datos Iniciales'!B110=\"\",\"\",(IF('Datos Iniciales'!B110=\"Si\",\"002\",\"003\")))","v":""},null,{"$f":"IF('Datos Iniciales'!Q110=\"\",\"\",(IF('Datos Iniciales'!Q110=datos!S109,\"0\",\"2\")))","v":""},{"$f":"IF('Datos Iniciales'!B110=\"\",\"\",(IF('Datos Iniciales'!B110=\"Si\",\"O-48\",\"O-49\")))","v":""}]
[{"$f":"IF('Datos Iniciales'!B111=\"\",\"\",\"Si\")","v":""},{"$f":"(IF('Datos Iniciales'!A111=\"Cliente\",\"Si\",(IF('Datos Iniciales'!A111=\"\",\"\",\"No\"))))","v":""},{"$f":"(IF('Datos Iniciales'!A111=\"Distribuidor\",\"Si\",(IF('Datos Iniciales'!A111=\"\",\"\",\"No\"))))","v":""},{"$f":"(IF('Datos Iniciales'!A111=\"Otros\",\"Si\",(IF('Datos Iniciales'!A111=\"\",\"\",\"No\"))))","v":""},{"$f":"(IF('Datos Iniciales'!A111=\"Prospecto\",\"Si\",(IF('Datos Iniciales'!A111=\"\",\"\",\"No\"))))","v":""},{"$f":"(IF('Datos Iniciales'!A111=\"Proveedor\",\"Si\",(IF('Datos Iniciales'!A111=\"\",\"\",\"No\"))))","v":""},{"$f":"IF('Datos Iniciales'!B111=\"\",\"\",'Datos Iniciales'!B111)","v":""},{"$f":"IF('Datos Iniciales'!C111=\"\",\"\",'Datos Iniciales'!C111)","v":""},{"$f":"IF('Datos Iniciales'!D111=\"\",\"\",'Datos Iniciales'!D111)","v":""},{"$f":"IF('Datos Iniciales'!E111=datos!$I$2,datos!$J$2,(IF('Datos Iniciales'!E111=datos!$I$3,datos!$J$3,(IF('Datos Iniciales'!E111=datos!$I$4,datos!$J$4,(IF('Datos Iniciales'!E111=datos!$I$5,datos!$J$5,(IF('Datos Iniciales'!E111=datos!$I$6,datos!$J$6,(IF('Datos Iniciales'!E111=datos!$I$7,datos!$J$7,(IF('Datos Iniciales'!E111=datos!$I$2,datos!$J$2,(IF('Datos Iniciales'!E111=datos!$I$8,datos!$J$8,(IF('Datos Iniciales'!E111=datos!$I$9,datos!$J$9,(IF('Datos Iniciales'!E111=datos!$I$10,datos!$J$10,(IF('Datos Iniciales'!E111=datos!$I$11,datos!$J$11,(IF('Datos Iniciales'!E111=datos!$I$12,datos!$J$12,(IF('Datos Iniciales'!E111=datos!$I$13,datos!$J$13,(IF('Datos Iniciales'!E111=datos!$I$14,datos!$J$14,(IF('Datos Iniciales'!E111=datos!$I$15,datos!$J$15,\"\")))))))))))))))))))))))))))))","v":""},{"$f":"IF('Datos Iniciales'!F111=\"\",\"\",'Datos Iniciales'!F111)","v":""},{"$f":"IFERROR(datos!B110,\"\")","v":""},null,null,null,null,{"$f":"IF('Datos Iniciales'!H111=\"\",\"\",'Datos Iniciales'!H111)","v":""},{"$f":"IF('Datos Iniciales'!I111=\"\",\"\",datos!$K$2)","v":""},{"$f":"IFERROR(VLOOKUP('Datos Iniciales'!J111,datos!O109:P1228,2,FALSE),\"\")","v":""},null,{"$f":"IF('Datos Iniciales'!K111=\"\",\"\",(CONCATENATE(RIGHT('Datos Iniciales'!K111,1),\"-\",'Datos Iniciales'!L111,\"-\",'Datos Iniciales'!M111)))","v":""},null,null,null,{"$f":"IF('Datos Iniciales'!N111=\"\",\"\",'Datos Iniciales'!N111)","v":""},{"$f":"IF('Datos Iniciales'!O111=\"\",\"\",'Datos Iniciales'!O111)","v":""},null,null,null,null,{"$f":"IF('Datos Iniciales'!P111=\"\",\"\",'Datos Iniciales'!P111)","v":""},null,null,null,null,null,null,null,null,null,null,null,null,{"$f":"IF('Datos Iniciales'!B111=\"\",\"\",(IF('Datos Iniciales'!B111=\"Si\",\"002\",\"003\")))","v":""},null,{"$f":"IF('Datos Iniciales'!Q111=\"\",\"\",(IF('Datos Iniciales'!Q111=datos!S110,\"0\",\"2\")))","v":""},{"$f":"IF('Datos Iniciales'!B111=\"\",\"\",(IF('Datos Iniciales'!B111=\"Si\",\"O-48\",\"O-49\")))","v":""}]
[{"$f":"IF('Datos Iniciales'!B112=\"\",\"\",\"Si\")","v":""},{"$f":"(IF('Datos Iniciales'!A112=\"Cliente\",\"Si\",(IF('Datos Iniciales'!A112=\"\",\"\",\"No\"))))","v":""},{"$f":"(IF('Datos Iniciales'!A112=\"Distribuidor\",\"Si\",(IF('Datos Iniciales'!A112=\"\",\"\",\"No\"))))","v":""},{"$f":"(IF('Datos Iniciales'!A112=\"Otros\",\"Si\",(IF('Datos Iniciales'!A112=\"\",\"\",\"No\"))))","v":""},{"$f":"(IF('Datos Iniciales'!A112=\"Prospecto\",\"Si\",(IF('Datos Iniciales'!A112=\"\",\"\",\"No\"))))","v":""},{"$f":"(IF('Datos Iniciales'!A112=\"Proveedor\",\"Si\",(IF('Datos Iniciales'!A112=\"\",\"\",\"No\"))))","v":""},{"$f":"IF('Datos Iniciales'!B112=\"\",\"\",'Datos Iniciales'!B112)","v":""},{"$f":"IF('Datos Iniciales'!C112=\"\",\"\",'Datos Iniciales'!C112)","v":""},{"$f":"IF('Datos Iniciales'!D112=\"\",\"\",'Datos Iniciales'!D112)","v":""},{"$f":"IF('Datos Iniciales'!E112=datos!$I$2,datos!$J$2,(IF('Datos Iniciales'!E112=datos!$I$3,datos!$J$3,(IF('Datos Iniciales'!E112=datos!$I$4,datos!$J$4,(IF('Datos Iniciales'!E112=datos!$I$5,datos!$J$5,(IF('Datos Iniciales'!E112=datos!$I$6,datos!$J$6,(IF('Datos Iniciales'!E112=datos!$I$7,datos!$J$7,(IF('Datos Iniciales'!E112=datos!$I$2,datos!$J$2,(IF('Datos Iniciales'!E112=datos!$I$8,datos!$J$8,(IF('Datos Iniciales'!E112=datos!$I$9,datos!$J$9,(IF('Datos Iniciales'!E112=datos!$I$10,datos!$J$10,(IF('Datos Iniciales'!E112=datos!$I$11,datos!$J$11,(IF('Datos Iniciales'!E112=datos!$I$12,datos!$J$12,(IF('Datos Iniciales'!E112=datos!$I$13,datos!$J$13,(IF('Datos Iniciales'!E112=datos!$I$14,datos!$J$14,(IF('Datos Iniciales'!E112=datos!$I$15,datos!$J$15,\"\")))))))))))))))))))))))))))))","v":""},{"$f":"IF('Datos Iniciales'!F112=\"\",\"\",'Datos Iniciales'!F112)","v":""},{"$f":"IFERROR(datos!B111,\"\")","v":""},null,null,null,null,{"$f":"IF('Datos Iniciales'!H112=\"\",\"\",'Datos Iniciales'!H112)","v":""},{"$f":"IF('Datos Iniciales'!I112=\"\",\"\",datos!$K$2)","v":""},{"$f":"IFERROR(VLOOKUP('Datos Iniciales'!J112,datos!O110:P1229,2,FALSE),\"\")","v":""},null,{"$f":"IF('Datos Iniciales'!K112=\"\",\"\",(CONCATENATE(RIGHT('Datos Iniciales'!K112,1),\"-\",'Datos Iniciales'!L112,\"-\",'Datos Iniciales'!M112)))","v":""},null,null,null,{"$f":"IF('Datos Iniciales'!N112=\"\",\"\",'Datos Iniciales'!N112)","v":""},{"$f":"IF('Datos Iniciales'!O112=\"\",\"\",'Datos Iniciales'!O112)","v":""},null,null,null,null,{"$f":"IF('Datos Iniciales'!P112=\"\",\"\",'Datos Iniciales'!P112)","v":""},null,null,null,null,null,null,null,null,null,null,null,null,{"$f":"IF('Datos Iniciales'!B112=\"\",\"\",(IF('Datos Iniciales'!B112=\"Si\",\"002\",\"003\")))","v":""},null,{"$f":"IF('Datos Iniciales'!Q112=\"\",\"\",(IF('Datos Iniciales'!Q112=datos!S111,\"0\",\"2\")))","v":""},{"$f":"IF('Datos Iniciales'!B112=\"\",\"\",(IF('Datos Iniciales'!B112=\"Si\",\"O-48\",\"O-49\")))","v":""}]
[{"$f":"IF('Datos Iniciales'!B113=\"\",\"\",\"Si\")","v":""},{"$f":"(IF('Datos Iniciales'!A113=\"Cliente\",\"Si\",(IF('Datos Iniciales'!A113=\"\",\"\",\"No\"))))","v":""},{"$f":"(IF('Datos Iniciales'!A113=\"Distribuidor\",\"Si\",(IF('Datos Iniciales'!A113=\"\",\"\",\"No\"))))","v":""},{"$f":"(IF('Datos Iniciales'!A113=\"Otros\",\"Si\",(IF('Datos Iniciales'!A113=\"\",\"\",\"No\"))))","v":""},{"$f":"(IF('Datos Iniciales'!A113=\"Prospecto\",\"Si\",(IF('Datos Iniciales'!A113=\"\",\"\",\"No\"))))","v":""},{"$f":"(IF('Datos Iniciales'!A113=\"Proveedor\",\"Si\",(IF('Datos Iniciales'!A113=\"\",\"\",\"No\"))))","v":""},{"$f":"IF('Datos Iniciales'!B113=\"\",\"\",'Datos Iniciales'!B113)","v":""},{"$f":"IF('Datos Iniciales'!C113=\"\",\"\",'Datos Iniciales'!C113)","v":""},{"$f":"IF('Datos Iniciales'!D113=\"\",\"\",'Datos Iniciales'!D113)","v":""},{"$f":"IF('Datos Iniciales'!E113=datos!$I$2,datos!$J$2,(IF('Datos Iniciales'!E113=datos!$I$3,datos!$J$3,(IF('Datos Iniciales'!E113=datos!$I$4,datos!$J$4,(IF('Datos Iniciales'!E113=datos!$I$5,datos!$J$5,(IF('Datos Iniciales'!E113=datos!$I$6,datos!$J$6,(IF('Datos Iniciales'!E113=datos!$I$7,datos!$J$7,(IF('Datos Iniciales'!E113=datos!$I$2,datos!$J$2,(IF('Datos Iniciales'!E113=datos!$I$8,datos!$J$8,(IF('Datos Iniciales'!E113=datos!$I$9,datos!$J$9,(IF('Datos Iniciales'!E113=datos!$I$10,datos!$J$10,(IF('Datos Iniciales'!E113=datos!$I$11,datos!$J$11,(IF('Datos Iniciales'!E113=datos!$I$12,datos!$J$12,(IF('Datos Iniciales'!E113=datos!$I$13,datos!$J$13,(IF('Datos Iniciales'!E113=datos!$I$14,datos!$J$14,(IF('Datos Iniciales'!E113=datos!$I$15,datos!$J$15,\"\")))))))))))))))))))))))))))))","v":""},{"$f":"IF('Datos Iniciales'!F113=\"\",\"\",'Datos Iniciales'!F113)","v":""},{"$f":"IFERROR(datos!B112,\"\")","v":""},null,null,null,null,{"$f":"IF('Datos Iniciales'!H113=\"\",\"\",'Datos Iniciales'!H113)","v":""},{"$f":"IF('Datos Iniciales'!I113=\"\",\"\",datos!$K$2)","v":""},{"$f":"IFERROR(VLOOKUP('Datos Iniciales'!J113,datos!O111:P1230,2,FALSE),\"\")","v":""},null,{"$f":"IF('Datos Iniciales'!K113=\"\",\"\",(CONCATENATE(RIGHT('Datos Iniciales'!K113,1),\"-\",'Datos Iniciales'!L113,\"-\",'Datos Iniciales'!M113)))","v":""},null,null,null,{"$f":"IF('Datos Iniciales'!N113=\"\",\"\",'Datos Iniciales'!N113)","v":""},{"$f":"IF('Datos Iniciales'!O113=\"\",\"\",'Datos Iniciales'!O113)","v":""},null,null,null,null,{"$f":"IF('Datos Iniciales'!P113=\"\",\"\",'Datos Iniciales'!P113)","v":""},null,null,null,null,null,null,null,null,null,null,null,null,{"$f":"IF('Datos Iniciales'!B113=\"\",\"\",(IF('Datos Iniciales'!B113=\"Si\",\"002\",\"003\")))","v":""},null,{"$f":"IF('Datos Iniciales'!Q113=\"\",\"\",(IF('Datos Iniciales'!Q113=datos!S112,\"0\",\"2\")))","v":""},{"$f":"IF('Datos Iniciales'!B113=\"\",\"\",(IF('Datos Iniciales'!B113=\"Si\",\"O-48\",\"O-49\")))","v":""}]
[{"$f":"IF('Datos Iniciales'!B114=\"\",\"\",\"Si\")","v":""},{"$f":"(IF('Datos Iniciales'!A114=\"Cliente\",\"Si\",(IF('Datos Iniciales'!A114=\"\",\"\",\"No\"))))","v":""},{"$f":"(IF('Datos Iniciales'!A114=\"Distribuidor\",\"Si\",(IF('Datos Iniciales'!A114=\"\",\"\",\"No\"))))","v":""},{"$f":"(IF('Datos Iniciales'!A114=\"Otros\",\"Si\",(IF('Datos Iniciales'!A114=\"\",\"\",\"No\"))))","v":""},{"$f":"(IF('Datos Iniciales'!A114=\"Prospecto\",\"Si\",(IF('Datos Iniciales'!A114=\"\",\"\",\"No\"))))","v":""},{"$f":"(IF('Datos Iniciales'!A114=\"Proveedor\",\"Si\",(IF('Datos Iniciales'!A114=\"\",\"\",\"No\"))))","v":""},{"$f":"IF('Datos Iniciales'!B114=\"\",\"\",'Datos Iniciales'!B114)","v":""},{"$f":"IF('Datos Iniciales'!C114=\"\",\"\",'Datos Iniciales'!C114)","v":""},{"$f":"IF('Datos Iniciales'!D114=\"\",\"\",'Datos Iniciales'!D114)","v":""},{"$f":"IF('Datos Iniciales'!E114=datos!$I$2,datos!$J$2,(IF('Datos Iniciales'!E114=datos!$I$3,datos!$J$3,(IF('Datos Iniciales'!E114=datos!$I$4,datos!$J$4,(IF('Datos Iniciales'!E114=datos!$I$5,datos!$J$5,(IF('Datos Iniciales'!E114=datos!$I$6,datos!$J$6,(IF('Datos Iniciales'!E114=datos!$I$7,datos!$J$7,(IF('Datos Iniciales'!E114=datos!$I$2,datos!$J$2,(IF('Datos Iniciales'!E114=datos!$I$8,datos!$J$8,(IF('Datos Iniciales'!E114=datos!$I$9,datos!$J$9,(IF('Datos Iniciales'!E114=datos!$I$10,datos!$J$10,(IF('Datos Iniciales'!E114=datos!$I$11,datos!$J$11,(IF('Datos Iniciales'!E114=datos!$I$12,datos!$J$12,(IF('Datos Iniciales'!E114=datos!$I$13,datos!$J$13,(IF('Datos Iniciales'!E114=datos!$I$14,datos!$J$14,(IF('Datos Iniciales'!E114=datos!$I$15,datos!$J$15,\"\")))))))))))))))))))))))))))))","v":""},{"$f":"IF('Datos Iniciales'!F114=\"\",\"\",'Datos Iniciales'!F114)","v":""},{"$f":"IFERROR(datos!B113,\"\")","v":""},null,null,null,null,{"$f":"IF('Datos Iniciales'!H114=\"\",\"\",'Datos Iniciales'!H114)","v":""},{"$f":"IF('Datos Iniciales'!I114=\"\",\"\",datos!$K$2)","v":""},{"$f":"IFERROR(VLOOKUP('Datos Iniciales'!J114,datos!O112:P1231,2,FALSE),\"\")","v":""},null,{"$f":"IF('Datos Iniciales'!K114=\"\",\"\",(CONCATENATE(RIGHT('Datos Iniciales'!K114,1),\"-\",'Datos Iniciales'!L114,\"-\",'Datos Iniciales'!M114)))","v":""},null,null,null,{"$f":"IF('Datos Iniciales'!N114=\"\",\"\",'Datos Iniciales'!N114)","v":""},{"$f":"IF('Datos Iniciales'!O114=\"\",\"\",'Datos Iniciales'!O114)","v":""},null,null,null,null,{"$f":"IF('Datos Iniciales'!P114=\"\",\"\",'Datos Iniciales'!P114)","v":""},null,null,null,null,null,null,null,null,null,null,null,null,{"$f":"IF('Datos Iniciales'!B114=\"\",\"\",(IF('Datos Iniciales'!B114=\"Si\",\"002\",\"003\")))","v":""},null,{"$f":"IF('Datos Iniciales'!Q114=\"\",\"\",(IF('Datos Iniciales'!Q114=datos!S113,\"0\",\"2\")))","v":""},{"$f":"IF('Datos Iniciales'!B114=\"\",\"\",(IF('Datos Iniciales'!B114=\"Si\",\"O-48\",\"O-49\")))","v":""}]
[{"$f":"IF('Datos Iniciales'!B115=\"\",\"\",\"Si\")","v":""},{"$f":"(IF('Datos Iniciales'!A115=\"Cliente\",\"Si\",(IF('Datos Iniciales'!A115=\"\",\"\",\"No\"))))","v":""},{"$f":"(IF('Datos Iniciales'!A115=\"Distribuidor\",\"Si\",(IF('Datos Iniciales'!A115=\"\",\"\",\"No\"))))","v":""},{"$f":"(IF('Datos Iniciales'!A115=\"Otros\",\"Si\",(IF('Datos Iniciales'!A115=\"\",\"\",\"No\"))))","v":""},{"$f":"(IF('Datos Iniciales'!A115=\"Prospecto\",\"Si\",(IF('Datos Iniciales'!A115=\"\",\"\",\"No\"))))","v":""},{"$f":"(IF('Datos Iniciales'!A115=\"Proveedor\",\"Si\",(IF('Datos Iniciales'!A115=\"\",\"\",\"No\"))))","v":""},{"$f":"IF('Datos Iniciales'!B115=\"\",\"\",'Datos Iniciales'!B115)","v":""},{"$f":"IF('Datos Iniciales'!C115=\"\",\"\",'Datos Iniciales'!C115)","v":""},{"$f":"IF('Datos Iniciales'!D115=\"\",\"\",'Datos Iniciales'!D115)","v":""},{"$f":"IF('Datos Iniciales'!E115=datos!$I$2,datos!$J$2,(IF('Datos Iniciales'!E115=datos!$I$3,datos!$J$3,(IF('Datos Iniciales'!E115=datos!$I$4,datos!$J$4,(IF('Datos Iniciales'!E115=datos!$I$5,datos!$J$5,(IF('Datos Iniciales'!E115=datos!$I$6,datos!$J$6,(IF('Datos Iniciales'!E115=datos!$I$7,datos!$J$7,(IF('Datos Iniciales'!E115=datos!$I$2,datos!$J$2,(IF('Datos Iniciales'!E115=datos!$I$8,datos!$J$8,(IF('Datos Iniciales'!E115=datos!$I$9,datos!$J$9,(IF('Datos Iniciales'!E115=datos!$I$10,datos!$J$10,(IF('Datos Iniciales'!E115=datos!$I$11,datos!$J$11,(IF('Datos Iniciales'!E115=datos!$I$12,datos!$J$12,(IF('Datos Iniciales'!E115=datos!$I$13,datos!$J$13,(IF('Datos Iniciales'!E115=datos!$I$14,datos!$J$14,(IF('Datos Iniciales'!E115=datos!$I$15,datos!$J$15,\"\")))))))))))))))))))))))))))))","v":""},{"$f":"IF('Datos Iniciales'!F115=\"\",\"\",'Datos Iniciales'!F115)","v":""},{"$f":"IFERROR(datos!B114,\"\")","v":""},null,null,null,null,{"$f":"IF('Datos Iniciales'!H115=\"\",\"\",'Datos Iniciales'!H115)","v":""},{"$f":"IF('Datos Iniciales'!I115=\"\",\"\",datos!$K$2)","v":""},{"$f":"IFERROR(VLOOKUP('Datos Iniciales'!J115,datos!O113:P1232,2,FALSE),\"\")","v":""},null,{"$f":"IF('Datos Iniciales'!K115=\"\",\"\",(CONCATENATE(RIGHT('Datos Iniciales'!K115,1),\"-\",'Datos Iniciales'!L115,\"-\",'Datos Iniciales'!M115)))","v":""},null,null,null,{"$f":"IF('Datos Iniciales'!N115=\"\",\"\",'Datos Iniciales'!N115)","v":""},{"$f":"IF('Datos Iniciales'!O115=\"\",\"\",'Datos Iniciales'!O115)","v":""},null,null,null,null,{"$f":"IF('Datos Iniciales'!P115=\"\",\"\",'Datos Iniciales'!P115)","v":""},null,null,null,null,null,null,null,null,null,null,null,null,{"$f":"IF('Datos Iniciales'!B115=\"\",\"\",(IF('Datos Iniciales'!B115=\"Si\",\"002\",\"003\")))","v":""},null,{"$f":"IF('Datos Iniciales'!Q115=\"\",\"\",(IF('Datos Iniciales'!Q115=datos!S114,\"0\",\"2\")))","v":""},{"$f":"IF('Datos Iniciales'!B115=\"\",\"\",(IF('Datos Iniciales'!B115=\"Si\",\"O-48\",\"O-49\")))","v":""}]
[{"$f":"IF('Datos Iniciales'!B116=\"\",\"\",\"Si\")","v":""},{"$f":"(IF('Datos Iniciales'!A116=\"Cliente\",\"Si\",(IF('Datos Iniciales'!A116=\"\",\"\",\"No\"))))","v":""},{"$f":"(IF('Datos Iniciales'!A116=\"Distribuidor\",\"Si\",(IF('Datos Iniciales'!A116=\"\",\"\",\"No\"))))","v":""},{"$f":"(IF('Datos Iniciales'!A116=\"Otros\",\"Si\",(IF('Datos Iniciales'!A116=\"\",\"\",\"No\"))))","v":""},{"$f":"(IF('Datos Iniciales'!A116=\"Prospecto\",\"Si\",(IF('Datos Iniciales'!A116=\"\",\"\",\"No\"))))","v":""},{"$f":"(IF('Datos Iniciales'!A116=\"Proveedor\",\"Si\",(IF('Datos Iniciales'!A116=\"\",\"\",\"No\"))))","v":""},{"$f":"IF('Datos Iniciales'!B116=\"\",\"\",'Datos Iniciales'!B116)","v":""},{"$f":"IF('Datos Iniciales'!C116=\"\",\"\",'Datos Iniciales'!C116)","v":""},{"$f":"IF('Datos Iniciales'!D116=\"\",\"\",'Datos Iniciales'!D116)","v":""},{"$f":"IF('Datos Iniciales'!E116=datos!$I$2,datos!$J$2,(IF('Datos Iniciales'!E116=datos!$I$3,datos!$J$3,(IF('Datos Iniciales'!E116=datos!$I$4,datos!$J$4,(IF('Datos Iniciales'!E116=datos!$I$5,datos!$J$5,(IF('Datos Iniciales'!E116=datos!$I$6,datos!$J$6,(IF('Datos Iniciales'!E116=datos!$I$7,datos!$J$7,(IF('Datos Iniciales'!E116=datos!$I$2,datos!$J$2,(IF('Datos Iniciales'!E116=datos!$I$8,datos!$J$8,(IF('Datos Iniciales'!E116=datos!$I$9,datos!$J$9,(IF('Datos Iniciales'!E116=datos!$I$10,datos!$J$10,(IF('Datos Iniciales'!E116=datos!$I$11,datos!$J$11,(IF('Datos Iniciales'!E116=datos!$I$12,datos!$J$12,(IF('Datos Iniciales'!E116=datos!$I$13,datos!$J$13,(IF('Datos Iniciales'!E116=datos!$I$14,datos!$J$14,(IF('Datos Iniciales'!E116=datos!$I$15,datos!$J$15,\"\")))))))))))))))))))))))))))))","v":""},{"$f":"IF('Datos Iniciales'!F116=\"\",\"\",'Datos Iniciales'!F116)","v":""},{"$f":"IFERROR(datos!B115,\"\")","v":""},null,null,null,null,{"$f":"IF('Datos Iniciales'!H116=\"\",\"\",'Datos Iniciales'!H116)","v":""},{"$f":"IF('Datos Iniciales'!I116=\"\",\"\",datos!$K$2)","v":""},{"$f":"IFERROR(VLOOKUP('Datos Iniciales'!J116,datos!O114:P1233,2,FALSE),\"\")","v":""},null,{"$f":"IF('Datos Iniciales'!K116=\"\",\"\",(CONCATENATE(RIGHT('Datos Iniciales'!K116,1),\"-\",'Datos Iniciales'!L116,\"-\",'Datos Iniciales'!M116)))","v":""},null,null,null,{"$f":"IF('Datos Iniciales'!N116=\"\",\"\",'Datos Iniciales'!N116)","v":""},{"$f":"IF('Datos Iniciales'!O116=\"\",\"\",'Datos Iniciales'!O116)","v":""},null,null,null,null,{"$f":"IF('Datos Iniciales'!P116=\"\",\"\",'Datos Iniciales'!P116)","v":""},null,null,null,null,null,null,null,null,null,null,null,null,{"$f":"IF('Datos Iniciales'!B116=\"\",\"\",(IF('Datos Iniciales'!B116=\"Si\",\"002\",\"003\")))","v":""},null,{"$f":"IF('Datos Iniciales'!Q116=\"\",\"\",(IF('Datos Iniciales'!Q116=datos!S115,\"0\",\"2\")))","v":""},{"$f":"IF('Datos Iniciales'!B116=\"\",\"\",(IF('Datos Iniciales'!B116=\"Si\",\"O-48\",\"O-49\")))","v":""}]
[{"$f":"IF('Datos Iniciales'!B117=\"\",\"\",\"Si\")","v":""},{"$f":"(IF('Datos Iniciales'!A117=\"Cliente\",\"Si\",(IF('Datos Iniciales'!A117=\"\",\"\",\"No\"))))","v":""},{"$f":"(IF('Datos Iniciales'!A117=\"Distribuidor\",\"Si\",(IF('Datos Iniciales'!A117=\"\",\"\",\"No\"))))","v":""},{"$f":"(IF('Datos Iniciales'!A117=\"Otros\",\"Si\",(IF('Datos Iniciales'!A117=\"\",\"\",\"No\"))))","v":""},{"$f":"(IF('Datos Iniciales'!A117=\"Prospecto\",\"Si\",(IF('Datos Iniciales'!A117=\"\",\"\",\"No\"))))","v":""},{"$f":"(IF('Datos Iniciales'!A117=\"Proveedor\",\"Si\",(IF('Datos Iniciales'!A117=\"\",\"\",\"No\"))))","v":""},{"$f":"IF('Datos Iniciales'!B117=\"\",\"\",'Datos Iniciales'!B117)","v":""},{"$f":"IF('Datos Iniciales'!C117=\"\",\"\",'Datos Iniciales'!C117)","v":""},{"$f":"IF('Datos Iniciales'!D117=\"\",\"\",'Datos Iniciales'!D117)","v":""},{"$f":"IF('Datos Iniciales'!E117=datos!$I$2,datos!$J$2,(IF('Datos Iniciales'!E117=datos!$I$3,datos!$J$3,(IF('Datos Iniciales'!E117=datos!$I$4,datos!$J$4,(IF('Datos Iniciales'!E117=datos!$I$5,datos!$J$5,(IF('Datos Iniciales'!E117=datos!$I$6,datos!$J$6,(IF('Datos Iniciales'!E117=datos!$I$7,datos!$J$7,(IF('Datos Iniciales'!E117=datos!$I$2,datos!$J$2,(IF('Datos Iniciales'!E117=datos!$I$8,datos!$J$8,(IF('Datos Iniciales'!E117=datos!$I$9,datos!$J$9,(IF('Datos Iniciales'!E117=datos!$I$10,datos!$J$10,(IF('Datos Iniciales'!E117=datos!$I$11,datos!$J$11,(IF('Datos Iniciales'!E117=datos!$I$12,datos!$J$12,(IF('Datos Iniciales'!E117=datos!$I$13,datos!$J$13,(IF('Datos Iniciales'!E117=datos!$I$14,datos!$J$14,(IF('Datos Iniciales'!E117=datos!$I$15,datos!$J$15,\"\")))))))))))))))))))))))))))))","v":""},{"$f":"IF('Datos Iniciales'!F117=\"\",\"\",'Datos Iniciales'!F117)","v":""},{"$f":"IFERROR(datos!B116,\"\")","v":""},null,null,null,null,{"$f":"IF('Datos Iniciales'!H117=\"\",\"\",'Datos Iniciales'!H117)","v":""},{"$f":"IF('Datos Iniciales'!I117=\"\",\"\",datos!$K$2)","v":""},{"$f":"IFERROR(VLOOKUP('Datos Iniciales'!J117,datos!O115:P1234,2,FALSE),\"\")","v":""},null,{"$f":"IF('Datos Iniciales'!K117=\"\",\"\",(CONCATENATE(RIGHT('Datos Iniciales'!K117,1),\"-\",'Datos Iniciales'!L117,\"-\",'Datos Iniciales'!M117)))","v":""},null,null,null,{"$f":"IF('Datos Iniciales'!N117=\"\",\"\",'Datos Iniciales'!N117)","v":""},{"$f":"IF('Datos Iniciales'!O117=\"\",\"\",'Datos Iniciales'!O117)","v":""},null,null,null,null,{"$f":"IF('Datos Iniciales'!P117=\"\",\"\",'Datos Iniciales'!P117)","v":""},null,null,null,null,null,null,null,null,null,null,null,null,{"$f":"IF('Datos Iniciales'!B117=\"\",\"\",(IF('Datos Iniciales'!B117=\"Si\",\"002\",\"003\")))","v":""},null,{"$f":"IF('Datos Iniciales'!Q117=\"\",\"\",(IF('Datos Iniciales'!Q117=datos!S116,\"0\",\"2\")))","v":""},{"$f":"IF('Datos Iniciales'!B117=\"\",\"\",(IF('Datos Iniciales'!B117=\"Si\",\"O-48\",\"O-49\")))","v":""}]
[{"$f":"IF('Datos Iniciales'!B118=\"\",\"\",\"Si\")","v":""},{"$f":"(IF('Datos Iniciales'!A118=\"Cliente\",\"Si\",(IF('Datos Iniciales'!A118=\"\",\"\",\"No\"))))","v":""},{"$f":"(IF('Datos Iniciales'!A118=\"Distribuidor\",\"Si\",(IF('Datos Iniciales'!A118=\"\",\"\",\"No\"))))","v":""},{"$f":"(IF('Datos Iniciales'!A118=\"Otros\",\"Si\",(IF('Datos Iniciales'!A118=\"\",\"\",\"No\"))))","v":""},{"$f":"(IF('Datos Iniciales'!A118=\"Prospecto\",\"Si\",(IF('Datos Iniciales'!A118=\"\",\"\",\"No\"))))","v":""},{"$f":"(IF('Datos Iniciales'!A118=\"Proveedor\",\"Si\",(IF('Datos Iniciales'!A118=\"\",\"\",\"No\"))))","v":""},{"$f":"IF('Datos Iniciales'!B118=\"\",\"\",'Datos Iniciales'!B118)","v":""},{"$f":"IF('Datos Iniciales'!C118=\"\",\"\",'Datos Iniciales'!C118)","v":""},{"$f":"IF('Datos Iniciales'!D118=\"\",\"\",'Datos Iniciales'!D118)","v":""},{"$f":"IF('Datos Iniciales'!E118=datos!$I$2,datos!$J$2,(IF('Datos Iniciales'!E118=datos!$I$3,datos!$J$3,(IF('Datos Iniciales'!E118=datos!$I$4,datos!$J$4,(IF('Datos Iniciales'!E118=datos!$I$5,datos!$J$5,(IF('Datos Iniciales'!E118=datos!$I$6,datos!$J$6,(IF('Datos Iniciales'!E118=datos!$I$7,datos!$J$7,(IF('Datos Iniciales'!E118=datos!$I$2,datos!$J$2,(IF('Datos Iniciales'!E118=datos!$I$8,datos!$J$8,(IF('Datos Iniciales'!E118=datos!$I$9,datos!$J$9,(IF('Datos Iniciales'!E118=datos!$I$10,datos!$J$10,(IF('Datos Iniciales'!E118=datos!$I$11,datos!$J$11,(IF('Datos Iniciales'!E118=datos!$I$12,datos!$J$12,(IF('Datos Iniciales'!E118=datos!$I$13,datos!$J$13,(IF('Datos Iniciales'!E118=datos!$I$14,datos!$J$14,(IF('Datos Iniciales'!E118=datos!$I$15,datos!$J$15,\"\")))))))))))))))))))))))))))))","v":""},{"$f":"IF('Datos Iniciales'!F118=\"\",\"\",'Datos Iniciales'!F118)","v":""},{"$f":"IFERROR(datos!B117,\"\")","v":""},null,null,null,null,{"$f":"IF('Datos Iniciales'!H118=\"\",\"\",'Datos Iniciales'!H118)","v":""},{"$f":"IF('Datos Iniciales'!I118=\"\",\"\",datos!$K$2)","v":""},{"$f":"IFERROR(VLOOKUP('Datos Iniciales'!J118,datos!O116:P1235,2,FALSE),\"\")","v":""},null,{"$f":"IF('Datos Iniciales'!K118=\"\",\"\",(CONCATENATE(RIGHT('Datos Iniciales'!K118,1),\"-\",'Datos Iniciales'!L118,\"-\",'Datos Iniciales'!M118)))","v":""},null,null,null,{"$f":"IF('Datos Iniciales'!N118=\"\",\"\",'Datos Iniciales'!N118)","v":""},{"$f":"IF('Datos Iniciales'!O118=\"\",\"\",'Datos Iniciales'!O118)","v":""},null,null,null,null,{"$f":"IF('Datos Iniciales'!P118=\"\",\"\",'Datos Iniciales'!P118)","v":""},null,null,null,null,null,null,null,null,null,null,null,null,{"$f":"IF('Datos Iniciales'!B118=\"\",\"\",(IF('Datos Iniciales'!B118=\"Si\",\"002\",\"003\")))","v":""},null,{"$f":"IF('Datos Iniciales'!Q118=\"\",\"\",(IF('Datos Iniciales'!Q118=datos!S117,\"0\",\"2\")))","v":""},{"$f":"IF('Datos Iniciales'!B118=\"\",\"\",(IF('Datos Iniciales'!B118=\"Si\",\"O-48\",\"O-49\")))","v":""}]
[{"$f":"IF('Datos Iniciales'!B119=\"\",\"\",\"Si\")","v":""},{"$f":"(IF('Datos Iniciales'!A119=\"Cliente\",\"Si\",(IF('Datos Iniciales'!A119=\"\",\"\",\"No\"))))","v":""},{"$f":"(IF('Datos Iniciales'!A119=\"Distribuidor\",\"Si\",(IF('Datos Iniciales'!A119=\"\",\"\",\"No\"))))","v":""},{"$f":"(IF('Datos Iniciales'!A119=\"Otros\",\"Si\",(IF('Datos Iniciales'!A119=\"\",\"\",\"No\"))))","v":""},{"$f":"(IF('Datos Iniciales'!A119=\"Prospecto\",\"Si\",(IF('Datos Iniciales'!A119=\"\",\"\",\"No\"))))","v":""},{"$f":"(IF('Datos Iniciales'!A119=\"Proveedor\",\"Si\",(IF('Datos Iniciales'!A119=\"\",\"\",\"No\"))))","v":""},{"$f":"IF('Datos Iniciales'!B119=\"\",\"\",'Datos Iniciales'!B119)","v":""},{"$f":"IF('Datos Iniciales'!C119=\"\",\"\",'Datos Iniciales'!C119)","v":""},{"$f":"IF('Datos Iniciales'!D119=\"\",\"\",'Datos Iniciales'!D119)","v":""},{"$f":"IF('Datos Iniciales'!E119=datos!$I$2,datos!$J$2,(IF('Datos Iniciales'!E119=datos!$I$3,datos!$J$3,(IF('Datos Iniciales'!E119=datos!$I$4,datos!$J$4,(IF('Datos Iniciales'!E119=datos!$I$5,datos!$J$5,(IF('Datos Iniciales'!E119=datos!$I$6,datos!$J$6,(IF('Datos Iniciales'!E119=datos!$I$7,datos!$J$7,(IF('Datos Iniciales'!E119=datos!$I$2,datos!$J$2,(IF('Datos Iniciales'!E119=datos!$I$8,datos!$J$8,(IF('Datos Iniciales'!E119=datos!$I$9,datos!$J$9,(IF('Datos Iniciales'!E119=datos!$I$10,datos!$J$10,(IF('Datos Iniciales'!E119=datos!$I$11,datos!$J$11,(IF('Datos Iniciales'!E119=datos!$I$12,datos!$J$12,(IF('Datos Iniciales'!E119=datos!$I$13,datos!$J$13,(IF('Datos Iniciales'!E119=datos!$I$14,datos!$J$14,(IF('Datos Iniciales'!E119=datos!$I$15,datos!$J$15,\"\")))))))))))))))))))))))))))))","v":""},{"$f":"IF('Datos Iniciales'!F119=\"\",\"\",'Datos Iniciales'!F119)","v":""},{"$f":"IFERROR(datos!B118,\"\")","v":""},null,null,null,null,{"$f":"IF('Datos Iniciales'!H119=\"\",\"\",'Datos Iniciales'!H119)","v":""},{"$f":"IF('Datos Iniciales'!I119=\"\",\"\",datos!$K$2)","v":""},{"$f":"IFERROR(VLOOKUP('Datos Iniciales'!J119,datos!O117:P1236,2,FALSE),\"\")","v":""},null,{"$f":"IF('Datos Iniciales'!K119=\"\",\"\",(CONCATENATE(RIGHT('Datos Iniciales'!K119,1),\"-\",'Datos Iniciales'!L119,\"-\",'Datos Iniciales'!M119)))","v":""},null,null,null,{"$f":"IF('Datos Iniciales'!N119=\"\",\"\",'Datos Iniciales'!N119)","v":""},{"$f":"IF('Datos Iniciales'!O119=\"\",\"\",'Datos Iniciales'!O119)","v":""},null,null,null,null,{"$f":"IF('Datos Iniciales'!P119=\"\",\"\",'Datos Iniciales'!P119)","v":""},null,null,null,null,null,null,null,null,null,null,null,null,{"$f":"IF('Datos Iniciales'!B119=\"\",\"\",(IF('Datos Iniciales'!B119=\"Si\",\"002\",\"003\")))","v":""},null,{"$f":"IF('Datos Iniciales'!Q119=\"\",\"\",(IF('Datos Iniciales'!Q119=datos!S118,\"0\",\"2\")))","v":""},{"$f":"IF('Datos Iniciales'!B119=\"\",\"\",(IF('Datos Iniciales'!B119=\"Si\",\"O-48\",\"O-49\")))","v":""}]
[{"$f":"IF('Datos Iniciales'!B120=\"\",\"\",\"Si\")","v":""},{"$f":"(IF('Datos Iniciales'!A120=\"Cliente\",\"Si\",(IF('Datos Iniciales'!A120=\"\",\"\",\"No\"))))","v":""},{"$f":"(IF('Datos Iniciales'!A120=\"Distribuidor\",\"Si\",(IF('Datos Iniciales'!A120=\"\",\"\",\"No\"))))","v":""},{"$f":"(IF('Datos Iniciales'!A120=\"Otros\",\"Si\",(IF('Datos Iniciales'!A120=\"\",\"\",\"No\"))))","v":""},{"$f":"(IF('Datos Iniciales'!A120=\"Prospecto\",\"Si\",(IF('Datos Iniciales'!A120=\"\",\"\",\"No\"))))","v":""},{"$f":"(IF('Datos Iniciales'!A120=\"Proveedor\",\"Si\",(IF('Datos Iniciales'!A120=\"\",\"\",\"No\"))))","v":""},{"$f":"IF('Datos Iniciales'!B120=\"\",\"\",'Datos Iniciales'!B120)","v":""},{"$f":"IF('Datos Iniciales'!C120=\"\",\"\",'Datos Iniciales'!C120)","v":""},{"$f":"IF('Datos Iniciales'!D120=\"\",\"\",'Datos Iniciales'!D120)","v":""},{"$f":"IF('Datos Iniciales'!E120=datos!$I$2,datos!$J$2,(IF('Datos Iniciales'!E120=datos!$I$3,datos!$J$3,(IF('Datos Iniciales'!E120=datos!$I$4,datos!$J$4,(IF('Datos Iniciales'!E120=datos!$I$5,datos!$J$5,(IF('Datos Iniciales'!E120=datos!$I$6,datos!$J$6,(IF('Datos Iniciales'!E120=datos!$I$7,datos!$J$7,(IF('Datos Iniciales'!E120=datos!$I$2,datos!$J$2,(IF('Datos Iniciales'!E120=datos!$I$8,datos!$J$8,(IF('Datos Iniciales'!E120=datos!$I$9,datos!$J$9,(IF('Datos Iniciales'!E120=datos!$I$10,datos!$J$10,(IF('Datos Iniciales'!E120=datos!$I$11,datos!$J$11,(IF('Datos Iniciales'!E120=datos!$I$12,datos!$J$12,(IF('Datos Iniciales'!E120=datos!$I$13,datos!$J$13,(IF('Datos Iniciales'!E120=datos!$I$14,datos!$J$14,(IF('Datos Iniciales'!E120=datos!$I$15,datos!$J$15,\"\")))))))))))))))))))))))))))))","v":""},{"$f":"IF('Datos Iniciales'!F120=\"\",\"\",'Datos Iniciales'!F120)","v":""},{"$f":"IFERROR(datos!B119,\"\")","v":""},null,null,null,null,{"$f":"IF('Datos Iniciales'!H120=\"\",\"\",'Datos Iniciales'!H120)","v":""},{"$f":"IF('Datos Iniciales'!I120=\"\",\"\",datos!$K$2)","v":""},{"$f":"IFERROR(VLOOKUP('Datos Iniciales'!J120,datos!O118:P1237,2,FALSE),\"\")","v":""},null,{"$f":"IF('Datos Iniciales'!K120=\"\",\"\",(CONCATENATE(RIGHT('Datos Iniciales'!K120,1),\"-\",'Datos Iniciales'!L120,\"-\",'Datos Iniciales'!M120)))","v":""},null,null,null,{"$f":"IF('Datos Iniciales'!N120=\"\",\"\",'Datos Iniciales'!N120)","v":""},{"$f":"IF('Datos Iniciales'!O120=\"\",\"\",'Datos Iniciales'!O120)","v":""},null,null,null,null,{"$f":"IF('Datos Iniciales'!P120=\"\",\"\",'Datos Iniciales'!P120)","v":""},null,null,null,null,null,null,null,null,null,null,null,null,{"$f":"IF('Datos Iniciales'!B120=\"\",\"\",(IF('Datos Iniciales'!B120=\"Si\",\"002\",\"003\")))","v":""},null,{"$f":"IF('Datos Iniciales'!Q120=\"\",\"\",(IF('Datos Iniciales'!Q120=datos!S119,\"0\",\"2\")))","v":""},{"$f":"IF('Datos Iniciales'!B120=\"\",\"\",(IF('Datos Iniciales'!B120=\"Si\",\"O-48\",\"O-49\")))","v":""}]
[{"$f":"IF('Datos Iniciales'!B121=\"\",\"\",\"Si\")","v":""},{"$f":"(IF('Datos Iniciales'!A121=\"Cliente\",\"Si\",(IF('Datos Iniciales'!A121=\"\",\"\",\"No\"))))","v":""},{"$f":"(IF('Datos Iniciales'!A121=\"Distribuidor\",\"Si\",(IF('Datos Iniciales'!A121=\"\",\"\",\"No\"))))","v":""},{"$f":"(IF('Datos Iniciales'!A121=\"Otros\",\"Si\",(IF('Datos Iniciales'!A121=\"\",\"\",\"No\"))))","v":""},{"$f":"(IF('Datos Iniciales'!A121=\"Prospecto\",\"Si\",(IF('Datos Iniciales'!A121=\"\",\"\",\"No\"))))","v":""},{"$f":"(IF('Datos Iniciales'!A121=\"Proveedor\",\"Si\",(IF('Datos Iniciales'!A121=\"\",\"\",\"No\"))))","v":""},{"$f":"IF('Datos Iniciales'!B121=\"\",\"\",'Datos Iniciales'!B121)","v":""},{"$f":"IF('Datos Iniciales'!C121=\"\",\"\",'Datos Iniciales'!C121)","v":""},{"$f":"IF('Datos Iniciales'!D121=\"\",\"\",'Datos Iniciales'!D121)","v":""},{"$f":"IF('Datos Iniciales'!E121=datos!$I$2,datos!$J$2,(IF('Datos Iniciales'!E121=datos!$I$3,datos!$J$3,(IF('Datos Iniciales'!E121=datos!$I$4,datos!$J$4,(IF('Datos Iniciales'!E121=datos!$I$5,datos!$J$5,(IF('Datos Iniciales'!E121=datos!$I$6,datos!$J$6,(IF('Datos Iniciales'!E121=datos!$I$7,datos!$J$7,(IF('Datos Iniciales'!E121=datos!$I$2,datos!$J$2,(IF('Datos Iniciales'!E121=datos!$I$8,datos!$J$8,(IF('Datos Iniciales'!E121=datos!$I$9,datos!$J$9,(IF('Datos Iniciales'!E121=datos!$I$10,datos!$J$10,(IF('Datos Iniciales'!E121=datos!$I$11,datos!$J$11,(IF('Datos Iniciales'!E121=datos!$I$12,datos!$J$12,(IF('Datos Iniciales'!E121=datos!$I$13,datos!$J$13,(IF('Datos Iniciales'!E121=datos!$I$14,datos!$J$14,(IF('Datos Iniciales'!E121=datos!$I$15,datos!$J$15,\"\")))))))))))))))))))))))))))))","v":""},{"$f":"IF('Datos Iniciales'!F121=\"\",\"\",'Datos Iniciales'!F121)","v":""},{"$f":"IFERROR(datos!B120,\"\")","v":""},null,null,null,null,{"$f":"IF('Datos Iniciales'!H121=\"\",\"\",'Datos Iniciales'!H121)","v":""},{"$f":"IF('Datos Iniciales'!I121=\"\",\"\",datos!$K$2)","v":""},{"$f":"IFERROR(VLOOKUP('Datos Iniciales'!J121,datos!O119:P1238,2,FALSE),\"\")","v":""},null,{"$f":"IF('Datos Iniciales'!K121=\"\",\"\",(CONCATENATE(RIGHT('Datos Iniciales'!K121,1),\"-\",'Datos Iniciales'!L121,\"-\",'Datos Iniciales'!M121)))","v":""},null,null,null,{"$f":"IF('Datos Iniciales'!N121=\"\",\"\",'Datos Iniciales'!N121)","v":""},{"$f":"IF('Datos Iniciales'!O121=\"\",\"\",'Datos Iniciales'!O121)","v":""},null,null,null,null,{"$f":"IF('Datos Iniciales'!P121=\"\",\"\",'Datos Iniciales'!P121)","v":""},null,null,null,null,null,null,null,null,null,null,null,null,{"$f":"IF('Datos Iniciales'!B121=\"\",\"\",(IF('Datos Iniciales'!B121=\"Si\",\"002\",\"003\")))","v":""},null,{"$f":"IF('Datos Iniciales'!Q121=\"\",\"\",(IF('Datos Iniciales'!Q121=datos!S120,\"0\",\"2\")))","v":""},{"$f":"IF('Datos Iniciales'!B121=\"\",\"\",(IF('Datos Iniciales'!B121=\"Si\",\"O-48\",\"O-49\")))","v":""}]
[{"$f":"IF('Datos Iniciales'!B122=\"\",\"\",\"Si\")","v":""},{"$f":"(IF('Datos Iniciales'!A122=\"Cliente\",\"Si\",(IF('Datos Iniciales'!A122=\"\",\"\",\"No\"))))","v":""},{"$f":"(IF('Datos Iniciales'!A122=\"Distribuidor\",\"Si\",(IF('Datos Iniciales'!A122=\"\",\"\",\"No\"))))","v":""},{"$f":"(IF('Datos Iniciales'!A122=\"Otros\",\"Si\",(IF('Datos Iniciales'!A122=\"\",\"\",\"No\"))))","v":""},{"$f":"(IF('Datos Iniciales'!A122=\"Prospecto\",\"Si\",(IF('Datos Iniciales'!A122=\"\",\"\",\"No\"))))","v":""},{"$f":"(IF('Datos Iniciales'!A122=\"Proveedor\",\"Si\",(IF('Datos Iniciales'!A122=\"\",\"\",\"No\"))))","v":""},{"$f":"IF('Datos Iniciales'!B122=\"\",\"\",'Datos Iniciales'!B122)","v":""},{"$f":"IF('Datos Iniciales'!C122=\"\",\"\",'Datos Iniciales'!C122)","v":""},{"$f":"IF('Datos Iniciales'!D122=\"\",\"\",'Datos Iniciales'!D122)","v":""},{"$f":"IF('Datos Iniciales'!E122=datos!$I$2,datos!$J$2,(IF('Datos Iniciales'!E122=datos!$I$3,datos!$J$3,(IF('Datos Iniciales'!E122=datos!$I$4,datos!$J$4,(IF('Datos Iniciales'!E122=datos!$I$5,datos!$J$5,(IF('Datos Iniciales'!E122=datos!$I$6,datos!$J$6,(IF('Datos Iniciales'!E122=datos!$I$7,datos!$J$7,(IF('Datos Iniciales'!E122=datos!$I$2,datos!$J$2,(IF('Datos Iniciales'!E122=datos!$I$8,datos!$J$8,(IF('Datos Iniciales'!E122=datos!$I$9,datos!$J$9,(IF('Datos Iniciales'!E122=datos!$I$10,datos!$J$10,(IF('Datos Iniciales'!E122=datos!$I$11,datos!$J$11,(IF('Datos Iniciales'!E122=datos!$I$12,datos!$J$12,(IF('Datos Iniciales'!E122=datos!$I$13,datos!$J$13,(IF('Datos Iniciales'!E122=datos!$I$14,datos!$J$14,(IF('Datos Iniciales'!E122=datos!$I$15,datos!$J$15,\"\")))))))))))))))))))))))))))))","v":""},{"$f":"IF('Datos Iniciales'!F122=\"\",\"\",'Datos Iniciales'!F122)","v":""},{"$f":"IFERROR(datos!B121,\"\")","v":""},null,null,null,null,{"$f":"IF('Datos Iniciales'!H122=\"\",\"\",'Datos Iniciales'!H122)","v":""},{"$f":"IF('Datos Iniciales'!I122=\"\",\"\",datos!$K$2)","v":""},{"$f":"IFERROR(VLOOKUP('Datos Iniciales'!J122,datos!O120:P1239,2,FALSE),\"\")","v":""},null,{"$f":"IF('Datos Iniciales'!K122=\"\",\"\",(CONCATENATE(RIGHT('Datos Iniciales'!K122,1),\"-\",'Datos Iniciales'!L122,\"-\",'Datos Iniciales'!M122)))","v":""},null,null,null,{"$f":"IF('Datos Iniciales'!N122=\"\",\"\",'Datos Iniciales'!N122)","v":""},{"$f":"IF('Datos Iniciales'!O122=\"\",\"\",'Datos Iniciales'!O122)","v":""},null,null,null,null,{"$f":"IF('Datos Iniciales'!P122=\"\",\"\",'Datos Iniciales'!P122)","v":""},null,null,null,null,null,null,null,null,null,null,null,null,{"$f":"IF('Datos Iniciales'!B122=\"\",\"\",(IF('Datos Iniciales'!B122=\"Si\",\"002\",\"003\")))","v":""},null,{"$f":"IF('Datos Iniciales'!Q122=\"\",\"\",(IF('Datos Iniciales'!Q122=datos!S121,\"0\",\"2\")))","v":""},{"$f":"IF('Datos Iniciales'!B122=\"\",\"\",(IF('Datos Iniciales'!B122=\"Si\",\"O-48\",\"O-49\")))","v":""}]
[{"$f":"IF('Datos Iniciales'!B123=\"\",\"\",\"Si\")","v":""},{"$f":"(IF('Datos Iniciales'!A123=\"Cliente\",\"Si\",(IF('Datos Iniciales'!A123=\"\",\"\",\"No\"))))","v":""},{"$f":"(IF('Datos Iniciales'!A123=\"Distribuidor\",\"Si\",(IF('Datos Iniciales'!A123=\"\",\"\",\"No\"))))","v":""},{"$f":"(IF('Datos Iniciales'!A123=\"Otros\",\"Si\",(IF('Datos Iniciales'!A123=\"\",\"\",\"No\"))))","v":""},{"$f":"(IF('Datos Iniciales'!A123=\"Prospecto\",\"Si\",(IF('Datos Iniciales'!A123=\"\",\"\",\"No\"))))","v":""},{"$f":"(IF('Datos Iniciales'!A123=\"Proveedor\",\"Si\",(IF('Datos Iniciales'!A123=\"\",\"\",\"No\"))))","v":""},{"$f":"IF('Datos Iniciales'!B123=\"\",\"\",'Datos Iniciales'!B123)","v":""},{"$f":"IF('Datos Iniciales'!C123=\"\",\"\",'Datos Iniciales'!C123)","v":""},{"$f":"IF('Datos Iniciales'!D123=\"\",\"\",'Datos Iniciales'!D123)","v":""},{"$f":"IF('Datos Iniciales'!E123=datos!$I$2,datos!$J$2,(IF('Datos Iniciales'!E123=datos!$I$3,datos!$J$3,(IF('Datos Iniciales'!E123=datos!$I$4,datos!$J$4,(IF('Datos Iniciales'!E123=datos!$I$5,datos!$J$5,(IF('Datos Iniciales'!E123=datos!$I$6,datos!$J$6,(IF('Datos Iniciales'!E123=datos!$I$7,datos!$J$7,(IF('Datos Iniciales'!E123=datos!$I$2,datos!$J$2,(IF('Datos Iniciales'!E123=datos!$I$8,datos!$J$8,(IF('Datos Iniciales'!E123=datos!$I$9,datos!$J$9,(IF('Datos Iniciales'!E123=datos!$I$10,datos!$J$10,(IF('Datos Iniciales'!E123=datos!$I$11,datos!$J$11,(IF('Datos Iniciales'!E123=datos!$I$12,datos!$J$12,(IF('Datos Iniciales'!E123=datos!$I$13,datos!$J$13,(IF('Datos Iniciales'!E123=datos!$I$14,datos!$J$14,(IF('Datos Iniciales'!E123=datos!$I$15,datos!$J$15,\"\")))))))))))))))))))))))))))))","v":""},{"$f":"IF('Datos Iniciales'!F123=\"\",\"\",'Datos Iniciales'!F123)","v":""},{"$f":"IFERROR(datos!B122,\"\")","v":""},null,null,null,null,{"$f":"IF('Datos Iniciales'!H123=\"\",\"\",'Datos Iniciales'!H123)","v":""},{"$f":"IF('Datos Iniciales'!I123=\"\",\"\",datos!$K$2)","v":""},{"$f":"IFERROR(VLOOKUP('Datos Iniciales'!J123,datos!O121:P1240,2,FALSE),\"\")","v":""},null,{"$f":"IF('Datos Iniciales'!K123=\"\",\"\",(CONCATENATE(RIGHT('Datos Iniciales'!K123,1),\"-\",'Datos Iniciales'!L123,\"-\",'Datos Iniciales'!M123)))","v":""},null,null,null,{"$f":"IF('Datos Iniciales'!N123=\"\",\"\",'Datos Iniciales'!N123)","v":""},{"$f":"IF('Datos Iniciales'!O123=\"\",\"\",'Datos Iniciales'!O123)","v":""},null,null,null,null,{"$f":"IF('Datos Iniciales'!P123=\"\",\"\",'Datos Iniciales'!P123)","v":""},null,null,null,null,null,null,null,null,null,null,null,null,{"$f":"IF('Datos Iniciales'!B123=\"\",\"\",(IF('Datos Iniciales'!B123=\"Si\",\"002\",\"003\")))","v":""},null,{"$f":"IF('Datos Iniciales'!Q123=\"\",\"\",(IF('Datos Iniciales'!Q123=datos!S122,\"0\",\"2\")))","v":""},{"$f":"IF('Datos Iniciales'!B123=\"\",\"\",(IF('Datos Iniciales'!B123=\"Si\",\"O-48\",\"O-49\")))","v":""}]
[{"$f":"IF('Datos Iniciales'!B124=\"\",\"\",\"Si\")","v":""},{"$f":"(IF('Datos Iniciales'!A124=\"Cliente\",\"Si\",(IF('Datos Iniciales'!A124=\"\",\"\",\"No\"))))","v":""},{"$f":"(IF('Datos Iniciales'!A124=\"Distribuidor\",\"Si\",(IF('Datos Iniciales'!A124=\"\",\"\",\"No\"))))","v":""},{"$f":"(IF('Datos Iniciales'!A124=\"Otros\",\"Si\",(IF('Datos Iniciales'!A124=\"\",\"\",\"No\"))))","v":""},{"$f":"(IF('Datos Iniciales'!A124=\"Prospecto\",\"Si\",(IF('Datos Iniciales'!A124=\"\",\"\",\"No\"))))","v":""},{"$f":"(IF('Datos Iniciales'!A124=\"Proveedor\",\"Si\",(IF('Datos Iniciales'!A124=\"\",\"\",\"No\"))))","v":""},{"$f":"IF('Datos Iniciales'!B124=\"\",\"\",'Datos Iniciales'!B124)","v":""},{"$f":"IF('Datos Iniciales'!C124=\"\",\"\",'Datos Iniciales'!C124)","v":""},{"$f":"IF('Datos Iniciales'!D124=\"\",\"\",'Datos Iniciales'!D124)","v":""},{"$f":"IF('Datos Iniciales'!E124=datos!$I$2,datos!$J$2,(IF('Datos Iniciales'!E124=datos!$I$3,datos!$J$3,(IF('Datos Iniciales'!E124=datos!$I$4,datos!$J$4,(IF('Datos Iniciales'!E124=datos!$I$5,datos!$J$5,(IF('Datos Iniciales'!E124=datos!$I$6,datos!$J$6,(IF('Datos Iniciales'!E124=datos!$I$7,datos!$J$7,(IF('Datos Iniciales'!E124=datos!$I$2,datos!$J$2,(IF('Datos Iniciales'!E124=datos!$I$8,datos!$J$8,(IF('Datos Iniciales'!E124=datos!$I$9,datos!$J$9,(IF('Datos Iniciales'!E124=datos!$I$10,datos!$J$10,(IF('Datos Iniciales'!E124=datos!$I$11,datos!$J$11,(IF('Datos Iniciales'!E124=datos!$I$12,datos!$J$12,(IF('Datos Iniciales'!E124=datos!$I$13,datos!$J$13,(IF('Datos Iniciales'!E124=datos!$I$14,datos!$J$14,(IF('Datos Iniciales'!E124=datos!$I$15,datos!$J$15,\"\")))))))))))))))))))))))))))))","v":""},{"$f":"IF('Datos Iniciales'!F124=\"\",\"\",'Datos Iniciales'!F124)","v":""},{"$f":"IFERROR(datos!B123,\"\")","v":""},null,null,null,null,{"$f":"IF('Datos Iniciales'!H124=\"\",\"\",'Datos Iniciales'!H124)","v":""},{"$f":"IF('Datos Iniciales'!I124=\"\",\"\",datos!$K$2)","v":""},{"$f":"IFERROR(VLOOKUP('Datos Iniciales'!J124,datos!O122:P1241,2,FALSE),\"\")","v":""},null,{"$f":"IF('Datos Iniciales'!K124=\"\",\"\",(CONCATENATE(RIGHT('Datos Iniciales'!K124,1),\"-\",'Datos Iniciales'!L124,\"-\",'Datos Iniciales'!M124)))","v":""},null,null,null,{"$f":"IF('Datos Iniciales'!N124=\"\",\"\",'Datos Iniciales'!N124)","v":""},{"$f":"IF('Datos Iniciales'!O124=\"\",\"\",'Datos Iniciales'!O124)","v":""},null,null,null,null,{"$f":"IF('Datos Iniciales'!P124=\"\",\"\",'Datos Iniciales'!P124)","v":""},null,null,null,null,null,null,null,null,null,null,null,null,{"$f":"IF('Datos Iniciales'!B124=\"\",\"\",(IF('Datos Iniciales'!B124=\"Si\",\"002\",\"003\")))","v":""},null,{"$f":"IF('Datos Iniciales'!Q124=\"\",\"\",(IF('Datos Iniciales'!Q124=datos!S123,\"0\",\"2\")))","v":""},{"$f":"IF('Datos Iniciales'!B124=\"\",\"\",(IF('Datos Iniciales'!B124=\"Si\",\"O-48\",\"O-49\")))","v":""}]
[{"$f":"IF('Datos Iniciales'!B125=\"\",\"\",\"Si\")","v":""},{"$f":"(IF('Datos Iniciales'!A125=\"Cliente\",\"Si\",(IF('Datos Iniciales'!A125=\"\",\"\",\"No\"))))","v":""},{"$f":"(IF('Datos Iniciales'!A125=\"Distribuidor\",\"Si\",(IF('Datos Iniciales'!A125=\"\",\"\",\"No\"))))","v":""},{"$f":"(IF('Datos Iniciales'!A125=\"Otros\",\"Si\",(IF('Datos Iniciales'!A125=\"\",\"\",\"No\"))))","v":""},{"$f":"(IF('Datos Iniciales'!A125=\"Prospecto\",\"Si\",(IF('Datos Iniciales'!A125=\"\",\"\",\"No\"))))","v":""},{"$f":"(IF('Datos Iniciales'!A125=\"Proveedor\",\"Si\",(IF('Datos Iniciales'!A125=\"\",\"\",\"No\"))))","v":""},{"$f":"IF('Datos Iniciales'!B125=\"\",\"\",'Datos Iniciales'!B125)","v":""},{"$f":"IF('Datos Iniciales'!C125=\"\",\"\",'Datos Iniciales'!C125)","v":""},{"$f":"IF('Datos Iniciales'!D125=\"\",\"\",'Datos Iniciales'!D125)","v":""},{"$f":"IF('Datos Iniciales'!E125=datos!$I$2,datos!$J$2,(IF('Datos Iniciales'!E125=datos!$I$3,datos!$J$3,(IF('Datos Iniciales'!E125=datos!$I$4,datos!$J$4,(IF('Datos Iniciales'!E125=datos!$I$5,datos!$J$5,(IF('Datos Iniciales'!E125=datos!$I$6,datos!$J$6,(IF('Datos Iniciales'!E125=datos!$I$7,datos!$J$7,(IF('Datos Iniciales'!E125=datos!$I$2,datos!$J$2,(IF('Datos Iniciales'!E125=datos!$I$8,datos!$J$8,(IF('Datos Iniciales'!E125=datos!$I$9,datos!$J$9,(IF('Datos Iniciales'!E125=datos!$I$10,datos!$J$10,(IF('Datos Iniciales'!E125=datos!$I$11,datos!$J$11,(IF('Datos Iniciales'!E125=datos!$I$12,datos!$J$12,(IF('Datos Iniciales'!E125=datos!$I$13,datos!$J$13,(IF('Datos Iniciales'!E125=datos!$I$14,datos!$J$14,(IF('Datos Iniciales'!E125=datos!$I$15,datos!$J$15,\"\")))))))))))))))))))))))))))))","v":""},{"$f":"IF('Datos Iniciales'!F125=\"\",\"\",'Datos Iniciales'!F125)","v":""},{"$f":"IFERROR(datos!B124,\"\")","v":""},null,null,null,null,{"$f":"IF('Datos Iniciales'!H125=\"\",\"\",'Datos Iniciales'!H125)","v":""},{"$f":"IF('Datos Iniciales'!I125=\"\",\"\",datos!$K$2)","v":""},{"$f":"IFERROR(VLOOKUP('Datos Iniciales'!J125,datos!O123:P1242,2,FALSE),\"\")","v":""},null,{"$f":"IF('Datos Iniciales'!K125=\"\",\"\",(CONCATENATE(RIGHT('Datos Iniciales'!K125,1),\"-\",'Datos Iniciales'!L125,\"-\",'Datos Iniciales'!M125)))","v":""},null,null,null,{"$f":"IF('Datos Iniciales'!N125=\"\",\"\",'Datos Iniciales'!N125)","v":""},{"$f":"IF('Datos Iniciales'!O125=\"\",\"\",'Datos Iniciales'!O125)","v":""},null,null,null,null,{"$f":"IF('Datos Iniciales'!P125=\"\",\"\",'Datos Iniciales'!P125)","v":""},null,null,null,null,null,null,null,null,null,null,null,null,{"$f":"IF('Datos Iniciales'!B125=\"\",\"\",(IF('Datos Iniciales'!B125=\"Si\",\"002\",\"003\")))","v":""},null,{"$f":"IF('Datos Iniciales'!Q125=\"\",\"\",(IF('Datos Iniciales'!Q125=datos!S124,\"0\",\"2\")))","v":""},{"$f":"IF('Datos Iniciales'!B125=\"\",\"\",(IF('Datos Iniciales'!B125=\"Si\",\"O-48\",\"O-49\")))","v":""}]
[{"$f":"IF('Datos Iniciales'!B126=\"\",\"\",\"Si\")","v":""},{"$f":"(IF('Datos Iniciales'!A126=\"Cliente\",\"Si\",(IF('Datos Iniciales'!A126=\"\",\"\",\"No\"))))","v":""},{"$f":"(IF('Datos Iniciales'!A126=\"Distribuidor\",\"Si\",(IF('Datos Iniciales'!A126=\"\",\"\",\"No\"))))","v":""},{"$f":"(IF('Datos Iniciales'!A126=\"Otros\",\"Si\",(IF('Datos Iniciales'!A126=\"\",\"\",\"No\"))))","v":""},{"$f":"(IF('Datos Iniciales'!A126=\"Prospecto\",\"Si\",(IF('Datos Iniciales'!A126=\"\",\"\",\"No\"))))","v":""},{"$f":"(IF('Datos Iniciales'!A126=\"Proveedor\",\"Si\",(IF('Datos Iniciales'!A126=\"\",\"\",\"No\"))))","v":""},{"$f":"IF('Datos Iniciales'!B126=\"\",\"\",'Datos Iniciales'!B126)","v":""},{"$f":"IF('Datos Iniciales'!C126=\"\",\"\",'Datos Iniciales'!C126)","v":""},{"$f":"IF('Datos Iniciales'!D126=\"\",\"\",'Datos Iniciales'!D126)","v":""},{"$f":"IF('Datos Iniciales'!E126=datos!$I$2,datos!$J$2,(IF('Datos Iniciales'!E126=datos!$I$3,datos!$J$3,(IF('Datos Iniciales'!E126=datos!$I$4,datos!$J$4,(IF('Datos Iniciales'!E126=datos!$I$5,datos!$J$5,(IF('Datos Iniciales'!E126=datos!$I$6,datos!$J$6,(IF('Datos Iniciales'!E126=datos!$I$7,datos!$J$7,(IF('Datos Iniciales'!E126=datos!$I$2,datos!$J$2,(IF('Datos Iniciales'!E126=datos!$I$8,datos!$J$8,(IF('Datos Iniciales'!E126=datos!$I$9,datos!$J$9,(IF('Datos Iniciales'!E126=datos!$I$10,datos!$J$10,(IF('Datos Iniciales'!E126=datos!$I$11,datos!$J$11,(IF('Datos Iniciales'!E126=datos!$I$12,datos!$J$12,(IF('Datos Iniciales'!E126=datos!$I$13,datos!$J$13,(IF('Datos Iniciales'!E126=datos!$I$14,datos!$J$14,(IF('Datos Iniciales'!E126=datos!$I$15,datos!$J$15,\"\")))))))))))))))))))))))))))))","v":""},{"$f":"IF('Datos Iniciales'!F126=\"\",\"\",'Datos Iniciales'!F126)","v":""},{"$f":"IFERROR(datos!B125,\"\")","v":""},null,null,null,null,{"$f":"IF('Datos Iniciales'!H126=\"\",\"\",'Datos Iniciales'!H126)","v":""},{"$f":"IF('Datos Iniciales'!I126=\"\",\"\",datos!$K$2)","v":""},{"$f":"IFERROR(VLOOKUP('Datos Iniciales'!J126,datos!O124:P1243,2,FALSE),\"\")","v":""},null,{"$f":"IF('Datos Iniciales'!K126=\"\",\"\",(CONCATENATE(RIGHT('Datos Iniciales'!K126,1),\"-\",'Datos Iniciales'!L126,\"-\",'Datos Iniciales'!M126)))","v":""},null,null,null,{"$f":"IF('Datos Iniciales'!N126=\"\",\"\",'Datos Iniciales'!N126)","v":""},{"$f":"IF('Datos Iniciales'!O126=\"\",\"\",'Datos Iniciales'!O126)","v":""},null,null,null,null,{"$f":"IF('Datos Iniciales'!P126=\"\",\"\",'Datos Iniciales'!P126)","v":""},null,null,null,null,null,null,null,null,null,null,null,null,{"$f":"IF('Datos Iniciales'!B126=\"\",\"\",(IF('Datos Iniciales'!B126=\"Si\",\"002\",\"003\")))","v":""},null,{"$f":"IF('Datos Iniciales'!Q126=\"\",\"\",(IF('Datos Iniciales'!Q126=datos!S125,\"0\",\"2\")))","v":""},{"$f":"IF('Datos Iniciales'!B126=\"\",\"\",(IF('Datos Iniciales'!B126=\"Si\",\"O-48\",\"O-49\")))","v":""}]
[{"$f":"IF('Datos Iniciales'!B127=\"\",\"\",\"Si\")","v":""},{"$f":"(IF('Datos Iniciales'!A127=\"Cliente\",\"Si\",(IF('Datos Iniciales'!A127=\"\",\"\",\"No\"))))","v":""},{"$f":"(IF('Datos Iniciales'!A127=\"Distribuidor\",\"Si\",(IF('Datos Iniciales'!A127=\"\",\"\",\"No\"))))","v":""},{"$f":"(IF('Datos Iniciales'!A127=\"Otros\",\"Si\",(IF('Datos Iniciales'!A127=\"\",\"\",\"No\"))))","v":""},{"$f":"(IF('Datos Iniciales'!A127=\"Prospecto\",\"Si\",(IF('Datos Iniciales'!A127=\"\",\"\",\"No\"))))","v":""},{"$f":"(IF('Datos Iniciales'!A127=\"Proveedor\",\"Si\",(IF('Datos Iniciales'!A127=\"\",\"\",\"No\"))))","v":""},{"$f":"IF('Datos Iniciales'!B127=\"\",\"\",'Datos Iniciales'!B127)","v":""},{"$f":"IF('Datos Iniciales'!C127=\"\",\"\",'Datos Iniciales'!C127)","v":""},{"$f":"IF('Datos Iniciales'!D127=\"\",\"\",'Datos Iniciales'!D127)","v":""},{"$f":"IF('Datos Iniciales'!E127=datos!$I$2,datos!$J$2,(IF('Datos Iniciales'!E127=datos!$I$3,datos!$J$3,(IF('Datos Iniciales'!E127=datos!$I$4,datos!$J$4,(IF('Datos Iniciales'!E127=datos!$I$5,datos!$J$5,(IF('Datos Iniciales'!E127=datos!$I$6,datos!$J$6,(IF('Datos Iniciales'!E127=datos!$I$7,datos!$J$7,(IF('Datos Iniciales'!E127=datos!$I$2,datos!$J$2,(IF('Datos Iniciales'!E127=datos!$I$8,datos!$J$8,(IF('Datos Iniciales'!E127=datos!$I$9,datos!$J$9,(IF('Datos Iniciales'!E127=datos!$I$10,datos!$J$10,(IF('Datos Iniciales'!E127=datos!$I$11,datos!$J$11,(IF('Datos Iniciales'!E127=datos!$I$12,datos!$J$12,(IF('Datos Iniciales'!E127=datos!$I$13,datos!$J$13,(IF('Datos Iniciales'!E127=datos!$I$14,datos!$J$14,(IF('Datos Iniciales'!E127=datos!$I$15,datos!$J$15,\"\")))))))))))))))))))))))))))))","v":""},{"$f":"IF('Datos Iniciales'!F127=\"\",\"\",'Datos Iniciales'!F127)","v":""},{"$f":"IFERROR(datos!B126,\"\")","v":""},null,null,null,null,{"$f":"IF('Datos Iniciales'!H127=\"\",\"\",'Datos Iniciales'!H127)","v":""},{"$f":"IF('Datos Iniciales'!I127=\"\",\"\",datos!$K$2)","v":""},{"$f":"IFERROR(VLOOKUP('Datos Iniciales'!J127,datos!O125:P1244,2,FALSE),\"\")","v":""},null,{"$f":"IF('Datos Iniciales'!K127=\"\",\"\",(CONCATENATE(RIGHT('Datos Iniciales'!K127,1),\"-\",'Datos Iniciales'!L127,\"-\",'Datos Iniciales'!M127)))","v":""},null,null,null,{"$f":"IF('Datos Iniciales'!N127=\"\",\"\",'Datos Iniciales'!N127)","v":""},{"$f":"IF('Datos Iniciales'!O127=\"\",\"\",'Datos Iniciales'!O127)","v":""},null,null,null,null,{"$f":"IF('Datos Iniciales'!P127=\"\",\"\",'Datos Iniciales'!P127)","v":""},null,null,null,null,null,null,null,null,null,null,null,null,{"$f":"IF('Datos Iniciales'!B127=\"\",\"\",(IF('Datos Iniciales'!B127=\"Si\",\"002\",\"003\")))","v":""},null,{"$f":"IF('Datos Iniciales'!Q127=\"\",\"\",(IF('Datos Iniciales'!Q127=datos!S126,\"0\",\"2\")))","v":""},{"$f":"IF('Datos Iniciales'!B127=\"\",\"\",(IF('Datos Iniciales'!B127=\"Si\",\"O-48\",\"O-49\")))","v":""}]
[{"$f":"IF('Datos Iniciales'!B128=\"\",\"\",\"Si\")","v":""},{"$f":"(IF('Datos Iniciales'!A128=\"Cliente\",\"Si\",(IF('Datos Iniciales'!A128=\"\",\"\",\"No\"))))","v":""},{"$f":"(IF('Datos Iniciales'!A128=\"Distribuidor\",\"Si\",(IF('Datos Iniciales'!A128=\"\",\"\",\"No\"))))","v":""},{"$f":"(IF('Datos Iniciales'!A128=\"Otros\",\"Si\",(IF('Datos Iniciales'!A128=\"\",\"\",\"No\"))))","v":""},{"$f":"(IF('Datos Iniciales'!A128=\"Prospecto\",\"Si\",(IF('Datos Iniciales'!A128=\"\",\"\",\"No\"))))","v":""},{"$f":"(IF('Datos Iniciales'!A128=\"Proveedor\",\"Si\",(IF('Datos Iniciales'!A128=\"\",\"\",\"No\"))))","v":""},{"$f":"IF('Datos Iniciales'!B128=\"\",\"\",'Datos Iniciales'!B128)","v":""},{"$f":"IF('Datos Iniciales'!C128=\"\",\"\",'Datos Iniciales'!C128)","v":""},{"$f":"IF('Datos Iniciales'!D128=\"\",\"\",'Datos Iniciales'!D128)","v":""},{"$f":"IF('Datos Iniciales'!E128=datos!$I$2,datos!$J$2,(IF('Datos Iniciales'!E128=datos!$I$3,datos!$J$3,(IF('Datos Iniciales'!E128=datos!$I$4,datos!$J$4,(IF('Datos Iniciales'!E128=datos!$I$5,datos!$J$5,(IF('Datos Iniciales'!E128=datos!$I$6,datos!$J$6,(IF('Datos Iniciales'!E128=datos!$I$7,datos!$J$7,(IF('Datos Iniciales'!E128=datos!$I$2,datos!$J$2,(IF('Datos Iniciales'!E128=datos!$I$8,datos!$J$8,(IF('Datos Iniciales'!E128=datos!$I$9,datos!$J$9,(IF('Datos Iniciales'!E128=datos!$I$10,datos!$J$10,(IF('Datos Iniciales'!E128=datos!$I$11,datos!$J$11,(IF('Datos Iniciales'!E128=datos!$I$12,datos!$J$12,(IF('Datos Iniciales'!E128=datos!$I$13,datos!$J$13,(IF('Datos Iniciales'!E128=datos!$I$14,datos!$J$14,(IF('Datos Iniciales'!E128=datos!$I$15,datos!$J$15,\"\")))))))))))))))))))))))))))))","v":""},{"$f":"IF('Datos Iniciales'!F128=\"\",\"\",'Datos Iniciales'!F128)","v":""},{"$f":"IFERROR(datos!B127,\"\")","v":""},null,null,null,null,{"$f":"IF('Datos Iniciales'!H128=\"\",\"\",'Datos Iniciales'!H128)","v":""},{"$f":"IF('Datos Iniciales'!I128=\"\",\"\",datos!$K$2)","v":""},{"$f":"IFERROR(VLOOKUP('Datos Iniciales'!J128,datos!O126:P1245,2,FALSE),\"\")","v":""},null,{"$f":"IF('Datos Iniciales'!K128=\"\",\"\",(CONCATENATE(RIGHT('Datos Iniciales'!K128,1),\"-\",'Datos Iniciales'!L128,\"-\",'Datos Iniciales'!M128)))","v":""},null,null,null,{"$f":"IF('Datos Iniciales'!N128=\"\",\"\",'Datos Iniciales'!N128)","v":""},{"$f":"IF('Datos Iniciales'!O128=\"\",\"\",'Datos Iniciales'!O128)","v":""},null,null,null,null,{"$f":"IF('Datos Iniciales'!P128=\"\",\"\",'Datos Iniciales'!P128)","v":""},null,null,null,null,null,null,null,null,null,null,null,null,{"$f":"IF('Datos Iniciales'!B128=\"\",\"\",(IF('Datos Iniciales'!B128=\"Si\",\"002\",\"003\")))","v":""},null,{"$f":"IF('Datos Iniciales'!Q128=\"\",\"\",(IF('Datos Iniciales'!Q128=datos!S127,\"0\",\"2\")))","v":""},{"$f":"IF('Datos Iniciales'!B128=\"\",\"\",(IF('Datos Iniciales'!B128=\"Si\",\"O-48\",\"O-49\")))","v":""}]
[{"$f":"IF('Datos Iniciales'!B129=\"\",\"\",\"Si\")","v":""},{"$f":"(IF('Datos Iniciales'!A129=\"Cliente\",\"Si\",(IF('Datos Iniciales'!A129=\"\",\"\",\"No\"))))","v":""},{"$f":"(IF('Datos Iniciales'!A129=\"Distribuidor\",\"Si\",(IF('Datos Iniciales'!A129=\"\",\"\",\"No\"))))","v":""},{"$f":"(IF('Datos Iniciales'!A129=\"Otros\",\"Si\",(IF('Datos Iniciales'!A129=\"\",\"\",\"No\"))))","v":""},{"$f":"(IF('Datos Iniciales'!A129=\"Prospecto\",\"Si\",(IF('Datos Iniciales'!A129=\"\",\"\",\"No\"))))","v":""},{"$f":"(IF('Datos Iniciales'!A129=\"Proveedor\",\"Si\",(IF('Datos Iniciales'!A129=\"\",\"\",\"No\"))))","v":""},{"$f":"IF('Datos Iniciales'!B129=\"\",\"\",'Datos Iniciales'!B129)","v":""},{"$f":"IF('Datos Iniciales'!C129=\"\",\"\",'Datos Iniciales'!C129)","v":""},{"$f":"IF('Datos Iniciales'!D129=\"\",\"\",'Datos Iniciales'!D129)","v":""},{"$f":"IF('Datos Iniciales'!E129=datos!$I$2,datos!$J$2,(IF('Datos Iniciales'!E129=datos!$I$3,datos!$J$3,(IF('Datos Iniciales'!E129=datos!$I$4,datos!$J$4,(IF('Datos Iniciales'!E129=datos!$I$5,datos!$J$5,(IF('Datos Iniciales'!E129=datos!$I$6,datos!$J$6,(IF('Datos Iniciales'!E129=datos!$I$7,datos!$J$7,(IF('Datos Iniciales'!E129=datos!$I$2,datos!$J$2,(IF('Datos Iniciales'!E129=datos!$I$8,datos!$J$8,(IF('Datos Iniciales'!E129=datos!$I$9,datos!$J$9,(IF('Datos Iniciales'!E129=datos!$I$10,datos!$J$10,(IF('Datos Iniciales'!E129=datos!$I$11,datos!$J$11,(IF('Datos Iniciales'!E129=datos!$I$12,datos!$J$12,(IF('Datos Iniciales'!E129=datos!$I$13,datos!$J$13,(IF('Datos Iniciales'!E129=datos!$I$14,datos!$J$14,(IF('Datos Iniciales'!E129=datos!$I$15,datos!$J$15,\"\")))))))))))))))))))))))))))))","v":""},{"$f":"IF('Datos Iniciales'!F129=\"\",\"\",'Datos Iniciales'!F129)","v":""},{"$f":"IFERROR(datos!B128,\"\")","v":""},null,null,null,null,{"$f":"IF('Datos Iniciales'!H129=\"\",\"\",'Datos Iniciales'!H129)","v":""},{"$f":"IF('Datos Iniciales'!I129=\"\",\"\",datos!$K$2)","v":""},{"$f":"IFERROR(VLOOKUP('Datos Iniciales'!J129,datos!O127:P1246,2,FALSE),\"\")","v":""},null,{"$f":"IF('Datos Iniciales'!K129=\"\",\"\",(CONCATENATE(RIGHT('Datos Iniciales'!K129,1),\"-\",'Datos Iniciales'!L129,\"-\",'Datos Iniciales'!M129)))","v":""},null,null,null,{"$f":"IF('Datos Iniciales'!N129=\"\",\"\",'Datos Iniciales'!N129)","v":""},{"$f":"IF('Datos Iniciales'!O129=\"\",\"\",'Datos Iniciales'!O129)","v":""},null,null,null,null,{"$f":"IF('Datos Iniciales'!P129=\"\",\"\",'Datos Iniciales'!P129)","v":""},null,null,null,null,null,null,null,null,null,null,null,null,{"$f":"IF('Datos Iniciales'!B129=\"\",\"\",(IF('Datos Iniciales'!B129=\"Si\",\"002\",\"003\")))","v":""},null,{"$f":"IF('Datos Iniciales'!Q129=\"\",\"\",(IF('Datos Iniciales'!Q129=datos!S128,\"0\",\"2\")))","v":""},{"$f":"IF('Datos Iniciales'!B129=\"\",\"\",(IF('Datos Iniciales'!B129=\"Si\",\"O-48\",\"O-49\")))","v":""}]
[{"$f":"IF('Datos Iniciales'!B130=\"\",\"\",\"Si\")","v":""},{"$f":"(IF('Datos Iniciales'!A130=\"Cliente\",\"Si\",(IF('Datos Iniciales'!A130=\"\",\"\",\"No\"))))","v":""},{"$f":"(IF('Datos Iniciales'!A130=\"Distribuidor\",\"Si\",(IF('Datos Iniciales'!A130=\"\",\"\",\"No\"))))","v":""},{"$f":"(IF('Datos Iniciales'!A130=\"Otros\",\"Si\",(IF('Datos Iniciales'!A130=\"\",\"\",\"No\"))))","v":""},{"$f":"(IF('Datos Iniciales'!A130=\"Prospecto\",\"Si\",(IF('Datos Iniciales'!A130=\"\",\"\",\"No\"))))","v":""},{"$f":"(IF('Datos Iniciales'!A130=\"Proveedor\",\"Si\",(IF('Datos Iniciales'!A130=\"\",\"\",\"No\"))))","v":""},{"$f":"IF('Datos Iniciales'!B130=\"\",\"\",'Datos Iniciales'!B130)","v":""},{"$f":"IF('Datos Iniciales'!C130=\"\",\"\",'Datos Iniciales'!C130)","v":""},{"$f":"IF('Datos Iniciales'!D130=\"\",\"\",'Datos Iniciales'!D130)","v":""},{"$f":"IF('Datos Iniciales'!E130=datos!$I$2,datos!$J$2,(IF('Datos Iniciales'!E130=datos!$I$3,datos!$J$3,(IF('Datos Iniciales'!E130=datos!$I$4,datos!$J$4,(IF('Datos Iniciales'!E130=datos!$I$5,datos!$J$5,(IF('Datos Iniciales'!E130=datos!$I$6,datos!$J$6,(IF('Datos Iniciales'!E130=datos!$I$7,datos!$J$7,(IF('Datos Iniciales'!E130=datos!$I$2,datos!$J$2,(IF('Datos Iniciales'!E130=datos!$I$8,datos!$J$8,(IF('Datos Iniciales'!E130=datos!$I$9,datos!$J$9,(IF('Datos Iniciales'!E130=datos!$I$10,datos!$J$10,(IF('Datos Iniciales'!E130=datos!$I$11,datos!$J$11,(IF('Datos Iniciales'!E130=datos!$I$12,datos!$J$12,(IF('Datos Iniciales'!E130=datos!$I$13,datos!$J$13,(IF('Datos Iniciales'!E130=datos!$I$14,datos!$J$14,(IF('Datos Iniciales'!E130=datos!$I$15,datos!$J$15,\"\")))))))))))))))))))))))))))))","v":""},{"$f":"IF('Datos Iniciales'!F130=\"\",\"\",'Datos Iniciales'!F130)","v":""},{"$f":"IFERROR(datos!B129,\"\")","v":""},null,null,null,null,{"$f":"IF('Datos Iniciales'!H130=\"\",\"\",'Datos Iniciales'!H130)","v":""},{"$f":"IF('Datos Iniciales'!I130=\"\",\"\",datos!$K$2)","v":""},{"$f":"IFERROR(VLOOKUP('Datos Iniciales'!J130,datos!O128:P1247,2,FALSE),\"\")","v":""},null,{"$f":"IF('Datos Iniciales'!K130=\"\",\"\",(CONCATENATE(RIGHT('Datos Iniciales'!K130,1),\"-\",'Datos Iniciales'!L130,\"-\",'Datos Iniciales'!M130)))","v":""},null,null,null,{"$f":"IF('Datos Iniciales'!N130=\"\",\"\",'Datos Iniciales'!N130)","v":""},{"$f":"IF('Datos Iniciales'!O130=\"\",\"\",'Datos Iniciales'!O130)","v":""},null,null,null,null,{"$f":"IF('Datos Iniciales'!P130=\"\",\"\",'Datos Iniciales'!P130)","v":""},null,null,null,null,null,null,null,null,null,null,null,null,{"$f":"IF('Datos Iniciales'!B130=\"\",\"\",(IF('Datos Iniciales'!B130=\"Si\",\"002\",\"003\")))","v":""},null,{"$f":"IF('Datos Iniciales'!Q130=\"\",\"\",(IF('Datos Iniciales'!Q130=datos!S129,\"0\",\"2\")))","v":""},{"$f":"IF('Datos Iniciales'!B130=\"\",\"\",(IF('Datos Iniciales'!B130=\"Si\",\"O-48\",\"O-49\")))","v":""}]
[{"$f":"IF('Datos Iniciales'!B131=\"\",\"\",\"Si\")","v":""},{"$f":"(IF('Datos Iniciales'!A131=\"Cliente\",\"Si\",(IF('Datos Iniciales'!A131=\"\",\"\",\"No\"))))","v":""},{"$f":"(IF('Datos Iniciales'!A131=\"Distribuidor\",\"Si\",(IF('Datos Iniciales'!A131=\"\",\"\",\"No\"))))","v":""},{"$f":"(IF('Datos Iniciales'!A131=\"Otros\",\"Si\",(IF('Datos Iniciales'!A131=\"\",\"\",\"No\"))))","v":""},{"$f":"(IF('Datos Iniciales'!A131=\"Prospecto\",\"Si\",(IF('Datos Iniciales'!A131=\"\",\"\",\"No\"))))","v":""},{"$f":"(IF('Datos Iniciales'!A131=\"Proveedor\",\"Si\",(IF('Datos Iniciales'!A131=\"\",\"\",\"No\"))))","v":""},{"$f":"IF('Datos Iniciales'!B131=\"\",\"\",'Datos Iniciales'!B131)","v":""},{"$f":"IF('Datos Iniciales'!C131=\"\",\"\",'Datos Iniciales'!C131)","v":""},{"$f":"IF('Datos Iniciales'!D131=\"\",\"\",'Datos Iniciales'!D131)","v":""},{"$f":"IF('Datos Iniciales'!E131=datos!$I$2,datos!$J$2,(IF('Datos Iniciales'!E131=datos!$I$3,datos!$J$3,(IF('Datos Iniciales'!E131=datos!$I$4,datos!$J$4,(IF('Datos Iniciales'!E131=datos!$I$5,datos!$J$5,(IF('Datos Iniciales'!E131=datos!$I$6,datos!$J$6,(IF('Datos Iniciales'!E131=datos!$I$7,datos!$J$7,(IF('Datos Iniciales'!E131=datos!$I$2,datos!$J$2,(IF('Datos Iniciales'!E131=datos!$I$8,datos!$J$8,(IF('Datos Iniciales'!E131=datos!$I$9,datos!$J$9,(IF('Datos Iniciales'!E131=datos!$I$10,datos!$J$10,(IF('Datos Iniciales'!E131=datos!$I$11,datos!$J$11,(IF('Datos Iniciales'!E131=datos!$I$12,datos!$J$12,(IF('Datos Iniciales'!E131=datos!$I$13,datos!$J$13,(IF('Datos Iniciales'!E131=datos!$I$14,datos!$J$14,(IF('Datos Iniciales'!E131=datos!$I$15,datos!$J$15,\"\")))))))))))))))))))))))))))))","v":""},{"$f":"IF('Datos Iniciales'!F131=\"\",\"\",'Datos Iniciales'!F131)","v":""},{"$f":"IFERROR(datos!B130,\"\")","v":""},null,null,null,null,{"$f":"IF('Datos Iniciales'!H131=\"\",\"\",'Datos Iniciales'!H131)","v":""},{"$f":"IF('Datos Iniciales'!I131=\"\",\"\",datos!$K$2)","v":""},{"$f":"IFERROR(VLOOKUP('Datos Iniciales'!J131,datos!O129:P1248,2,FALSE),\"\")","v":""},null,{"$f":"IF('Datos Iniciales'!K131=\"\",\"\",(CONCATENATE(RIGHT('Datos Iniciales'!K131,1),\"-\",'Datos Iniciales'!L131,\"-\",'Datos Iniciales'!M131)))","v":""},null,null,null,{"$f":"IF('Datos Iniciales'!N131=\"\",\"\",'Datos Iniciales'!N131)","v":""},{"$f":"IF('Datos Iniciales'!O131=\"\",\"\",'Datos Iniciales'!O131)","v":""},null,null,null,null,{"$f":"IF('Datos Iniciales'!P131=\"\",\"\",'Datos Iniciales'!P131)","v":""},null,null,null,null,null,null,null,null,null,null,null,null,{"$f":"IF('Datos Iniciales'!B131=\"\",\"\",(IF('Datos Iniciales'!B131=\"Si\",\"002\",\"003\")))","v":""},null,{"$f":"IF('Datos Iniciales'!Q131=\"\",\"\",(IF('Datos Iniciales'!Q131=datos!S130,\"0\",\"2\")))","v":""},{"$f":"IF('Datos Iniciales'!B131=\"\",\"\",(IF('Datos Iniciales'!B131=\"Si\",\"O-48\",\"O-49\")))","v":""}]
[{"$f":"IF('Datos Iniciales'!B132=\"\",\"\",\"Si\")","v":""},{"$f":"(IF('Datos Iniciales'!A132=\"Cliente\",\"Si\",(IF('Datos Iniciales'!A132=\"\",\"\",\"No\"))))","v":""},{"$f":"(IF('Datos Iniciales'!A132=\"Distribuidor\",\"Si\",(IF('Datos Iniciales'!A132=\"\",\"\",\"No\"))))","v":""},{"$f":"(IF('Datos Iniciales'!A132=\"Otros\",\"Si\",(IF('Datos Iniciales'!A132=\"\",\"\",\"No\"))))","v":""},{"$f":"(IF('Datos Iniciales'!A132=\"Prospecto\",\"Si\",(IF('Datos Iniciales'!A132=\"\",\"\",\"No\"))))","v":""},{"$f":"(IF('Datos Iniciales'!A132=\"Proveedor\",\"Si\",(IF('Datos Iniciales'!A132=\"\",\"\",\"No\"))))","v":""},{"$f":"IF('Datos Iniciales'!B132=\"\",\"\",'Datos Iniciales'!B132)","v":""},{"$f":"IF('Datos Iniciales'!C132=\"\",\"\",'Datos Iniciales'!C132)","v":""},{"$f":"IF('Datos Iniciales'!D132=\"\",\"\",'Datos Iniciales'!D132)","v":""},{"$f":"IF('Datos Iniciales'!E132=datos!$I$2,datos!$J$2,(IF('Datos Iniciales'!E132=datos!$I$3,datos!$J$3,(IF('Datos Iniciales'!E132=datos!$I$4,datos!$J$4,(IF('Datos Iniciales'!E132=datos!$I$5,datos!$J$5,(IF('Datos Iniciales'!E132=datos!$I$6,datos!$J$6,(IF('Datos Iniciales'!E132=datos!$I$7,datos!$J$7,(IF('Datos Iniciales'!E132=datos!$I$2,datos!$J$2,(IF('Datos Iniciales'!E132=datos!$I$8,datos!$J$8,(IF('Datos Iniciales'!E132=datos!$I$9,datos!$J$9,(IF('Datos Iniciales'!E132=datos!$I$10,datos!$J$10,(IF('Datos Iniciales'!E132=datos!$I$11,datos!$J$11,(IF('Datos Iniciales'!E132=datos!$I$12,datos!$J$12,(IF('Datos Iniciales'!E132=datos!$I$13,datos!$J$13,(IF('Datos Iniciales'!E132=datos!$I$14,datos!$J$14,(IF('Datos Iniciales'!E132=datos!$I$15,datos!$J$15,\"\")))))))))))))))))))))))))))))","v":""},{"$f":"IF('Datos Iniciales'!F132=\"\",\"\",'Datos Iniciales'!F132)","v":""},{"$f":"IFERROR(datos!B131,\"\")","v":""},null,null,null,null,{"$f":"IF('Datos Iniciales'!H132=\"\",\"\",'Datos Iniciales'!H132)","v":""},{"$f":"IF('Datos Iniciales'!I132=\"\",\"\",datos!$K$2)","v":""},{"$f":"IFERROR(VLOOKUP('Datos Iniciales'!J132,datos!O130:P1249,2,FALSE),\"\")","v":""},null,{"$f":"IF('Datos Iniciales'!K132=\"\",\"\",(CONCATENATE(RIGHT('Datos Iniciales'!K132,1),\"-\",'Datos Iniciales'!L132,\"-\",'Datos Iniciales'!M132)))","v":""},null,null,null,{"$f":"IF('Datos Iniciales'!N132=\"\",\"\",'Datos Iniciales'!N132)","v":""},{"$f":"IF('Datos Iniciales'!O132=\"\",\"\",'Datos Iniciales'!O132)","v":""},null,null,null,null,{"$f":"IF('Datos Iniciales'!P132=\"\",\"\",'Datos Iniciales'!P132)","v":""},null,null,null,null,null,null,null,null,null,null,null,null,{"$f":"IF('Datos Iniciales'!B132=\"\",\"\",(IF('Datos Iniciales'!B132=\"Si\",\"002\",\"003\")))","v":""},null,{"$f":"IF('Datos Iniciales'!Q132=\"\",\"\",(IF('Datos Iniciales'!Q132=datos!S131,\"0\",\"2\")))","v":""},{"$f":"IF('Datos Iniciales'!B132=\"\",\"\",(IF('Datos Iniciales'!B132=\"Si\",\"O-48\",\"O-49\")))","v":""}]
[{"$f":"IF('Datos Iniciales'!B133=\"\",\"\",\"Si\")","v":""},{"$f":"(IF('Datos Iniciales'!A133=\"Cliente\",\"Si\",(IF('Datos Iniciales'!A133=\"\",\"\",\"No\"))))","v":""},{"$f":"(IF('Datos Iniciales'!A133=\"Distribuidor\",\"Si\",(IF('Datos Iniciales'!A133=\"\",\"\",\"No\"))))","v":""},{"$f":"(IF('Datos Iniciales'!A133=\"Otros\",\"Si\",(IF('Datos Iniciales'!A133=\"\",\"\",\"No\"))))","v":""},{"$f":"(IF('Datos Iniciales'!A133=\"Prospecto\",\"Si\",(IF('Datos Iniciales'!A133=\"\",\"\",\"No\"))))","v":""},{"$f":"(IF('Datos Iniciales'!A133=\"Proveedor\",\"Si\",(IF('Datos Iniciales'!A133=\"\",\"\",\"No\"))))","v":""},{"$f":"IF('Datos Iniciales'!B133=\"\",\"\",'Datos Iniciales'!B133)","v":""},{"$f":"IF('Datos Iniciales'!C133=\"\",\"\",'Datos Iniciales'!C133)","v":""},{"$f":"IF('Datos Iniciales'!D133=\"\",\"\",'Datos Iniciales'!D133)","v":""},{"$f":"IF('Datos Iniciales'!E133=datos!$I$2,datos!$J$2,(IF('Datos Iniciales'!E133=datos!$I$3,datos!$J$3,(IF('Datos Iniciales'!E133=datos!$I$4,datos!$J$4,(IF('Datos Iniciales'!E133=datos!$I$5,datos!$J$5,(IF('Datos Iniciales'!E133=datos!$I$6,datos!$J$6,(IF('Datos Iniciales'!E133=datos!$I$7,datos!$J$7,(IF('Datos Iniciales'!E133=datos!$I$2,datos!$J$2,(IF('Datos Iniciales'!E133=datos!$I$8,datos!$J$8,(IF('Datos Iniciales'!E133=datos!$I$9,datos!$J$9,(IF('Datos Iniciales'!E133=datos!$I$10,datos!$J$10,(IF('Datos Iniciales'!E133=datos!$I$11,datos!$J$11,(IF('Datos Iniciales'!E133=datos!$I$12,datos!$J$12,(IF('Datos Iniciales'!E133=datos!$I$13,datos!$J$13,(IF('Datos Iniciales'!E133=datos!$I$14,datos!$J$14,(IF('Datos Iniciales'!E133=datos!$I$15,datos!$J$15,\"\")))))))))))))))))))))))))))))","v":""},{"$f":"IF('Datos Iniciales'!F133=\"\",\"\",'Datos Iniciales'!F133)","v":""},{"$f":"IFERROR(datos!B132,\"\")","v":""},null,null,null,null,{"$f":"IF('Datos Iniciales'!H133=\"\",\"\",'Datos Iniciales'!H133)","v":""},{"$f":"IF('Datos Iniciales'!I133=\"\",\"\",datos!$K$2)","v":""},{"$f":"IFERROR(VLOOKUP('Datos Iniciales'!J133,datos!O131:P1250,2,FALSE),\"\")","v":""},null,{"$f":"IF('Datos Iniciales'!K133=\"\",\"\",(CONCATENATE(RIGHT('Datos Iniciales'!K133,1),\"-\",'Datos Iniciales'!L133,\"-\",'Datos Iniciales'!M133)))","v":""},null,null,null,{"$f":"IF('Datos Iniciales'!N133=\"\",\"\",'Datos Iniciales'!N133)","v":""},{"$f":"IF('Datos Iniciales'!O133=\"\",\"\",'Datos Iniciales'!O133)","v":""},null,null,null,null,{"$f":"IF('Datos Iniciales'!P133=\"\",\"\",'Datos Iniciales'!P133)","v":""},null,null,null,null,null,null,null,null,null,null,null,null,{"$f":"IF('Datos Iniciales'!B133=\"\",\"\",(IF('Datos Iniciales'!B133=\"Si\",\"002\",\"003\")))","v":""},null,{"$f":"IF('Datos Iniciales'!Q133=\"\",\"\",(IF('Datos Iniciales'!Q133=datos!S132,\"0\",\"2\")))","v":""},{"$f":"IF('Datos Iniciales'!B133=\"\",\"\",(IF('Datos Iniciales'!B133=\"Si\",\"O-48\",\"O-49\")))","v":""}]
[{"$f":"IF('Datos Iniciales'!B134=\"\",\"\",\"Si\")","v":""},{"$f":"(IF('Datos Iniciales'!A134=\"Cliente\",\"Si\",(IF('Datos Iniciales'!A134=\"\",\"\",\"No\"))))","v":""},{"$f":"(IF('Datos Iniciales'!A134=\"Distribuidor\",\"Si\",(IF('Datos Iniciales'!A134=\"\",\"\",\"No\"))))","v":""},{"$f":"(IF('Datos Iniciales'!A134=\"Otros\",\"Si\",(IF('Datos Iniciales'!A134=\"\",\"\",\"No\"))))","v":""},{"$f":"(IF('Datos Iniciales'!A134=\"Prospecto\",\"Si\",(IF('Datos Iniciales'!A134=\"\",\"\",\"No\"))))","v":""},{"$f":"(IF('Datos Iniciales'!A134=\"Proveedor\",\"Si\",(IF('Datos Iniciales'!A134=\"\",\"\",\"No\"))))","v":""},{"$f":"IF('Datos Iniciales'!B134=\"\",\"\",'Datos Iniciales'!B134)","v":""},{"$f":"IF('Datos Iniciales'!C134=\"\",\"\",'Datos Iniciales'!C134)","v":""},{"$f":"IF('Datos Iniciales'!D134=\"\",\"\",'Datos Iniciales'!D134)","v":""},{"$f":"IF('Datos Iniciales'!E134=datos!$I$2,datos!$J$2,(IF('Datos Iniciales'!E134=datos!$I$3,datos!$J$3,(IF('Datos Iniciales'!E134=datos!$I$4,datos!$J$4,(IF('Datos Iniciales'!E134=datos!$I$5,datos!$J$5,(IF('Datos Iniciales'!E134=datos!$I$6,datos!$J$6,(IF('Datos Iniciales'!E134=datos!$I$7,datos!$J$7,(IF('Datos Iniciales'!E134=datos!$I$2,datos!$J$2,(IF('Datos Iniciales'!E134=datos!$I$8,datos!$J$8,(IF('Datos Iniciales'!E134=datos!$I$9,datos!$J$9,(IF('Datos Iniciales'!E134=datos!$I$10,datos!$J$10,(IF('Datos Iniciales'!E134=datos!$I$11,datos!$J$11,(IF('Datos Iniciales'!E134=datos!$I$12,datos!$J$12,(IF('Datos Iniciales'!E134=datos!$I$13,datos!$J$13,(IF('Datos Iniciales'!E134=datos!$I$14,datos!$J$14,(IF('Datos Iniciales'!E134=datos!$I$15,datos!$J$15,\"\")))))))))))))))))))))))))))))","v":""},{"$f":"IF('Datos Iniciales'!F134=\"\",\"\",'Datos Iniciales'!F134)","v":""},{"$f":"IFERROR(datos!B133,\"\")","v":""},null,null,null,null,{"$f":"IF('Datos Iniciales'!H134=\"\",\"\",'Datos Iniciales'!H134)","v":""},{"$f":"IF('Datos Iniciales'!I134=\"\",\"\",datos!$K$2)","v":""},{"$f":"IFERROR(VLOOKUP('Datos Iniciales'!J134,datos!O132:P1251,2,FALSE),\"\")","v":""},null,{"$f":"IF('Datos Iniciales'!K134=\"\",\"\",(CONCATENATE(RIGHT('Datos Iniciales'!K134,1),\"-\",'Datos Iniciales'!L134,\"-\",'Datos Iniciales'!M134)))","v":""},null,null,null,{"$f":"IF('Datos Iniciales'!N134=\"\",\"\",'Datos Iniciales'!N134)","v":""},{"$f":"IF('Datos Iniciales'!O134=\"\",\"\",'Datos Iniciales'!O134)","v":""},null,null,null,null,{"$f":"IF('Datos Iniciales'!P134=\"\",\"\",'Datos Iniciales'!P134)","v":""},null,null,null,null,null,null,null,null,null,null,null,null,{"$f":"IF('Datos Iniciales'!B134=\"\",\"\",(IF('Datos Iniciales'!B134=\"Si\",\"002\",\"003\")))","v":""},null,{"$f":"IF('Datos Iniciales'!Q134=\"\",\"\",(IF('Datos Iniciales'!Q134=datos!S133,\"0\",\"2\")))","v":""},{"$f":"IF('Datos Iniciales'!B134=\"\",\"\",(IF('Datos Iniciales'!B134=\"Si\",\"O-48\",\"O-49\")))","v":""}]
[{"$f":"IF('Datos Iniciales'!B135=\"\",\"\",\"Si\")","v":""},{"$f":"(IF('Datos Iniciales'!A135=\"Cliente\",\"Si\",(IF('Datos Iniciales'!A135=\"\",\"\",\"No\"))))","v":""},{"$f":"(IF('Datos Iniciales'!A135=\"Distribuidor\",\"Si\",(IF('Datos Iniciales'!A135=\"\",\"\",\"No\"))))","v":""},{"$f":"(IF('Datos Iniciales'!A135=\"Otros\",\"Si\",(IF('Datos Iniciales'!A135=\"\",\"\",\"No\"))))","v":""},{"$f":"(IF('Datos Iniciales'!A135=\"Prospecto\",\"Si\",(IF('Datos Iniciales'!A135=\"\",\"\",\"No\"))))","v":""},{"$f":"(IF('Datos Iniciales'!A135=\"Proveedor\",\"Si\",(IF('Datos Iniciales'!A135=\"\",\"\",\"No\"))))","v":""},{"$f":"IF('Datos Iniciales'!B135=\"\",\"\",'Datos Iniciales'!B135)","v":""},{"$f":"IF('Datos Iniciales'!C135=\"\",\"\",'Datos Iniciales'!C135)","v":""},{"$f":"IF('Datos Iniciales'!D135=\"\",\"\",'Datos Iniciales'!D135)","v":""},{"$f":"IF('Datos Iniciales'!E135=datos!$I$2,datos!$J$2,(IF('Datos Iniciales'!E135=datos!$I$3,datos!$J$3,(IF('Datos Iniciales'!E135=datos!$I$4,datos!$J$4,(IF('Datos Iniciales'!E135=datos!$I$5,datos!$J$5,(IF('Datos Iniciales'!E135=datos!$I$6,datos!$J$6,(IF('Datos Iniciales'!E135=datos!$I$7,datos!$J$7,(IF('Datos Iniciales'!E135=datos!$I$2,datos!$J$2,(IF('Datos Iniciales'!E135=datos!$I$8,datos!$J$8,(IF('Datos Iniciales'!E135=datos!$I$9,datos!$J$9,(IF('Datos Iniciales'!E135=datos!$I$10,datos!$J$10,(IF('Datos Iniciales'!E135=datos!$I$11,datos!$J$11,(IF('Datos Iniciales'!E135=datos!$I$12,datos!$J$12,(IF('Datos Iniciales'!E135=datos!$I$13,datos!$J$13,(IF('Datos Iniciales'!E135=datos!$I$14,datos!$J$14,(IF('Datos Iniciales'!E135=datos!$I$15,datos!$J$15,\"\")))))))))))))))))))))))))))))","v":""},{"$f":"IF('Datos Iniciales'!F135=\"\",\"\",'Datos Iniciales'!F135)","v":""},{"$f":"IFERROR(datos!B134,\"\")","v":""},null,null,null,null,{"$f":"IF('Datos Iniciales'!H135=\"\",\"\",'Datos Iniciales'!H135)","v":""},{"$f":"IF('Datos Iniciales'!I135=\"\",\"\",datos!$K$2)","v":""},{"$f":"IFERROR(VLOOKUP('Datos Iniciales'!J135,datos!O133:P1252,2,FALSE),\"\")","v":""},null,{"$f":"IF('Datos Iniciales'!K135=\"\",\"\",(CONCATENATE(RIGHT('Datos Iniciales'!K135,1),\"-\",'Datos Iniciales'!L135,\"-\",'Datos Iniciales'!M135)))","v":""},null,null,null,{"$f":"IF('Datos Iniciales'!N135=\"\",\"\",'Datos Iniciales'!N135)","v":""},{"$f":"IF('Datos Iniciales'!O135=\"\",\"\",'Datos Iniciales'!O135)","v":""},null,null,null,null,{"$f":"IF('Datos Iniciales'!P135=\"\",\"\",'Datos Iniciales'!P135)","v":""},null,null,null,null,null,null,null,null,null,null,null,null,{"$f":"IF('Datos Iniciales'!B135=\"\",\"\",(IF('Datos Iniciales'!B135=\"Si\",\"002\",\"003\")))","v":""},null,{"$f":"IF('Datos Iniciales'!Q135=\"\",\"\",(IF('Datos Iniciales'!Q135=datos!S134,\"0\",\"2\")))","v":""},{"$f":"IF('Datos Iniciales'!B135=\"\",\"\",(IF('Datos Iniciales'!B135=\"Si\",\"O-48\",\"O-49\")))","v":""}]
[{"$f":"IF('Datos Iniciales'!B136=\"\",\"\",\"Si\")","v":""},{"$f":"(IF('Datos Iniciales'!A136=\"Cliente\",\"Si\",(IF('Datos Iniciales'!A136=\"\",\"\",\"No\"))))","v":""},{"$f":"(IF('Datos Iniciales'!A136=\"Distribuidor\",\"Si\",(IF('Datos Iniciales'!A136=\"\",\"\",\"No\"))))","v":""},{"$f":"(IF('Datos Iniciales'!A136=\"Otros\",\"Si\",(IF('Datos Iniciales'!A136=\"\",\"\",\"No\"))))","v":""},{"$f":"(IF('Datos Iniciales'!A136=\"Prospecto\",\"Si\",(IF('Datos Iniciales'!A136=\"\",\"\",\"No\"))))","v":""},{"$f":"(IF('Datos Iniciales'!A136=\"Proveedor\",\"Si\",(IF('Datos Iniciales'!A136=\"\",\"\",\"No\"))))","v":""},{"$f":"IF('Datos Iniciales'!B136=\"\",\"\",'Datos Iniciales'!B136)","v":""},{"$f":"IF('Datos Iniciales'!C136=\"\",\"\",'Datos Iniciales'!C136)","v":""},{"$f":"IF('Datos Iniciales'!D136=\"\",\"\",'Datos Iniciales'!D136)","v":""},{"$f":"IF('Datos Iniciales'!E136=datos!$I$2,datos!$J$2,(IF('Datos Iniciales'!E136=datos!$I$3,datos!$J$3,(IF('Datos Iniciales'!E136=datos!$I$4,datos!$J$4,(IF('Datos Iniciales'!E136=datos!$I$5,datos!$J$5,(IF('Datos Iniciales'!E136=datos!$I$6,datos!$J$6,(IF('Datos Iniciales'!E136=datos!$I$7,datos!$J$7,(IF('Datos Iniciales'!E136=datos!$I$2,datos!$J$2,(IF('Datos Iniciales'!E136=datos!$I$8,datos!$J$8,(IF('Datos Iniciales'!E136=datos!$I$9,datos!$J$9,(IF('Datos Iniciales'!E136=datos!$I$10,datos!$J$10,(IF('Datos Iniciales'!E136=datos!$I$11,datos!$J$11,(IF('Datos Iniciales'!E136=datos!$I$12,datos!$J$12,(IF('Datos Iniciales'!E136=datos!$I$13,datos!$J$13,(IF('Datos Iniciales'!E136=datos!$I$14,datos!$J$14,(IF('Datos Iniciales'!E136=datos!$I$15,datos!$J$15,\"\")))))))))))))))))))))))))))))","v":""},{"$f":"IF('Datos Iniciales'!F136=\"\",\"\",'Datos Iniciales'!F136)","v":""},{"$f":"IFERROR(datos!B135,\"\")","v":""},null,null,null,null,{"$f":"IF('Datos Iniciales'!H136=\"\",\"\",'Datos Iniciales'!H136)","v":""},{"$f":"IF('Datos Iniciales'!I136=\"\",\"\",datos!$K$2)","v":""},{"$f":"IFERROR(VLOOKUP('Datos Iniciales'!J136,datos!O134:P1253,2,FALSE),\"\")","v":""},null,{"$f":"IF('Datos Iniciales'!K136=\"\",\"\",(CONCATENATE(RIGHT('Datos Iniciales'!K136,1),\"-\",'Datos Iniciales'!L136,\"-\",'Datos Iniciales'!M136)))","v":""},null,null,null,{"$f":"IF('Datos Iniciales'!N136=\"\",\"\",'Datos Iniciales'!N136)","v":""},{"$f":"IF('Datos Iniciales'!O136=\"\",\"\",'Datos Iniciales'!O136)","v":""},null,null,null,null,{"$f":"IF('Datos Iniciales'!P136=\"\",\"\",'Datos Iniciales'!P136)","v":""},null,null,null,null,null,null,null,null,null,null,null,null,{"$f":"IF('Datos Iniciales'!B136=\"\",\"\",(IF('Datos Iniciales'!B136=\"Si\",\"002\",\"003\")))","v":""},null,{"$f":"IF('Datos Iniciales'!Q136=\"\",\"\",(IF('Datos Iniciales'!Q136=datos!S135,\"0\",\"2\")))","v":""},{"$f":"IF('Datos Iniciales'!B136=\"\",\"\",(IF('Datos Iniciales'!B136=\"Si\",\"O-48\",\"O-49\")))","v":""}]
[{"$f":"IF('Datos Iniciales'!B137=\"\",\"\",\"Si\")","v":""},{"$f":"(IF('Datos Iniciales'!A137=\"Cliente\",\"Si\",(IF('Datos Iniciales'!A137=\"\",\"\",\"No\"))))","v":""},{"$f":"(IF('Datos Iniciales'!A137=\"Distribuidor\",\"Si\",(IF('Datos Iniciales'!A137=\"\",\"\",\"No\"))))","v":""},{"$f":"(IF('Datos Iniciales'!A137=\"Otros\",\"Si\",(IF('Datos Iniciales'!A137=\"\",\"\",\"No\"))))","v":""},{"$f":"(IF('Datos Iniciales'!A137=\"Prospecto\",\"Si\",(IF('Datos Iniciales'!A137=\"\",\"\",\"No\"))))","v":""},{"$f":"(IF('Datos Iniciales'!A137=\"Proveedor\",\"Si\",(IF('Datos Iniciales'!A137=\"\",\"\",\"No\"))))","v":""},{"$f":"IF('Datos Iniciales'!B137=\"\",\"\",'Datos Iniciales'!B137)","v":""},{"$f":"IF('Datos Iniciales'!C137=\"\",\"\",'Datos Iniciales'!C137)","v":""},{"$f":"IF('Datos Iniciales'!D137=\"\",\"\",'Datos Iniciales'!D137)","v":""},{"$f":"IF('Datos Iniciales'!E137=datos!$I$2,datos!$J$2,(IF('Datos Iniciales'!E137=datos!$I$3,datos!$J$3,(IF('Datos Iniciales'!E137=datos!$I$4,datos!$J$4,(IF('Datos Iniciales'!E137=datos!$I$5,datos!$J$5,(IF('Datos Iniciales'!E137=datos!$I$6,datos!$J$6,(IF('Datos Iniciales'!E137=datos!$I$7,datos!$J$7,(IF('Datos Iniciales'!E137=datos!$I$2,datos!$J$2,(IF('Datos Iniciales'!E137=datos!$I$8,datos!$J$8,(IF('Datos Iniciales'!E137=datos!$I$9,datos!$J$9,(IF('Datos Iniciales'!E137=datos!$I$10,datos!$J$10,(IF('Datos Iniciales'!E137=datos!$I$11,datos!$J$11,(IF('Datos Iniciales'!E137=datos!$I$12,datos!$J$12,(IF('Datos Iniciales'!E137=datos!$I$13,datos!$J$13,(IF('Datos Iniciales'!E137=datos!$I$14,datos!$J$14,(IF('Datos Iniciales'!E137=datos!$I$15,datos!$J$15,\"\")))))))))))))))))))))))))))))","v":""},{"$f":"IF('Datos Iniciales'!F137=\"\",\"\",'Datos Iniciales'!F137)","v":""},{"$f":"IFERROR(datos!B136,\"\")","v":""},null,null,null,null,{"$f":"IF('Datos Iniciales'!H137=\"\",\"\",'Datos Iniciales'!H137)","v":""},{"$f":"IF('Datos Iniciales'!I137=\"\",\"\",datos!$K$2)","v":""},{"$f":"IFERROR(VLOOKUP('Datos Iniciales'!J137,datos!O135:P1254,2,FALSE),\"\")","v":""},null,{"$f":"IF('Datos Iniciales'!K137=\"\",\"\",(CONCATENATE(RIGHT('Datos Iniciales'!K137,1),\"-\",'Datos Iniciales'!L137,\"-\",'Datos Iniciales'!M137)))","v":""},null,null,null,{"$f":"IF('Datos Iniciales'!N137=\"\",\"\",'Datos Iniciales'!N137)","v":""},{"$f":"IF('Datos Iniciales'!O137=\"\",\"\",'Datos Iniciales'!O137)","v":""},null,null,null,null,{"$f":"IF('Datos Iniciales'!P137=\"\",\"\",'Datos Iniciales'!P137)","v":""},null,null,null,null,null,null,null,null,null,null,null,null,{"$f":"IF('Datos Iniciales'!B137=\"\",\"\",(IF('Datos Iniciales'!B137=\"Si\",\"002\",\"003\")))","v":""},null,{"$f":"IF('Datos Iniciales'!Q137=\"\",\"\",(IF('Datos Iniciales'!Q137=datos!S136,\"0\",\"2\")))","v":""},{"$f":"IF('Datos Iniciales'!B137=\"\",\"\",(IF('Datos Iniciales'!B137=\"Si\",\"O-48\",\"O-49\")))","v":""}]
[{"$f":"IF('Datos Iniciales'!B138=\"\",\"\",\"Si\")","v":""},{"$f":"(IF('Datos Iniciales'!A138=\"Cliente\",\"Si\",(IF('Datos Iniciales'!A138=\"\",\"\",\"No\"))))","v":""},{"$f":"(IF('Datos Iniciales'!A138=\"Distribuidor\",\"Si\",(IF('Datos Iniciales'!A138=\"\",\"\",\"No\"))))","v":""},{"$f":"(IF('Datos Iniciales'!A138=\"Otros\",\"Si\",(IF('Datos Iniciales'!A138=\"\",\"\",\"No\"))))","v":""},{"$f":"(IF('Datos Iniciales'!A138=\"Prospecto\",\"Si\",(IF('Datos Iniciales'!A138=\"\",\"\",\"No\"))))","v":""},{"$f":"(IF('Datos Iniciales'!A138=\"Proveedor\",\"Si\",(IF('Datos Iniciales'!A138=\"\",\"\",\"No\"))))","v":""},{"$f":"IF('Datos Iniciales'!B138=\"\",\"\",'Datos Iniciales'!B138)","v":""},{"$f":"IF('Datos Iniciales'!C138=\"\",\"\",'Datos Iniciales'!C138)","v":""},{"$f":"IF('Datos Iniciales'!D138=\"\",\"\",'Datos Iniciales'!D138)","v":""},{"$f":"IF('Datos Iniciales'!E138=datos!$I$2,datos!$J$2,(IF('Datos Iniciales'!E138=datos!$I$3,datos!$J$3,(IF('Datos Iniciales'!E138=datos!$I$4,datos!$J$4,(IF('Datos Iniciales'!E138=datos!$I$5,datos!$J$5,(IF('Datos Iniciales'!E138=datos!$I$6,datos!$J$6,(IF('Datos Iniciales'!E138=datos!$I$7,datos!$J$7,(IF('Datos Iniciales'!E138=datos!$I$2,datos!$J$2,(IF('Datos Iniciales'!E138=datos!$I$8,datos!$J$8,(IF('Datos Iniciales'!E138=datos!$I$9,datos!$J$9,(IF('Datos Iniciales'!E138=datos!$I$10,datos!$J$10,(IF('Datos Iniciales'!E138=datos!$I$11,datos!$J$11,(IF('Datos Iniciales'!E138=datos!$I$12,datos!$J$12,(IF('Datos Iniciales'!E138=datos!$I$13,datos!$J$13,(IF('Datos Iniciales'!E138=datos!$I$14,datos!$J$14,(IF('Datos Iniciales'!E138=datos!$I$15,datos!$J$15,\"\")))))))))))))))))))))))))))))","v":""},{"$f":"IF('Datos Iniciales'!F138=\"\",\"\",'Datos Iniciales'!F138)","v":""},{"$f":"IFERROR(datos!B137,\"\")","v":""},null,null,null,null,{"$f":"IF('Datos Iniciales'!H138=\"\",\"\",'Datos Iniciales'!H138)","v":""},{"$f":"IF('Datos Iniciales'!I138=\"\",\"\",datos!$K$2)","v":""},{"$f":"IFERROR(VLOOKUP('Datos Iniciales'!J138,datos!O136:P1255,2,FALSE),\"\")","v":""},null,{"$f":"IF('Datos Iniciales'!K138=\"\",\"\",(CONCATENATE(RIGHT('Datos Iniciales'!K138,1),\"-\",'Datos Iniciales'!L138,\"-\",'Datos Iniciales'!M138)))","v":""},null,null,null,{"$f":"IF('Datos Iniciales'!N138=\"\",\"\",'Datos Iniciales'!N138)","v":""},{"$f":"IF('Datos Iniciales'!O138=\"\",\"\",'Datos Iniciales'!O138)","v":""},null,null,null,null,{"$f":"IF('Datos Iniciales'!P138=\"\",\"\",'Datos Iniciales'!P138)","v":""},null,null,null,null,null,null,null,null,null,null,null,null,{"$f":"IF('Datos Iniciales'!B138=\"\",\"\",(IF('Datos Iniciales'!B138=\"Si\",\"002\",\"003\")))","v":""},null,{"$f":"IF('Datos Iniciales'!Q138=\"\",\"\",(IF('Datos Iniciales'!Q138=datos!S137,\"0\",\"2\")))","v":""},{"$f":"IF('Datos Iniciales'!B138=\"\",\"\",(IF('Datos Iniciales'!B138=\"Si\",\"O-48\",\"O-49\")))","v":""}]
[{"$f":"IF('Datos Iniciales'!B139=\"\",\"\",\"Si\")","v":""},{"$f":"(IF('Datos Iniciales'!A139=\"Cliente\",\"Si\",(IF('Datos Iniciales'!A139=\"\",\"\",\"No\"))))","v":""},{"$f":"(IF('Datos Iniciales'!A139=\"Distribuidor\",\"Si\",(IF('Datos Iniciales'!A139=\"\",\"\",\"No\"))))","v":""},{"$f":"(IF('Datos Iniciales'!A139=\"Otros\",\"Si\",(IF('Datos Iniciales'!A139=\"\",\"\",\"No\"))))","v":""},{"$f":"(IF('Datos Iniciales'!A139=\"Prospecto\",\"Si\",(IF('Datos Iniciales'!A139=\"\",\"\",\"No\"))))","v":""},{"$f":"(IF('Datos Iniciales'!A139=\"Proveedor\",\"Si\",(IF('Datos Iniciales'!A139=\"\",\"\",\"No\"))))","v":""},{"$f":"IF('Datos Iniciales'!B139=\"\",\"\",'Datos Iniciales'!B139)","v":""},{"$f":"IF('Datos Iniciales'!C139=\"\",\"\",'Datos Iniciales'!C139)","v":""},{"$f":"IF('Datos Iniciales'!D139=\"\",\"\",'Datos Iniciales'!D139)","v":""},{"$f":"IF('Datos Iniciales'!E139=datos!$I$2,datos!$J$2,(IF('Datos Iniciales'!E139=datos!$I$3,datos!$J$3,(IF('Datos Iniciales'!E139=datos!$I$4,datos!$J$4,(IF('Datos Iniciales'!E139=datos!$I$5,datos!$J$5,(IF('Datos Iniciales'!E139=datos!$I$6,datos!$J$6,(IF('Datos Iniciales'!E139=datos!$I$7,datos!$J$7,(IF('Datos Iniciales'!E139=datos!$I$2,datos!$J$2,(IF('Datos Iniciales'!E139=datos!$I$8,datos!$J$8,(IF('Datos Iniciales'!E139=datos!$I$9,datos!$J$9,(IF('Datos Iniciales'!E139=datos!$I$10,datos!$J$10,(IF('Datos Iniciales'!E139=datos!$I$11,datos!$J$11,(IF('Datos Iniciales'!E139=datos!$I$12,datos!$J$12,(IF('Datos Iniciales'!E139=datos!$I$13,datos!$J$13,(IF('Datos Iniciales'!E139=datos!$I$14,datos!$J$14,(IF('Datos Iniciales'!E139=datos!$I$15,datos!$J$15,\"\")))))))))))))))))))))))))))))","v":""},{"$f":"IF('Datos Iniciales'!F139=\"\",\"\",'Datos Iniciales'!F139)","v":""},{"$f":"IFERROR(datos!B138,\"\")","v":""},null,null,null,null,{"$f":"IF('Datos Iniciales'!H139=\"\",\"\",'Datos Iniciales'!H139)","v":""},{"$f":"IF('Datos Iniciales'!I139=\"\",\"\",datos!$K$2)","v":""},{"$f":"IFERROR(VLOOKUP('Datos Iniciales'!J139,datos!O137:P1256,2,FALSE),\"\")","v":""},null,{"$f":"IF('Datos Iniciales'!K139=\"\",\"\",(CONCATENATE(RIGHT('Datos Iniciales'!K139,1),\"-\",'Datos Iniciales'!L139,\"-\",'Datos Iniciales'!M139)))","v":""},null,null,null,{"$f":"IF('Datos Iniciales'!N139=\"\",\"\",'Datos Iniciales'!N139)","v":""},{"$f":"IF('Datos Iniciales'!O139=\"\",\"\",'Datos Iniciales'!O139)","v":""},null,null,null,null,{"$f":"IF('Datos Iniciales'!P139=\"\",\"\",'Datos Iniciales'!P139)","v":""},null,null,null,null,null,null,null,null,null,null,null,null,{"$f":"IF('Datos Iniciales'!B139=\"\",\"\",(IF('Datos Iniciales'!B139=\"Si\",\"002\",\"003\")))","v":""},null,{"$f":"IF('Datos Iniciales'!Q139=\"\",\"\",(IF('Datos Iniciales'!Q139=datos!S138,\"0\",\"2\")))","v":""},{"$f":"IF('Datos Iniciales'!B139=\"\",\"\",(IF('Datos Iniciales'!B139=\"Si\",\"O-48\",\"O-49\")))","v":""}]
[{"$f":"IF('Datos Iniciales'!B140=\"\",\"\",\"Si\")","v":""},{"$f":"(IF('Datos Iniciales'!A140=\"Cliente\",\"Si\",(IF('Datos Iniciales'!A140=\"\",\"\",\"No\"))))","v":""},{"$f":"(IF('Datos Iniciales'!A140=\"Distribuidor\",\"Si\",(IF('Datos Iniciales'!A140=\"\",\"\",\"No\"))))","v":""},{"$f":"(IF('Datos Iniciales'!A140=\"Otros\",\"Si\",(IF('Datos Iniciales'!A140=\"\",\"\",\"No\"))))","v":""},{"$f":"(IF('Datos Iniciales'!A140=\"Prospecto\",\"Si\",(IF('Datos Iniciales'!A140=\"\",\"\",\"No\"))))","v":""},{"$f":"(IF('Datos Iniciales'!A140=\"Proveedor\",\"Si\",(IF('Datos Iniciales'!A140=\"\",\"\",\"No\"))))","v":""},{"$f":"IF('Datos Iniciales'!B140=\"\",\"\",'Datos Iniciales'!B140)","v":""},{"$f":"IF('Datos Iniciales'!C140=\"\",\"\",'Datos Iniciales'!C140)","v":""},{"$f":"IF('Datos Iniciales'!D140=\"\",\"\",'Datos Iniciales'!D140)","v":""},{"$f":"IF('Datos Iniciales'!E140=datos!$I$2,datos!$J$2,(IF('Datos Iniciales'!E140=datos!$I$3,datos!$J$3,(IF('Datos Iniciales'!E140=datos!$I$4,datos!$J$4,(IF('Datos Iniciales'!E140=datos!$I$5,datos!$J$5,(IF('Datos Iniciales'!E140=datos!$I$6,datos!$J$6,(IF('Datos Iniciales'!E140=datos!$I$7,datos!$J$7,(IF('Datos Iniciales'!E140=datos!$I$2,datos!$J$2,(IF('Datos Iniciales'!E140=datos!$I$8,datos!$J$8,(IF('Datos Iniciales'!E140=datos!$I$9,datos!$J$9,(IF('Datos Iniciales'!E140=datos!$I$10,datos!$J$10,(IF('Datos Iniciales'!E140=datos!$I$11,datos!$J$11,(IF('Datos Iniciales'!E140=datos!$I$12,datos!$J$12,(IF('Datos Iniciales'!E140=datos!$I$13,datos!$J$13,(IF('Datos Iniciales'!E140=datos!$I$14,datos!$J$14,(IF('Datos Iniciales'!E140=datos!$I$15,datos!$J$15,\"\")))))))))))))))))))))))))))))","v":""},{"$f":"IF('Datos Iniciales'!F140=\"\",\"\",'Datos Iniciales'!F140)","v":""},{"$f":"IFERROR(datos!B139,\"\")","v":""},null,null,null,null,{"$f":"IF('Datos Iniciales'!H140=\"\",\"\",'Datos Iniciales'!H140)","v":""},{"$f":"IF('Datos Iniciales'!I140=\"\",\"\",datos!$K$2)","v":""},{"$f":"IFERROR(VLOOKUP('Datos Iniciales'!J140,datos!O138:P1257,2,FALSE),\"\")","v":""},null,{"$f":"IF('Datos Iniciales'!K140=\"\",\"\",(CONCATENATE(RIGHT('Datos Iniciales'!K140,1),\"-\",'Datos Iniciales'!L140,\"-\",'Datos Iniciales'!M140)))","v":""},null,null,null,{"$f":"IF('Datos Iniciales'!N140=\"\",\"\",'Datos Iniciales'!N140)","v":""},{"$f":"IF('Datos Iniciales'!O140=\"\",\"\",'Datos Iniciales'!O140)","v":""},null,null,null,null,{"$f":"IF('Datos Iniciales'!P140=\"\",\"\",'Datos Iniciales'!P140)","v":""},null,null,null,null,null,null,null,null,null,null,null,null,{"$f":"IF('Datos Iniciales'!B140=\"\",\"\",(IF('Datos Iniciales'!B140=\"Si\",\"002\",\"003\")))","v":""},null,{"$f":"IF('Datos Iniciales'!Q140=\"\",\"\",(IF('Datos Iniciales'!Q140=datos!S139,\"0\",\"2\")))","v":""},{"$f":"IF('Datos Iniciales'!B140=\"\",\"\",(IF('Datos Iniciales'!B140=\"Si\",\"O-48\",\"O-49\")))","v":""}]
[{"$f":"IF('Datos Iniciales'!B141=\"\",\"\",\"Si\")","v":""},{"$f":"(IF('Datos Iniciales'!A141=\"Cliente\",\"Si\",(IF('Datos Iniciales'!A141=\"\",\"\",\"No\"))))","v":""},{"$f":"(IF('Datos Iniciales'!A141=\"Distribuidor\",\"Si\",(IF('Datos Iniciales'!A141=\"\",\"\",\"No\"))))","v":""},{"$f":"(IF('Datos Iniciales'!A141=\"Otros\",\"Si\",(IF('Datos Iniciales'!A141=\"\",\"\",\"No\"))))","v":""},{"$f":"(IF('Datos Iniciales'!A141=\"Prospecto\",\"Si\",(IF('Datos Iniciales'!A141=\"\",\"\",\"No\"))))","v":""},{"$f":"(IF('Datos Iniciales'!A141=\"Proveedor\",\"Si\",(IF('Datos Iniciales'!A141=\"\",\"\",\"No\"))))","v":""},{"$f":"IF('Datos Iniciales'!B141=\"\",\"\",'Datos Iniciales'!B141)","v":""},{"$f":"IF('Datos Iniciales'!C141=\"\",\"\",'Datos Iniciales'!C141)","v":""},{"$f":"IF('Datos Iniciales'!D141=\"\",\"\",'Datos Iniciales'!D141)","v":""},{"$f":"IF('Datos Iniciales'!E141=datos!$I$2,datos!$J$2,(IF('Datos Iniciales'!E141=datos!$I$3,datos!$J$3,(IF('Datos Iniciales'!E141=datos!$I$4,datos!$J$4,(IF('Datos Iniciales'!E141=datos!$I$5,datos!$J$5,(IF('Datos Iniciales'!E141=datos!$I$6,datos!$J$6,(IF('Datos Iniciales'!E141=datos!$I$7,datos!$J$7,(IF('Datos Iniciales'!E141=datos!$I$2,datos!$J$2,(IF('Datos Iniciales'!E141=datos!$I$8,datos!$J$8,(IF('Datos Iniciales'!E141=datos!$I$9,datos!$J$9,(IF('Datos Iniciales'!E141=datos!$I$10,datos!$J$10,(IF('Datos Iniciales'!E141=datos!$I$11,datos!$J$11,(IF('Datos Iniciales'!E141=datos!$I$12,datos!$J$12,(IF('Datos Iniciales'!E141=datos!$I$13,datos!$J$13,(IF('Datos Iniciales'!E141=datos!$I$14,datos!$J$14,(IF('Datos Iniciales'!E141=datos!$I$15,datos!$J$15,\"\")))))))))))))))))))))))))))))","v":""},{"$f":"IF('Datos Iniciales'!F141=\"\",\"\",'Datos Iniciales'!F141)","v":""},{"$f":"IFERROR(datos!B140,\"\")","v":""},null,null,null,null,{"$f":"IF('Datos Iniciales'!H141=\"\",\"\",'Datos Iniciales'!H141)","v":""},{"$f":"IF('Datos Iniciales'!I141=\"\",\"\",datos!$K$2)","v":""},{"$f":"IFERROR(VLOOKUP('Datos Iniciales'!J141,datos!O139:P1258,2,FALSE),\"\")","v":""},null,{"$f":"IF('Datos Iniciales'!K141=\"\",\"\",(CONCATENATE(RIGHT('Datos Iniciales'!K141,1),\"-\",'Datos Iniciales'!L141,\"-\",'Datos Iniciales'!M141)))","v":""},null,null,null,{"$f":"IF('Datos Iniciales'!N141=\"\",\"\",'Datos Iniciales'!N141)","v":""},{"$f":"IF('Datos Iniciales'!O141=\"\",\"\",'Datos Iniciales'!O141)","v":""},null,null,null,null,{"$f":"IF('Datos Iniciales'!P141=\"\",\"\",'Datos Iniciales'!P141)","v":""},null,null,null,null,null,null,null,null,null,null,null,null,{"$f":"IF('Datos Iniciales'!B141=\"\",\"\",(IF('Datos Iniciales'!B141=\"Si\",\"002\",\"003\")))","v":""},null,{"$f":"IF('Datos Iniciales'!Q141=\"\",\"\",(IF('Datos Iniciales'!Q141=datos!S140,\"0\",\"2\")))","v":""},{"$f":"IF('Datos Iniciales'!B141=\"\",\"\",(IF('Datos Iniciales'!B141=\"Si\",\"O-48\",\"O-49\")))","v":""}]
[{"$f":"IF('Datos Iniciales'!B142=\"\",\"\",\"Si\")","v":""},{"$f":"(IF('Datos Iniciales'!A142=\"Cliente\",\"Si\",(IF('Datos Iniciales'!A142=\"\",\"\",\"No\"))))","v":""},{"$f":"(IF('Datos Iniciales'!A142=\"Distribuidor\",\"Si\",(IF('Datos Iniciales'!A142=\"\",\"\",\"No\"))))","v":""},{"$f":"(IF('Datos Iniciales'!A142=\"Otros\",\"Si\",(IF('Datos Iniciales'!A142=\"\",\"\",\"No\"))))","v":""},{"$f":"(IF('Datos Iniciales'!A142=\"Prospecto\",\"Si\",(IF('Datos Iniciales'!A142=\"\",\"\",\"No\"))))","v":""},{"$f":"(IF('Datos Iniciales'!A142=\"Proveedor\",\"Si\",(IF('Datos Iniciales'!A142=\"\",\"\",\"No\"))))","v":""},{"$f":"IF('Datos Iniciales'!B142=\"\",\"\",'Datos Iniciales'!B142)","v":""},{"$f":"IF('Datos Iniciales'!C142=\"\",\"\",'Datos Iniciales'!C142)","v":""},{"$f":"IF('Datos Iniciales'!D142=\"\",\"\",'Datos Iniciales'!D142)","v":""},{"$f":"IF('Datos Iniciales'!E142=datos!$I$2,datos!$J$2,(IF('Datos Iniciales'!E142=datos!$I$3,datos!$J$3,(IF('Datos Iniciales'!E142=datos!$I$4,datos!$J$4,(IF('Datos Iniciales'!E142=datos!$I$5,datos!$J$5,(IF('Datos Iniciales'!E142=datos!$I$6,datos!$J$6,(IF('Datos Iniciales'!E142=datos!$I$7,datos!$J$7,(IF('Datos Iniciales'!E142=datos!$I$2,datos!$J$2,(IF('Datos Iniciales'!E142=datos!$I$8,datos!$J$8,(IF('Datos Iniciales'!E142=datos!$I$9,datos!$J$9,(IF('Datos Iniciales'!E142=datos!$I$10,datos!$J$10,(IF('Datos Iniciales'!E142=datos!$I$11,datos!$J$11,(IF('Datos Iniciales'!E142=datos!$I$12,datos!$J$12,(IF('Datos Iniciales'!E142=datos!$I$13,datos!$J$13,(IF('Datos Iniciales'!E142=datos!$I$14,datos!$J$14,(IF('Datos Iniciales'!E142=datos!$I$15,datos!$J$15,\"\")))))))))))))))))))))))))))))","v":""},{"$f":"IF('Datos Iniciales'!F142=\"\",\"\",'Datos Iniciales'!F142)","v":""},{"$f":"IFERROR(datos!B141,\"\")","v":""},null,null,null,null,{"$f":"IF('Datos Iniciales'!H142=\"\",\"\",'Datos Iniciales'!H142)","v":""},{"$f":"IF('Datos Iniciales'!I142=\"\",\"\",datos!$K$2)","v":""},{"$f":"IFERROR(VLOOKUP('Datos Iniciales'!J142,datos!O140:P1259,2,FALSE),\"\")","v":""},null,{"$f":"IF('Datos Iniciales'!K142=\"\",\"\",(CONCATENATE(RIGHT('Datos Iniciales'!K142,1),\"-\",'Datos Iniciales'!L142,\"-\",'Datos Iniciales'!M142)))","v":""},null,null,null,{"$f":"IF('Datos Iniciales'!N142=\"\",\"\",'Datos Iniciales'!N142)","v":""},{"$f":"IF('Datos Iniciales'!O142=\"\",\"\",'Datos Iniciales'!O142)","v":""},null,null,null,null,{"$f":"IF('Datos Iniciales'!P142=\"\",\"\",'Datos Iniciales'!P142)","v":""},null,null,null,null,null,null,null,null,null,null,null,null,{"$f":"IF('Datos Iniciales'!B142=\"\",\"\",(IF('Datos Iniciales'!B142=\"Si\",\"002\",\"003\")))","v":""},null,{"$f":"IF('Datos Iniciales'!Q142=\"\",\"\",(IF('Datos Iniciales'!Q142=datos!S141,\"0\",\"2\")))","v":""},{"$f":"IF('Datos Iniciales'!B142=\"\",\"\",(IF('Datos Iniciales'!B142=\"Si\",\"O-48\",\"O-49\")))","v":""}]
[{"$f":"IF('Datos Iniciales'!B143=\"\",\"\",\"Si\")","v":""},{"$f":"(IF('Datos Iniciales'!A143=\"Cliente\",\"Si\",(IF('Datos Iniciales'!A143=\"\",\"\",\"No\"))))","v":""},{"$f":"(IF('Datos Iniciales'!A143=\"Distribuidor\",\"Si\",(IF('Datos Iniciales'!A143=\"\",\"\",\"No\"))))","v":""},{"$f":"(IF('Datos Iniciales'!A143=\"Otros\",\"Si\",(IF('Datos Iniciales'!A143=\"\",\"\",\"No\"))))","v":""},{"$f":"(IF('Datos Iniciales'!A143=\"Prospecto\",\"Si\",(IF('Datos Iniciales'!A143=\"\",\"\",\"No\"))))","v":""},{"$f":"(IF('Datos Iniciales'!A143=\"Proveedor\",\"Si\",(IF('Datos Iniciales'!A143=\"\",\"\",\"No\"))))","v":""},{"$f":"IF('Datos Iniciales'!B143=\"\",\"\",'Datos Iniciales'!B143)","v":""},{"$f":"IF('Datos Iniciales'!C143=\"\",\"\",'Datos Iniciales'!C143)","v":""},{"$f":"IF('Datos Iniciales'!D143=\"\",\"\",'Datos Iniciales'!D143)","v":""},{"$f":"IF('Datos Iniciales'!E143=datos!$I$2,datos!$J$2,(IF('Datos Iniciales'!E143=datos!$I$3,datos!$J$3,(IF('Datos Iniciales'!E143=datos!$I$4,datos!$J$4,(IF('Datos Iniciales'!E143=datos!$I$5,datos!$J$5,(IF('Datos Iniciales'!E143=datos!$I$6,datos!$J$6,(IF('Datos Iniciales'!E143=datos!$I$7,datos!$J$7,(IF('Datos Iniciales'!E143=datos!$I$2,datos!$J$2,(IF('Datos Iniciales'!E143=datos!$I$8,datos!$J$8,(IF('Datos Iniciales'!E143=datos!$I$9,datos!$J$9,(IF('Datos Iniciales'!E143=datos!$I$10,datos!$J$10,(IF('Datos Iniciales'!E143=datos!$I$11,datos!$J$11,(IF('Datos Iniciales'!E143=datos!$I$12,datos!$J$12,(IF('Datos Iniciales'!E143=datos!$I$13,datos!$J$13,(IF('Datos Iniciales'!E143=datos!$I$14,datos!$J$14,(IF('Datos Iniciales'!E143=datos!$I$15,datos!$J$15,\"\")))))))))))))))))))))))))))))","v":""},{"$f":"IF('Datos Iniciales'!F143=\"\",\"\",'Datos Iniciales'!F143)","v":""},{"$f":"IFERROR(datos!B142,\"\")","v":""},null,null,null,null,{"$f":"IF('Datos Iniciales'!H143=\"\",\"\",'Datos Iniciales'!H143)","v":""},{"$f":"IF('Datos Iniciales'!I143=\"\",\"\",datos!$K$2)","v":""},{"$f":"IFERROR(VLOOKUP('Datos Iniciales'!J143,datos!O141:P1260,2,FALSE),\"\")","v":""},null,{"$f":"IF('Datos Iniciales'!K143=\"\",\"\",(CONCATENATE(RIGHT('Datos Iniciales'!K143,1),\"-\",'Datos Iniciales'!L143,\"-\",'Datos Iniciales'!M143)))","v":""},null,null,null,{"$f":"IF('Datos Iniciales'!N143=\"\",\"\",'Datos Iniciales'!N143)","v":""},{"$f":"IF('Datos Iniciales'!O143=\"\",\"\",'Datos Iniciales'!O143)","v":""},null,null,null,null,{"$f":"IF('Datos Iniciales'!P143=\"\",\"\",'Datos Iniciales'!P143)","v":""},null,null,null,null,null,null,null,null,null,null,null,null,{"$f":"IF('Datos Iniciales'!B143=\"\",\"\",(IF('Datos Iniciales'!B143=\"Si\",\"002\",\"003\")))","v":""},null,{"$f":"IF('Datos Iniciales'!Q143=\"\",\"\",(IF('Datos Iniciales'!Q143=datos!S142,\"0\",\"2\")))","v":""},{"$f":"IF('Datos Iniciales'!B143=\"\",\"\",(IF('Datos Iniciales'!B143=\"Si\",\"O-48\",\"O-49\")))","v":""}]
[{"$f":"IF('Datos Iniciales'!B144=\"\",\"\",\"Si\")","v":""},{"$f":"(IF('Datos Iniciales'!A144=\"Cliente\",\"Si\",(IF('Datos Iniciales'!A144=\"\",\"\",\"No\"))))","v":""},{"$f":"(IF('Datos Iniciales'!A144=\"Distribuidor\",\"Si\",(IF('Datos Iniciales'!A144=\"\",\"\",\"No\"))))","v":""},{"$f":"(IF('Datos Iniciales'!A144=\"Otros\",\"Si\",(IF('Datos Iniciales'!A144=\"\",\"\",\"No\"))))","v":""},{"$f":"(IF('Datos Iniciales'!A144=\"Prospecto\",\"Si\",(IF('Datos Iniciales'!A144=\"\",\"\",\"No\"))))","v":""},{"$f":"(IF('Datos Iniciales'!A144=\"Proveedor\",\"Si\",(IF('Datos Iniciales'!A144=\"\",\"\",\"No\"))))","v":""},{"$f":"IF('Datos Iniciales'!B144=\"\",\"\",'Datos Iniciales'!B144)","v":""},{"$f":"IF('Datos Iniciales'!C144=\"\",\"\",'Datos Iniciales'!C144)","v":""},{"$f":"IF('Datos Iniciales'!D144=\"\",\"\",'Datos Iniciales'!D144)","v":""},{"$f":"IF('Datos Iniciales'!E144=datos!$I$2,datos!$J$2,(IF('Datos Iniciales'!E144=datos!$I$3,datos!$J$3,(IF('Datos Iniciales'!E144=datos!$I$4,datos!$J$4,(IF('Datos Iniciales'!E144=datos!$I$5,datos!$J$5,(IF('Datos Iniciales'!E144=datos!$I$6,datos!$J$6,(IF('Datos Iniciales'!E144=datos!$I$7,datos!$J$7,(IF('Datos Iniciales'!E144=datos!$I$2,datos!$J$2,(IF('Datos Iniciales'!E144=datos!$I$8,datos!$J$8,(IF('Datos Iniciales'!E144=datos!$I$9,datos!$J$9,(IF('Datos Iniciales'!E144=datos!$I$10,datos!$J$10,(IF('Datos Iniciales'!E144=datos!$I$11,datos!$J$11,(IF('Datos Iniciales'!E144=datos!$I$12,datos!$J$12,(IF('Datos Iniciales'!E144=datos!$I$13,datos!$J$13,(IF('Datos Iniciales'!E144=datos!$I$14,datos!$J$14,(IF('Datos Iniciales'!E144=datos!$I$15,datos!$J$15,\"\")))))))))))))))))))))))))))))","v":""},{"$f":"IF('Datos Iniciales'!F144=\"\",\"\",'Datos Iniciales'!F144)","v":""},{"$f":"IFERROR(datos!B143,\"\")","v":""},null,null,null,null,{"$f":"IF('Datos Iniciales'!H144=\"\",\"\",'Datos Iniciales'!H144)","v":""},{"$f":"IF('Datos Iniciales'!I144=\"\",\"\",datos!$K$2)","v":""},{"$f":"IFERROR(VLOOKUP('Datos Iniciales'!J144,datos!O142:P1261,2,FALSE),\"\")","v":""},null,{"$f":"IF('Datos Iniciales'!K144=\"\",\"\",(CONCATENATE(RIGHT('Datos Iniciales'!K144,1),\"-\",'Datos Iniciales'!L144,\"-\",'Datos Iniciales'!M144)))","v":""},null,null,null,{"$f":"IF('Datos Iniciales'!N144=\"\",\"\",'Datos Iniciales'!N144)","v":""},{"$f":"IF('Datos Iniciales'!O144=\"\",\"\",'Datos Iniciales'!O144)","v":""},null,null,null,null,{"$f":"IF('Datos Iniciales'!P144=\"\",\"\",'Datos Iniciales'!P144)","v":""},null,null,null,null,null,null,null,null,null,null,null,null,{"$f":"IF('Datos Iniciales'!B144=\"\",\"\",(IF('Datos Iniciales'!B144=\"Si\",\"002\",\"003\")))","v":""},null,{"$f":"IF('Datos Iniciales'!Q144=\"\",\"\",(IF('Datos Iniciales'!Q144=datos!S143,\"0\",\"2\")))","v":""},{"$f":"IF('Datos Iniciales'!B144=\"\",\"\",(IF('Datos Iniciales'!B144=\"Si\",\"O-48\",\"O-49\")))","v":""}]
[{"$f":"IF('Datos Iniciales'!B145=\"\",\"\",\"Si\")","v":""},{"$f":"(IF('Datos Iniciales'!A145=\"Cliente\",\"Si\",(IF('Datos Iniciales'!A145=\"\",\"\",\"No\"))))","v":""},{"$f":"(IF('Datos Iniciales'!A145=\"Distribuidor\",\"Si\",(IF('Datos Iniciales'!A145=\"\",\"\",\"No\"))))","v":""},{"$f":"(IF('Datos Iniciales'!A145=\"Otros\",\"Si\",(IF('Datos Iniciales'!A145=\"\",\"\",\"No\"))))","v":""},{"$f":"(IF('Datos Iniciales'!A145=\"Prospecto\",\"Si\",(IF('Datos Iniciales'!A145=\"\",\"\",\"No\"))))","v":""},{"$f":"(IF('Datos Iniciales'!A145=\"Proveedor\",\"Si\",(IF('Datos Iniciales'!A145=\"\",\"\",\"No\"))))","v":""},{"$f":"IF('Datos Iniciales'!B145=\"\",\"\",'Datos Iniciales'!B145)","v":""},{"$f":"IF('Datos Iniciales'!C145=\"\",\"\",'Datos Iniciales'!C145)","v":""},{"$f":"IF('Datos Iniciales'!D145=\"\",\"\",'Datos Iniciales'!D145)","v":""},{"$f":"IF('Datos Iniciales'!E145=datos!$I$2,datos!$J$2,(IF('Datos Iniciales'!E145=datos!$I$3,datos!$J$3,(IF('Datos Iniciales'!E145=datos!$I$4,datos!$J$4,(IF('Datos Iniciales'!E145=datos!$I$5,datos!$J$5,(IF('Datos Iniciales'!E145=datos!$I$6,datos!$J$6,(IF('Datos Iniciales'!E145=datos!$I$7,datos!$J$7,(IF('Datos Iniciales'!E145=datos!$I$2,datos!$J$2,(IF('Datos Iniciales'!E145=datos!$I$8,datos!$J$8,(IF('Datos Iniciales'!E145=datos!$I$9,datos!$J$9,(IF('Datos Iniciales'!E145=datos!$I$10,datos!$J$10,(IF('Datos Iniciales'!E145=datos!$I$11,datos!$J$11,(IF('Datos Iniciales'!E145=datos!$I$12,datos!$J$12,(IF('Datos Iniciales'!E145=datos!$I$13,datos!$J$13,(IF('Datos Iniciales'!E145=datos!$I$14,datos!$J$14,(IF('Datos Iniciales'!E145=datos!$I$15,datos!$J$15,\"\")))))))))))))))))))))))))))))","v":""},{"$f":"IF('Datos Iniciales'!F145=\"\",\"\",'Datos Iniciales'!F145)","v":""},{"$f":"IFERROR(datos!B144,\"\")","v":""},null,null,null,null,{"$f":"IF('Datos Iniciales'!H145=\"\",\"\",'Datos Iniciales'!H145)","v":""},{"$f":"IF('Datos Iniciales'!I145=\"\",\"\",datos!$K$2)","v":""},{"$f":"IFERROR(VLOOKUP('Datos Iniciales'!J145,datos!O143:P1262,2,FALSE),\"\")","v":""},null,{"$f":"IF('Datos Iniciales'!K145=\"\",\"\",(CONCATENATE(RIGHT('Datos Iniciales'!K145,1),\"-\",'Datos Iniciales'!L145,\"-\",'Datos Iniciales'!M145)))","v":""},null,null,null,{"$f":"IF('Datos Iniciales'!N145=\"\",\"\",'Datos Iniciales'!N145)","v":""},{"$f":"IF('Datos Iniciales'!O145=\"\",\"\",'Datos Iniciales'!O145)","v":""},null,null,null,null,{"$f":"IF('Datos Iniciales'!P145=\"\",\"\",'Datos Iniciales'!P145)","v":""},null,null,null,null,null,null,null,null,null,null,null,null,{"$f":"IF('Datos Iniciales'!B145=\"\",\"\",(IF('Datos Iniciales'!B145=\"Si\",\"002\",\"003\")))","v":""},null,{"$f":"IF('Datos Iniciales'!Q145=\"\",\"\",(IF('Datos Iniciales'!Q145=datos!S144,\"0\",\"2\")))","v":""},{"$f":"IF('Datos Iniciales'!B145=\"\",\"\",(IF('Datos Iniciales'!B145=\"Si\",\"O-48\",\"O-49\")))","v":""}]
[{"$f":"IF('Datos Iniciales'!B146=\"\",\"\",\"Si\")","v":""},{"$f":"(IF('Datos Iniciales'!A146=\"Cliente\",\"Si\",(IF('Datos Iniciales'!A146=\"\",\"\",\"No\"))))","v":""},{"$f":"(IF('Datos Iniciales'!A146=\"Distribuidor\",\"Si\",(IF('Datos Iniciales'!A146=\"\",\"\",\"No\"))))","v":""},{"$f":"(IF('Datos Iniciales'!A146=\"Otros\",\"Si\",(IF('Datos Iniciales'!A146=\"\",\"\",\"No\"))))","v":""},{"$f":"(IF('Datos Iniciales'!A146=\"Prospecto\",\"Si\",(IF('Datos Iniciales'!A146=\"\",\"\",\"No\"))))","v":""},{"$f":"(IF('Datos Iniciales'!A146=\"Proveedor\",\"Si\",(IF('Datos Iniciales'!A146=\"\",\"\",\"No\"))))","v":""},{"$f":"IF('Datos Iniciales'!B146=\"\",\"\",'Datos Iniciales'!B146)","v":""},{"$f":"IF('Datos Iniciales'!C146=\"\",\"\",'Datos Iniciales'!C146)","v":""},{"$f":"IF('Datos Iniciales'!D146=\"\",\"\",'Datos Iniciales'!D146)","v":""},{"$f":"IF('Datos Iniciales'!E146=datos!$I$2,datos!$J$2,(IF('Datos Iniciales'!E146=datos!$I$3,datos!$J$3,(IF('Datos Iniciales'!E146=datos!$I$4,datos!$J$4,(IF('Datos Iniciales'!E146=datos!$I$5,datos!$J$5,(IF('Datos Iniciales'!E146=datos!$I$6,datos!$J$6,(IF('Datos Iniciales'!E146=datos!$I$7,datos!$J$7,(IF('Datos Iniciales'!E146=datos!$I$2,datos!$J$2,(IF('Datos Iniciales'!E146=datos!$I$8,datos!$J$8,(IF('Datos Iniciales'!E146=datos!$I$9,datos!$J$9,(IF('Datos Iniciales'!E146=datos!$I$10,datos!$J$10,(IF('Datos Iniciales'!E146=datos!$I$11,datos!$J$11,(IF('Datos Iniciales'!E146=datos!$I$12,datos!$J$12,(IF('Datos Iniciales'!E146=datos!$I$13,datos!$J$13,(IF('Datos Iniciales'!E146=datos!$I$14,datos!$J$14,(IF('Datos Iniciales'!E146=datos!$I$15,datos!$J$15,\"\")))))))))))))))))))))))))))))","v":""},{"$f":"IF('Datos Iniciales'!F146=\"\",\"\",'Datos Iniciales'!F146)","v":""},{"$f":"IFERROR(datos!B145,\"\")","v":""},null,null,null,null,{"$f":"IF('Datos Iniciales'!H146=\"\",\"\",'Datos Iniciales'!H146)","v":""},{"$f":"IF('Datos Iniciales'!I146=\"\",\"\",datos!$K$2)","v":""},{"$f":"IFERROR(VLOOKUP('Datos Iniciales'!J146,datos!O144:P1263,2,FALSE),\"\")","v":""},null,{"$f":"IF('Datos Iniciales'!K146=\"\",\"\",(CONCATENATE(RIGHT('Datos Iniciales'!K146,1),\"-\",'Datos Iniciales'!L146,\"-\",'Datos Iniciales'!M146)))","v":""},null,null,null,{"$f":"IF('Datos Iniciales'!N146=\"\",\"\",'Datos Iniciales'!N146)","v":""},{"$f":"IF('Datos Iniciales'!O146=\"\",\"\",'Datos Iniciales'!O146)","v":""},null,null,null,null,{"$f":"IF('Datos Iniciales'!P146=\"\",\"\",'Datos Iniciales'!P146)","v":""},null,null,null,null,null,null,null,null,null,null,null,null,{"$f":"IF('Datos Iniciales'!B146=\"\",\"\",(IF('Datos Iniciales'!B146=\"Si\",\"002\",\"003\")))","v":""},null,{"$f":"IF('Datos Iniciales'!Q146=\"\",\"\",(IF('Datos Iniciales'!Q146=datos!S145,\"0\",\"2\")))","v":""},{"$f":"IF('Datos Iniciales'!B146=\"\",\"\",(IF('Datos Iniciales'!B146=\"Si\",\"O-48\",\"O-49\")))","v":""}]
[{"$f":"IF('Datos Iniciales'!B147=\"\",\"\",\"Si\")","v":""},{"$f":"(IF('Datos Iniciales'!A147=\"Cliente\",\"Si\",(IF('Datos Iniciales'!A147=\"\",\"\",\"No\"))))","v":""},{"$f":"(IF('Datos Iniciales'!A147=\"Distribuidor\",\"Si\",(IF('Datos Iniciales'!A147=\"\",\"\",\"No\"))))","v":""},{"$f":"(IF('Datos Iniciales'!A147=\"Otros\",\"Si\",(IF('Datos Iniciales'!A147=\"\",\"\",\"No\"))))","v":""},{"$f":"(IF('Datos Iniciales'!A147=\"Prospecto\",\"Si\",(IF('Datos Iniciales'!A147=\"\",\"\",\"No\"))))","v":""},{"$f":"(IF('Datos Iniciales'!A147=\"Proveedor\",\"Si\",(IF('Datos Iniciales'!A147=\"\",\"\",\"No\"))))","v":""},{"$f":"IF('Datos Iniciales'!B147=\"\",\"\",'Datos Iniciales'!B147)","v":""},{"$f":"IF('Datos Iniciales'!C147=\"\",\"\",'Datos Iniciales'!C147)","v":""},{"$f":"IF('Datos Iniciales'!D147=\"\",\"\",'Datos Iniciales'!D147)","v":""},{"$f":"IF('Datos Iniciales'!E147=datos!$I$2,datos!$J$2,(IF('Datos Iniciales'!E147=datos!$I$3,datos!$J$3,(IF('Datos Iniciales'!E147=datos!$I$4,datos!$J$4,(IF('Datos Iniciales'!E147=datos!$I$5,datos!$J$5,(IF('Datos Iniciales'!E147=datos!$I$6,datos!$J$6,(IF('Datos Iniciales'!E147=datos!$I$7,datos!$J$7,(IF('Datos Iniciales'!E147=datos!$I$2,datos!$J$2,(IF('Datos Iniciales'!E147=datos!$I$8,datos!$J$8,(IF('Datos Iniciales'!E147=datos!$I$9,datos!$J$9,(IF('Datos Iniciales'!E147=datos!$I$10,datos!$J$10,(IF('Datos Iniciales'!E147=datos!$I$11,datos!$J$11,(IF('Datos Iniciales'!E147=datos!$I$12,datos!$J$12,(IF('Datos Iniciales'!E147=datos!$I$13,datos!$J$13,(IF('Datos Iniciales'!E147=datos!$I$14,datos!$J$14,(IF('Datos Iniciales'!E147=datos!$I$15,datos!$J$15,\"\")))))))))))))))))))))))))))))","v":""},{"$f":"IF('Datos Iniciales'!F147=\"\",\"\",'Datos Iniciales'!F147)","v":""},{"$f":"IFERROR(datos!B146,\"\")","v":""},null,null,null,null,{"$f":"IF('Datos Iniciales'!H147=\"\",\"\",'Datos Iniciales'!H147)","v":""},{"$f":"IF('Datos Iniciales'!I147=\"\",\"\",datos!$K$2)","v":""},{"$f":"IFERROR(VLOOKUP('Datos Iniciales'!J147,datos!O145:P1264,2,FALSE),\"\")","v":""},null,{"$f":"IF('Datos Iniciales'!K147=\"\",\"\",(CONCATENATE(RIGHT('Datos Iniciales'!K147,1),\"-\",'Datos Iniciales'!L147,\"-\",'Datos Iniciales'!M147)))","v":""},null,null,null,{"$f":"IF('Datos Iniciales'!N147=\"\",\"\",'Datos Iniciales'!N147)","v":""},{"$f":"IF('Datos Iniciales'!O147=\"\",\"\",'Datos Iniciales'!O147)","v":""},null,null,null,null,{"$f":"IF('Datos Iniciales'!P147=\"\",\"\",'Datos Iniciales'!P147)","v":""},null,null,null,null,null,null,null,null,null,null,null,null,{"$f":"IF('Datos Iniciales'!B147=\"\",\"\",(IF('Datos Iniciales'!B147=\"Si\",\"002\",\"003\")))","v":""},null,{"$f":"IF('Datos Iniciales'!Q147=\"\",\"\",(IF('Datos Iniciales'!Q147=datos!S146,\"0\",\"2\")))","v":""},{"$f":"IF('Datos Iniciales'!B147=\"\",\"\",(IF('Datos Iniciales'!B147=\"Si\",\"O-48\",\"O-49\")))","v":""}]
[{"$f":"IF('Datos Iniciales'!B148=\"\",\"\",\"Si\")","v":""},{"$f":"(IF('Datos Iniciales'!A148=\"Cliente\",\"Si\",(IF('Datos Iniciales'!A148=\"\",\"\",\"No\"))))","v":""},{"$f":"(IF('Datos Iniciales'!A148=\"Distribuidor\",\"Si\",(IF('Datos Iniciales'!A148=\"\",\"\",\"No\"))))","v":""},{"$f":"(IF('Datos Iniciales'!A148=\"Otros\",\"Si\",(IF('Datos Iniciales'!A148=\"\",\"\",\"No\"))))","v":""},{"$f":"(IF('Datos Iniciales'!A148=\"Prospecto\",\"Si\",(IF('Datos Iniciales'!A148=\"\",\"\",\"No\"))))","v":""},{"$f":"(IF('Datos Iniciales'!A148=\"Proveedor\",\"Si\",(IF('Datos Iniciales'!A148=\"\",\"\",\"No\"))))","v":""},{"$f":"IF('Datos Iniciales'!B148=\"\",\"\",'Datos Iniciales'!B148)","v":""},{"$f":"IF('Datos Iniciales'!C148=\"\",\"\",'Datos Iniciales'!C148)","v":""},{"$f":"IF('Datos Iniciales'!D148=\"\",\"\",'Datos Iniciales'!D148)","v":""},{"$f":"IF('Datos Iniciales'!E148=datos!$I$2,datos!$J$2,(IF('Datos Iniciales'!E148=datos!$I$3,datos!$J$3,(IF('Datos Iniciales'!E148=datos!$I$4,datos!$J$4,(IF('Datos Iniciales'!E148=datos!$I$5,datos!$J$5,(IF('Datos Iniciales'!E148=datos!$I$6,datos!$J$6,(IF('Datos Iniciales'!E148=datos!$I$7,datos!$J$7,(IF('Datos Iniciales'!E148=datos!$I$2,datos!$J$2,(IF('Datos Iniciales'!E148=datos!$I$8,datos!$J$8,(IF('Datos Iniciales'!E148=datos!$I$9,datos!$J$9,(IF('Datos Iniciales'!E148=datos!$I$10,datos!$J$10,(IF('Datos Iniciales'!E148=datos!$I$11,datos!$J$11,(IF('Datos Iniciales'!E148=datos!$I$12,datos!$J$12,(IF('Datos Iniciales'!E148=datos!$I$13,datos!$J$13,(IF('Datos Iniciales'!E148=datos!$I$14,datos!$J$14,(IF('Datos Iniciales'!E148=datos!$I$15,datos!$J$15,\"\")))))))))))))))))))))))))))))","v":""},{"$f":"IF('Datos Iniciales'!F148=\"\",\"\",'Datos Iniciales'!F148)","v":""},{"$f":"IFERROR(datos!B147,\"\")","v":""},null,null,null,null,{"$f":"IF('Datos Iniciales'!H148=\"\",\"\",'Datos Iniciales'!H148)","v":""},{"$f":"IF('Datos Iniciales'!I148=\"\",\"\",datos!$K$2)","v":""},{"$f":"IFERROR(VLOOKUP('Datos Iniciales'!J148,datos!O146:P1265,2,FALSE),\"\")","v":""},null,{"$f":"IF('Datos Iniciales'!K148=\"\",\"\",(CONCATENATE(RIGHT('Datos Iniciales'!K148,1),\"-\",'Datos Iniciales'!L148,\"-\",'Datos Iniciales'!M148)))","v":""},null,null,null,{"$f":"IF('Datos Iniciales'!N148=\"\",\"\",'Datos Iniciales'!N148)","v":""},{"$f":"IF('Datos Iniciales'!O148=\"\",\"\",'Datos Iniciales'!O148)","v":""},null,null,null,null,{"$f":"IF('Datos Iniciales'!P148=\"\",\"\",'Datos Iniciales'!P148)","v":""},null,null,null,null,null,null,null,null,null,null,null,null,{"$f":"IF('Datos Iniciales'!B148=\"\",\"\",(IF('Datos Iniciales'!B148=\"Si\",\"002\",\"003\")))","v":""},null,{"$f":"IF('Datos Iniciales'!Q148=\"\",\"\",(IF('Datos Iniciales'!Q148=datos!S147,\"0\",\"2\")))","v":""},{"$f":"IF('Datos Iniciales'!B148=\"\",\"\",(IF('Datos Iniciales'!B148=\"Si\",\"O-48\",\"O-49\")))","v":""}]
[{"$f":"IF('Datos Iniciales'!B149=\"\",\"\",\"Si\")","v":""},{"$f":"(IF('Datos Iniciales'!A149=\"Cliente\",\"Si\",(IF('Datos Iniciales'!A149=\"\",\"\",\"No\"))))","v":""},{"$f":"(IF('Datos Iniciales'!A149=\"Distribuidor\",\"Si\",(IF('Datos Iniciales'!A149=\"\",\"\",\"No\"))))","v":""},{"$f":"(IF('Datos Iniciales'!A149=\"Otros\",\"Si\",(IF('Datos Iniciales'!A149=\"\",\"\",\"No\"))))","v":""},{"$f":"(IF('Datos Iniciales'!A149=\"Prospecto\",\"Si\",(IF('Datos Iniciales'!A149=\"\",\"\",\"No\"))))","v":""},{"$f":"(IF('Datos Iniciales'!A149=\"Proveedor\",\"Si\",(IF('Datos Iniciales'!A149=\"\",\"\",\"No\"))))","v":""},{"$f":"IF('Datos Iniciales'!B149=\"\",\"\",'Datos Iniciales'!B149)","v":""},{"$f":"IF('Datos Iniciales'!C149=\"\",\"\",'Datos Iniciales'!C149)","v":""},{"$f":"IF('Datos Iniciales'!D149=\"\",\"\",'Datos Iniciales'!D149)","v":""},{"$f":"IF('Datos Iniciales'!E149=datos!$I$2,datos!$J$2,(IF('Datos Iniciales'!E149=datos!$I$3,datos!$J$3,(IF('Datos Iniciales'!E149=datos!$I$4,datos!$J$4,(IF('Datos Iniciales'!E149=datos!$I$5,datos!$J$5,(IF('Datos Iniciales'!E149=datos!$I$6,datos!$J$6,(IF('Datos Iniciales'!E149=datos!$I$7,datos!$J$7,(IF('Datos Iniciales'!E149=datos!$I$2,datos!$J$2,(IF('Datos Iniciales'!E149=datos!$I$8,datos!$J$8,(IF('Datos Iniciales'!E149=datos!$I$9,datos!$J$9,(IF('Datos Iniciales'!E149=datos!$I$10,datos!$J$10,(IF('Datos Iniciales'!E149=datos!$I$11,datos!$J$11,(IF('Datos Iniciales'!E149=datos!$I$12,datos!$J$12,(IF('Datos Iniciales'!E149=datos!$I$13,datos!$J$13,(IF('Datos Iniciales'!E149=datos!$I$14,datos!$J$14,(IF('Datos Iniciales'!E149=datos!$I$15,datos!$J$15,\"\")))))))))))))))))))))))))))))","v":""},{"$f":"IF('Datos Iniciales'!F149=\"\",\"\",'Datos Iniciales'!F149)","v":""},{"$f":"IFERROR(datos!B148,\"\")","v":""},null,null,null,null,{"$f":"IF('Datos Iniciales'!H149=\"\",\"\",'Datos Iniciales'!H149)","v":""},{"$f":"IF('Datos Iniciales'!I149=\"\",\"\",datos!$K$2)","v":""},{"$f":"IFERROR(VLOOKUP('Datos Iniciales'!J149,datos!O147:P1266,2,FALSE),\"\")","v":""},null,{"$f":"IF('Datos Iniciales'!K149=\"\",\"\",(CONCATENATE(RIGHT('Datos Iniciales'!K149,1),\"-\",'Datos Iniciales'!L149,\"-\",'Datos Iniciales'!M149)))","v":""},null,null,null,{"$f":"IF('Datos Iniciales'!N149=\"\",\"\",'Datos Iniciales'!N149)","v":""},{"$f":"IF('Datos Iniciales'!O149=\"\",\"\",'Datos Iniciales'!O149)","v":""},null,null,null,null,{"$f":"IF('Datos Iniciales'!P149=\"\",\"\",'Datos Iniciales'!P149)","v":""},null,null,null,null,null,null,null,null,null,null,null,null,{"$f":"IF('Datos Iniciales'!B149=\"\",\"\",(IF('Datos Iniciales'!B149=\"Si\",\"002\",\"003\")))","v":""},null,{"$f":"IF('Datos Iniciales'!Q149=\"\",\"\",(IF('Datos Iniciales'!Q149=datos!S148,\"0\",\"2\")))","v":""},{"$f":"IF('Datos Iniciales'!B149=\"\",\"\",(IF('Datos Iniciales'!B149=\"Si\",\"O-48\",\"O-49\")))","v":""}]
[{"$f":"IF('Datos Iniciales'!B150=\"\",\"\",\"Si\")","v":""},{"$f":"(IF('Datos Iniciales'!A150=\"Cliente\",\"Si\",(IF('Datos Iniciales'!A150=\"\",\"\",\"No\"))))","v":""},{"$f":"(IF('Datos Iniciales'!A150=\"Distribuidor\",\"Si\",(IF('Datos Iniciales'!A150=\"\",\"\",\"No\"))))","v":""},{"$f":"(IF('Datos Iniciales'!A150=\"Otros\",\"Si\",(IF('Datos Iniciales'!A150=\"\",\"\",\"No\"))))","v":""},{"$f":"(IF('Datos Iniciales'!A150=\"Prospecto\",\"Si\",(IF('Datos Iniciales'!A150=\"\",\"\",\"No\"))))","v":""},{"$f":"(IF('Datos Iniciales'!A150=\"Proveedor\",\"Si\",(IF('Datos Iniciales'!A150=\"\",\"\",\"No\"))))","v":""},{"$f":"IF('Datos Iniciales'!B150=\"\",\"\",'Datos Iniciales'!B150)","v":""},{"$f":"IF('Datos Iniciales'!C150=\"\",\"\",'Datos Iniciales'!C150)","v":""},{"$f":"IF('Datos Iniciales'!D150=\"\",\"\",'Datos Iniciales'!D150)","v":""},{"$f":"IF('Datos Iniciales'!E150=datos!$I$2,datos!$J$2,(IF('Datos Iniciales'!E150=datos!$I$3,datos!$J$3,(IF('Datos Iniciales'!E150=datos!$I$4,datos!$J$4,(IF('Datos Iniciales'!E150=datos!$I$5,datos!$J$5,(IF('Datos Iniciales'!E150=datos!$I$6,datos!$J$6,(IF('Datos Iniciales'!E150=datos!$I$7,datos!$J$7,(IF('Datos Iniciales'!E150=datos!$I$2,datos!$J$2,(IF('Datos Iniciales'!E150=datos!$I$8,datos!$J$8,(IF('Datos Iniciales'!E150=datos!$I$9,datos!$J$9,(IF('Datos Iniciales'!E150=datos!$I$10,datos!$J$10,(IF('Datos Iniciales'!E150=datos!$I$11,datos!$J$11,(IF('Datos Iniciales'!E150=datos!$I$12,datos!$J$12,(IF('Datos Iniciales'!E150=datos!$I$13,datos!$J$13,(IF('Datos Iniciales'!E150=datos!$I$14,datos!$J$14,(IF('Datos Iniciales'!E150=datos!$I$15,datos!$J$15,\"\")))))))))))))))))))))))))))))","v":""},{"$f":"IF('Datos Iniciales'!F150=\"\",\"\",'Datos Iniciales'!F150)","v":""},{"$f":"IFERROR(datos!B149,\"\")","v":""},null,null,null,null,{"$f":"IF('Datos Iniciales'!H150=\"\",\"\",'Datos Iniciales'!H150)","v":""},{"$f":"IF('Datos Iniciales'!I150=\"\",\"\",datos!$K$2)","v":""},{"$f":"IFERROR(VLOOKUP('Datos Iniciales'!J150,datos!O148:P1267,2,FALSE),\"\")","v":""},null,{"$f":"IF('Datos Iniciales'!K150=\"\",\"\",(CONCATENATE(RIGHT('Datos Iniciales'!K150,1),\"-\",'Datos Iniciales'!L150,\"-\",'Datos Iniciales'!M150)))","v":""},null,null,null,{"$f":"IF('Datos Iniciales'!N150=\"\",\"\",'Datos Iniciales'!N150)","v":""},{"$f":"IF('Datos Iniciales'!O150=\"\",\"\",'Datos Iniciales'!O150)","v":""},null,null,null,null,{"$f":"IF('Datos Iniciales'!P150=\"\",\"\",'Datos Iniciales'!P150)","v":""},null,null,null,null,null,null,null,null,null,null,null,null,{"$f":"IF('Datos Iniciales'!B150=\"\",\"\",(IF('Datos Iniciales'!B150=\"Si\",\"002\",\"003\")))","v":""},null,{"$f":"IF('Datos Iniciales'!Q150=\"\",\"\",(IF('Datos Iniciales'!Q150=datos!S149,\"0\",\"2\")))","v":""},{"$f":"IF('Datos Iniciales'!B150=\"\",\"\",(IF('Datos Iniciales'!B150=\"Si\",\"O-48\",\"O-49\")))","v":""}]
[{"$f":"IF('Datos Iniciales'!B151=\"\",\"\",\"Si\")","v":""},{"$f":"(IF('Datos Iniciales'!A151=\"Cliente\",\"Si\",(IF('Datos Iniciales'!A151=\"\",\"\",\"No\"))))","v":""},{"$f":"(IF('Datos Iniciales'!A151=\"Distribuidor\",\"Si\",(IF('Datos Iniciales'!A151=\"\",\"\",\"No\"))))","v":""},{"$f":"(IF('Datos Iniciales'!A151=\"Otros\",\"Si\",(IF('Datos Iniciales'!A151=\"\",\"\",\"No\"))))","v":""},{"$f":"(IF('Datos Iniciales'!A151=\"Prospecto\",\"Si\",(IF('Datos Iniciales'!A151=\"\",\"\",\"No\"))))","v":""},{"$f":"(IF('Datos Iniciales'!A151=\"Proveedor\",\"Si\",(IF('Datos Iniciales'!A151=\"\",\"\",\"No\"))))","v":""},{"$f":"IF('Datos Iniciales'!B151=\"\",\"\",'Datos Iniciales'!B151)","v":""},{"$f":"IF('Datos Iniciales'!C151=\"\",\"\",'Datos Iniciales'!C151)","v":""},{"$f":"IF('Datos Iniciales'!D151=\"\",\"\",'Datos Iniciales'!D151)","v":""},{"$f":"IF('Datos Iniciales'!E151=datos!$I$2,datos!$J$2,(IF('Datos Iniciales'!E151=datos!$I$3,datos!$J$3,(IF('Datos Iniciales'!E151=datos!$I$4,datos!$J$4,(IF('Datos Iniciales'!E151=datos!$I$5,datos!$J$5,(IF('Datos Iniciales'!E151=datos!$I$6,datos!$J$6,(IF('Datos Iniciales'!E151=datos!$I$7,datos!$J$7,(IF('Datos Iniciales'!E151=datos!$I$2,datos!$J$2,(IF('Datos Iniciales'!E151=datos!$I$8,datos!$J$8,(IF('Datos Iniciales'!E151=datos!$I$9,datos!$J$9,(IF('Datos Iniciales'!E151=datos!$I$10,datos!$J$10,(IF('Datos Iniciales'!E151=datos!$I$11,datos!$J$11,(IF('Datos Iniciales'!E151=datos!$I$12,datos!$J$12,(IF('Datos Iniciales'!E151=datos!$I$13,datos!$J$13,(IF('Datos Iniciales'!E151=datos!$I$14,datos!$J$14,(IF('Datos Iniciales'!E151=datos!$I$15,datos!$J$15,\"\")))))))))))))))))))))))))))))","v":""},{"$f":"IF('Datos Iniciales'!F151=\"\",\"\",'Datos Iniciales'!F151)","v":""},{"$f":"IFERROR(datos!B150,\"\")","v":""},null,null,null,null,{"$f":"IF('Datos Iniciales'!H151=\"\",\"\",'Datos Iniciales'!H151)","v":""},{"$f":"IF('Datos Iniciales'!I151=\"\",\"\",datos!$K$2)","v":""},{"$f":"IFERROR(VLOOKUP('Datos Iniciales'!J151,datos!O149:P1268,2,FALSE),\"\")","v":""},null,{"$f":"IF('Datos Iniciales'!K151=\"\",\"\",(CONCATENATE(RIGHT('Datos Iniciales'!K151,1),\"-\",'Datos Iniciales'!L151,\"-\",'Datos Iniciales'!M151)))","v":""},null,null,null,{"$f":"IF('Datos Iniciales'!N151=\"\",\"\",'Datos Iniciales'!N151)","v":""},{"$f":"IF('Datos Iniciales'!O151=\"\",\"\",'Datos Iniciales'!O151)","v":""},null,null,null,null,{"$f":"IF('Datos Iniciales'!P151=\"\",\"\",'Datos Iniciales'!P151)","v":""},null,null,null,null,null,null,null,null,null,null,null,null,{"$f":"IF('Datos Iniciales'!B151=\"\",\"\",(IF('Datos Iniciales'!B151=\"Si\",\"002\",\"003\")))","v":""},null,{"$f":"IF('Datos Iniciales'!Q151=\"\",\"\",(IF('Datos Iniciales'!Q151=datos!S150,\"0\",\"2\")))","v":""},{"$f":"IF('Datos Iniciales'!B151=\"\",\"\",(IF('Datos Iniciales'!B151=\"Si\",\"O-48\",\"O-49\")))","v":""}]
[{"$f":"IF('Datos Iniciales'!B152=\"\",\"\",\"Si\")","v":""},{"$f":"(IF('Datos Iniciales'!A152=\"Cliente\",\"Si\",(IF('Datos Iniciales'!A152=\"\",\"\",\"No\"))))","v":""},{"$f":"(IF('Datos Iniciales'!A152=\"Distribuidor\",\"Si\",(IF('Datos Iniciales'!A152=\"\",\"\",\"No\"))))","v":""},{"$f":"(IF('Datos Iniciales'!A152=\"Otros\",\"Si\",(IF('Datos Iniciales'!A152=\"\",\"\",\"No\"))))","v":""},{"$f":"(IF('Datos Iniciales'!A152=\"Prospecto\",\"Si\",(IF('Datos Iniciales'!A152=\"\",\"\",\"No\"))))","v":""},{"$f":"(IF('Datos Iniciales'!A152=\"Proveedor\",\"Si\",(IF('Datos Iniciales'!A152=\"\",\"\",\"No\"))))","v":""},{"$f":"IF('Datos Iniciales'!B152=\"\",\"\",'Datos Iniciales'!B152)","v":""},{"$f":"IF('Datos Iniciales'!C152=\"\",\"\",'Datos Iniciales'!C152)","v":""},{"$f":"IF('Datos Iniciales'!D152=\"\",\"\",'Datos Iniciales'!D152)","v":""},{"$f":"IF('Datos Iniciales'!E152=datos!$I$2,datos!$J$2,(IF('Datos Iniciales'!E152=datos!$I$3,datos!$J$3,(IF('Datos Iniciales'!E152=datos!$I$4,datos!$J$4,(IF('Datos Iniciales'!E152=datos!$I$5,datos!$J$5,(IF('Datos Iniciales'!E152=datos!$I$6,datos!$J$6,(IF('Datos Iniciales'!E152=datos!$I$7,datos!$J$7,(IF('Datos Iniciales'!E152=datos!$I$2,datos!$J$2,(IF('Datos Iniciales'!E152=datos!$I$8,datos!$J$8,(IF('Datos Iniciales'!E152=datos!$I$9,datos!$J$9,(IF('Datos Iniciales'!E152=datos!$I$10,datos!$J$10,(IF('Datos Iniciales'!E152=datos!$I$11,datos!$J$11,(IF('Datos Iniciales'!E152=datos!$I$12,datos!$J$12,(IF('Datos Iniciales'!E152=datos!$I$13,datos!$J$13,(IF('Datos Iniciales'!E152=datos!$I$14,datos!$J$14,(IF('Datos Iniciales'!E152=datos!$I$15,datos!$J$15,\"\")))))))))))))))))))))))))))))","v":""},{"$f":"IF('Datos Iniciales'!F152=\"\",\"\",'Datos Iniciales'!F152)","v":""},{"$f":"IFERROR(datos!B151,\"\")","v":""},null,null,null,null,{"$f":"IF('Datos Iniciales'!H152=\"\",\"\",'Datos Iniciales'!H152)","v":""},{"$f":"IF('Datos Iniciales'!I152=\"\",\"\",datos!$K$2)","v":""},{"$f":"IFERROR(VLOOKUP('Datos Iniciales'!J152,datos!O150:P1269,2,FALSE),\"\")","v":""},null,{"$f":"IF('Datos Iniciales'!K152=\"\",\"\",(CONCATENATE(RIGHT('Datos Iniciales'!K152,1),\"-\",'Datos Iniciales'!L152,\"-\",'Datos Iniciales'!M152)))","v":""},null,null,null,{"$f":"IF('Datos Iniciales'!N152=\"\",\"\",'Datos Iniciales'!N152)","v":""},{"$f":"IF('Datos Iniciales'!O152=\"\",\"\",'Datos Iniciales'!O152)","v":""},null,null,null,null,{"$f":"IF('Datos Iniciales'!P152=\"\",\"\",'Datos Iniciales'!P152)","v":""},null,null,null,null,null,null,null,null,null,null,null,null,{"$f":"IF('Datos Iniciales'!B152=\"\",\"\",(IF('Datos Iniciales'!B152=\"Si\",\"002\",\"003\")))","v":""},null,{"$f":"IF('Datos Iniciales'!Q152=\"\",\"\",(IF('Datos Iniciales'!Q152=datos!S151,\"0\",\"2\")))","v":""},{"$f":"IF('Datos Iniciales'!B152=\"\",\"\",(IF('Datos Iniciales'!B152=\"Si\",\"O-48\",\"O-49\")))","v":""}]
[{"$f":"IF('Datos Iniciales'!B153=\"\",\"\",\"Si\")","v":""},{"$f":"(IF('Datos Iniciales'!A153=\"Cliente\",\"Si\",(IF('Datos Iniciales'!A153=\"\",\"\",\"No\"))))","v":""},{"$f":"(IF('Datos Iniciales'!A153=\"Distribuidor\",\"Si\",(IF('Datos Iniciales'!A153=\"\",\"\",\"No\"))))","v":""},{"$f":"(IF('Datos Iniciales'!A153=\"Otros\",\"Si\",(IF('Datos Iniciales'!A153=\"\",\"\",\"No\"))))","v":""},{"$f":"(IF('Datos Iniciales'!A153=\"Prospecto\",\"Si\",(IF('Datos Iniciales'!A153=\"\",\"\",\"No\"))))","v":""},{"$f":"(IF('Datos Iniciales'!A153=\"Proveedor\",\"Si\",(IF('Datos Iniciales'!A153=\"\",\"\",\"No\"))))","v":""},{"$f":"IF('Datos Iniciales'!B153=\"\",\"\",'Datos Iniciales'!B153)","v":""},{"$f":"IF('Datos Iniciales'!C153=\"\",\"\",'Datos Iniciales'!C153)","v":""},{"$f":"IF('Datos Iniciales'!D153=\"\",\"\",'Datos Iniciales'!D153)","v":""},{"$f":"IF('Datos Iniciales'!E153=datos!$I$2,datos!$J$2,(IF('Datos Iniciales'!E153=datos!$I$3,datos!$J$3,(IF('Datos Iniciales'!E153=datos!$I$4,datos!$J$4,(IF('Datos Iniciales'!E153=datos!$I$5,datos!$J$5,(IF('Datos Iniciales'!E153=datos!$I$6,datos!$J$6,(IF('Datos Iniciales'!E153=datos!$I$7,datos!$J$7,(IF('Datos Iniciales'!E153=datos!$I$2,datos!$J$2,(IF('Datos Iniciales'!E153=datos!$I$8,datos!$J$8,(IF('Datos Iniciales'!E153=datos!$I$9,datos!$J$9,(IF('Datos Iniciales'!E153=datos!$I$10,datos!$J$10,(IF('Datos Iniciales'!E153=datos!$I$11,datos!$J$11,(IF('Datos Iniciales'!E153=datos!$I$12,datos!$J$12,(IF('Datos Iniciales'!E153=datos!$I$13,datos!$J$13,(IF('Datos Iniciales'!E153=datos!$I$14,datos!$J$14,(IF('Datos Iniciales'!E153=datos!$I$15,datos!$J$15,\"\")))))))))))))))))))))))))))))","v":""},{"$f":"IF('Datos Iniciales'!F153=\"\",\"\",'Datos Iniciales'!F153)","v":""},{"$f":"IFERROR(datos!B152,\"\")","v":""},null,null,null,null,{"$f":"IF('Datos Iniciales'!H153=\"\",\"\",'Datos Iniciales'!H153)","v":""},{"$f":"IF('Datos Iniciales'!I153=\"\",\"\",datos!$K$2)","v":""},{"$f":"IFERROR(VLOOKUP('Datos Iniciales'!J153,datos!O151:P1270,2,FALSE),\"\")","v":""},null,{"$f":"IF('Datos Iniciales'!K153=\"\",\"\",(CONCATENATE(RIGHT('Datos Iniciales'!K153,1),\"-\",'Datos Iniciales'!L153,\"-\",'Datos Iniciales'!M153)))","v":""},null,null,null,{"$f":"IF('Datos Iniciales'!N153=\"\",\"\",'Datos Iniciales'!N153)","v":""},{"$f":"IF('Datos Iniciales'!O153=\"\",\"\",'Datos Iniciales'!O153)","v":""},null,null,null,null,{"$f":"IF('Datos Iniciales'!P153=\"\",\"\",'Datos Iniciales'!P153)","v":""},null,null,null,null,null,null,null,null,null,null,null,null,{"$f":"IF('Datos Iniciales'!B153=\"\",\"\",(IF('Datos Iniciales'!B153=\"Si\",\"002\",\"003\")))","v":""},null,{"$f":"IF('Datos Iniciales'!Q153=\"\",\"\",(IF('Datos Iniciales'!Q153=datos!S152,\"0\",\"2\")))","v":""},{"$f":"IF('Datos Iniciales'!B153=\"\",\"\",(IF('Datos Iniciales'!B153=\"Si\",\"O-48\",\"O-49\")))","v":""}]
[{"$f":"IF('Datos Iniciales'!B154=\"\",\"\",\"Si\")","v":""},{"$f":"(IF('Datos Iniciales'!A154=\"Cliente\",\"Si\",(IF('Datos Iniciales'!A154=\"\",\"\",\"No\"))))","v":""},{"$f":"(IF('Datos Iniciales'!A154=\"Distribuidor\",\"Si\",(IF('Datos Iniciales'!A154=\"\",\"\",\"No\"))))","v":""},{"$f":"(IF('Datos Iniciales'!A154=\"Otros\",\"Si\",(IF('Datos Iniciales'!A154=\"\",\"\",\"No\"))))","v":""},{"$f":"(IF('Datos Iniciales'!A154=\"Prospecto\",\"Si\",(IF('Datos Iniciales'!A154=\"\",\"\",\"No\"))))","v":""},{"$f":"(IF('Datos Iniciales'!A154=\"Proveedor\",\"Si\",(IF('Datos Iniciales'!A154=\"\",\"\",\"No\"))))","v":""},{"$f":"IF('Datos Iniciales'!B154=\"\",\"\",'Datos Iniciales'!B154)","v":""},{"$f":"IF('Datos Iniciales'!C154=\"\",\"\",'Datos Iniciales'!C154)","v":""},{"$f":"IF('Datos Iniciales'!D154=\"\",\"\",'Datos Iniciales'!D154)","v":""},{"$f":"IF('Datos Iniciales'!E154=datos!$I$2,datos!$J$2,(IF('Datos Iniciales'!E154=datos!$I$3,datos!$J$3,(IF('Datos Iniciales'!E154=datos!$I$4,datos!$J$4,(IF('Datos Iniciales'!E154=datos!$I$5,datos!$J$5,(IF('Datos Iniciales'!E154=datos!$I$6,datos!$J$6,(IF('Datos Iniciales'!E154=datos!$I$7,datos!$J$7,(IF('Datos Iniciales'!E154=datos!$I$2,datos!$J$2,(IF('Datos Iniciales'!E154=datos!$I$8,datos!$J$8,(IF('Datos Iniciales'!E154=datos!$I$9,datos!$J$9,(IF('Datos Iniciales'!E154=datos!$I$10,datos!$J$10,(IF('Datos Iniciales'!E154=datos!$I$11,datos!$J$11,(IF('Datos Iniciales'!E154=datos!$I$12,datos!$J$12,(IF('Datos Iniciales'!E154=datos!$I$13,datos!$J$13,(IF('Datos Iniciales'!E154=datos!$I$14,datos!$J$14,(IF('Datos Iniciales'!E154=datos!$I$15,datos!$J$15,\"\")))))))))))))))))))))))))))))","v":""},{"$f":"IF('Datos Iniciales'!F154=\"\",\"\",'Datos Iniciales'!F154)","v":""},{"$f":"IFERROR(datos!B153,\"\")","v":""},null,null,null,null,{"$f":"IF('Datos Iniciales'!H154=\"\",\"\",'Datos Iniciales'!H154)","v":""},{"$f":"IF('Datos Iniciales'!I154=\"\",\"\",datos!$K$2)","v":""},{"$f":"IFERROR(VLOOKUP('Datos Iniciales'!J154,datos!O152:P1271,2,FALSE),\"\")","v":""},null,{"$f":"IF('Datos Iniciales'!K154=\"\",\"\",(CONCATENATE(RIGHT('Datos Iniciales'!K154,1),\"-\",'Datos Iniciales'!L154,\"-\",'Datos Iniciales'!M154)))","v":""},null,null,null,{"$f":"IF('Datos Iniciales'!N154=\"\",\"\",'Datos Iniciales'!N154)","v":""},{"$f":"IF('Datos Iniciales'!O154=\"\",\"\",'Datos Iniciales'!O154)","v":""},null,null,null,null,{"$f":"IF('Datos Iniciales'!P154=\"\",\"\",'Datos Iniciales'!P154)","v":""},null,null,null,null,null,null,null,null,null,null,null,null,{"$f":"IF('Datos Iniciales'!B154=\"\",\"\",(IF('Datos Iniciales'!B154=\"Si\",\"002\",\"003\")))","v":""},null,{"$f":"IF('Datos Iniciales'!Q154=\"\",\"\",(IF('Datos Iniciales'!Q154=datos!S153,\"0\",\"2\")))","v":""},{"$f":"IF('Datos Iniciales'!B154=\"\",\"\",(IF('Datos Iniciales'!B154=\"Si\",\"O-48\",\"O-49\")))","v":""}]
[{"$f":"IF('Datos Iniciales'!B155=\"\",\"\",\"Si\")","v":""},{"$f":"(IF('Datos Iniciales'!A155=\"Cliente\",\"Si\",(IF('Datos Iniciales'!A155=\"\",\"\",\"No\"))))","v":""},{"$f":"(IF('Datos Iniciales'!A155=\"Distribuidor\",\"Si\",(IF('Datos Iniciales'!A155=\"\",\"\",\"No\"))))","v":""},{"$f":"(IF('Datos Iniciales'!A155=\"Otros\",\"Si\",(IF('Datos Iniciales'!A155=\"\",\"\",\"No\"))))","v":""},{"$f":"(IF('Datos Iniciales'!A155=\"Prospecto\",\"Si\",(IF('Datos Iniciales'!A155=\"\",\"\",\"No\"))))","v":""},{"$f":"(IF('Datos Iniciales'!A155=\"Proveedor\",\"Si\",(IF('Datos Iniciales'!A155=\"\",\"\",\"No\"))))","v":""},{"$f":"IF('Datos Iniciales'!B155=\"\",\"\",'Datos Iniciales'!B155)","v":""},{"$f":"IF('Datos Iniciales'!C155=\"\",\"\",'Datos Iniciales'!C155)","v":""},{"$f":"IF('Datos Iniciales'!D155=\"\",\"\",'Datos Iniciales'!D155)","v":""},{"$f":"IF('Datos Iniciales'!E155=datos!$I$2,datos!$J$2,(IF('Datos Iniciales'!E155=datos!$I$3,datos!$J$3,(IF('Datos Iniciales'!E155=datos!$I$4,datos!$J$4,(IF('Datos Iniciales'!E155=datos!$I$5,datos!$J$5,(IF('Datos Iniciales'!E155=datos!$I$6,datos!$J$6,(IF('Datos Iniciales'!E155=datos!$I$7,datos!$J$7,(IF('Datos Iniciales'!E155=datos!$I$2,datos!$J$2,(IF('Datos Iniciales'!E155=datos!$I$8,datos!$J$8,(IF('Datos Iniciales'!E155=datos!$I$9,datos!$J$9,(IF('Datos Iniciales'!E155=datos!$I$10,datos!$J$10,(IF('Datos Iniciales'!E155=datos!$I$11,datos!$J$11,(IF('Datos Iniciales'!E155=datos!$I$12,datos!$J$12,(IF('Datos Iniciales'!E155=datos!$I$13,datos!$J$13,(IF('Datos Iniciales'!E155=datos!$I$14,datos!$J$14,(IF('Datos Iniciales'!E155=datos!$I$15,datos!$J$15,\"\")))))))))))))))))))))))))))))","v":""},{"$f":"IF('Datos Iniciales'!F155=\"\",\"\",'Datos Iniciales'!F155)","v":""},{"$f":"IFERROR(datos!B154,\"\")","v":""},null,null,null,null,{"$f":"IF('Datos Iniciales'!H155=\"\",\"\",'Datos Iniciales'!H155)","v":""},{"$f":"IF('Datos Iniciales'!I155=\"\",\"\",datos!$K$2)","v":""},{"$f":"IFERROR(VLOOKUP('Datos Iniciales'!J155,datos!O153:P1272,2,FALSE),\"\")","v":""},null,{"$f":"IF('Datos Iniciales'!K155=\"\",\"\",(CONCATENATE(RIGHT('Datos Iniciales'!K155,1),\"-\",'Datos Iniciales'!L155,\"-\",'Datos Iniciales'!M155)))","v":""},null,null,null,{"$f":"IF('Datos Iniciales'!N155=\"\",\"\",'Datos Iniciales'!N155)","v":""},{"$f":"IF('Datos Iniciales'!O155=\"\",\"\",'Datos Iniciales'!O155)","v":""},null,null,null,null,{"$f":"IF('Datos Iniciales'!P155=\"\",\"\",'Datos Iniciales'!P155)","v":""},null,null,null,null,null,null,null,null,null,null,null,null,{"$f":"IF('Datos Iniciales'!B155=\"\",\"\",(IF('Datos Iniciales'!B155=\"Si\",\"002\",\"003\")))","v":""},null,{"$f":"IF('Datos Iniciales'!Q155=\"\",\"\",(IF('Datos Iniciales'!Q155=datos!S154,\"0\",\"2\")))","v":""},{"$f":"IF('Datos Iniciales'!B155=\"\",\"\",(IF('Datos Iniciales'!B155=\"Si\",\"O-48\",\"O-49\")))","v":""}]
[{"$f":"IF('Datos Iniciales'!B156=\"\",\"\",\"Si\")","v":""},{"$f":"(IF('Datos Iniciales'!A156=\"Cliente\",\"Si\",(IF('Datos Iniciales'!A156=\"\",\"\",\"No\"))))","v":""},{"$f":"(IF('Datos Iniciales'!A156=\"Distribuidor\",\"Si\",(IF('Datos Iniciales'!A156=\"\",\"\",\"No\"))))","v":""},{"$f":"(IF('Datos Iniciales'!A156=\"Otros\",\"Si\",(IF('Datos Iniciales'!A156=\"\",\"\",\"No\"))))","v":""},{"$f":"(IF('Datos Iniciales'!A156=\"Prospecto\",\"Si\",(IF('Datos Iniciales'!A156=\"\",\"\",\"No\"))))","v":""},{"$f":"(IF('Datos Iniciales'!A156=\"Proveedor\",\"Si\",(IF('Datos Iniciales'!A156=\"\",\"\",\"No\"))))","v":""},{"$f":"IF('Datos Iniciales'!B156=\"\",\"\",'Datos Iniciales'!B156)","v":""},{"$f":"IF('Datos Iniciales'!C156=\"\",\"\",'Datos Iniciales'!C156)","v":""},{"$f":"IF('Datos Iniciales'!D156=\"\",\"\",'Datos Iniciales'!D156)","v":""},{"$f":"IF('Datos Iniciales'!E156=datos!$I$2,datos!$J$2,(IF('Datos Iniciales'!E156=datos!$I$3,datos!$J$3,(IF('Datos Iniciales'!E156=datos!$I$4,datos!$J$4,(IF('Datos Iniciales'!E156=datos!$I$5,datos!$J$5,(IF('Datos Iniciales'!E156=datos!$I$6,datos!$J$6,(IF('Datos Iniciales'!E156=datos!$I$7,datos!$J$7,(IF('Datos Iniciales'!E156=datos!$I$2,datos!$J$2,(IF('Datos Iniciales'!E156=datos!$I$8,datos!$J$8,(IF('Datos Iniciales'!E156=datos!$I$9,datos!$J$9,(IF('Datos Iniciales'!E156=datos!$I$10,datos!$J$10,(IF('Datos Iniciales'!E156=datos!$I$11,datos!$J$11,(IF('Datos Iniciales'!E156=datos!$I$12,datos!$J$12,(IF('Datos Iniciales'!E156=datos!$I$13,datos!$J$13,(IF('Datos Iniciales'!E156=datos!$I$14,datos!$J$14,(IF('Datos Iniciales'!E156=datos!$I$15,datos!$J$15,\"\")))))))))))))))))))))))))))))","v":""},{"$f":"IF('Datos Iniciales'!F156=\"\",\"\",'Datos Iniciales'!F156)","v":""},{"$f":"IFERROR(datos!B155,\"\")","v":""},null,null,null,null,{"$f":"IF('Datos Iniciales'!H156=\"\",\"\",'Datos Iniciales'!H156)","v":""},{"$f":"IF('Datos Iniciales'!I156=\"\",\"\",datos!$K$2)","v":""},{"$f":"IFERROR(VLOOKUP('Datos Iniciales'!J156,datos!O154:P1273,2,FALSE),\"\")","v":""},null,{"$f":"IF('Datos Iniciales'!K156=\"\",\"\",(CONCATENATE(RIGHT('Datos Iniciales'!K156,1),\"-\",'Datos Iniciales'!L156,\"-\",'Datos Iniciales'!M156)))","v":""},null,null,null,{"$f":"IF('Datos Iniciales'!N156=\"\",\"\",'Datos Iniciales'!N156)","v":""},{"$f":"IF('Datos Iniciales'!O156=\"\",\"\",'Datos Iniciales'!O156)","v":""},null,null,null,null,{"$f":"IF('Datos Iniciales'!P156=\"\",\"\",'Datos Iniciales'!P156)","v":""},null,null,null,null,null,null,null,null,null,null,null,null,{"$f":"IF('Datos Iniciales'!B156=\"\",\"\",(IF('Datos Iniciales'!B156=\"Si\",\"002\",\"003\")))","v":""},null,{"$f":"IF('Datos Iniciales'!Q156=\"\",\"\",(IF('Datos Iniciales'!Q156=datos!S155,\"0\",\"2\")))","v":""},{"$f":"IF('Datos Iniciales'!B156=\"\",\"\",(IF('Datos Iniciales'!B156=\"Si\",\"O-48\",\"O-49\")))","v":""}]
[{"$f":"IF('Datos Iniciales'!B157=\"\",\"\",\"Si\")","v":""},{"$f":"(IF('Datos Iniciales'!A157=\"Cliente\",\"Si\",(IF('Datos Iniciales'!A157=\"\",\"\",\"No\"))))","v":""},{"$f":"(IF('Datos Iniciales'!A157=\"Distribuidor\",\"Si\",(IF('Datos Iniciales'!A157=\"\",\"\",\"No\"))))","v":""},{"$f":"(IF('Datos Iniciales'!A157=\"Otros\",\"Si\",(IF('Datos Iniciales'!A157=\"\",\"\",\"No\"))))","v":""},{"$f":"(IF('Datos Iniciales'!A157=\"Prospecto\",\"Si\",(IF('Datos Iniciales'!A157=\"\",\"\",\"No\"))))","v":""},{"$f":"(IF('Datos Iniciales'!A157=\"Proveedor\",\"Si\",(IF('Datos Iniciales'!A157=\"\",\"\",\"No\"))))","v":""},{"$f":"IF('Datos Iniciales'!B157=\"\",\"\",'Datos Iniciales'!B157)","v":""},{"$f":"IF('Datos Iniciales'!C157=\"\",\"\",'Datos Iniciales'!C157)","v":""},{"$f":"IF('Datos Iniciales'!D157=\"\",\"\",'Datos Iniciales'!D157)","v":""},{"$f":"IF('Datos Iniciales'!E157=datos!$I$2,datos!$J$2,(IF('Datos Iniciales'!E157=datos!$I$3,datos!$J$3,(IF('Datos Iniciales'!E157=datos!$I$4,datos!$J$4,(IF('Datos Iniciales'!E157=datos!$I$5,datos!$J$5,(IF('Datos Iniciales'!E157=datos!$I$6,datos!$J$6,(IF('Datos Iniciales'!E157=datos!$I$7,datos!$J$7,(IF('Datos Iniciales'!E157=datos!$I$2,datos!$J$2,(IF('Datos Iniciales'!E157=datos!$I$8,datos!$J$8,(IF('Datos Iniciales'!E157=datos!$I$9,datos!$J$9,(IF('Datos Iniciales'!E157=datos!$I$10,datos!$J$10,(IF('Datos Iniciales'!E157=datos!$I$11,datos!$J$11,(IF('Datos Iniciales'!E157=datos!$I$12,datos!$J$12,(IF('Datos Iniciales'!E157=datos!$I$13,datos!$J$13,(IF('Datos Iniciales'!E157=datos!$I$14,datos!$J$14,(IF('Datos Iniciales'!E157=datos!$I$15,datos!$J$15,\"\")))))))))))))))))))))))))))))","v":""},{"$f":"IF('Datos Iniciales'!F157=\"\",\"\",'Datos Iniciales'!F157)","v":""},{"$f":"IFERROR(datos!B156,\"\")","v":""},null,null,null,null,{"$f":"IF('Datos Iniciales'!H157=\"\",\"\",'Datos Iniciales'!H157)","v":""},{"$f":"IF('Datos Iniciales'!I157=\"\",\"\",datos!$K$2)","v":""},{"$f":"IFERROR(VLOOKUP('Datos Iniciales'!J157,datos!O155:P1274,2,FALSE),\"\")","v":""},null,{"$f":"IF('Datos Iniciales'!K157=\"\",\"\",(CONCATENATE(RIGHT('Datos Iniciales'!K157,1),\"-\",'Datos Iniciales'!L157,\"-\",'Datos Iniciales'!M157)))","v":""},null,null,null,{"$f":"IF('Datos Iniciales'!N157=\"\",\"\",'Datos Iniciales'!N157)","v":""},{"$f":"IF('Datos Iniciales'!O157=\"\",\"\",'Datos Iniciales'!O157)","v":""},null,null,null,null,{"$f":"IF('Datos Iniciales'!P157=\"\",\"\",'Datos Iniciales'!P157)","v":""},null,null,null,null,null,null,null,null,null,null,null,null,{"$f":"IF('Datos Iniciales'!B157=\"\",\"\",(IF('Datos Iniciales'!B157=\"Si\",\"002\",\"003\")))","v":""},null,{"$f":"IF('Datos Iniciales'!Q157=\"\",\"\",(IF('Datos Iniciales'!Q157=datos!S156,\"0\",\"2\")))","v":""},{"$f":"IF('Datos Iniciales'!B157=\"\",\"\",(IF('Datos Iniciales'!B157=\"Si\",\"O-48\",\"O-49\")))","v":""}]
[{"$f":"IF('Datos Iniciales'!B158=\"\",\"\",\"Si\")","v":""},{"$f":"(IF('Datos Iniciales'!A158=\"Cliente\",\"Si\",(IF('Datos Iniciales'!A158=\"\",\"\",\"No\"))))","v":""},{"$f":"(IF('Datos Iniciales'!A158=\"Distribuidor\",\"Si\",(IF('Datos Iniciales'!A158=\"\",\"\",\"No\"))))","v":""},{"$f":"(IF('Datos Iniciales'!A158=\"Otros\",\"Si\",(IF('Datos Iniciales'!A158=\"\",\"\",\"No\"))))","v":""},{"$f":"(IF('Datos Iniciales'!A158=\"Prospecto\",\"Si\",(IF('Datos Iniciales'!A158=\"\",\"\",\"No\"))))","v":""},{"$f":"(IF('Datos Iniciales'!A158=\"Proveedor\",\"Si\",(IF('Datos Iniciales'!A158=\"\",\"\",\"No\"))))","v":""},{"$f":"IF('Datos Iniciales'!B158=\"\",\"\",'Datos Iniciales'!B158)","v":""},{"$f":"IF('Datos Iniciales'!C158=\"\",\"\",'Datos Iniciales'!C158)","v":""},{"$f":"IF('Datos Iniciales'!D158=\"\",\"\",'Datos Iniciales'!D158)","v":""},{"$f":"IF('Datos Iniciales'!E158=datos!$I$2,datos!$J$2,(IF('Datos Iniciales'!E158=datos!$I$3,datos!$J$3,(IF('Datos Iniciales'!E158=datos!$I$4,datos!$J$4,(IF('Datos Iniciales'!E158=datos!$I$5,datos!$J$5,(IF('Datos Iniciales'!E158=datos!$I$6,datos!$J$6,(IF('Datos Iniciales'!E158=datos!$I$7,datos!$J$7,(IF('Datos Iniciales'!E158=datos!$I$2,datos!$J$2,(IF('Datos Iniciales'!E158=datos!$I$8,datos!$J$8,(IF('Datos Iniciales'!E158=datos!$I$9,datos!$J$9,(IF('Datos Iniciales'!E158=datos!$I$10,datos!$J$10,(IF('Datos Iniciales'!E158=datos!$I$11,datos!$J$11,(IF('Datos Iniciales'!E158=datos!$I$12,datos!$J$12,(IF('Datos Iniciales'!E158=datos!$I$13,datos!$J$13,(IF('Datos Iniciales'!E158=datos!$I$14,datos!$J$14,(IF('Datos Iniciales'!E158=datos!$I$15,datos!$J$15,\"\")))))))))))))))))))))))))))))","v":""},{"$f":"IF('Datos Iniciales'!F158=\"\",\"\",'Datos Iniciales'!F158)","v":""},{"$f":"IFERROR(datos!B157,\"\")","v":""},null,null,null,null,{"$f":"IF('Datos Iniciales'!H158=\"\",\"\",'Datos Iniciales'!H158)","v":""},{"$f":"IF('Datos Iniciales'!I158=\"\",\"\",datos!$K$2)","v":""},{"$f":"IFERROR(VLOOKUP('Datos Iniciales'!J158,datos!O156:P1275,2,FALSE),\"\")","v":""},null,{"$f":"IF('Datos Iniciales'!K158=\"\",\"\",(CONCATENATE(RIGHT('Datos Iniciales'!K158,1),\"-\",'Datos Iniciales'!L158,\"-\",'Datos Iniciales'!M158)))","v":""},null,null,null,{"$f":"IF('Datos Iniciales'!N158=\"\",\"\",'Datos Iniciales'!N158)","v":""},{"$f":"IF('Datos Iniciales'!O158=\"\",\"\",'Datos Iniciales'!O158)","v":""},null,null,null,null,{"$f":"IF('Datos Iniciales'!P158=\"\",\"\",'Datos Iniciales'!P158)","v":""},null,null,null,null,null,null,null,null,null,null,null,null,{"$f":"IF('Datos Iniciales'!B158=\"\",\"\",(IF('Datos Iniciales'!B158=\"Si\",\"002\",\"003\")))","v":""},null,{"$f":"IF('Datos Iniciales'!Q158=\"\",\"\",(IF('Datos Iniciales'!Q158=datos!S157,\"0\",\"2\")))","v":""},{"$f":"IF('Datos Iniciales'!B158=\"\",\"\",(IF('Datos Iniciales'!B158=\"Si\",\"O-48\",\"O-49\")))","v":""}]
[{"$f":"IF('Datos Iniciales'!B159=\"\",\"\",\"Si\")","v":""},{"$f":"(IF('Datos Iniciales'!A159=\"Cliente\",\"Si\",(IF('Datos Iniciales'!A159=\"\",\"\",\"No\"))))","v":""},{"$f":"(IF('Datos Iniciales'!A159=\"Distribuidor\",\"Si\",(IF('Datos Iniciales'!A159=\"\",\"\",\"No\"))))","v":""},{"$f":"(IF('Datos Iniciales'!A159=\"Otros\",\"Si\",(IF('Datos Iniciales'!A159=\"\",\"\",\"No\"))))","v":""},{"$f":"(IF('Datos Iniciales'!A159=\"Prospecto\",\"Si\",(IF('Datos Iniciales'!A159=\"\",\"\",\"No\"))))","v":""},{"$f":"(IF('Datos Iniciales'!A159=\"Proveedor\",\"Si\",(IF('Datos Iniciales'!A159=\"\",\"\",\"No\"))))","v":""},{"$f":"IF('Datos Iniciales'!B159=\"\",\"\",'Datos Iniciales'!B159)","v":""},{"$f":"IF('Datos Iniciales'!C159=\"\",\"\",'Datos Iniciales'!C159)","v":""},{"$f":"IF('Datos Iniciales'!D159=\"\",\"\",'Datos Iniciales'!D159)","v":""},{"$f":"IF('Datos Iniciales'!E159=datos!$I$2,datos!$J$2,(IF('Datos Iniciales'!E159=datos!$I$3,datos!$J$3,(IF('Datos Iniciales'!E159=datos!$I$4,datos!$J$4,(IF('Datos Iniciales'!E159=datos!$I$5,datos!$J$5,(IF('Datos Iniciales'!E159=datos!$I$6,datos!$J$6,(IF('Datos Iniciales'!E159=datos!$I$7,datos!$J$7,(IF('Datos Iniciales'!E159=datos!$I$2,datos!$J$2,(IF('Datos Iniciales'!E159=datos!$I$8,datos!$J$8,(IF('Datos Iniciales'!E159=datos!$I$9,datos!$J$9,(IF('Datos Iniciales'!E159=datos!$I$10,datos!$J$10,(IF('Datos Iniciales'!E159=datos!$I$11,datos!$J$11,(IF('Datos Iniciales'!E159=datos!$I$12,datos!$J$12,(IF('Datos Iniciales'!E159=datos!$I$13,datos!$J$13,(IF('Datos Iniciales'!E159=datos!$I$14,datos!$J$14,(IF('Datos Iniciales'!E159=datos!$I$15,datos!$J$15,\"\")))))))))))))))))))))))))))))","v":""},{"$f":"IF('Datos Iniciales'!F159=\"\",\"\",'Datos Iniciales'!F159)","v":""},{"$f":"IFERROR(datos!B158,\"\")","v":""},null,null,null,null,{"$f":"IF('Datos Iniciales'!H159=\"\",\"\",'Datos Iniciales'!H159)","v":""},{"$f":"IF('Datos Iniciales'!I159=\"\",\"\",datos!$K$2)","v":""},{"$f":"IFERROR(VLOOKUP('Datos Iniciales'!J159,datos!O157:P1276,2,FALSE),\"\")","v":""},null,{"$f":"IF('Datos Iniciales'!K159=\"\",\"\",(CONCATENATE(RIGHT('Datos Iniciales'!K159,1),\"-\",'Datos Iniciales'!L159,\"-\",'Datos Iniciales'!M159)))","v":""},null,null,null,{"$f":"IF('Datos Iniciales'!N159=\"\",\"\",'Datos Iniciales'!N159)","v":""},{"$f":"IF('Datos Iniciales'!O159=\"\",\"\",'Datos Iniciales'!O159)","v":""},null,null,null,null,{"$f":"IF('Datos Iniciales'!P159=\"\",\"\",'Datos Iniciales'!P159)","v":""},null,null,null,null,null,null,null,null,null,null,null,null,{"$f":"IF('Datos Iniciales'!B159=\"\",\"\",(IF('Datos Iniciales'!B159=\"Si\",\"002\",\"003\")))","v":""},null,{"$f":"IF('Datos Iniciales'!Q159=\"\",\"\",(IF('Datos Iniciales'!Q159=datos!S158,\"0\",\"2\")))","v":""},{"$f":"IF('Datos Iniciales'!B159=\"\",\"\",(IF('Datos Iniciales'!B159=\"Si\",\"O-48\",\"O-49\")))","v":""}]
[{"$f":"IF('Datos Iniciales'!B160=\"\",\"\",\"Si\")","v":""},{"$f":"(IF('Datos Iniciales'!A160=\"Cliente\",\"Si\",(IF('Datos Iniciales'!A160=\"\",\"\",\"No\"))))","v":""},{"$f":"(IF('Datos Iniciales'!A160=\"Distribuidor\",\"Si\",(IF('Datos Iniciales'!A160=\"\",\"\",\"No\"))))","v":""},{"$f":"(IF('Datos Iniciales'!A160=\"Otros\",\"Si\",(IF('Datos Iniciales'!A160=\"\",\"\",\"No\"))))","v":""},{"$f":"(IF('Datos Iniciales'!A160=\"Prospecto\",\"Si\",(IF('Datos Iniciales'!A160=\"\",\"\",\"No\"))))","v":""},{"$f":"(IF('Datos Iniciales'!A160=\"Proveedor\",\"Si\",(IF('Datos Iniciales'!A160=\"\",\"\",\"No\"))))","v":""},{"$f":"IF('Datos Iniciales'!B160=\"\",\"\",'Datos Iniciales'!B160)","v":""},{"$f":"IF('Datos Iniciales'!C160=\"\",\"\",'Datos Iniciales'!C160)","v":""},{"$f":"IF('Datos Iniciales'!D160=\"\",\"\",'Datos Iniciales'!D160)","v":""},{"$f":"IF('Datos Iniciales'!E160=datos!$I$2,datos!$J$2,(IF('Datos Iniciales'!E160=datos!$I$3,datos!$J$3,(IF('Datos Iniciales'!E160=datos!$I$4,datos!$J$4,(IF('Datos Iniciales'!E160=datos!$I$5,datos!$J$5,(IF('Datos Iniciales'!E160=datos!$I$6,datos!$J$6,(IF('Datos Iniciales'!E160=datos!$I$7,datos!$J$7,(IF('Datos Iniciales'!E160=datos!$I$2,datos!$J$2,(IF('Datos Iniciales'!E160=datos!$I$8,datos!$J$8,(IF('Datos Iniciales'!E160=datos!$I$9,datos!$J$9,(IF('Datos Iniciales'!E160=datos!$I$10,datos!$J$10,(IF('Datos Iniciales'!E160=datos!$I$11,datos!$J$11,(IF('Datos Iniciales'!E160=datos!$I$12,datos!$J$12,(IF('Datos Iniciales'!E160=datos!$I$13,datos!$J$13,(IF('Datos Iniciales'!E160=datos!$I$14,datos!$J$14,(IF('Datos Iniciales'!E160=datos!$I$15,datos!$J$15,\"\")))))))))))))))))))))))))))))","v":""},{"$f":"IF('Datos Iniciales'!F160=\"\",\"\",'Datos Iniciales'!F160)","v":""},{"$f":"IFERROR(datos!B159,\"\")","v":""},null,null,null,null,{"$f":"IF('Datos Iniciales'!H160=\"\",\"\",'Datos Iniciales'!H160)","v":""},{"$f":"IF('Datos Iniciales'!I160=\"\",\"\",datos!$K$2)","v":""},{"$f":"IFERROR(VLOOKUP('Datos Iniciales'!J160,datos!O158:P1277,2,FALSE),\"\")","v":""},null,{"$f":"IF('Datos Iniciales'!K160=\"\",\"\",(CONCATENATE(RIGHT('Datos Iniciales'!K160,1),\"-\",'Datos Iniciales'!L160,\"-\",'Datos Iniciales'!M160)))","v":""},null,null,null,{"$f":"IF('Datos Iniciales'!N160=\"\",\"\",'Datos Iniciales'!N160)","v":""},{"$f":"IF('Datos Iniciales'!O160=\"\",\"\",'Datos Iniciales'!O160)","v":""},null,null,null,null,{"$f":"IF('Datos Iniciales'!P160=\"\",\"\",'Datos Iniciales'!P160)","v":""},null,null,null,null,null,null,null,null,null,null,null,null,{"$f":"IF('Datos Iniciales'!B160=\"\",\"\",(IF('Datos Iniciales'!B160=\"Si\",\"002\",\"003\")))","v":""},null,{"$f":"IF('Datos Iniciales'!Q160=\"\",\"\",(IF('Datos Iniciales'!Q160=datos!S159,\"0\",\"2\")))","v":""},{"$f":"IF('Datos Iniciales'!B160=\"\",\"\",(IF('Datos Iniciales'!B160=\"Si\",\"O-48\",\"O-49\")))","v":""}]
[{"$f":"IF('Datos Iniciales'!B161=\"\",\"\",\"Si\")","v":""},{"$f":"(IF('Datos Iniciales'!A161=\"Cliente\",\"Si\",(IF('Datos Iniciales'!A161=\"\",\"\",\"No\"))))","v":""},{"$f":"(IF('Datos Iniciales'!A161=\"Distribuidor\",\"Si\",(IF('Datos Iniciales'!A161=\"\",\"\",\"No\"))))","v":""},{"$f":"(IF('Datos Iniciales'!A161=\"Otros\",\"Si\",(IF('Datos Iniciales'!A161=\"\",\"\",\"No\"))))","v":""},{"$f":"(IF('Datos Iniciales'!A161=\"Prospecto\",\"Si\",(IF('Datos Iniciales'!A161=\"\",\"\",\"No\"))))","v":""},{"$f":"(IF('Datos Iniciales'!A161=\"Proveedor\",\"Si\",(IF('Datos Iniciales'!A161=\"\",\"\",\"No\"))))","v":""},{"$f":"IF('Datos Iniciales'!B161=\"\",\"\",'Datos Iniciales'!B161)","v":""},{"$f":"IF('Datos Iniciales'!C161=\"\",\"\",'Datos Iniciales'!C161)","v":""},{"$f":"IF('Datos Iniciales'!D161=\"\",\"\",'Datos Iniciales'!D161)","v":""},{"$f":"IF('Datos Iniciales'!E161=datos!$I$2,datos!$J$2,(IF('Datos Iniciales'!E161=datos!$I$3,datos!$J$3,(IF('Datos Iniciales'!E161=datos!$I$4,datos!$J$4,(IF('Datos Iniciales'!E161=datos!$I$5,datos!$J$5,(IF('Datos Iniciales'!E161=datos!$I$6,datos!$J$6,(IF('Datos Iniciales'!E161=datos!$I$7,datos!$J$7,(IF('Datos Iniciales'!E161=datos!$I$2,datos!$J$2,(IF('Datos Iniciales'!E161=datos!$I$8,datos!$J$8,(IF('Datos Iniciales'!E161=datos!$I$9,datos!$J$9,(IF('Datos Iniciales'!E161=datos!$I$10,datos!$J$10,(IF('Datos Iniciales'!E161=datos!$I$11,datos!$J$11,(IF('Datos Iniciales'!E161=datos!$I$12,datos!$J$12,(IF('Datos Iniciales'!E161=datos!$I$13,datos!$J$13,(IF('Datos Iniciales'!E161=datos!$I$14,datos!$J$14,(IF('Datos Iniciales'!E161=datos!$I$15,datos!$J$15,\"\")))))))))))))))))))))))))))))","v":""},{"$f":"IF('Datos Iniciales'!F161=\"\",\"\",'Datos Iniciales'!F161)","v":""},{"$f":"IFERROR(datos!B160,\"\")","v":""},null,null,null,null,{"$f":"IF('Datos Iniciales'!H161=\"\",\"\",'Datos Iniciales'!H161)","v":""},{"$f":"IF('Datos Iniciales'!I161=\"\",\"\",datos!$K$2)","v":""},{"$f":"IFERROR(VLOOKUP('Datos Iniciales'!J161,datos!O159:P1278,2,FALSE),\"\")","v":""},null,{"$f":"IF('Datos Iniciales'!K161=\"\",\"\",(CONCATENATE(RIGHT('Datos Iniciales'!K161,1),\"-\",'Datos Iniciales'!L161,\"-\",'Datos Iniciales'!M161)))","v":""},null,null,null,{"$f":"IF('Datos Iniciales'!N161=\"\",\"\",'Datos Iniciales'!N161)","v":""},{"$f":"IF('Datos Iniciales'!O161=\"\",\"\",'Datos Iniciales'!O161)","v":""},null,null,null,null,{"$f":"IF('Datos Iniciales'!P161=\"\",\"\",'Datos Iniciales'!P161)","v":""},null,null,null,null,null,null,null,null,null,null,null,null,{"$f":"IF('Datos Iniciales'!B161=\"\",\"\",(IF('Datos Iniciales'!B161=\"Si\",\"002\",\"003\")))","v":""},null,{"$f":"IF('Datos Iniciales'!Q161=\"\",\"\",(IF('Datos Iniciales'!Q161=datos!S160,\"0\",\"2\")))","v":""},{"$f":"IF('Datos Iniciales'!B161=\"\",\"\",(IF('Datos Iniciales'!B161=\"Si\",\"O-48\",\"O-49\")))","v":""}]
[{"$f":"IF('Datos Iniciales'!B162=\"\",\"\",\"Si\")","v":""},{"$f":"(IF('Datos Iniciales'!A162=\"Cliente\",\"Si\",(IF('Datos Iniciales'!A162=\"\",\"\",\"No\"))))","v":""},{"$f":"(IF('Datos Iniciales'!A162=\"Distribuidor\",\"Si\",(IF('Datos Iniciales'!A162=\"\",\"\",\"No\"))))","v":""},{"$f":"(IF('Datos Iniciales'!A162=\"Otros\",\"Si\",(IF('Datos Iniciales'!A162=\"\",\"\",\"No\"))))","v":""},{"$f":"(IF('Datos Iniciales'!A162=\"Prospecto\",\"Si\",(IF('Datos Iniciales'!A162=\"\",\"\",\"No\"))))","v":""},{"$f":"(IF('Datos Iniciales'!A162=\"Proveedor\",\"Si\",(IF('Datos Iniciales'!A162=\"\",\"\",\"No\"))))","v":""},{"$f":"IF('Datos Iniciales'!B162=\"\",\"\",'Datos Iniciales'!B162)","v":""},{"$f":"IF('Datos Iniciales'!C162=\"\",\"\",'Datos Iniciales'!C162)","v":""},{"$f":"IF('Datos Iniciales'!D162=\"\",\"\",'Datos Iniciales'!D162)","v":""},{"$f":"IF('Datos Iniciales'!E162=datos!$I$2,datos!$J$2,(IF('Datos Iniciales'!E162=datos!$I$3,datos!$J$3,(IF('Datos Iniciales'!E162=datos!$I$4,datos!$J$4,(IF('Datos Iniciales'!E162=datos!$I$5,datos!$J$5,(IF('Datos Iniciales'!E162=datos!$I$6,datos!$J$6,(IF('Datos Iniciales'!E162=datos!$I$7,datos!$J$7,(IF('Datos Iniciales'!E162=datos!$I$2,datos!$J$2,(IF('Datos Iniciales'!E162=datos!$I$8,datos!$J$8,(IF('Datos Iniciales'!E162=datos!$I$9,datos!$J$9,(IF('Datos Iniciales'!E162=datos!$I$10,datos!$J$10,(IF('Datos Iniciales'!E162=datos!$I$11,datos!$J$11,(IF('Datos Iniciales'!E162=datos!$I$12,datos!$J$12,(IF('Datos Iniciales'!E162=datos!$I$13,datos!$J$13,(IF('Datos Iniciales'!E162=datos!$I$14,datos!$J$14,(IF('Datos Iniciales'!E162=datos!$I$15,datos!$J$15,\"\")))))))))))))))))))))))))))))","v":""},{"$f":"IF('Datos Iniciales'!F162=\"\",\"\",'Datos Iniciales'!F162)","v":""},{"$f":"IFERROR(datos!B161,\"\")","v":""},null,null,null,null,{"$f":"IF('Datos Iniciales'!H162=\"\",\"\",'Datos Iniciales'!H162)","v":""},{"$f":"IF('Datos Iniciales'!I162=\"\",\"\",datos!$K$2)","v":""},{"$f":"IFERROR(VLOOKUP('Datos Iniciales'!J162,datos!O160:P1279,2,FALSE),\"\")","v":""},null,{"$f":"IF('Datos Iniciales'!K162=\"\",\"\",(CONCATENATE(RIGHT('Datos Iniciales'!K162,1),\"-\",'Datos Iniciales'!L162,\"-\",'Datos Iniciales'!M162)))","v":""},null,null,null,{"$f":"IF('Datos Iniciales'!N162=\"\",\"\",'Datos Iniciales'!N162)","v":""},{"$f":"IF('Datos Iniciales'!O162=\"\",\"\",'Datos Iniciales'!O162)","v":""},null,null,null,null,{"$f":"IF('Datos Iniciales'!P162=\"\",\"\",'Datos Iniciales'!P162)","v":""},null,null,null,null,null,null,null,null,null,null,null,null,{"$f":"IF('Datos Iniciales'!B162=\"\",\"\",(IF('Datos Iniciales'!B162=\"Si\",\"002\",\"003\")))","v":""},null,{"$f":"IF('Datos Iniciales'!Q162=\"\",\"\",(IF('Datos Iniciales'!Q162=datos!S161,\"0\",\"2\")))","v":""},{"$f":"IF('Datos Iniciales'!B162=\"\",\"\",(IF('Datos Iniciales'!B162=\"Si\",\"O-48\",\"O-49\")))","v":""}]
[{"$f":"IF('Datos Iniciales'!B163=\"\",\"\",\"Si\")","v":""},{"$f":"(IF('Datos Iniciales'!A163=\"Cliente\",\"Si\",(IF('Datos Iniciales'!A163=\"\",\"\",\"No\"))))","v":""},{"$f":"(IF('Datos Iniciales'!A163=\"Distribuidor\",\"Si\",(IF('Datos Iniciales'!A163=\"\",\"\",\"No\"))))","v":""},{"$f":"(IF('Datos Iniciales'!A163=\"Otros\",\"Si\",(IF('Datos Iniciales'!A163=\"\",\"\",\"No\"))))","v":""},{"$f":"(IF('Datos Iniciales'!A163=\"Prospecto\",\"Si\",(IF('Datos Iniciales'!A163=\"\",\"\",\"No\"))))","v":""},{"$f":"(IF('Datos Iniciales'!A163=\"Proveedor\",\"Si\",(IF('Datos Iniciales'!A163=\"\",\"\",\"No\"))))","v":""},{"$f":"IF('Datos Iniciales'!B163=\"\",\"\",'Datos Iniciales'!B163)","v":""},{"$f":"IF('Datos Iniciales'!C163=\"\",\"\",'Datos Iniciales'!C163)","v":""},{"$f":"IF('Datos Iniciales'!D163=\"\",\"\",'Datos Iniciales'!D163)","v":""},{"$f":"IF('Datos Iniciales'!E163=datos!$I$2,datos!$J$2,(IF('Datos Iniciales'!E163=datos!$I$3,datos!$J$3,(IF('Datos Iniciales'!E163=datos!$I$4,datos!$J$4,(IF('Datos Iniciales'!E163=datos!$I$5,datos!$J$5,(IF('Datos Iniciales'!E163=datos!$I$6,datos!$J$6,(IF('Datos Iniciales'!E163=datos!$I$7,datos!$J$7,(IF('Datos Iniciales'!E163=datos!$I$2,datos!$J$2,(IF('Datos Iniciales'!E163=datos!$I$8,datos!$J$8,(IF('Datos Iniciales'!E163=datos!$I$9,datos!$J$9,(IF('Datos Iniciales'!E163=datos!$I$10,datos!$J$10,(IF('Datos Iniciales'!E163=datos!$I$11,datos!$J$11,(IF('Datos Iniciales'!E163=datos!$I$12,datos!$J$12,(IF('Datos Iniciales'!E163=datos!$I$13,datos!$J$13,(IF('Datos Iniciales'!E163=datos!$I$14,datos!$J$14,(IF('Datos Iniciales'!E163=datos!$I$15,datos!$J$15,\"\")))))))))))))))))))))))))))))","v":""},{"$f":"IF('Datos Iniciales'!F163=\"\",\"\",'Datos Iniciales'!F163)","v":""},{"$f":"IFERROR(datos!B162,\"\")","v":""},null,null,null,null,{"$f":"IF('Datos Iniciales'!H163=\"\",\"\",'Datos Iniciales'!H163)","v":""},{"$f":"IF('Datos Iniciales'!I163=\"\",\"\",datos!$K$2)","v":""},{"$f":"IFERROR(VLOOKUP('Datos Iniciales'!J163,datos!O161:P1280,2,FALSE),\"\")","v":""},null,{"$f":"IF('Datos Iniciales'!K163=\"\",\"\",(CONCATENATE(RIGHT('Datos Iniciales'!K163,1),\"-\",'Datos Iniciales'!L163,\"-\",'Datos Iniciales'!M163)))","v":""},null,null,null,{"$f":"IF('Datos Iniciales'!N163=\"\",\"\",'Datos Iniciales'!N163)","v":""},{"$f":"IF('Datos Iniciales'!O163=\"\",\"\",'Datos Iniciales'!O163)","v":""},null,null,null,null,{"$f":"IF('Datos Iniciales'!P163=\"\",\"\",'Datos Iniciales'!P163)","v":""},null,null,null,null,null,null,null,null,null,null,null,null,{"$f":"IF('Datos Iniciales'!B163=\"\",\"\",(IF('Datos Iniciales'!B163=\"Si\",\"002\",\"003\")))","v":""},null,{"$f":"IF('Datos Iniciales'!Q163=\"\",\"\",(IF('Datos Iniciales'!Q163=datos!S162,\"0\",\"2\")))","v":""},{"$f":"IF('Datos Iniciales'!B163=\"\",\"\",(IF('Datos Iniciales'!B163=\"Si\",\"O-48\",\"O-49\")))","v":""}]
[{"$f":"IF('Datos Iniciales'!B164=\"\",\"\",\"Si\")","v":""},{"$f":"(IF('Datos Iniciales'!A164=\"Cliente\",\"Si\",(IF('Datos Iniciales'!A164=\"\",\"\",\"No\"))))","v":""},{"$f":"(IF('Datos Iniciales'!A164=\"Distribuidor\",\"Si\",(IF('Datos Iniciales'!A164=\"\",\"\",\"No\"))))","v":""},{"$f":"(IF('Datos Iniciales'!A164=\"Otros\",\"Si\",(IF('Datos Iniciales'!A164=\"\",\"\",\"No\"))))","v":""},{"$f":"(IF('Datos Iniciales'!A164=\"Prospecto\",\"Si\",(IF('Datos Iniciales'!A164=\"\",\"\",\"No\"))))","v":""},{"$f":"(IF('Datos Iniciales'!A164=\"Proveedor\",\"Si\",(IF('Datos Iniciales'!A164=\"\",\"\",\"No\"))))","v":""},{"$f":"IF('Datos Iniciales'!B164=\"\",\"\",'Datos Iniciales'!B164)","v":""},{"$f":"IF('Datos Iniciales'!C164=\"\",\"\",'Datos Iniciales'!C164)","v":""},{"$f":"IF('Datos Iniciales'!D164=\"\",\"\",'Datos Iniciales'!D164)","v":""},{"$f":"IF('Datos Iniciales'!E164=datos!$I$2,datos!$J$2,(IF('Datos Iniciales'!E164=datos!$I$3,datos!$J$3,(IF('Datos Iniciales'!E164=datos!$I$4,datos!$J$4,(IF('Datos Iniciales'!E164=datos!$I$5,datos!$J$5,(IF('Datos Iniciales'!E164=datos!$I$6,datos!$J$6,(IF('Datos Iniciales'!E164=datos!$I$7,datos!$J$7,(IF('Datos Iniciales'!E164=datos!$I$2,datos!$J$2,(IF('Datos Iniciales'!E164=datos!$I$8,datos!$J$8,(IF('Datos Iniciales'!E164=datos!$I$9,datos!$J$9,(IF('Datos Iniciales'!E164=datos!$I$10,datos!$J$10,(IF('Datos Iniciales'!E164=datos!$I$11,datos!$J$11,(IF('Datos Iniciales'!E164=datos!$I$12,datos!$J$12,(IF('Datos Iniciales'!E164=datos!$I$13,datos!$J$13,(IF('Datos Iniciales'!E164=datos!$I$14,datos!$J$14,(IF('Datos Iniciales'!E164=datos!$I$15,datos!$J$15,\"\")))))))))))))))))))))))))))))","v":""},{"$f":"IF('Datos Iniciales'!F164=\"\",\"\",'Datos Iniciales'!F164)","v":""},{"$f":"IFERROR(datos!B163,\"\")","v":""},null,null,null,null,{"$f":"IF('Datos Iniciales'!H164=\"\",\"\",'Datos Iniciales'!H164)","v":""},{"$f":"IF('Datos Iniciales'!I164=\"\",\"\",datos!$K$2)","v":""},{"$f":"IFERROR(VLOOKUP('Datos Iniciales'!J164,datos!O162:P1281,2,FALSE),\"\")","v":""},null,{"$f":"IF('Datos Iniciales'!K164=\"\",\"\",(CONCATENATE(RIGHT('Datos Iniciales'!K164,1),\"-\",'Datos Iniciales'!L164,\"-\",'Datos Iniciales'!M164)))","v":""},null,null,null,{"$f":"IF('Datos Iniciales'!N164=\"\",\"\",'Datos Iniciales'!N164)","v":""},{"$f":"IF('Datos Iniciales'!O164=\"\",\"\",'Datos Iniciales'!O164)","v":""},null,null,null,null,{"$f":"IF('Datos Iniciales'!P164=\"\",\"\",'Datos Iniciales'!P164)","v":""},null,null,null,null,null,null,null,null,null,null,null,null,{"$f":"IF('Datos Iniciales'!B164=\"\",\"\",(IF('Datos Iniciales'!B164=\"Si\",\"002\",\"003\")))","v":""},null,{"$f":"IF('Datos Iniciales'!Q164=\"\",\"\",(IF('Datos Iniciales'!Q164=datos!S163,\"0\",\"2\")))","v":""},{"$f":"IF('Datos Iniciales'!B164=\"\",\"\",(IF('Datos Iniciales'!B164=\"Si\",\"O-48\",\"O-49\")))","v":""}]
[{"$f":"IF('Datos Iniciales'!B165=\"\",\"\",\"Si\")","v":""},{"$f":"(IF('Datos Iniciales'!A165=\"Cliente\",\"Si\",(IF('Datos Iniciales'!A165=\"\",\"\",\"No\"))))","v":""},{"$f":"(IF('Datos Iniciales'!A165=\"Distribuidor\",\"Si\",(IF('Datos Iniciales'!A165=\"\",\"\",\"No\"))))","v":""},{"$f":"(IF('Datos Iniciales'!A165=\"Otros\",\"Si\",(IF('Datos Iniciales'!A165=\"\",\"\",\"No\"))))","v":""},{"$f":"(IF('Datos Iniciales'!A165=\"Prospecto\",\"Si\",(IF('Datos Iniciales'!A165=\"\",\"\",\"No\"))))","v":""},{"$f":"(IF('Datos Iniciales'!A165=\"Proveedor\",\"Si\",(IF('Datos Iniciales'!A165=\"\",\"\",\"No\"))))","v":""},{"$f":"IF('Datos Iniciales'!B165=\"\",\"\",'Datos Iniciales'!B165)","v":""},{"$f":"IF('Datos Iniciales'!C165=\"\",\"\",'Datos Iniciales'!C165)","v":""},{"$f":"IF('Datos Iniciales'!D165=\"\",\"\",'Datos Iniciales'!D165)","v":""},{"$f":"IF('Datos Iniciales'!E165=datos!$I$2,datos!$J$2,(IF('Datos Iniciales'!E165=datos!$I$3,datos!$J$3,(IF('Datos Iniciales'!E165=datos!$I$4,datos!$J$4,(IF('Datos Iniciales'!E165=datos!$I$5,datos!$J$5,(IF('Datos Iniciales'!E165=datos!$I$6,datos!$J$6,(IF('Datos Iniciales'!E165=datos!$I$7,datos!$J$7,(IF('Datos Iniciales'!E165=datos!$I$2,datos!$J$2,(IF('Datos Iniciales'!E165=datos!$I$8,datos!$J$8,(IF('Datos Iniciales'!E165=datos!$I$9,datos!$J$9,(IF('Datos Iniciales'!E165=datos!$I$10,datos!$J$10,(IF('Datos Iniciales'!E165=datos!$I$11,datos!$J$11,(IF('Datos Iniciales'!E165=datos!$I$12,datos!$J$12,(IF('Datos Iniciales'!E165=datos!$I$13,datos!$J$13,(IF('Datos Iniciales'!E165=datos!$I$14,datos!$J$14,(IF('Datos Iniciales'!E165=datos!$I$15,datos!$J$15,\"\")))))))))))))))))))))))))))))","v":""},{"$f":"IF('Datos Iniciales'!F165=\"\",\"\",'Datos Iniciales'!F165)","v":""},{"$f":"IFERROR(datos!B164,\"\")","v":""},null,null,null,null,{"$f":"IF('Datos Iniciales'!H165=\"\",\"\",'Datos Iniciales'!H165)","v":""},{"$f":"IF('Datos Iniciales'!I165=\"\",\"\",datos!$K$2)","v":""},{"$f":"IFERROR(VLOOKUP('Datos Iniciales'!J165,datos!O163:P1282,2,FALSE),\"\")","v":""},null,{"$f":"IF('Datos Iniciales'!K165=\"\",\"\",(CONCATENATE(RIGHT('Datos Iniciales'!K165,1),\"-\",'Datos Iniciales'!L165,\"-\",'Datos Iniciales'!M165)))","v":""},null,null,null,{"$f":"IF('Datos Iniciales'!N165=\"\",\"\",'Datos Iniciales'!N165)","v":""},{"$f":"IF('Datos Iniciales'!O165=\"\",\"\",'Datos Iniciales'!O165)","v":""},null,null,null,null,{"$f":"IF('Datos Iniciales'!P165=\"\",\"\",'Datos Iniciales'!P165)","v":""},null,null,null,null,null,null,null,null,null,null,null,null,{"$f":"IF('Datos Iniciales'!B165=\"\",\"\",(IF('Datos Iniciales'!B165=\"Si\",\"002\",\"003\")))","v":""},null,{"$f":"IF('Datos Iniciales'!Q165=\"\",\"\",(IF('Datos Iniciales'!Q165=datos!S164,\"0\",\"2\")))","v":""},{"$f":"IF('Datos Iniciales'!B165=\"\",\"\",(IF('Datos Iniciales'!B165=\"Si\",\"O-48\",\"O-49\")))","v":""}]
[{"$f":"IF('Datos Iniciales'!B166=\"\",\"\",\"Si\")","v":""},{"$f":"(IF('Datos Iniciales'!A166=\"Cliente\",\"Si\",(IF('Datos Iniciales'!A166=\"\",\"\",\"No\"))))","v":""},{"$f":"(IF('Datos Iniciales'!A166=\"Distribuidor\",\"Si\",(IF('Datos Iniciales'!A166=\"\",\"\",\"No\"))))","v":""},{"$f":"(IF('Datos Iniciales'!A166=\"Otros\",\"Si\",(IF('Datos Iniciales'!A166=\"\",\"\",\"No\"))))","v":""},{"$f":"(IF('Datos Iniciales'!A166=\"Prospecto\",\"Si\",(IF('Datos Iniciales'!A166=\"\",\"\",\"No\"))))","v":""},{"$f":"(IF('Datos Iniciales'!A166=\"Proveedor\",\"Si\",(IF('Datos Iniciales'!A166=\"\",\"\",\"No\"))))","v":""},{"$f":"IF('Datos Iniciales'!B166=\"\",\"\",'Datos Iniciales'!B166)","v":""},{"$f":"IF('Datos Iniciales'!C166=\"\",\"\",'Datos Iniciales'!C166)","v":""},{"$f":"IF('Datos Iniciales'!D166=\"\",\"\",'Datos Iniciales'!D166)","v":""},{"$f":"IF('Datos Iniciales'!E166=datos!$I$2,datos!$J$2,(IF('Datos Iniciales'!E166=datos!$I$3,datos!$J$3,(IF('Datos Iniciales'!E166=datos!$I$4,datos!$J$4,(IF('Datos Iniciales'!E166=datos!$I$5,datos!$J$5,(IF('Datos Iniciales'!E166=datos!$I$6,datos!$J$6,(IF('Datos Iniciales'!E166=datos!$I$7,datos!$J$7,(IF('Datos Iniciales'!E166=datos!$I$2,datos!$J$2,(IF('Datos Iniciales'!E166=datos!$I$8,datos!$J$8,(IF('Datos Iniciales'!E166=datos!$I$9,datos!$J$9,(IF('Datos Iniciales'!E166=datos!$I$10,datos!$J$10,(IF('Datos Iniciales'!E166=datos!$I$11,datos!$J$11,(IF('Datos Iniciales'!E166=datos!$I$12,datos!$J$12,(IF('Datos Iniciales'!E166=datos!$I$13,datos!$J$13,(IF('Datos Iniciales'!E166=datos!$I$14,datos!$J$14,(IF('Datos Iniciales'!E166=datos!$I$15,datos!$J$15,\"\")))))))))))))))))))))))))))))","v":""},{"$f":"IF('Datos Iniciales'!F166=\"\",\"\",'Datos Iniciales'!F166)","v":""},{"$f":"IFERROR(datos!B165,\"\")","v":""},null,null,null,null,{"$f":"IF('Datos Iniciales'!H166=\"\",\"\",'Datos Iniciales'!H166)","v":""},{"$f":"IF('Datos Iniciales'!I166=\"\",\"\",datos!$K$2)","v":""},{"$f":"IFERROR(VLOOKUP('Datos Iniciales'!J166,datos!O164:P1283,2,FALSE),\"\")","v":""},null,{"$f":"IF('Datos Iniciales'!K166=\"\",\"\",(CONCATENATE(RIGHT('Datos Iniciales'!K166,1),\"-\",'Datos Iniciales'!L166,\"-\",'Datos Iniciales'!M166)))","v":""},null,null,null,{"$f":"IF('Datos Iniciales'!N166=\"\",\"\",'Datos Iniciales'!N166)","v":""},{"$f":"IF('Datos Iniciales'!O166=\"\",\"\",'Datos Iniciales'!O166)","v":""},null,null,null,null,{"$f":"IF('Datos Iniciales'!P166=\"\",\"\",'Datos Iniciales'!P166)","v":""},null,null,null,null,null,null,null,null,null,null,null,null,{"$f":"IF('Datos Iniciales'!B166=\"\",\"\",(IF('Datos Iniciales'!B166=\"Si\",\"002\",\"003\")))","v":""},null,{"$f":"IF('Datos Iniciales'!Q166=\"\",\"\",(IF('Datos Iniciales'!Q166=datos!S165,\"0\",\"2\")))","v":""},{"$f":"IF('Datos Iniciales'!B166=\"\",\"\",(IF('Datos Iniciales'!B166=\"Si\",\"O-48\",\"O-49\")))","v":""}]
[{"$f":"IF('Datos Iniciales'!B167=\"\",\"\",\"Si\")","v":""},{"$f":"(IF('Datos Iniciales'!A167=\"Cliente\",\"Si\",(IF('Datos Iniciales'!A167=\"\",\"\",\"No\"))))","v":""},{"$f":"(IF('Datos Iniciales'!A167=\"Distribuidor\",\"Si\",(IF('Datos Iniciales'!A167=\"\",\"\",\"No\"))))","v":""},{"$f":"(IF('Datos Iniciales'!A167=\"Otros\",\"Si\",(IF('Datos Iniciales'!A167=\"\",\"\",\"No\"))))","v":""},{"$f":"(IF('Datos Iniciales'!A167=\"Prospecto\",\"Si\",(IF('Datos Iniciales'!A167=\"\",\"\",\"No\"))))","v":""},{"$f":"(IF('Datos Iniciales'!A167=\"Proveedor\",\"Si\",(IF('Datos Iniciales'!A167=\"\",\"\",\"No\"))))","v":""},{"$f":"IF('Datos Iniciales'!B167=\"\",\"\",'Datos Iniciales'!B167)","v":""},{"$f":"IF('Datos Iniciales'!C167=\"\",\"\",'Datos Iniciales'!C167)","v":""},{"$f":"IF('Datos Iniciales'!D167=\"\",\"\",'Datos Iniciales'!D167)","v":""},{"$f":"IF('Datos Iniciales'!E167=datos!$I$2,datos!$J$2,(IF('Datos Iniciales'!E167=datos!$I$3,datos!$J$3,(IF('Datos Iniciales'!E167=datos!$I$4,datos!$J$4,(IF('Datos Iniciales'!E167=datos!$I$5,datos!$J$5,(IF('Datos Iniciales'!E167=datos!$I$6,datos!$J$6,(IF('Datos Iniciales'!E167=datos!$I$7,datos!$J$7,(IF('Datos Iniciales'!E167=datos!$I$2,datos!$J$2,(IF('Datos Iniciales'!E167=datos!$I$8,datos!$J$8,(IF('Datos Iniciales'!E167=datos!$I$9,datos!$J$9,(IF('Datos Iniciales'!E167=datos!$I$10,datos!$J$10,(IF('Datos Iniciales'!E167=datos!$I$11,datos!$J$11,(IF('Datos Iniciales'!E167=datos!$I$12,datos!$J$12,(IF('Datos Iniciales'!E167=datos!$I$13,datos!$J$13,(IF('Datos Iniciales'!E167=datos!$I$14,datos!$J$14,(IF('Datos Iniciales'!E167=datos!$I$15,datos!$J$15,\"\")))))))))))))))))))))))))))))","v":""},{"$f":"IF('Datos Iniciales'!F167=\"\",\"\",'Datos Iniciales'!F167)","v":""},{"$f":"IFERROR(datos!B166,\"\")","v":""},null,null,null,null,{"$f":"IF('Datos Iniciales'!H167=\"\",\"\",'Datos Iniciales'!H167)","v":""},{"$f":"IF('Datos Iniciales'!I167=\"\",\"\",datos!$K$2)","v":""},{"$f":"IFERROR(VLOOKUP('Datos Iniciales'!J167,datos!O165:P1284,2,FALSE),\"\")","v":""},null,{"$f":"IF('Datos Iniciales'!K167=\"\",\"\",(CONCATENATE(RIGHT('Datos Iniciales'!K167,1),\"-\",'Datos Iniciales'!L167,\"-\",'Datos Iniciales'!M167)))","v":""},null,null,null,{"$f":"IF('Datos Iniciales'!N167=\"\",\"\",'Datos Iniciales'!N167)","v":""},{"$f":"IF('Datos Iniciales'!O167=\"\",\"\",'Datos Iniciales'!O167)","v":""},null,null,null,null,{"$f":"IF('Datos Iniciales'!P167=\"\",\"\",'Datos Iniciales'!P167)","v":""},null,null,null,null,null,null,null,null,null,null,null,null,{"$f":"IF('Datos Iniciales'!B167=\"\",\"\",(IF('Datos Iniciales'!B167=\"Si\",\"002\",\"003\")))","v":""},null,{"$f":"IF('Datos Iniciales'!Q167=\"\",\"\",(IF('Datos Iniciales'!Q167=datos!S166,\"0\",\"2\")))","v":""},{"$f":"IF('Datos Iniciales'!B167=\"\",\"\",(IF('Datos Iniciales'!B167=\"Si\",\"O-48\",\"O-49\")))","v":""}]
[{"$f":"IF('Datos Iniciales'!B168=\"\",\"\",\"Si\")","v":""},{"$f":"(IF('Datos Iniciales'!A168=\"Cliente\",\"Si\",(IF('Datos Iniciales'!A168=\"\",\"\",\"No\"))))","v":""},{"$f":"(IF('Datos Iniciales'!A168=\"Distribuidor\",\"Si\",(IF('Datos Iniciales'!A168=\"\",\"\",\"No\"))))","v":""},{"$f":"(IF('Datos Iniciales'!A168=\"Otros\",\"Si\",(IF('Datos Iniciales'!A168=\"\",\"\",\"No\"))))","v":""},{"$f":"(IF('Datos Iniciales'!A168=\"Prospecto\",\"Si\",(IF('Datos Iniciales'!A168=\"\",\"\",\"No\"))))","v":""},{"$f":"(IF('Datos Iniciales'!A168=\"Proveedor\",\"Si\",(IF('Datos Iniciales'!A168=\"\",\"\",\"No\"))))","v":""},{"$f":"IF('Datos Iniciales'!B168=\"\",\"\",'Datos Iniciales'!B168)","v":""},{"$f":"IF('Datos Iniciales'!C168=\"\",\"\",'Datos Iniciales'!C168)","v":""},{"$f":"IF('Datos Iniciales'!D168=\"\",\"\",'Datos Iniciales'!D168)","v":""},{"$f":"IF('Datos Iniciales'!E168=datos!$I$2,datos!$J$2,(IF('Datos Iniciales'!E168=datos!$I$3,datos!$J$3,(IF('Datos Iniciales'!E168=datos!$I$4,datos!$J$4,(IF('Datos Iniciales'!E168=datos!$I$5,datos!$J$5,(IF('Datos Iniciales'!E168=datos!$I$6,datos!$J$6,(IF('Datos Iniciales'!E168=datos!$I$7,datos!$J$7,(IF('Datos Iniciales'!E168=datos!$I$2,datos!$J$2,(IF('Datos Iniciales'!E168=datos!$I$8,datos!$J$8,(IF('Datos Iniciales'!E168=datos!$I$9,datos!$J$9,(IF('Datos Iniciales'!E168=datos!$I$10,datos!$J$10,(IF('Datos Iniciales'!E168=datos!$I$11,datos!$J$11,(IF('Datos Iniciales'!E168=datos!$I$12,datos!$J$12,(IF('Datos Iniciales'!E168=datos!$I$13,datos!$J$13,(IF('Datos Iniciales'!E168=datos!$I$14,datos!$J$14,(IF('Datos Iniciales'!E168=datos!$I$15,datos!$J$15,\"\")))))))))))))))))))))))))))))","v":""},{"$f":"IF('Datos Iniciales'!F168=\"\",\"\",'Datos Iniciales'!F168)","v":""},{"$f":"IFERROR(datos!B167,\"\")","v":""},null,null,null,null,{"$f":"IF('Datos Iniciales'!H168=\"\",\"\",'Datos Iniciales'!H168)","v":""},{"$f":"IF('Datos Iniciales'!I168=\"\",\"\",datos!$K$2)","v":""},{"$f":"IFERROR(VLOOKUP('Datos Iniciales'!J168,datos!O166:P1285,2,FALSE),\"\")","v":""},null,{"$f":"IF('Datos Iniciales'!K168=\"\",\"\",(CONCATENATE(RIGHT('Datos Iniciales'!K168,1),\"-\",'Datos Iniciales'!L168,\"-\",'Datos Iniciales'!M168)))","v":""},null,null,null,{"$f":"IF('Datos Iniciales'!N168=\"\",\"\",'Datos Iniciales'!N168)","v":""},{"$f":"IF('Datos Iniciales'!O168=\"\",\"\",'Datos Iniciales'!O168)","v":""},null,null,null,null,{"$f":"IF('Datos Iniciales'!P168=\"\",\"\",'Datos Iniciales'!P168)","v":""},null,null,null,null,null,null,null,null,null,null,null,null,{"$f":"IF('Datos Iniciales'!B168=\"\",\"\",(IF('Datos Iniciales'!B168=\"Si\",\"002\",\"003\")))","v":""},null,{"$f":"IF('Datos Iniciales'!Q168=\"\",\"\",(IF('Datos Iniciales'!Q168=datos!S167,\"0\",\"2\")))","v":""},{"$f":"IF('Datos Iniciales'!B168=\"\",\"\",(IF('Datos Iniciales'!B168=\"Si\",\"O-48\",\"O-49\")))","v":""}]
[{"$f":"IF('Datos Iniciales'!B169=\"\",\"\",\"Si\")","v":""},{"$f":"(IF('Datos Iniciales'!A169=\"Cliente\",\"Si\",(IF('Datos Iniciales'!A169=\"\",\"\",\"No\"))))","v":""},{"$f":"(IF('Datos Iniciales'!A169=\"Distribuidor\",\"Si\",(IF('Datos Iniciales'!A169=\"\",\"\",\"No\"))))","v":""},{"$f":"(IF('Datos Iniciales'!A169=\"Otros\",\"Si\",(IF('Datos Iniciales'!A169=\"\",\"\",\"No\"))))","v":""},{"$f":"(IF('Datos Iniciales'!A169=\"Prospecto\",\"Si\",(IF('Datos Iniciales'!A169=\"\",\"\",\"No\"))))","v":""},{"$f":"(IF('Datos Iniciales'!A169=\"Proveedor\",\"Si\",(IF('Datos Iniciales'!A169=\"\",\"\",\"No\"))))","v":""},{"$f":"IF('Datos Iniciales'!B169=\"\",\"\",'Datos Iniciales'!B169)","v":""},{"$f":"IF('Datos Iniciales'!C169=\"\",\"\",'Datos Iniciales'!C169)","v":""},{"$f":"IF('Datos Iniciales'!D169=\"\",\"\",'Datos Iniciales'!D169)","v":""},{"$f":"IF('Datos Iniciales'!E169=datos!$I$2,datos!$J$2,(IF('Datos Iniciales'!E169=datos!$I$3,datos!$J$3,(IF('Datos Iniciales'!E169=datos!$I$4,datos!$J$4,(IF('Datos Iniciales'!E169=datos!$I$5,datos!$J$5,(IF('Datos Iniciales'!E169=datos!$I$6,datos!$J$6,(IF('Datos Iniciales'!E169=datos!$I$7,datos!$J$7,(IF('Datos Iniciales'!E169=datos!$I$2,datos!$J$2,(IF('Datos Iniciales'!E169=datos!$I$8,datos!$J$8,(IF('Datos Iniciales'!E169=datos!$I$9,datos!$J$9,(IF('Datos Iniciales'!E169=datos!$I$10,datos!$J$10,(IF('Datos Iniciales'!E169=datos!$I$11,datos!$J$11,(IF('Datos Iniciales'!E169=datos!$I$12,datos!$J$12,(IF('Datos Iniciales'!E169=datos!$I$13,datos!$J$13,(IF('Datos Iniciales'!E169=datos!$I$14,datos!$J$14,(IF('Datos Iniciales'!E169=datos!$I$15,datos!$J$15,\"\")))))))))))))))))))))))))))))","v":""},{"$f":"IF('Datos Iniciales'!F169=\"\",\"\",'Datos Iniciales'!F169)","v":""},{"$f":"IFERROR(datos!B168,\"\")","v":""},null,null,null,null,{"$f":"IF('Datos Iniciales'!H169=\"\",\"\",'Datos Iniciales'!H169)","v":""},{"$f":"IF('Datos Iniciales'!I169=\"\",\"\",datos!$K$2)","v":""},{"$f":"IFERROR(VLOOKUP('Datos Iniciales'!J169,datos!O167:P1286,2,FALSE),\"\")","v":""},null,{"$f":"IF('Datos Iniciales'!K169=\"\",\"\",(CONCATENATE(RIGHT('Datos Iniciales'!K169,1),\"-\",'Datos Iniciales'!L169,\"-\",'Datos Iniciales'!M169)))","v":""},null,null,null,{"$f":"IF('Datos Iniciales'!N169=\"\",\"\",'Datos Iniciales'!N169)","v":""},{"$f":"IF('Datos Iniciales'!O169=\"\",\"\",'Datos Iniciales'!O169)","v":""},null,null,null,null,{"$f":"IF('Datos Iniciales'!P169=\"\",\"\",'Datos Iniciales'!P169)","v":""},null,null,null,null,null,null,null,null,null,null,null,null,{"$f":"IF('Datos Iniciales'!B169=\"\",\"\",(IF('Datos Iniciales'!B169=\"Si\",\"002\",\"003\")))","v":""},null,{"$f":"IF('Datos Iniciales'!Q169=\"\",\"\",(IF('Datos Iniciales'!Q169=datos!S168,\"0\",\"2\")))","v":""},{"$f":"IF('Datos Iniciales'!B169=\"\",\"\",(IF('Datos Iniciales'!B169=\"Si\",\"O-48\",\"O-49\")))","v":""}]
[{"$f":"IF('Datos Iniciales'!B170=\"\",\"\",\"Si\")","v":""},{"$f":"(IF('Datos Iniciales'!A170=\"Cliente\",\"Si\",(IF('Datos Iniciales'!A170=\"\",\"\",\"No\"))))","v":""},{"$f":"(IF('Datos Iniciales'!A170=\"Distribuidor\",\"Si\",(IF('Datos Iniciales'!A170=\"\",\"\",\"No\"))))","v":""},{"$f":"(IF('Datos Iniciales'!A170=\"Otros\",\"Si\",(IF('Datos Iniciales'!A170=\"\",\"\",\"No\"))))","v":""},{"$f":"(IF('Datos Iniciales'!A170=\"Prospecto\",\"Si\",(IF('Datos Iniciales'!A170=\"\",\"\",\"No\"))))","v":""},{"$f":"(IF('Datos Iniciales'!A170=\"Proveedor\",\"Si\",(IF('Datos Iniciales'!A170=\"\",\"\",\"No\"))))","v":""},{"$f":"IF('Datos Iniciales'!B170=\"\",\"\",'Datos Iniciales'!B170)","v":""},{"$f":"IF('Datos Iniciales'!C170=\"\",\"\",'Datos Iniciales'!C170)","v":""},{"$f":"IF('Datos Iniciales'!D170=\"\",\"\",'Datos Iniciales'!D170)","v":""},{"$f":"IF('Datos Iniciales'!E170=datos!$I$2,datos!$J$2,(IF('Datos Iniciales'!E170=datos!$I$3,datos!$J$3,(IF('Datos Iniciales'!E170=datos!$I$4,datos!$J$4,(IF('Datos Iniciales'!E170=datos!$I$5,datos!$J$5,(IF('Datos Iniciales'!E170=datos!$I$6,datos!$J$6,(IF('Datos Iniciales'!E170=datos!$I$7,datos!$J$7,(IF('Datos Iniciales'!E170=datos!$I$2,datos!$J$2,(IF('Datos Iniciales'!E170=datos!$I$8,datos!$J$8,(IF('Datos Iniciales'!E170=datos!$I$9,datos!$J$9,(IF('Datos Iniciales'!E170=datos!$I$10,datos!$J$10,(IF('Datos Iniciales'!E170=datos!$I$11,datos!$J$11,(IF('Datos Iniciales'!E170=datos!$I$12,datos!$J$12,(IF('Datos Iniciales'!E170=datos!$I$13,datos!$J$13,(IF('Datos Iniciales'!E170=datos!$I$14,datos!$J$14,(IF('Datos Iniciales'!E170=datos!$I$15,datos!$J$15,\"\")))))))))))))))))))))))))))))","v":""},{"$f":"IF('Datos Iniciales'!F170=\"\",\"\",'Datos Iniciales'!F170)","v":""},{"$f":"IFERROR(datos!B169,\"\")","v":""},null,null,null,null,{"$f":"IF('Datos Iniciales'!H170=\"\",\"\",'Datos Iniciales'!H170)","v":""},{"$f":"IF('Datos Iniciales'!I170=\"\",\"\",datos!$K$2)","v":""},{"$f":"IFERROR(VLOOKUP('Datos Iniciales'!J170,datos!O168:P1287,2,FALSE),\"\")","v":""},null,{"$f":"IF('Datos Iniciales'!K170=\"\",\"\",(CONCATENATE(RIGHT('Datos Iniciales'!K170,1),\"-\",'Datos Iniciales'!L170,\"-\",'Datos Iniciales'!M170)))","v":""},null,null,null,{"$f":"IF('Datos Iniciales'!N170=\"\",\"\",'Datos Iniciales'!N170)","v":""},{"$f":"IF('Datos Iniciales'!O170=\"\",\"\",'Datos Iniciales'!O170)","v":""},null,null,null,null,{"$f":"IF('Datos Iniciales'!P170=\"\",\"\",'Datos Iniciales'!P170)","v":""},null,null,null,null,null,null,null,null,null,null,null,null,{"$f":"IF('Datos Iniciales'!B170=\"\",\"\",(IF('Datos Iniciales'!B170=\"Si\",\"002\",\"003\")))","v":""},null,{"$f":"IF('Datos Iniciales'!Q170=\"\",\"\",(IF('Datos Iniciales'!Q170=datos!S169,\"0\",\"2\")))","v":""},{"$f":"IF('Datos Iniciales'!B170=\"\",\"\",(IF('Datos Iniciales'!B170=\"Si\",\"O-48\",\"O-49\")))","v":""}]
[{"$f":"IF('Datos Iniciales'!B171=\"\",\"\",\"Si\")","v":""},{"$f":"(IF('Datos Iniciales'!A171=\"Cliente\",\"Si\",(IF('Datos Iniciales'!A171=\"\",\"\",\"No\"))))","v":""},{"$f":"(IF('Datos Iniciales'!A171=\"Distribuidor\",\"Si\",(IF('Datos Iniciales'!A171=\"\",\"\",\"No\"))))","v":""},{"$f":"(IF('Datos Iniciales'!A171=\"Otros\",\"Si\",(IF('Datos Iniciales'!A171=\"\",\"\",\"No\"))))","v":""},{"$f":"(IF('Datos Iniciales'!A171=\"Prospecto\",\"Si\",(IF('Datos Iniciales'!A171=\"\",\"\",\"No\"))))","v":""},{"$f":"(IF('Datos Iniciales'!A171=\"Proveedor\",\"Si\",(IF('Datos Iniciales'!A171=\"\",\"\",\"No\"))))","v":""},{"$f":"IF('Datos Iniciales'!B171=\"\",\"\",'Datos Iniciales'!B171)","v":""},{"$f":"IF('Datos Iniciales'!C171=\"\",\"\",'Datos Iniciales'!C171)","v":""},{"$f":"IF('Datos Iniciales'!D171=\"\",\"\",'Datos Iniciales'!D171)","v":""},{"$f":"IF('Datos Iniciales'!E171=datos!$I$2,datos!$J$2,(IF('Datos Iniciales'!E171=datos!$I$3,datos!$J$3,(IF('Datos Iniciales'!E171=datos!$I$4,datos!$J$4,(IF('Datos Iniciales'!E171=datos!$I$5,datos!$J$5,(IF('Datos Iniciales'!E171=datos!$I$6,datos!$J$6,(IF('Datos Iniciales'!E171=datos!$I$7,datos!$J$7,(IF('Datos Iniciales'!E171=datos!$I$2,datos!$J$2,(IF('Datos Iniciales'!E171=datos!$I$8,datos!$J$8,(IF('Datos Iniciales'!E171=datos!$I$9,datos!$J$9,(IF('Datos Iniciales'!E171=datos!$I$10,datos!$J$10,(IF('Datos Iniciales'!E171=datos!$I$11,datos!$J$11,(IF('Datos Iniciales'!E171=datos!$I$12,datos!$J$12,(IF('Datos Iniciales'!E171=datos!$I$13,datos!$J$13,(IF('Datos Iniciales'!E171=datos!$I$14,datos!$J$14,(IF('Datos Iniciales'!E171=datos!$I$15,datos!$J$15,\"\")))))))))))))))))))))))))))))","v":""},{"$f":"IF('Datos Iniciales'!F171=\"\",\"\",'Datos Iniciales'!F171)","v":""},{"$f":"IFERROR(datos!B170,\"\")","v":""},null,null,null,null,{"$f":"IF('Datos Iniciales'!H171=\"\",\"\",'Datos Iniciales'!H171)","v":""},{"$f":"IF('Datos Iniciales'!I171=\"\",\"\",datos!$K$2)","v":""},{"$f":"IFERROR(VLOOKUP('Datos Iniciales'!J171,datos!O169:P1288,2,FALSE),\"\")","v":""},null,{"$f":"IF('Datos Iniciales'!K171=\"\",\"\",(CONCATENATE(RIGHT('Datos Iniciales'!K171,1),\"-\",'Datos Iniciales'!L171,\"-\",'Datos Iniciales'!M171)))","v":""},null,null,null,{"$f":"IF('Datos Iniciales'!N171=\"\",\"\",'Datos Iniciales'!N171)","v":""},{"$f":"IF('Datos Iniciales'!O171=\"\",\"\",'Datos Iniciales'!O171)","v":""},null,null,null,null,{"$f":"IF('Datos Iniciales'!P171=\"\",\"\",'Datos Iniciales'!P171)","v":""},null,null,null,null,null,null,null,null,null,null,null,null,{"$f":"IF('Datos Iniciales'!B171=\"\",\"\",(IF('Datos Iniciales'!B171=\"Si\",\"002\",\"003\")))","v":""},null,{"$f":"IF('Datos Iniciales'!Q171=\"\",\"\",(IF('Datos Iniciales'!Q171=datos!S170,\"0\",\"2\")))","v":""},{"$f":"IF('Datos Iniciales'!B171=\"\",\"\",(IF('Datos Iniciales'!B171=\"Si\",\"O-48\",\"O-49\")))","v":""}]
[{"$f":"IF('Datos Iniciales'!B172=\"\",\"\",\"Si\")","v":""},{"$f":"(IF('Datos Iniciales'!A172=\"Cliente\",\"Si\",(IF('Datos Iniciales'!A172=\"\",\"\",\"No\"))))","v":""},{"$f":"(IF('Datos Iniciales'!A172=\"Distribuidor\",\"Si\",(IF('Datos Iniciales'!A172=\"\",\"\",\"No\"))))","v":""},{"$f":"(IF('Datos Iniciales'!A172=\"Otros\",\"Si\",(IF('Datos Iniciales'!A172=\"\",\"\",\"No\"))))","v":""},{"$f":"(IF('Datos Iniciales'!A172=\"Prospecto\",\"Si\",(IF('Datos Iniciales'!A172=\"\",\"\",\"No\"))))","v":""},{"$f":"(IF('Datos Iniciales'!A172=\"Proveedor\",\"Si\",(IF('Datos Iniciales'!A172=\"\",\"\",\"No\"))))","v":""},{"$f":"IF('Datos Iniciales'!B172=\"\",\"\",'Datos Iniciales'!B172)","v":""},{"$f":"IF('Datos Iniciales'!C172=\"\",\"\",'Datos Iniciales'!C172)","v":""},{"$f":"IF('Datos Iniciales'!D172=\"\",\"\",'Datos Iniciales'!D172)","v":""},{"$f":"IF('Datos Iniciales'!E172=datos!$I$2,datos!$J$2,(IF('Datos Iniciales'!E172=datos!$I$3,datos!$J$3,(IF('Datos Iniciales'!E172=datos!$I$4,datos!$J$4,(IF('Datos Iniciales'!E172=datos!$I$5,datos!$J$5,(IF('Datos Iniciales'!E172=datos!$I$6,datos!$J$6,(IF('Datos Iniciales'!E172=datos!$I$7,datos!$J$7,(IF('Datos Iniciales'!E172=datos!$I$2,datos!$J$2,(IF('Datos Iniciales'!E172=datos!$I$8,datos!$J$8,(IF('Datos Iniciales'!E172=datos!$I$9,datos!$J$9,(IF('Datos Iniciales'!E172=datos!$I$10,datos!$J$10,(IF('Datos Iniciales'!E172=datos!$I$11,datos!$J$11,(IF('Datos Iniciales'!E172=datos!$I$12,datos!$J$12,(IF('Datos Iniciales'!E172=datos!$I$13,datos!$J$13,(IF('Datos Iniciales'!E172=datos!$I$14,datos!$J$14,(IF('Datos Iniciales'!E172=datos!$I$15,datos!$J$15,\"\")))))))))))))))))))))))))))))","v":""},{"$f":"IF('Datos Iniciales'!F172=\"\",\"\",'Datos Iniciales'!F172)","v":""},{"$f":"IFERROR(datos!B171,\"\")","v":""},null,null,null,null,{"$f":"IF('Datos Iniciales'!H172=\"\",\"\",'Datos Iniciales'!H172)","v":""},{"$f":"IF('Datos Iniciales'!I172=\"\",\"\",datos!$K$2)","v":""},{"$f":"IFERROR(VLOOKUP('Datos Iniciales'!J172,datos!O170:P1289,2,FALSE),\"\")","v":""},null,{"$f":"IF('Datos Iniciales'!K172=\"\",\"\",(CONCATENATE(RIGHT('Datos Iniciales'!K172,1),\"-\",'Datos Iniciales'!L172,\"-\",'Datos Iniciales'!M172)))","v":""},null,null,null,{"$f":"IF('Datos Iniciales'!N172=\"\",\"\",'Datos Iniciales'!N172)","v":""},{"$f":"IF('Datos Iniciales'!O172=\"\",\"\",'Datos Iniciales'!O172)","v":""},null,null,null,null,{"$f":"IF('Datos Iniciales'!P172=\"\",\"\",'Datos Iniciales'!P172)","v":""},null,null,null,null,null,null,null,null,null,null,null,null,{"$f":"IF('Datos Iniciales'!B172=\"\",\"\",(IF('Datos Iniciales'!B172=\"Si\",\"002\",\"003\")))","v":""},null,{"$f":"IF('Datos Iniciales'!Q172=\"\",\"\",(IF('Datos Iniciales'!Q172=datos!S171,\"0\",\"2\")))","v":""},{"$f":"IF('Datos Iniciales'!B172=\"\",\"\",(IF('Datos Iniciales'!B172=\"Si\",\"O-48\",\"O-49\")))","v":""}]
[{"$f":"IF('Datos Iniciales'!B173=\"\",\"\",\"Si\")","v":""},{"$f":"(IF('Datos Iniciales'!A173=\"Cliente\",\"Si\",(IF('Datos Iniciales'!A173=\"\",\"\",\"No\"))))","v":""},{"$f":"(IF('Datos Iniciales'!A173=\"Distribuidor\",\"Si\",(IF('Datos Iniciales'!A173=\"\",\"\",\"No\"))))","v":""},{"$f":"(IF('Datos Iniciales'!A173=\"Otros\",\"Si\",(IF('Datos Iniciales'!A173=\"\",\"\",\"No\"))))","v":""},{"$f":"(IF('Datos Iniciales'!A173=\"Prospecto\",\"Si\",(IF('Datos Iniciales'!A173=\"\",\"\",\"No\"))))","v":""},{"$f":"(IF('Datos Iniciales'!A173=\"Proveedor\",\"Si\",(IF('Datos Iniciales'!A173=\"\",\"\",\"No\"))))","v":""},{"$f":"IF('Datos Iniciales'!B173=\"\",\"\",'Datos Iniciales'!B173)","v":""},{"$f":"IF('Datos Iniciales'!C173=\"\",\"\",'Datos Iniciales'!C173)","v":""},{"$f":"IF('Datos Iniciales'!D173=\"\",\"\",'Datos Iniciales'!D173)","v":""},{"$f":"IF('Datos Iniciales'!E173=datos!$I$2,datos!$J$2,(IF('Datos Iniciales'!E173=datos!$I$3,datos!$J$3,(IF('Datos Iniciales'!E173=datos!$I$4,datos!$J$4,(IF('Datos Iniciales'!E173=datos!$I$5,datos!$J$5,(IF('Datos Iniciales'!E173=datos!$I$6,datos!$J$6,(IF('Datos Iniciales'!E173=datos!$I$7,datos!$J$7,(IF('Datos Iniciales'!E173=datos!$I$2,datos!$J$2,(IF('Datos Iniciales'!E173=datos!$I$8,datos!$J$8,(IF('Datos Iniciales'!E173=datos!$I$9,datos!$J$9,(IF('Datos Iniciales'!E173=datos!$I$10,datos!$J$10,(IF('Datos Iniciales'!E173=datos!$I$11,datos!$J$11,(IF('Datos Iniciales'!E173=datos!$I$12,datos!$J$12,(IF('Datos Iniciales'!E173=datos!$I$13,datos!$J$13,(IF('Datos Iniciales'!E173=datos!$I$14,datos!$J$14,(IF('Datos Iniciales'!E173=datos!$I$15,datos!$J$15,\"\")))))))))))))))))))))))))))))","v":""},{"$f":"IF('Datos Iniciales'!F173=\"\",\"\",'Datos Iniciales'!F173)","v":""},{"$f":"IFERROR(datos!B172,\"\")","v":""},null,null,null,null,{"$f":"IF('Datos Iniciales'!H173=\"\",\"\",'Datos Iniciales'!H173)","v":""},{"$f":"IF('Datos Iniciales'!I173=\"\",\"\",datos!$K$2)","v":""},{"$f":"IFERROR(VLOOKUP('Datos Iniciales'!J173,datos!O171:P1290,2,FALSE),\"\")","v":""},null,{"$f":"IF('Datos Iniciales'!K173=\"\",\"\",(CONCATENATE(RIGHT('Datos Iniciales'!K173,1),\"-\",'Datos Iniciales'!L173,\"-\",'Datos Iniciales'!M173)))","v":""},null,null,null,{"$f":"IF('Datos Iniciales'!N173=\"\",\"\",'Datos Iniciales'!N173)","v":""},{"$f":"IF('Datos Iniciales'!O173=\"\",\"\",'Datos Iniciales'!O173)","v":""},null,null,null,null,{"$f":"IF('Datos Iniciales'!P173=\"\",\"\",'Datos Iniciales'!P173)","v":""},null,null,null,null,null,null,null,null,null,null,null,null,{"$f":"IF('Datos Iniciales'!B173=\"\",\"\",(IF('Datos Iniciales'!B173=\"Si\",\"002\",\"003\")))","v":""},null,{"$f":"IF('Datos Iniciales'!Q173=\"\",\"\",(IF('Datos Iniciales'!Q173=datos!S172,\"0\",\"2\")))","v":""},{"$f":"IF('Datos Iniciales'!B173=\"\",\"\",(IF('Datos Iniciales'!B173=\"Si\",\"O-48\",\"O-49\")))","v":""}]
[{"$f":"IF('Datos Iniciales'!B174=\"\",\"\",\"Si\")","v":""},{"$f":"(IF('Datos Iniciales'!A174=\"Cliente\",\"Si\",(IF('Datos Iniciales'!A174=\"\",\"\",\"No\"))))","v":""},{"$f":"(IF('Datos Iniciales'!A174=\"Distribuidor\",\"Si\",(IF('Datos Iniciales'!A174=\"\",\"\",\"No\"))))","v":""},{"$f":"(IF('Datos Iniciales'!A174=\"Otros\",\"Si\",(IF('Datos Iniciales'!A174=\"\",\"\",\"No\"))))","v":""},{"$f":"(IF('Datos Iniciales'!A174=\"Prospecto\",\"Si\",(IF('Datos Iniciales'!A174=\"\",\"\",\"No\"))))","v":""},{"$f":"(IF('Datos Iniciales'!A174=\"Proveedor\",\"Si\",(IF('Datos Iniciales'!A174=\"\",\"\",\"No\"))))","v":""},{"$f":"IF('Datos Iniciales'!B174=\"\",\"\",'Datos Iniciales'!B174)","v":""},{"$f":"IF('Datos Iniciales'!C174=\"\",\"\",'Datos Iniciales'!C174)","v":""},{"$f":"IF('Datos Iniciales'!D174=\"\",\"\",'Datos Iniciales'!D174)","v":""},{"$f":"IF('Datos Iniciales'!E174=datos!$I$2,datos!$J$2,(IF('Datos Iniciales'!E174=datos!$I$3,datos!$J$3,(IF('Datos Iniciales'!E174=datos!$I$4,datos!$J$4,(IF('Datos Iniciales'!E174=datos!$I$5,datos!$J$5,(IF('Datos Iniciales'!E174=datos!$I$6,datos!$J$6,(IF('Datos Iniciales'!E174=datos!$I$7,datos!$J$7,(IF('Datos Iniciales'!E174=datos!$I$2,datos!$J$2,(IF('Datos Iniciales'!E174=datos!$I$8,datos!$J$8,(IF('Datos Iniciales'!E174=datos!$I$9,datos!$J$9,(IF('Datos Iniciales'!E174=datos!$I$10,datos!$J$10,(IF('Datos Iniciales'!E174=datos!$I$11,datos!$J$11,(IF('Datos Iniciales'!E174=datos!$I$12,datos!$J$12,(IF('Datos Iniciales'!E174=datos!$I$13,datos!$J$13,(IF('Datos Iniciales'!E174=datos!$I$14,datos!$J$14,(IF('Datos Iniciales'!E174=datos!$I$15,datos!$J$15,\"\")))))))))))))))))))))))))))))","v":""},{"$f":"IF('Datos Iniciales'!F174=\"\",\"\",'Datos Iniciales'!F174)","v":""},{"$f":"IFERROR(datos!B173,\"\")","v":""},null,null,null,null,{"$f":"IF('Datos Iniciales'!H174=\"\",\"\",'Datos Iniciales'!H174)","v":""},{"$f":"IF('Datos Iniciales'!I174=\"\",\"\",datos!$K$2)","v":""},{"$f":"IFERROR(VLOOKUP('Datos Iniciales'!J174,datos!O172:P1291,2,FALSE),\"\")","v":""},null,{"$f":"IF('Datos Iniciales'!K174=\"\",\"\",(CONCATENATE(RIGHT('Datos Iniciales'!K174,1),\"-\",'Datos Iniciales'!L174,\"-\",'Datos Iniciales'!M174)))","v":""},null,null,null,{"$f":"IF('Datos Iniciales'!N174=\"\",\"\",'Datos Iniciales'!N174)","v":""},{"$f":"IF('Datos Iniciales'!O174=\"\",\"\",'Datos Iniciales'!O174)","v":""},null,null,null,null,{"$f":"IF('Datos Iniciales'!P174=\"\",\"\",'Datos Iniciales'!P174)","v":""},null,null,null,null,null,null,null,null,null,null,null,null,{"$f":"IF('Datos Iniciales'!B174=\"\",\"\",(IF('Datos Iniciales'!B174=\"Si\",\"002\",\"003\")))","v":""},null,{"$f":"IF('Datos Iniciales'!Q174=\"\",\"\",(IF('Datos Iniciales'!Q174=datos!S173,\"0\",\"2\")))","v":""},{"$f":"IF('Datos Iniciales'!B174=\"\",\"\",(IF('Datos Iniciales'!B174=\"Si\",\"O-48\",\"O-49\")))","v":""}]
[{"$f":"IF('Datos Iniciales'!B175=\"\",\"\",\"Si\")","v":""},{"$f":"(IF('Datos Iniciales'!A175=\"Cliente\",\"Si\",(IF('Datos Iniciales'!A175=\"\",\"\",\"No\"))))","v":""},{"$f":"(IF('Datos Iniciales'!A175=\"Distribuidor\",\"Si\",(IF('Datos Iniciales'!A175=\"\",\"\",\"No\"))))","v":""},{"$f":"(IF('Datos Iniciales'!A175=\"Otros\",\"Si\",(IF('Datos Iniciales'!A175=\"\",\"\",\"No\"))))","v":""},{"$f":"(IF('Datos Iniciales'!A175=\"Prospecto\",\"Si\",(IF('Datos Iniciales'!A175=\"\",\"\",\"No\"))))","v":""},{"$f":"(IF('Datos Iniciales'!A175=\"Proveedor\",\"Si\",(IF('Datos Iniciales'!A175=\"\",\"\",\"No\"))))","v":""},{"$f":"IF('Datos Iniciales'!B175=\"\",\"\",'Datos Iniciales'!B175)","v":""},{"$f":"IF('Datos Iniciales'!C175=\"\",\"\",'Datos Iniciales'!C175)","v":""},{"$f":"IF('Datos Iniciales'!D175=\"\",\"\",'Datos Iniciales'!D175)","v":""},{"$f":"IF('Datos Iniciales'!E175=datos!$I$2,datos!$J$2,(IF('Datos Iniciales'!E175=datos!$I$3,datos!$J$3,(IF('Datos Iniciales'!E175=datos!$I$4,datos!$J$4,(IF('Datos Iniciales'!E175=datos!$I$5,datos!$J$5,(IF('Datos Iniciales'!E175=datos!$I$6,datos!$J$6,(IF('Datos Iniciales'!E175=datos!$I$7,datos!$J$7,(IF('Datos Iniciales'!E175=datos!$I$2,datos!$J$2,(IF('Datos Iniciales'!E175=datos!$I$8,datos!$J$8,(IF('Datos Iniciales'!E175=datos!$I$9,datos!$J$9,(IF('Datos Iniciales'!E175=datos!$I$10,datos!$J$10,(IF('Datos Iniciales'!E175=datos!$I$11,datos!$J$11,(IF('Datos Iniciales'!E175=datos!$I$12,datos!$J$12,(IF('Datos Iniciales'!E175=datos!$I$13,datos!$J$13,(IF('Datos Iniciales'!E175=datos!$I$14,datos!$J$14,(IF('Datos Iniciales'!E175=datos!$I$15,datos!$J$15,\"\")))))))))))))))))))))))))))))","v":""},{"$f":"IF('Datos Iniciales'!F175=\"\",\"\",'Datos Iniciales'!F175)","v":""},{"$f":"IFERROR(datos!B174,\"\")","v":""},null,null,null,null,{"$f":"IF('Datos Iniciales'!H175=\"\",\"\",'Datos Iniciales'!H175)","v":""},{"$f":"IF('Datos Iniciales'!I175=\"\",\"\",datos!$K$2)","v":""},{"$f":"IFERROR(VLOOKUP('Datos Iniciales'!J175,datos!O173:P1292,2,FALSE),\"\")","v":""},null,{"$f":"IF('Datos Iniciales'!K175=\"\",\"\",(CONCATENATE(RIGHT('Datos Iniciales'!K175,1),\"-\",'Datos Iniciales'!L175,\"-\",'Datos Iniciales'!M175)))","v":""},null,null,null,{"$f":"IF('Datos Iniciales'!N175=\"\",\"\",'Datos Iniciales'!N175)","v":""},{"$f":"IF('Datos Iniciales'!O175=\"\",\"\",'Datos Iniciales'!O175)","v":""},null,null,null,null,{"$f":"IF('Datos Iniciales'!P175=\"\",\"\",'Datos Iniciales'!P175)","v":""},null,null,null,null,null,null,null,null,null,null,null,null,{"$f":"IF('Datos Iniciales'!B175=\"\",\"\",(IF('Datos Iniciales'!B175=\"Si\",\"002\",\"003\")))","v":""},null,{"$f":"IF('Datos Iniciales'!Q175=\"\",\"\",(IF('Datos Iniciales'!Q175=datos!S174,\"0\",\"2\")))","v":""},{"$f":"IF('Datos Iniciales'!B175=\"\",\"\",(IF('Datos Iniciales'!B175=\"Si\",\"O-48\",\"O-49\")))","v":""}]
[{"$f":"IF('Datos Iniciales'!B176=\"\",\"\",\"Si\")","v":""},{"$f":"(IF('Datos Iniciales'!A176=\"Cliente\",\"Si\",(IF('Datos Iniciales'!A176=\"\",\"\",\"No\"))))","v":""},{"$f":"(IF('Datos Iniciales'!A176=\"Distribuidor\",\"Si\",(IF('Datos Iniciales'!A176=\"\",\"\",\"No\"))))","v":""},{"$f":"(IF('Datos Iniciales'!A176=\"Otros\",\"Si\",(IF('Datos Iniciales'!A176=\"\",\"\",\"No\"))))","v":""},{"$f":"(IF('Datos Iniciales'!A176=\"Prospecto\",\"Si\",(IF('Datos Iniciales'!A176=\"\",\"\",\"No\"))))","v":""},{"$f":"(IF('Datos Iniciales'!A176=\"Proveedor\",\"Si\",(IF('Datos Iniciales'!A176=\"\",\"\",\"No\"))))","v":""},{"$f":"IF('Datos Iniciales'!B176=\"\",\"\",'Datos Iniciales'!B176)","v":""},{"$f":"IF('Datos Iniciales'!C176=\"\",\"\",'Datos Iniciales'!C176)","v":""},{"$f":"IF('Datos Iniciales'!D176=\"\",\"\",'Datos Iniciales'!D176)","v":""},{"$f":"IF('Datos Iniciales'!E176=datos!$I$2,datos!$J$2,(IF('Datos Iniciales'!E176=datos!$I$3,datos!$J$3,(IF('Datos Iniciales'!E176=datos!$I$4,datos!$J$4,(IF('Datos Iniciales'!E176=datos!$I$5,datos!$J$5,(IF('Datos Iniciales'!E176=datos!$I$6,datos!$J$6,(IF('Datos Iniciales'!E176=datos!$I$7,datos!$J$7,(IF('Datos Iniciales'!E176=datos!$I$2,datos!$J$2,(IF('Datos Iniciales'!E176=datos!$I$8,datos!$J$8,(IF('Datos Iniciales'!E176=datos!$I$9,datos!$J$9,(IF('Datos Iniciales'!E176=datos!$I$10,datos!$J$10,(IF('Datos Iniciales'!E176=datos!$I$11,datos!$J$11,(IF('Datos Iniciales'!E176=datos!$I$12,datos!$J$12,(IF('Datos Iniciales'!E176=datos!$I$13,datos!$J$13,(IF('Datos Iniciales'!E176=datos!$I$14,datos!$J$14,(IF('Datos Iniciales'!E176=datos!$I$15,datos!$J$15,\"\")))))))))))))))))))))))))))))","v":""},{"$f":"IF('Datos Iniciales'!F176=\"\",\"\",'Datos Iniciales'!F176)","v":""},{"$f":"IFERROR(datos!B175,\"\")","v":""},null,null,null,null,{"$f":"IF('Datos Iniciales'!H176=\"\",\"\",'Datos Iniciales'!H176)","v":""},{"$f":"IF('Datos Iniciales'!I176=\"\",\"\",datos!$K$2)","v":""},{"$f":"IFERROR(VLOOKUP('Datos Iniciales'!J176,datos!O174:P1293,2,FALSE),\"\")","v":""},null,{"$f":"IF('Datos Iniciales'!K176=\"\",\"\",(CONCATENATE(RIGHT('Datos Iniciales'!K176,1),\"-\",'Datos Iniciales'!L176,\"-\",'Datos Iniciales'!M176)))","v":""},null,null,null,{"$f":"IF('Datos Iniciales'!N176=\"\",\"\",'Datos Iniciales'!N176)","v":""},{"$f":"IF('Datos Iniciales'!O176=\"\",\"\",'Datos Iniciales'!O176)","v":""},null,null,null,null,{"$f":"IF('Datos Iniciales'!P176=\"\",\"\",'Datos Iniciales'!P176)","v":""},null,null,null,null,null,null,null,null,null,null,null,null,{"$f":"IF('Datos Iniciales'!B176=\"\",\"\",(IF('Datos Iniciales'!B176=\"Si\",\"002\",\"003\")))","v":""},null,{"$f":"IF('Datos Iniciales'!Q176=\"\",\"\",(IF('Datos Iniciales'!Q176=datos!S175,\"0\",\"2\")))","v":""},{"$f":"IF('Datos Iniciales'!B176=\"\",\"\",(IF('Datos Iniciales'!B176=\"Si\",\"O-48\",\"O-49\")))","v":""}]
[{"$f":"IF('Datos Iniciales'!B177=\"\",\"\",\"Si\")","v":""},{"$f":"(IF('Datos Iniciales'!A177=\"Cliente\",\"Si\",(IF('Datos Iniciales'!A177=\"\",\"\",\"No\"))))","v":""},{"$f":"(IF('Datos Iniciales'!A177=\"Distribuidor\",\"Si\",(IF('Datos Iniciales'!A177=\"\",\"\",\"No\"))))","v":""},{"$f":"(IF('Datos Iniciales'!A177=\"Otros\",\"Si\",(IF('Datos Iniciales'!A177=\"\",\"\",\"No\"))))","v":""},{"$f":"(IF('Datos Iniciales'!A177=\"Prospecto\",\"Si\",(IF('Datos Iniciales'!A177=\"\",\"\",\"No\"))))","v":""},{"$f":"(IF('Datos Iniciales'!A177=\"Proveedor\",\"Si\",(IF('Datos Iniciales'!A177=\"\",\"\",\"No\"))))","v":""},{"$f":"IF('Datos Iniciales'!B177=\"\",\"\",'Datos Iniciales'!B177)","v":""},{"$f":"IF('Datos Iniciales'!C177=\"\",\"\",'Datos Iniciales'!C177)","v":""},{"$f":"IF('Datos Iniciales'!D177=\"\",\"\",'Datos Iniciales'!D177)","v":""},{"$f":"IF('Datos Iniciales'!E177=datos!$I$2,datos!$J$2,(IF('Datos Iniciales'!E177=datos!$I$3,datos!$J$3,(IF('Datos Iniciales'!E177=datos!$I$4,datos!$J$4,(IF('Datos Iniciales'!E177=datos!$I$5,datos!$J$5,(IF('Datos Iniciales'!E177=datos!$I$6,datos!$J$6,(IF('Datos Iniciales'!E177=datos!$I$7,datos!$J$7,(IF('Datos Iniciales'!E177=datos!$I$2,datos!$J$2,(IF('Datos Iniciales'!E177=datos!$I$8,datos!$J$8,(IF('Datos Iniciales'!E177=datos!$I$9,datos!$J$9,(IF('Datos Iniciales'!E177=datos!$I$10,datos!$J$10,(IF('Datos Iniciales'!E177=datos!$I$11,datos!$J$11,(IF('Datos Iniciales'!E177=datos!$I$12,datos!$J$12,(IF('Datos Iniciales'!E177=datos!$I$13,datos!$J$13,(IF('Datos Iniciales'!E177=datos!$I$14,datos!$J$14,(IF('Datos Iniciales'!E177=datos!$I$15,datos!$J$15,\"\")))))))))))))))))))))))))))))","v":""},{"$f":"IF('Datos Iniciales'!F177=\"\",\"\",'Datos Iniciales'!F177)","v":""},{"$f":"IFERROR(datos!B176,\"\")","v":""},null,null,null,null,{"$f":"IF('Datos Iniciales'!H177=\"\",\"\",'Datos Iniciales'!H177)","v":""},{"$f":"IF('Datos Iniciales'!I177=\"\",\"\",datos!$K$2)","v":""},{"$f":"IFERROR(VLOOKUP('Datos Iniciales'!J177,datos!O175:P1294,2,FALSE),\"\")","v":""},null,{"$f":"IF('Datos Iniciales'!K177=\"\",\"\",(CONCATENATE(RIGHT('Datos Iniciales'!K177,1),\"-\",'Datos Iniciales'!L177,\"-\",'Datos Iniciales'!M177)))","v":""},null,null,null,{"$f":"IF('Datos Iniciales'!N177=\"\",\"\",'Datos Iniciales'!N177)","v":""},{"$f":"IF('Datos Iniciales'!O177=\"\",\"\",'Datos Iniciales'!O177)","v":""},null,null,null,null,{"$f":"IF('Datos Iniciales'!P177=\"\",\"\",'Datos Iniciales'!P177)","v":""},null,null,null,null,null,null,null,null,null,null,null,null,{"$f":"IF('Datos Iniciales'!B177=\"\",\"\",(IF('Datos Iniciales'!B177=\"Si\",\"002\",\"003\")))","v":""},null,{"$f":"IF('Datos Iniciales'!Q177=\"\",\"\",(IF('Datos Iniciales'!Q177=datos!S176,\"0\",\"2\")))","v":""},{"$f":"IF('Datos Iniciales'!B177=\"\",\"\",(IF('Datos Iniciales'!B177=\"Si\",\"O-48\",\"O-49\")))","v":""}]
[{"$f":"IF('Datos Iniciales'!B178=\"\",\"\",\"Si\")","v":""},{"$f":"(IF('Datos Iniciales'!A178=\"Cliente\",\"Si\",(IF('Datos Iniciales'!A178=\"\",\"\",\"No\"))))","v":""},{"$f":"(IF('Datos Iniciales'!A178=\"Distribuidor\",\"Si\",(IF('Datos Iniciales'!A178=\"\",\"\",\"No\"))))","v":""},{"$f":"(IF('Datos Iniciales'!A178=\"Otros\",\"Si\",(IF('Datos Iniciales'!A178=\"\",\"\",\"No\"))))","v":""},{"$f":"(IF('Datos Iniciales'!A178=\"Prospecto\",\"Si\",(IF('Datos Iniciales'!A178=\"\",\"\",\"No\"))))","v":""},{"$f":"(IF('Datos Iniciales'!A178=\"Proveedor\",\"Si\",(IF('Datos Iniciales'!A178=\"\",\"\",\"No\"))))","v":""},{"$f":"IF('Datos Iniciales'!B178=\"\",\"\",'Datos Iniciales'!B178)","v":""},{"$f":"IF('Datos Iniciales'!C178=\"\",\"\",'Datos Iniciales'!C178)","v":""},{"$f":"IF('Datos Iniciales'!D178=\"\",\"\",'Datos Iniciales'!D178)","v":""},{"$f":"IF('Datos Iniciales'!E178=datos!$I$2,datos!$J$2,(IF('Datos Iniciales'!E178=datos!$I$3,datos!$J$3,(IF('Datos Iniciales'!E178=datos!$I$4,datos!$J$4,(IF('Datos Iniciales'!E178=datos!$I$5,datos!$J$5,(IF('Datos Iniciales'!E178=datos!$I$6,datos!$J$6,(IF('Datos Iniciales'!E178=datos!$I$7,datos!$J$7,(IF('Datos Iniciales'!E178=datos!$I$2,datos!$J$2,(IF('Datos Iniciales'!E178=datos!$I$8,datos!$J$8,(IF('Datos Iniciales'!E178=datos!$I$9,datos!$J$9,(IF('Datos Iniciales'!E178=datos!$I$10,datos!$J$10,(IF('Datos Iniciales'!E178=datos!$I$11,datos!$J$11,(IF('Datos Iniciales'!E178=datos!$I$12,datos!$J$12,(IF('Datos Iniciales'!E178=datos!$I$13,datos!$J$13,(IF('Datos Iniciales'!E178=datos!$I$14,datos!$J$14,(IF('Datos Iniciales'!E178=datos!$I$15,datos!$J$15,\"\")))))))))))))))))))))))))))))","v":""},{"$f":"IF('Datos Iniciales'!F178=\"\",\"\",'Datos Iniciales'!F178)","v":""},{"$f":"IFERROR(datos!B177,\"\")","v":""},null,null,null,null,{"$f":"IF('Datos Iniciales'!H178=\"\",\"\",'Datos Iniciales'!H178)","v":""},{"$f":"IF('Datos Iniciales'!I178=\"\",\"\",datos!$K$2)","v":""},{"$f":"IFERROR(VLOOKUP('Datos Iniciales'!J178,datos!O176:P1295,2,FALSE),\"\")","v":""},null,{"$f":"IF('Datos Iniciales'!K178=\"\",\"\",(CONCATENATE(RIGHT('Datos Iniciales'!K178,1),\"-\",'Datos Iniciales'!L178,\"-\",'Datos Iniciales'!M178)))","v":""},null,null,null,{"$f":"IF('Datos Iniciales'!N178=\"\",\"\",'Datos Iniciales'!N178)","v":""},{"$f":"IF('Datos Iniciales'!O178=\"\",\"\",'Datos Iniciales'!O178)","v":""},null,null,null,null,{"$f":"IF('Datos Iniciales'!P178=\"\",\"\",'Datos Iniciales'!P178)","v":""},null,null,null,null,null,null,null,null,null,null,null,null,{"$f":"IF('Datos Iniciales'!B178=\"\",\"\",(IF('Datos Iniciales'!B178=\"Si\",\"002\",\"003\")))","v":""},null,{"$f":"IF('Datos Iniciales'!Q178=\"\",\"\",(IF('Datos Iniciales'!Q178=datos!S177,\"0\",\"2\")))","v":""},{"$f":"IF('Datos Iniciales'!B178=\"\",\"\",(IF('Datos Iniciales'!B178=\"Si\",\"O-48\",\"O-49\")))","v":""}]
[{"$f":"IF('Datos Iniciales'!B179=\"\",\"\",\"Si\")","v":""},{"$f":"(IF('Datos Iniciales'!A179=\"Cliente\",\"Si\",(IF('Datos Iniciales'!A179=\"\",\"\",\"No\"))))","v":""},{"$f":"(IF('Datos Iniciales'!A179=\"Distribuidor\",\"Si\",(IF('Datos Iniciales'!A179=\"\",\"\",\"No\"))))","v":""},{"$f":"(IF('Datos Iniciales'!A179=\"Otros\",\"Si\",(IF('Datos Iniciales'!A179=\"\",\"\",\"No\"))))","v":""},{"$f":"(IF('Datos Iniciales'!A179=\"Prospecto\",\"Si\",(IF('Datos Iniciales'!A179=\"\",\"\",\"No\"))))","v":""},{"$f":"(IF('Datos Iniciales'!A179=\"Proveedor\",\"Si\",(IF('Datos Iniciales'!A179=\"\",\"\",\"No\"))))","v":""},{"$f":"IF('Datos Iniciales'!B179=\"\",\"\",'Datos Iniciales'!B179)","v":""},{"$f":"IF('Datos Iniciales'!C179=\"\",\"\",'Datos Iniciales'!C179)","v":""},{"$f":"IF('Datos Iniciales'!D179=\"\",\"\",'Datos Iniciales'!D179)","v":""},{"$f":"IF('Datos Iniciales'!E179=datos!$I$2,datos!$J$2,(IF('Datos Iniciales'!E179=datos!$I$3,datos!$J$3,(IF('Datos Iniciales'!E179=datos!$I$4,datos!$J$4,(IF('Datos Iniciales'!E179=datos!$I$5,datos!$J$5,(IF('Datos Iniciales'!E179=datos!$I$6,datos!$J$6,(IF('Datos Iniciales'!E179=datos!$I$7,datos!$J$7,(IF('Datos Iniciales'!E179=datos!$I$2,datos!$J$2,(IF('Datos Iniciales'!E179=datos!$I$8,datos!$J$8,(IF('Datos Iniciales'!E179=datos!$I$9,datos!$J$9,(IF('Datos Iniciales'!E179=datos!$I$10,datos!$J$10,(IF('Datos Iniciales'!E179=datos!$I$11,datos!$J$11,(IF('Datos Iniciales'!E179=datos!$I$12,datos!$J$12,(IF('Datos Iniciales'!E179=datos!$I$13,datos!$J$13,(IF('Datos Iniciales'!E179=datos!$I$14,datos!$J$14,(IF('Datos Iniciales'!E179=datos!$I$15,datos!$J$15,\"\")))))))))))))))))))))))))))))","v":""},{"$f":"IF('Datos Iniciales'!F179=\"\",\"\",'Datos Iniciales'!F179)","v":""},{"$f":"IFERROR(datos!B178,\"\")","v":""},null,null,null,null,{"$f":"IF('Datos Iniciales'!H179=\"\",\"\",'Datos Iniciales'!H179)","v":""},{"$f":"IF('Datos Iniciales'!I179=\"\",\"\",datos!$K$2)","v":""},{"$f":"IFERROR(VLOOKUP('Datos Iniciales'!J179,datos!O177:P1296,2,FALSE),\"\")","v":""},null,{"$f":"IF('Datos Iniciales'!K179=\"\",\"\",(CONCATENATE(RIGHT('Datos Iniciales'!K179,1),\"-\",'Datos Iniciales'!L179,\"-\",'Datos Iniciales'!M179)))","v":""},null,null,null,{"$f":"IF('Datos Iniciales'!N179=\"\",\"\",'Datos Iniciales'!N179)","v":""},{"$f":"IF('Datos Iniciales'!O179=\"\",\"\",'Datos Iniciales'!O179)","v":""},null,null,null,null,{"$f":"IF('Datos Iniciales'!P179=\"\",\"\",'Datos Iniciales'!P179)","v":""},null,null,null,null,null,null,null,null,null,null,null,null,{"$f":"IF('Datos Iniciales'!B179=\"\",\"\",(IF('Datos Iniciales'!B179=\"Si\",\"002\",\"003\")))","v":""},null,{"$f":"IF('Datos Iniciales'!Q179=\"\",\"\",(IF('Datos Iniciales'!Q179=datos!S178,\"0\",\"2\")))","v":""},{"$f":"IF('Datos Iniciales'!B179=\"\",\"\",(IF('Datos Iniciales'!B179=\"Si\",\"O-48\",\"O-49\")))","v":""}]
[{"$f":"IF('Datos Iniciales'!B180=\"\",\"\",\"Si\")","v":""},{"$f":"(IF('Datos Iniciales'!A180=\"Cliente\",\"Si\",(IF('Datos Iniciales'!A180=\"\",\"\",\"No\"))))","v":""},{"$f":"(IF('Datos Iniciales'!A180=\"Distribuidor\",\"Si\",(IF('Datos Iniciales'!A180=\"\",\"\",\"No\"))))","v":""},{"$f":"(IF('Datos Iniciales'!A180=\"Otros\",\"Si\",(IF('Datos Iniciales'!A180=\"\",\"\",\"No\"))))","v":""},{"$f":"(IF('Datos Iniciales'!A180=\"Prospecto\",\"Si\",(IF('Datos Iniciales'!A180=\"\",\"\",\"No\"))))","v":""},{"$f":"(IF('Datos Iniciales'!A180=\"Proveedor\",\"Si\",(IF('Datos Iniciales'!A180=\"\",\"\",\"No\"))))","v":""},{"$f":"IF('Datos Iniciales'!B180=\"\",\"\",'Datos Iniciales'!B180)","v":""},{"$f":"IF('Datos Iniciales'!C180=\"\",\"\",'Datos Iniciales'!C180)","v":""},{"$f":"IF('Datos Iniciales'!D180=\"\",\"\",'Datos Iniciales'!D180)","v":""},{"$f":"IF('Datos Iniciales'!E180=datos!$I$2,datos!$J$2,(IF('Datos Iniciales'!E180=datos!$I$3,datos!$J$3,(IF('Datos Iniciales'!E180=datos!$I$4,datos!$J$4,(IF('Datos Iniciales'!E180=datos!$I$5,datos!$J$5,(IF('Datos Iniciales'!E180=datos!$I$6,datos!$J$6,(IF('Datos Iniciales'!E180=datos!$I$7,datos!$J$7,(IF('Datos Iniciales'!E180=datos!$I$2,datos!$J$2,(IF('Datos Iniciales'!E180=datos!$I$8,datos!$J$8,(IF('Datos Iniciales'!E180=datos!$I$9,datos!$J$9,(IF('Datos Iniciales'!E180=datos!$I$10,datos!$J$10,(IF('Datos Iniciales'!E180=datos!$I$11,datos!$J$11,(IF('Datos Iniciales'!E180=datos!$I$12,datos!$J$12,(IF('Datos Iniciales'!E180=datos!$I$13,datos!$J$13,(IF('Datos Iniciales'!E180=datos!$I$14,datos!$J$14,(IF('Datos Iniciales'!E180=datos!$I$15,datos!$J$15,\"\")))))))))))))))))))))))))))))","v":""},{"$f":"IF('Datos Iniciales'!F180=\"\",\"\",'Datos Iniciales'!F180)","v":""},{"$f":"IFERROR(datos!B179,\"\")","v":""},null,null,null,null,{"$f":"IF('Datos Iniciales'!H180=\"\",\"\",'Datos Iniciales'!H180)","v":""},{"$f":"IF('Datos Iniciales'!I180=\"\",\"\",datos!$K$2)","v":""},{"$f":"IFERROR(VLOOKUP('Datos Iniciales'!J180,datos!O178:P1297,2,FALSE),\"\")","v":""},null,{"$f":"IF('Datos Iniciales'!K180=\"\",\"\",(CONCATENATE(RIGHT('Datos Iniciales'!K180,1),\"-\",'Datos Iniciales'!L180,\"-\",'Datos Iniciales'!M180)))","v":""},null,null,null,{"$f":"IF('Datos Iniciales'!N180=\"\",\"\",'Datos Iniciales'!N180)","v":""},{"$f":"IF('Datos Iniciales'!O180=\"\",\"\",'Datos Iniciales'!O180)","v":""},null,null,null,null,{"$f":"IF('Datos Iniciales'!P180=\"\",\"\",'Datos Iniciales'!P180)","v":""},null,null,null,null,null,null,null,null,null,null,null,null,{"$f":"IF('Datos Iniciales'!B180=\"\",\"\",(IF('Datos Iniciales'!B180=\"Si\",\"002\",\"003\")))","v":""},null,{"$f":"IF('Datos Iniciales'!Q180=\"\",\"\",(IF('Datos Iniciales'!Q180=datos!S179,\"0\",\"2\")))","v":""},{"$f":"IF('Datos Iniciales'!B180=\"\",\"\",(IF('Datos Iniciales'!B180=\"Si\",\"O-48\",\"O-49\")))","v":""}]
[{"$f":"IF('Datos Iniciales'!B181=\"\",\"\",\"Si\")","v":""},{"$f":"(IF('Datos Iniciales'!A181=\"Cliente\",\"Si\",(IF('Datos Iniciales'!A181=\"\",\"\",\"No\"))))","v":""},{"$f":"(IF('Datos Iniciales'!A181=\"Distribuidor\",\"Si\",(IF('Datos Iniciales'!A181=\"\",\"\",\"No\"))))","v":""},{"$f":"(IF('Datos Iniciales'!A181=\"Otros\",\"Si\",(IF('Datos Iniciales'!A181=\"\",\"\",\"No\"))))","v":""},{"$f":"(IF('Datos Iniciales'!A181=\"Prospecto\",\"Si\",(IF('Datos Iniciales'!A181=\"\",\"\",\"No\"))))","v":""},{"$f":"(IF('Datos Iniciales'!A181=\"Proveedor\",\"Si\",(IF('Datos Iniciales'!A181=\"\",\"\",\"No\"))))","v":""},{"$f":"IF('Datos Iniciales'!B181=\"\",\"\",'Datos Iniciales'!B181)","v":""},{"$f":"IF('Datos Iniciales'!C181=\"\",\"\",'Datos Iniciales'!C181)","v":""},{"$f":"IF('Datos Iniciales'!D181=\"\",\"\",'Datos Iniciales'!D181)","v":""},{"$f":"IF('Datos Iniciales'!E181=datos!$I$2,datos!$J$2,(IF('Datos Iniciales'!E181=datos!$I$3,datos!$J$3,(IF('Datos Iniciales'!E181=datos!$I$4,datos!$J$4,(IF('Datos Iniciales'!E181=datos!$I$5,datos!$J$5,(IF('Datos Iniciales'!E181=datos!$I$6,datos!$J$6,(IF('Datos Iniciales'!E181=datos!$I$7,datos!$J$7,(IF('Datos Iniciales'!E181=datos!$I$2,datos!$J$2,(IF('Datos Iniciales'!E181=datos!$I$8,datos!$J$8,(IF('Datos Iniciales'!E181=datos!$I$9,datos!$J$9,(IF('Datos Iniciales'!E181=datos!$I$10,datos!$J$10,(IF('Datos Iniciales'!E181=datos!$I$11,datos!$J$11,(IF('Datos Iniciales'!E181=datos!$I$12,datos!$J$12,(IF('Datos Iniciales'!E181=datos!$I$13,datos!$J$13,(IF('Datos Iniciales'!E181=datos!$I$14,datos!$J$14,(IF('Datos Iniciales'!E181=datos!$I$15,datos!$J$15,\"\")))))))))))))))))))))))))))))","v":""},{"$f":"IF('Datos Iniciales'!F181=\"\",\"\",'Datos Iniciales'!F181)","v":""},{"$f":"IFERROR(datos!B180,\"\")","v":""},null,null,null,null,{"$f":"IF('Datos Iniciales'!H181=\"\",\"\",'Datos Iniciales'!H181)","v":""},{"$f":"IF('Datos Iniciales'!I181=\"\",\"\",datos!$K$2)","v":""},{"$f":"IFERROR(VLOOKUP('Datos Iniciales'!J181,datos!O179:P1298,2,FALSE),\"\")","v":""},null,{"$f":"IF('Datos Iniciales'!K181=\"\",\"\",(CONCATENATE(RIGHT('Datos Iniciales'!K181,1),\"-\",'Datos Iniciales'!L181,\"-\",'Datos Iniciales'!M181)))","v":""},null,null,null,{"$f":"IF('Datos Iniciales'!N181=\"\",\"\",'Datos Iniciales'!N181)","v":""},{"$f":"IF('Datos Iniciales'!O181=\"\",\"\",'Datos Iniciales'!O181)","v":""},null,null,null,null,{"$f":"IF('Datos Iniciales'!P181=\"\",\"\",'Datos Iniciales'!P181)","v":""},null,null,null,null,null,null,null,null,null,null,null,null,{"$f":"IF('Datos Iniciales'!B181=\"\",\"\",(IF('Datos Iniciales'!B181=\"Si\",\"002\",\"003\")))","v":""},null,{"$f":"IF('Datos Iniciales'!Q181=\"\",\"\",(IF('Datos Iniciales'!Q181=datos!S180,\"0\",\"2\")))","v":""},{"$f":"IF('Datos Iniciales'!B181=\"\",\"\",(IF('Datos Iniciales'!B181=\"Si\",\"O-48\",\"O-49\")))","v":""}]
[{"$f":"IF('Datos Iniciales'!B182=\"\",\"\",\"Si\")","v":""},{"$f":"(IF('Datos Iniciales'!A182=\"Cliente\",\"Si\",(IF('Datos Iniciales'!A182=\"\",\"\",\"No\"))))","v":""},{"$f":"(IF('Datos Iniciales'!A182=\"Distribuidor\",\"Si\",(IF('Datos Iniciales'!A182=\"\",\"\",\"No\"))))","v":""},{"$f":"(IF('Datos Iniciales'!A182=\"Otros\",\"Si\",(IF('Datos Iniciales'!A182=\"\",\"\",\"No\"))))","v":""},{"$f":"(IF('Datos Iniciales'!A182=\"Prospecto\",\"Si\",(IF('Datos Iniciales'!A182=\"\",\"\",\"No\"))))","v":""},{"$f":"(IF('Datos Iniciales'!A182=\"Proveedor\",\"Si\",(IF('Datos Iniciales'!A182=\"\",\"\",\"No\"))))","v":""},{"$f":"IF('Datos Iniciales'!B182=\"\",\"\",'Datos Iniciales'!B182)","v":""},{"$f":"IF('Datos Iniciales'!C182=\"\",\"\",'Datos Iniciales'!C182)","v":""},{"$f":"IF('Datos Iniciales'!D182=\"\",\"\",'Datos Iniciales'!D182)","v":""},{"$f":"IF('Datos Iniciales'!E182=datos!$I$2,datos!$J$2,(IF('Datos Iniciales'!E182=datos!$I$3,datos!$J$3,(IF('Datos Iniciales'!E182=datos!$I$4,datos!$J$4,(IF('Datos Iniciales'!E182=datos!$I$5,datos!$J$5,(IF('Datos Iniciales'!E182=datos!$I$6,datos!$J$6,(IF('Datos Iniciales'!E182=datos!$I$7,datos!$J$7,(IF('Datos Iniciales'!E182=datos!$I$2,datos!$J$2,(IF('Datos Iniciales'!E182=datos!$I$8,datos!$J$8,(IF('Datos Iniciales'!E182=datos!$I$9,datos!$J$9,(IF('Datos Iniciales'!E182=datos!$I$10,datos!$J$10,(IF('Datos Iniciales'!E182=datos!$I$11,datos!$J$11,(IF('Datos Iniciales'!E182=datos!$I$12,datos!$J$12,(IF('Datos Iniciales'!E182=datos!$I$13,datos!$J$13,(IF('Datos Iniciales'!E182=datos!$I$14,datos!$J$14,(IF('Datos Iniciales'!E182=datos!$I$15,datos!$J$15,\"\")))))))))))))))))))))))))))))","v":""},{"$f":"IF('Datos Iniciales'!F182=\"\",\"\",'Datos Iniciales'!F182)","v":""},{"$f":"IFERROR(datos!B181,\"\")","v":""},null,null,null,null,{"$f":"IF('Datos Iniciales'!H182=\"\",\"\",'Datos Iniciales'!H182)","v":""},{"$f":"IF('Datos Iniciales'!I182=\"\",\"\",datos!$K$2)","v":""},{"$f":"IFERROR(VLOOKUP('Datos Iniciales'!J182,datos!O180:P1299,2,FALSE),\"\")","v":""},null,{"$f":"IF('Datos Iniciales'!K182=\"\",\"\",(CONCATENATE(RIGHT('Datos Iniciales'!K182,1),\"-\",'Datos Iniciales'!L182,\"-\",'Datos Iniciales'!M182)))","v":""},null,null,null,{"$f":"IF('Datos Iniciales'!N182=\"\",\"\",'Datos Iniciales'!N182)","v":""},{"$f":"IF('Datos Iniciales'!O182=\"\",\"\",'Datos Iniciales'!O182)","v":""},null,null,null,null,{"$f":"IF('Datos Iniciales'!P182=\"\",\"\",'Datos Iniciales'!P182)","v":""},null,null,null,null,null,null,null,null,null,null,null,null,{"$f":"IF('Datos Iniciales'!B182=\"\",\"\",(IF('Datos Iniciales'!B182=\"Si\",\"002\",\"003\")))","v":""},null,{"$f":"IF('Datos Iniciales'!Q182=\"\",\"\",(IF('Datos Iniciales'!Q182=datos!S181,\"0\",\"2\")))","v":""},{"$f":"IF('Datos Iniciales'!B182=\"\",\"\",(IF('Datos Iniciales'!B182=\"Si\",\"O-48\",\"O-49\")))","v":""}]
[{"$f":"IF('Datos Iniciales'!B183=\"\",\"\",\"Si\")","v":""},{"$f":"(IF('Datos Iniciales'!A183=\"Cliente\",\"Si\",(IF('Datos Iniciales'!A183=\"\",\"\",\"No\"))))","v":""},{"$f":"(IF('Datos Iniciales'!A183=\"Distribuidor\",\"Si\",(IF('Datos Iniciales'!A183=\"\",\"\",\"No\"))))","v":""},{"$f":"(IF('Datos Iniciales'!A183=\"Otros\",\"Si\",(IF('Datos Iniciales'!A183=\"\",\"\",\"No\"))))","v":""},{"$f":"(IF('Datos Iniciales'!A183=\"Prospecto\",\"Si\",(IF('Datos Iniciales'!A183=\"\",\"\",\"No\"))))","v":""},{"$f":"(IF('Datos Iniciales'!A183=\"Proveedor\",\"Si\",(IF('Datos Iniciales'!A183=\"\",\"\",\"No\"))))","v":""},{"$f":"IF('Datos Iniciales'!B183=\"\",\"\",'Datos Iniciales'!B183)","v":""},{"$f":"IF('Datos Iniciales'!C183=\"\",\"\",'Datos Iniciales'!C183)","v":""},{"$f":"IF('Datos Iniciales'!D183=\"\",\"\",'Datos Iniciales'!D183)","v":""},{"$f":"IF('Datos Iniciales'!E183=datos!$I$2,datos!$J$2,(IF('Datos Iniciales'!E183=datos!$I$3,datos!$J$3,(IF('Datos Iniciales'!E183=datos!$I$4,datos!$J$4,(IF('Datos Iniciales'!E183=datos!$I$5,datos!$J$5,(IF('Datos Iniciales'!E183=datos!$I$6,datos!$J$6,(IF('Datos Iniciales'!E183=datos!$I$7,datos!$J$7,(IF('Datos Iniciales'!E183=datos!$I$2,datos!$J$2,(IF('Datos Iniciales'!E183=datos!$I$8,datos!$J$8,(IF('Datos Iniciales'!E183=datos!$I$9,datos!$J$9,(IF('Datos Iniciales'!E183=datos!$I$10,datos!$J$10,(IF('Datos Iniciales'!E183=datos!$I$11,datos!$J$11,(IF('Datos Iniciales'!E183=datos!$I$12,datos!$J$12,(IF('Datos Iniciales'!E183=datos!$I$13,datos!$J$13,(IF('Datos Iniciales'!E183=datos!$I$14,datos!$J$14,(IF('Datos Iniciales'!E183=datos!$I$15,datos!$J$15,\"\")))))))))))))))))))))))))))))","v":""},{"$f":"IF('Datos Iniciales'!F183=\"\",\"\",'Datos Iniciales'!F183)","v":""},{"$f":"IFERROR(datos!B182,\"\")","v":""},null,null,null,null,{"$f":"IF('Datos Iniciales'!H183=\"\",\"\",'Datos Iniciales'!H183)","v":""},{"$f":"IF('Datos Iniciales'!I183=\"\",\"\",datos!$K$2)","v":""},{"$f":"IFERROR(VLOOKUP('Datos Iniciales'!J183,datos!O181:P1300,2,FALSE),\"\")","v":""},null,{"$f":"IF('Datos Iniciales'!K183=\"\",\"\",(CONCATENATE(RIGHT('Datos Iniciales'!K183,1),\"-\",'Datos Iniciales'!L183,\"-\",'Datos Iniciales'!M183)))","v":""},null,null,null,{"$f":"IF('Datos Iniciales'!N183=\"\",\"\",'Datos Iniciales'!N183)","v":""},{"$f":"IF('Datos Iniciales'!O183=\"\",\"\",'Datos Iniciales'!O183)","v":""},null,null,null,null,{"$f":"IF('Datos Iniciales'!P183=\"\",\"\",'Datos Iniciales'!P183)","v":""},null,null,null,null,null,null,null,null,null,null,null,null,{"$f":"IF('Datos Iniciales'!B183=\"\",\"\",(IF('Datos Iniciales'!B183=\"Si\",\"002\",\"003\")))","v":""},null,{"$f":"IF('Datos Iniciales'!Q183=\"\",\"\",(IF('Datos Iniciales'!Q183=datos!S182,\"0\",\"2\")))","v":""},{"$f":"IF('Datos Iniciales'!B183=\"\",\"\",(IF('Datos Iniciales'!B183=\"Si\",\"O-48\",\"O-49\")))","v":""}]
[{"$f":"IF('Datos Iniciales'!B184=\"\",\"\",\"Si\")","v":""},{"$f":"(IF('Datos Iniciales'!A184=\"Cliente\",\"Si\",(IF('Datos Iniciales'!A184=\"\",\"\",\"No\"))))","v":""},{"$f":"(IF('Datos Iniciales'!A184=\"Distribuidor\",\"Si\",(IF('Datos Iniciales'!A184=\"\",\"\",\"No\"))))","v":""},{"$f":"(IF('Datos Iniciales'!A184=\"Otros\",\"Si\",(IF('Datos Iniciales'!A184=\"\",\"\",\"No\"))))","v":""},{"$f":"(IF('Datos Iniciales'!A184=\"Prospecto\",\"Si\",(IF('Datos Iniciales'!A184=\"\",\"\",\"No\"))))","v":""},{"$f":"(IF('Datos Iniciales'!A184=\"Proveedor\",\"Si\",(IF('Datos Iniciales'!A184=\"\",\"\",\"No\"))))","v":""},{"$f":"IF('Datos Iniciales'!B184=\"\",\"\",'Datos Iniciales'!B184)","v":""},{"$f":"IF('Datos Iniciales'!C184=\"\",\"\",'Datos Iniciales'!C184)","v":""},{"$f":"IF('Datos Iniciales'!D184=\"\",\"\",'Datos Iniciales'!D184)","v":""},{"$f":"IF('Datos Iniciales'!E184=datos!$I$2,datos!$J$2,(IF('Datos Iniciales'!E184=datos!$I$3,datos!$J$3,(IF('Datos Iniciales'!E184=datos!$I$4,datos!$J$4,(IF('Datos Iniciales'!E184=datos!$I$5,datos!$J$5,(IF('Datos Iniciales'!E184=datos!$I$6,datos!$J$6,(IF('Datos Iniciales'!E184=datos!$I$7,datos!$J$7,(IF('Datos Iniciales'!E184=datos!$I$2,datos!$J$2,(IF('Datos Iniciales'!E184=datos!$I$8,datos!$J$8,(IF('Datos Iniciales'!E184=datos!$I$9,datos!$J$9,(IF('Datos Iniciales'!E184=datos!$I$10,datos!$J$10,(IF('Datos Iniciales'!E184=datos!$I$11,datos!$J$11,(IF('Datos Iniciales'!E184=datos!$I$12,datos!$J$12,(IF('Datos Iniciales'!E184=datos!$I$13,datos!$J$13,(IF('Datos Iniciales'!E184=datos!$I$14,datos!$J$14,(IF('Datos Iniciales'!E184=datos!$I$15,datos!$J$15,\"\")))))))))))))))))))))))))))))","v":""},{"$f":"IF('Datos Iniciales'!F184=\"\",\"\",'Datos Iniciales'!F184)","v":""},{"$f":"IFERROR(datos!B183,\"\")","v":""},null,null,null,null,{"$f":"IF('Datos Iniciales'!H184=\"\",\"\",'Datos Iniciales'!H184)","v":""},{"$f":"IF('Datos Iniciales'!I184=\"\",\"\",datos!$K$2)","v":""},{"$f":"IFERROR(VLOOKUP('Datos Iniciales'!J184,datos!O182:P1301,2,FALSE),\"\")","v":""},null,{"$f":"IF('Datos Iniciales'!K184=\"\",\"\",(CONCATENATE(RIGHT('Datos Iniciales'!K184,1),\"-\",'Datos Iniciales'!L184,\"-\",'Datos Iniciales'!M184)))","v":""},null,null,null,{"$f":"IF('Datos Iniciales'!N184=\"\",\"\",'Datos Iniciales'!N184)","v":""},{"$f":"IF('Datos Iniciales'!O184=\"\",\"\",'Datos Iniciales'!O184)","v":""},null,null,null,null,{"$f":"IF('Datos Iniciales'!P184=\"\",\"\",'Datos Iniciales'!P184)","v":""},null,null,null,null,null,null,null,null,null,null,null,null,{"$f":"IF('Datos Iniciales'!B184=\"\",\"\",(IF('Datos Iniciales'!B184=\"Si\",\"002\",\"003\")))","v":""},null,{"$f":"IF('Datos Iniciales'!Q184=\"\",\"\",(IF('Datos Iniciales'!Q184=datos!S183,\"0\",\"2\")))","v":""},{"$f":"IF('Datos Iniciales'!B184=\"\",\"\",(IF('Datos Iniciales'!B184=\"Si\",\"O-48\",\"O-49\")))","v":""}]
[{"$f":"IF('Datos Iniciales'!B185=\"\",\"\",\"Si\")","v":""},{"$f":"(IF('Datos Iniciales'!A185=\"Cliente\",\"Si\",(IF('Datos Iniciales'!A185=\"\",\"\",\"No\"))))","v":""},{"$f":"(IF('Datos Iniciales'!A185=\"Distribuidor\",\"Si\",(IF('Datos Iniciales'!A185=\"\",\"\",\"No\"))))","v":""},{"$f":"(IF('Datos Iniciales'!A185=\"Otros\",\"Si\",(IF('Datos Iniciales'!A185=\"\",\"\",\"No\"))))","v":""},{"$f":"(IF('Datos Iniciales'!A185=\"Prospecto\",\"Si\",(IF('Datos Iniciales'!A185=\"\",\"\",\"No\"))))","v":""},{"$f":"(IF('Datos Iniciales'!A185=\"Proveedor\",\"Si\",(IF('Datos Iniciales'!A185=\"\",\"\",\"No\"))))","v":""},{"$f":"IF('Datos Iniciales'!B185=\"\",\"\",'Datos Iniciales'!B185)","v":""},{"$f":"IF('Datos Iniciales'!C185=\"\",\"\",'Datos Iniciales'!C185)","v":""},{"$f":"IF('Datos Iniciales'!D185=\"\",\"\",'Datos Iniciales'!D185)","v":""},{"$f":"IF('Datos Iniciales'!E185=datos!$I$2,datos!$J$2,(IF('Datos Iniciales'!E185=datos!$I$3,datos!$J$3,(IF('Datos Iniciales'!E185=datos!$I$4,datos!$J$4,(IF('Datos Iniciales'!E185=datos!$I$5,datos!$J$5,(IF('Datos Iniciales'!E185=datos!$I$6,datos!$J$6,(IF('Datos Iniciales'!E185=datos!$I$7,datos!$J$7,(IF('Datos Iniciales'!E185=datos!$I$2,datos!$J$2,(IF('Datos Iniciales'!E185=datos!$I$8,datos!$J$8,(IF('Datos Iniciales'!E185=datos!$I$9,datos!$J$9,(IF('Datos Iniciales'!E185=datos!$I$10,datos!$J$10,(IF('Datos Iniciales'!E185=datos!$I$11,datos!$J$11,(IF('Datos Iniciales'!E185=datos!$I$12,datos!$J$12,(IF('Datos Iniciales'!E185=datos!$I$13,datos!$J$13,(IF('Datos Iniciales'!E185=datos!$I$14,datos!$J$14,(IF('Datos Iniciales'!E185=datos!$I$15,datos!$J$15,\"\")))))))))))))))))))))))))))))","v":""},{"$f":"IF('Datos Iniciales'!F185=\"\",\"\",'Datos Iniciales'!F185)","v":""},{"$f":"IFERROR(datos!B184,\"\")","v":""},null,null,null,null,{"$f":"IF('Datos Iniciales'!H185=\"\",\"\",'Datos Iniciales'!H185)","v":""},{"$f":"IF('Datos Iniciales'!I185=\"\",\"\",datos!$K$2)","v":""},{"$f":"IFERROR(VLOOKUP('Datos Iniciales'!J185,datos!O183:P1302,2,FALSE),\"\")","v":""},null,{"$f":"IF('Datos Iniciales'!K185=\"\",\"\",(CONCATENATE(RIGHT('Datos Iniciales'!K185,1),\"-\",'Datos Iniciales'!L185,\"-\",'Datos Iniciales'!M185)))","v":""},null,null,null,{"$f":"IF('Datos Iniciales'!N185=\"\",\"\",'Datos Iniciales'!N185)","v":""},{"$f":"IF('Datos Iniciales'!O185=\"\",\"\",'Datos Iniciales'!O185)","v":""},null,null,null,null,{"$f":"IF('Datos Iniciales'!P185=\"\",\"\",'Datos Iniciales'!P185)","v":""},null,null,null,null,null,null,null,null,null,null,null,null,{"$f":"IF('Datos Iniciales'!B185=\"\",\"\",(IF('Datos Iniciales'!B185=\"Si\",\"002\",\"003\")))","v":""},null,{"$f":"IF('Datos Iniciales'!Q185=\"\",\"\",(IF('Datos Iniciales'!Q185=datos!S184,\"0\",\"2\")))","v":""},{"$f":"IF('Datos Iniciales'!B185=\"\",\"\",(IF('Datos Iniciales'!B185=\"Si\",\"O-48\",\"O-49\")))","v":""}]
[{"$f":"IF('Datos Iniciales'!B186=\"\",\"\",\"Si\")","v":""},{"$f":"(IF('Datos Iniciales'!A186=\"Cliente\",\"Si\",(IF('Datos Iniciales'!A186=\"\",\"\",\"No\"))))","v":""},{"$f":"(IF('Datos Iniciales'!A186=\"Distribuidor\",\"Si\",(IF('Datos Iniciales'!A186=\"\",\"\",\"No\"))))","v":""},{"$f":"(IF('Datos Iniciales'!A186=\"Otros\",\"Si\",(IF('Datos Iniciales'!A186=\"\",\"\",\"No\"))))","v":""},{"$f":"(IF('Datos Iniciales'!A186=\"Prospecto\",\"Si\",(IF('Datos Iniciales'!A186=\"\",\"\",\"No\"))))","v":""},{"$f":"(IF('Datos Iniciales'!A186=\"Proveedor\",\"Si\",(IF('Datos Iniciales'!A186=\"\",\"\",\"No\"))))","v":""},{"$f":"IF('Datos Iniciales'!B186=\"\",\"\",'Datos Iniciales'!B186)","v":""},{"$f":"IF('Datos Iniciales'!C186=\"\",\"\",'Datos Iniciales'!C186)","v":""},{"$f":"IF('Datos Iniciales'!D186=\"\",\"\",'Datos Iniciales'!D186)","v":""},{"$f":"IF('Datos Iniciales'!E186=datos!$I$2,datos!$J$2,(IF('Datos Iniciales'!E186=datos!$I$3,datos!$J$3,(IF('Datos Iniciales'!E186=datos!$I$4,datos!$J$4,(IF('Datos Iniciales'!E186=datos!$I$5,datos!$J$5,(IF('Datos Iniciales'!E186=datos!$I$6,datos!$J$6,(IF('Datos Iniciales'!E186=datos!$I$7,datos!$J$7,(IF('Datos Iniciales'!E186=datos!$I$2,datos!$J$2,(IF('Datos Iniciales'!E186=datos!$I$8,datos!$J$8,(IF('Datos Iniciales'!E186=datos!$I$9,datos!$J$9,(IF('Datos Iniciales'!E186=datos!$I$10,datos!$J$10,(IF('Datos Iniciales'!E186=datos!$I$11,datos!$J$11,(IF('Datos Iniciales'!E186=datos!$I$12,datos!$J$12,(IF('Datos Iniciales'!E186=datos!$I$13,datos!$J$13,(IF('Datos Iniciales'!E186=datos!$I$14,datos!$J$14,(IF('Datos Iniciales'!E186=datos!$I$15,datos!$J$15,\"\")))))))))))))))))))))))))))))","v":""},{"$f":"IF('Datos Iniciales'!F186=\"\",\"\",'Datos Iniciales'!F186)","v":""},{"$f":"IFERROR(datos!B185,\"\")","v":""},null,null,null,null,{"$f":"IF('Datos Iniciales'!H186=\"\",\"\",'Datos Iniciales'!H186)","v":""},{"$f":"IF('Datos Iniciales'!I186=\"\",\"\",datos!$K$2)","v":""},{"$f":"IFERROR(VLOOKUP('Datos Iniciales'!J186,datos!O184:P1303,2,FALSE),\"\")","v":""},null,{"$f":"IF('Datos Iniciales'!K186=\"\",\"\",(CONCATENATE(RIGHT('Datos Iniciales'!K186,1),\"-\",'Datos Iniciales'!L186,\"-\",'Datos Iniciales'!M186)))","v":""},null,null,null,{"$f":"IF('Datos Iniciales'!N186=\"\",\"\",'Datos Iniciales'!N186)","v":""},{"$f":"IF('Datos Iniciales'!O186=\"\",\"\",'Datos Iniciales'!O186)","v":""},null,null,null,null,{"$f":"IF('Datos Iniciales'!P186=\"\",\"\",'Datos Iniciales'!P186)","v":""},null,null,null,null,null,null,null,null,null,null,null,null,{"$f":"IF('Datos Iniciales'!B186=\"\",\"\",(IF('Datos Iniciales'!B186=\"Si\",\"002\",\"003\")))","v":""},null,{"$f":"IF('Datos Iniciales'!Q186=\"\",\"\",(IF('Datos Iniciales'!Q186=datos!S185,\"0\",\"2\")))","v":""},{"$f":"IF('Datos Iniciales'!B186=\"\",\"\",(IF('Datos Iniciales'!B186=\"Si\",\"O-48\",\"O-49\")))","v":""}]
[{"$f":"IF('Datos Iniciales'!B187=\"\",\"\",\"Si\")","v":""},{"$f":"(IF('Datos Iniciales'!A187=\"Cliente\",\"Si\",(IF('Datos Iniciales'!A187=\"\",\"\",\"No\"))))","v":""},{"$f":"(IF('Datos Iniciales'!A187=\"Distribuidor\",\"Si\",(IF('Datos Iniciales'!A187=\"\",\"\",\"No\"))))","v":""},{"$f":"(IF('Datos Iniciales'!A187=\"Otros\",\"Si\",(IF('Datos Iniciales'!A187=\"\",\"\",\"No\"))))","v":""},{"$f":"(IF('Datos Iniciales'!A187=\"Prospecto\",\"Si\",(IF('Datos Iniciales'!A187=\"\",\"\",\"No\"))))","v":""},{"$f":"(IF('Datos Iniciales'!A187=\"Proveedor\",\"Si\",(IF('Datos Iniciales'!A187=\"\",\"\",\"No\"))))","v":""},{"$f":"IF('Datos Iniciales'!B187=\"\",\"\",'Datos Iniciales'!B187)","v":""},{"$f":"IF('Datos Iniciales'!C187=\"\",\"\",'Datos Iniciales'!C187)","v":""},{"$f":"IF('Datos Iniciales'!D187=\"\",\"\",'Datos Iniciales'!D187)","v":""},{"$f":"IF('Datos Iniciales'!E187=datos!$I$2,datos!$J$2,(IF('Datos Iniciales'!E187=datos!$I$3,datos!$J$3,(IF('Datos Iniciales'!E187=datos!$I$4,datos!$J$4,(IF('Datos Iniciales'!E187=datos!$I$5,datos!$J$5,(IF('Datos Iniciales'!E187=datos!$I$6,datos!$J$6,(IF('Datos Iniciales'!E187=datos!$I$7,datos!$J$7,(IF('Datos Iniciales'!E187=datos!$I$2,datos!$J$2,(IF('Datos Iniciales'!E187=datos!$I$8,datos!$J$8,(IF('Datos Iniciales'!E187=datos!$I$9,datos!$J$9,(IF('Datos Iniciales'!E187=datos!$I$10,datos!$J$10,(IF('Datos Iniciales'!E187=datos!$I$11,datos!$J$11,(IF('Datos Iniciales'!E187=datos!$I$12,datos!$J$12,(IF('Datos Iniciales'!E187=datos!$I$13,datos!$J$13,(IF('Datos Iniciales'!E187=datos!$I$14,datos!$J$14,(IF('Datos Iniciales'!E187=datos!$I$15,datos!$J$15,\"\")))))))))))))))))))))))))))))","v":""},{"$f":"IF('Datos Iniciales'!F187=\"\",\"\",'Datos Iniciales'!F187)","v":""},{"$f":"IFERROR(datos!B186,\"\")","v":""},null,null,null,null,{"$f":"IF('Datos Iniciales'!H187=\"\",\"\",'Datos Iniciales'!H187)","v":""},{"$f":"IF('Datos Iniciales'!I187=\"\",\"\",datos!$K$2)","v":""},{"$f":"IFERROR(VLOOKUP('Datos Iniciales'!J187,datos!O185:P1304,2,FALSE),\"\")","v":""},null,{"$f":"IF('Datos Iniciales'!K187=\"\",\"\",(CONCATENATE(RIGHT('Datos Iniciales'!K187,1),\"-\",'Datos Iniciales'!L187,\"-\",'Datos Iniciales'!M187)))","v":""},null,null,null,{"$f":"IF('Datos Iniciales'!N187=\"\",\"\",'Datos Iniciales'!N187)","v":""},{"$f":"IF('Datos Iniciales'!O187=\"\",\"\",'Datos Iniciales'!O187)","v":""},null,null,null,null,{"$f":"IF('Datos Iniciales'!P187=\"\",\"\",'Datos Iniciales'!P187)","v":""},null,null,null,null,null,null,null,null,null,null,null,null,{"$f":"IF('Datos Iniciales'!B187=\"\",\"\",(IF('Datos Iniciales'!B187=\"Si\",\"002\",\"003\")))","v":""},null,{"$f":"IF('Datos Iniciales'!Q187=\"\",\"\",(IF('Datos Iniciales'!Q187=datos!S186,\"0\",\"2\")))","v":""},{"$f":"IF('Datos Iniciales'!B187=\"\",\"\",(IF('Datos Iniciales'!B187=\"Si\",\"O-48\",\"O-49\")))","v":""}]
[{"$f":"IF('Datos Iniciales'!B188=\"\",\"\",\"Si\")","v":""},{"$f":"(IF('Datos Iniciales'!A188=\"Cliente\",\"Si\",(IF('Datos Iniciales'!A188=\"\",\"\",\"No\"))))","v":""},{"$f":"(IF('Datos Iniciales'!A188=\"Distribuidor\",\"Si\",(IF('Datos Iniciales'!A188=\"\",\"\",\"No\"))))","v":""},{"$f":"(IF('Datos Iniciales'!A188=\"Otros\",\"Si\",(IF('Datos Iniciales'!A188=\"\",\"\",\"No\"))))","v":""},{"$f":"(IF('Datos Iniciales'!A188=\"Prospecto\",\"Si\",(IF('Datos Iniciales'!A188=\"\",\"\",\"No\"))))","v":""},{"$f":"(IF('Datos Iniciales'!A188=\"Proveedor\",\"Si\",(IF('Datos Iniciales'!A188=\"\",\"\",\"No\"))))","v":""},{"$f":"IF('Datos Iniciales'!B188=\"\",\"\",'Datos Iniciales'!B188)","v":""},{"$f":"IF('Datos Iniciales'!C188=\"\",\"\",'Datos Iniciales'!C188)","v":""},{"$f":"IF('Datos Iniciales'!D188=\"\",\"\",'Datos Iniciales'!D188)","v":""},{"$f":"IF('Datos Iniciales'!E188=datos!$I$2,datos!$J$2,(IF('Datos Iniciales'!E188=datos!$I$3,datos!$J$3,(IF('Datos Iniciales'!E188=datos!$I$4,datos!$J$4,(IF('Datos Iniciales'!E188=datos!$I$5,datos!$J$5,(IF('Datos Iniciales'!E188=datos!$I$6,datos!$J$6,(IF('Datos Iniciales'!E188=datos!$I$7,datos!$J$7,(IF('Datos Iniciales'!E188=datos!$I$2,datos!$J$2,(IF('Datos Iniciales'!E188=datos!$I$8,datos!$J$8,(IF('Datos Iniciales'!E188=datos!$I$9,datos!$J$9,(IF('Datos Iniciales'!E188=datos!$I$10,datos!$J$10,(IF('Datos Iniciales'!E188=datos!$I$11,datos!$J$11,(IF('Datos Iniciales'!E188=datos!$I$12,datos!$J$12,(IF('Datos Iniciales'!E188=datos!$I$13,datos!$J$13,(IF('Datos Iniciales'!E188=datos!$I$14,datos!$J$14,(IF('Datos Iniciales'!E188=datos!$I$15,datos!$J$15,\"\")))))))))))))))))))))))))))))","v":""},{"$f":"IF('Datos Iniciales'!F188=\"\",\"\",'Datos Iniciales'!F188)","v":""},{"$f":"IFERROR(datos!B187,\"\")","v":""},null,null,null,null,{"$f":"IF('Datos Iniciales'!H188=\"\",\"\",'Datos Iniciales'!H188)","v":""},{"$f":"IF('Datos Iniciales'!I188=\"\",\"\",datos!$K$2)","v":""},{"$f":"IFERROR(VLOOKUP('Datos Iniciales'!J188,datos!O186:P1305,2,FALSE),\"\")","v":""},null,{"$f":"IF('Datos Iniciales'!K188=\"\",\"\",(CONCATENATE(RIGHT('Datos Iniciales'!K188,1),\"-\",'Datos Iniciales'!L188,\"-\",'Datos Iniciales'!M188)))","v":""},null,null,null,{"$f":"IF('Datos Iniciales'!N188=\"\",\"\",'Datos Iniciales'!N188)","v":""},{"$f":"IF('Datos Iniciales'!O188=\"\",\"\",'Datos Iniciales'!O188)","v":""},null,null,null,null,{"$f":"IF('Datos Iniciales'!P188=\"\",\"\",'Datos Iniciales'!P188)","v":""},null,null,null,null,null,null,null,null,null,null,null,null,{"$f":"IF('Datos Iniciales'!B188=\"\",\"\",(IF('Datos Iniciales'!B188=\"Si\",\"002\",\"003\")))","v":""},null,{"$f":"IF('Datos Iniciales'!Q188=\"\",\"\",(IF('Datos Iniciales'!Q188=datos!S187,\"0\",\"2\")))","v":""},{"$f":"IF('Datos Iniciales'!B188=\"\",\"\",(IF('Datos Iniciales'!B188=\"Si\",\"O-48\",\"O-49\")))","v":""}]
[{"$f":"IF('Datos Iniciales'!B189=\"\",\"\",\"Si\")","v":""},{"$f":"(IF('Datos Iniciales'!A189=\"Cliente\",\"Si\",(IF('Datos Iniciales'!A189=\"\",\"\",\"No\"))))","v":""},{"$f":"(IF('Datos Iniciales'!A189=\"Distribuidor\",\"Si\",(IF('Datos Iniciales'!A189=\"\",\"\",\"No\"))))","v":""},{"$f":"(IF('Datos Iniciales'!A189=\"Otros\",\"Si\",(IF('Datos Iniciales'!A189=\"\",\"\",\"No\"))))","v":""},{"$f":"(IF('Datos Iniciales'!A189=\"Prospecto\",\"Si\",(IF('Datos Iniciales'!A189=\"\",\"\",\"No\"))))","v":""},{"$f":"(IF('Datos Iniciales'!A189=\"Proveedor\",\"Si\",(IF('Datos Iniciales'!A189=\"\",\"\",\"No\"))))","v":""},{"$f":"IF('Datos Iniciales'!B189=\"\",\"\",'Datos Iniciales'!B189)","v":""},{"$f":"IF('Datos Iniciales'!C189=\"\",\"\",'Datos Iniciales'!C189)","v":""},{"$f":"IF('Datos Iniciales'!D189=\"\",\"\",'Datos Iniciales'!D189)","v":""},{"$f":"IF('Datos Iniciales'!E189=datos!$I$2,datos!$J$2,(IF('Datos Iniciales'!E189=datos!$I$3,datos!$J$3,(IF('Datos Iniciales'!E189=datos!$I$4,datos!$J$4,(IF('Datos Iniciales'!E189=datos!$I$5,datos!$J$5,(IF('Datos Iniciales'!E189=datos!$I$6,datos!$J$6,(IF('Datos Iniciales'!E189=datos!$I$7,datos!$J$7,(IF('Datos Iniciales'!E189=datos!$I$2,datos!$J$2,(IF('Datos Iniciales'!E189=datos!$I$8,datos!$J$8,(IF('Datos Iniciales'!E189=datos!$I$9,datos!$J$9,(IF('Datos Iniciales'!E189=datos!$I$10,datos!$J$10,(IF('Datos Iniciales'!E189=datos!$I$11,datos!$J$11,(IF('Datos Iniciales'!E189=datos!$I$12,datos!$J$12,(IF('Datos Iniciales'!E189=datos!$I$13,datos!$J$13,(IF('Datos Iniciales'!E189=datos!$I$14,datos!$J$14,(IF('Datos Iniciales'!E189=datos!$I$15,datos!$J$15,\"\")))))))))))))))))))))))))))))","v":""},{"$f":"IF('Datos Iniciales'!F189=\"\",\"\",'Datos Iniciales'!F189)","v":""},{"$f":"IFERROR(datos!B188,\"\")","v":""},null,null,null,null,{"$f":"IF('Datos Iniciales'!H189=\"\",\"\",'Datos Iniciales'!H189)","v":""},{"$f":"IF('Datos Iniciales'!I189=\"\",\"\",datos!$K$2)","v":""},{"$f":"IFERROR(VLOOKUP('Datos Iniciales'!J189,datos!O187:P1306,2,FALSE),\"\")","v":""},null,{"$f":"IF('Datos Iniciales'!K189=\"\",\"\",(CONCATENATE(RIGHT('Datos Iniciales'!K189,1),\"-\",'Datos Iniciales'!L189,\"-\",'Datos Iniciales'!M189)))","v":""},null,null,null,{"$f":"IF('Datos Iniciales'!N189=\"\",\"\",'Datos Iniciales'!N189)","v":""},{"$f":"IF('Datos Iniciales'!O189=\"\",\"\",'Datos Iniciales'!O189)","v":""},null,null,null,null,{"$f":"IF('Datos Iniciales'!P189=\"\",\"\",'Datos Iniciales'!P189)","v":""},null,null,null,null,null,null,null,null,null,null,null,null,{"$f":"IF('Datos Iniciales'!B189=\"\",\"\",(IF('Datos Iniciales'!B189=\"Si\",\"002\",\"003\")))","v":""},null,{"$f":"IF('Datos Iniciales'!Q189=\"\",\"\",(IF('Datos Iniciales'!Q189=datos!S188,\"0\",\"2\")))","v":""},{"$f":"IF('Datos Iniciales'!B189=\"\",\"\",(IF('Datos Iniciales'!B189=\"Si\",\"O-48\",\"O-49\")))","v":""}]
[{"$f":"IF('Datos Iniciales'!B190=\"\",\"\",\"Si\")","v":""},{"$f":"(IF('Datos Iniciales'!A190=\"Cliente\",\"Si\",(IF('Datos Iniciales'!A190=\"\",\"\",\"No\"))))","v":""},{"$f":"(IF('Datos Iniciales'!A190=\"Distribuidor\",\"Si\",(IF('Datos Iniciales'!A190=\"\",\"\",\"No\"))))","v":""},{"$f":"(IF('Datos Iniciales'!A190=\"Otros\",\"Si\",(IF('Datos Iniciales'!A190=\"\",\"\",\"No\"))))","v":""},{"$f":"(IF('Datos Iniciales'!A190=\"Prospecto\",\"Si\",(IF('Datos Iniciales'!A190=\"\",\"\",\"No\"))))","v":""},{"$f":"(IF('Datos Iniciales'!A190=\"Proveedor\",\"Si\",(IF('Datos Iniciales'!A190=\"\",\"\",\"No\"))))","v":""},{"$f":"IF('Datos Iniciales'!B190=\"\",\"\",'Datos Iniciales'!B190)","v":""},{"$f":"IF('Datos Iniciales'!C190=\"\",\"\",'Datos Iniciales'!C190)","v":""},{"$f":"IF('Datos Iniciales'!D190=\"\",\"\",'Datos Iniciales'!D190)","v":""},{"$f":"IF('Datos Iniciales'!E190=datos!$I$2,datos!$J$2,(IF('Datos Iniciales'!E190=datos!$I$3,datos!$J$3,(IF('Datos Iniciales'!E190=datos!$I$4,datos!$J$4,(IF('Datos Iniciales'!E190=datos!$I$5,datos!$J$5,(IF('Datos Iniciales'!E190=datos!$I$6,datos!$J$6,(IF('Datos Iniciales'!E190=datos!$I$7,datos!$J$7,(IF('Datos Iniciales'!E190=datos!$I$2,datos!$J$2,(IF('Datos Iniciales'!E190=datos!$I$8,datos!$J$8,(IF('Datos Iniciales'!E190=datos!$I$9,datos!$J$9,(IF('Datos Iniciales'!E190=datos!$I$10,datos!$J$10,(IF('Datos Iniciales'!E190=datos!$I$11,datos!$J$11,(IF('Datos Iniciales'!E190=datos!$I$12,datos!$J$12,(IF('Datos Iniciales'!E190=datos!$I$13,datos!$J$13,(IF('Datos Iniciales'!E190=datos!$I$14,datos!$J$14,(IF('Datos Iniciales'!E190=datos!$I$15,datos!$J$15,\"\")))))))))))))))))))))))))))))","v":""},{"$f":"IF('Datos Iniciales'!F190=\"\",\"\",'Datos Iniciales'!F190)","v":""},{"$f":"IFERROR(datos!B189,\"\")","v":""},null,null,null,null,{"$f":"IF('Datos Iniciales'!H190=\"\",\"\",'Datos Iniciales'!H190)","v":""},{"$f":"IF('Datos Iniciales'!I190=\"\",\"\",datos!$K$2)","v":""},{"$f":"IFERROR(VLOOKUP('Datos Iniciales'!J190,datos!O188:P1307,2,FALSE),\"\")","v":""},null,{"$f":"IF('Datos Iniciales'!K190=\"\",\"\",(CONCATENATE(RIGHT('Datos Iniciales'!K190,1),\"-\",'Datos Iniciales'!L190,\"-\",'Datos Iniciales'!M190)))","v":""},null,null,null,{"$f":"IF('Datos Iniciales'!N190=\"\",\"\",'Datos Iniciales'!N190)","v":""},{"$f":"IF('Datos Iniciales'!O190=\"\",\"\",'Datos Iniciales'!O190)","v":""},null,null,null,null,{"$f":"IF('Datos Iniciales'!P190=\"\",\"\",'Datos Iniciales'!P190)","v":""},null,null,null,null,null,null,null,null,null,null,null,null,{"$f":"IF('Datos Iniciales'!B190=\"\",\"\",(IF('Datos Iniciales'!B190=\"Si\",\"002\",\"003\")))","v":""},null,{"$f":"IF('Datos Iniciales'!Q190=\"\",\"\",(IF('Datos Iniciales'!Q190=datos!S189,\"0\",\"2\")))","v":""},{"$f":"IF('Datos Iniciales'!B190=\"\",\"\",(IF('Datos Iniciales'!B190=\"Si\",\"O-48\",\"O-49\")))","v":""}]
[{"$f":"IF('Datos Iniciales'!B191=\"\",\"\",\"Si\")","v":""},{"$f":"(IF('Datos Iniciales'!A191=\"Cliente\",\"Si\",(IF('Datos Iniciales'!A191=\"\",\"\",\"No\"))))","v":""},{"$f":"(IF('Datos Iniciales'!A191=\"Distribuidor\",\"Si\",(IF('Datos Iniciales'!A191=\"\",\"\",\"No\"))))","v":""},{"$f":"(IF('Datos Iniciales'!A191=\"Otros\",\"Si\",(IF('Datos Iniciales'!A191=\"\",\"\",\"No\"))))","v":""},{"$f":"(IF('Datos Iniciales'!A191=\"Prospecto\",\"Si\",(IF('Datos Iniciales'!A191=\"\",\"\",\"No\"))))","v":""},{"$f":"(IF('Datos Iniciales'!A191=\"Proveedor\",\"Si\",(IF('Datos Iniciales'!A191=\"\",\"\",\"No\"))))","v":""},{"$f":"IF('Datos Iniciales'!B191=\"\",\"\",'Datos Iniciales'!B191)","v":""},{"$f":"IF('Datos Iniciales'!C191=\"\",\"\",'Datos Iniciales'!C191)","v":""},{"$f":"IF('Datos Iniciales'!D191=\"\",\"\",'Datos Iniciales'!D191)","v":""},{"$f":"IF('Datos Iniciales'!E191=datos!$I$2,datos!$J$2,(IF('Datos Iniciales'!E191=datos!$I$3,datos!$J$3,(IF('Datos Iniciales'!E191=datos!$I$4,datos!$J$4,(IF('Datos Iniciales'!E191=datos!$I$5,datos!$J$5,(IF('Datos Iniciales'!E191=datos!$I$6,datos!$J$6,(IF('Datos Iniciales'!E191=datos!$I$7,datos!$J$7,(IF('Datos Iniciales'!E191=datos!$I$2,datos!$J$2,(IF('Datos Iniciales'!E191=datos!$I$8,datos!$J$8,(IF('Datos Iniciales'!E191=datos!$I$9,datos!$J$9,(IF('Datos Iniciales'!E191=datos!$I$10,datos!$J$10,(IF('Datos Iniciales'!E191=datos!$I$11,datos!$J$11,(IF('Datos Iniciales'!E191=datos!$I$12,datos!$J$12,(IF('Datos Iniciales'!E191=datos!$I$13,datos!$J$13,(IF('Datos Iniciales'!E191=datos!$I$14,datos!$J$14,(IF('Datos Iniciales'!E191=datos!$I$15,datos!$J$15,\"\")))))))))))))))))))))))))))))","v":""},{"$f":"IF('Datos Iniciales'!F191=\"\",\"\",'Datos Iniciales'!F191)","v":""},{"$f":"IFERROR(datos!B190,\"\")","v":""},null,null,null,null,{"$f":"IF('Datos Iniciales'!H191=\"\",\"\",'Datos Iniciales'!H191)","v":""},{"$f":"IF('Datos Iniciales'!I191=\"\",\"\",datos!$K$2)","v":""},{"$f":"IFERROR(VLOOKUP('Datos Iniciales'!J191,datos!O189:P1308,2,FALSE),\"\")","v":""},null,{"$f":"IF('Datos Iniciales'!K191=\"\",\"\",(CONCATENATE(RIGHT('Datos Iniciales'!K191,1),\"-\",'Datos Iniciales'!L191,\"-\",'Datos Iniciales'!M191)))","v":""},null,null,null,{"$f":"IF('Datos Iniciales'!N191=\"\",\"\",'Datos Iniciales'!N191)","v":""},{"$f":"IF('Datos Iniciales'!O191=\"\",\"\",'Datos Iniciales'!O191)","v":""},null,null,null,null,{"$f":"IF('Datos Iniciales'!P191=\"\",\"\",'Datos Iniciales'!P191)","v":""},null,null,null,null,null,null,null,null,null,null,null,null,{"$f":"IF('Datos Iniciales'!B191=\"\",\"\",(IF('Datos Iniciales'!B191=\"Si\",\"002\",\"003\")))","v":""},null,{"$f":"IF('Datos Iniciales'!Q191=\"\",\"\",(IF('Datos Iniciales'!Q191=datos!S190,\"0\",\"2\")))","v":""},{"$f":"IF('Datos Iniciales'!B191=\"\",\"\",(IF('Datos Iniciales'!B191=\"Si\",\"O-48\",\"O-49\")))","v":""}]
[{"$f":"IF('Datos Iniciales'!B192=\"\",\"\",\"Si\")","v":""},{"$f":"(IF('Datos Iniciales'!A192=\"Cliente\",\"Si\",(IF('Datos Iniciales'!A192=\"\",\"\",\"No\"))))","v":""},{"$f":"(IF('Datos Iniciales'!A192=\"Distribuidor\",\"Si\",(IF('Datos Iniciales'!A192=\"\",\"\",\"No\"))))","v":""},{"$f":"(IF('Datos Iniciales'!A192=\"Otros\",\"Si\",(IF('Datos Iniciales'!A192=\"\",\"\",\"No\"))))","v":""},{"$f":"(IF('Datos Iniciales'!A192=\"Prospecto\",\"Si\",(IF('Datos Iniciales'!A192=\"\",\"\",\"No\"))))","v":""},{"$f":"(IF('Datos Iniciales'!A192=\"Proveedor\",\"Si\",(IF('Datos Iniciales'!A192=\"\",\"\",\"No\"))))","v":""},{"$f":"IF('Datos Iniciales'!B192=\"\",\"\",'Datos Iniciales'!B192)","v":""},{"$f":"IF('Datos Iniciales'!C192=\"\",\"\",'Datos Iniciales'!C192)","v":""},{"$f":"IF('Datos Iniciales'!D192=\"\",\"\",'Datos Iniciales'!D192)","v":""},{"$f":"IF('Datos Iniciales'!E192=datos!$I$2,datos!$J$2,(IF('Datos Iniciales'!E192=datos!$I$3,datos!$J$3,(IF('Datos Iniciales'!E192=datos!$I$4,datos!$J$4,(IF('Datos Iniciales'!E192=datos!$I$5,datos!$J$5,(IF('Datos Iniciales'!E192=datos!$I$6,datos!$J$6,(IF('Datos Iniciales'!E192=datos!$I$7,datos!$J$7,(IF('Datos Iniciales'!E192=datos!$I$2,datos!$J$2,(IF('Datos Iniciales'!E192=datos!$I$8,datos!$J$8,(IF('Datos Iniciales'!E192=datos!$I$9,datos!$J$9,(IF('Datos Iniciales'!E192=datos!$I$10,datos!$J$10,(IF('Datos Iniciales'!E192=datos!$I$11,datos!$J$11,(IF('Datos Iniciales'!E192=datos!$I$12,datos!$J$12,(IF('Datos Iniciales'!E192=datos!$I$13,datos!$J$13,(IF('Datos Iniciales'!E192=datos!$I$14,datos!$J$14,(IF('Datos Iniciales'!E192=datos!$I$15,datos!$J$15,\"\")))))))))))))))))))))))))))))","v":""},{"$f":"IF('Datos Iniciales'!F192=\"\",\"\",'Datos Iniciales'!F192)","v":""},{"$f":"IFERROR(datos!B191,\"\")","v":""},null,null,null,null,{"$f":"IF('Datos Iniciales'!H192=\"\",\"\",'Datos Iniciales'!H192)","v":""},{"$f":"IF('Datos Iniciales'!I192=\"\",\"\",datos!$K$2)","v":""},{"$f":"IFERROR(VLOOKUP('Datos Iniciales'!J192,datos!O190:P1309,2,FALSE),\"\")","v":""},null,{"$f":"IF('Datos Iniciales'!K192=\"\",\"\",(CONCATENATE(RIGHT('Datos Iniciales'!K192,1),\"-\",'Datos Iniciales'!L192,\"-\",'Datos Iniciales'!M192)))","v":""},null,null,null,{"$f":"IF('Datos Iniciales'!N192=\"\",\"\",'Datos Iniciales'!N192)","v":""},{"$f":"IF('Datos Iniciales'!O192=\"\",\"\",'Datos Iniciales'!O192)","v":""},null,null,null,null,{"$f":"IF('Datos Iniciales'!P192=\"\",\"\",'Datos Iniciales'!P192)","v":""},null,null,null,null,null,null,null,null,null,null,null,null,{"$f":"IF('Datos Iniciales'!B192=\"\",\"\",(IF('Datos Iniciales'!B192=\"Si\",\"002\",\"003\")))","v":""},null,{"$f":"IF('Datos Iniciales'!Q192=\"\",\"\",(IF('Datos Iniciales'!Q192=datos!S191,\"0\",\"2\")))","v":""},{"$f":"IF('Datos Iniciales'!B192=\"\",\"\",(IF('Datos Iniciales'!B192=\"Si\",\"O-48\",\"O-49\")))","v":""}]
[{"$f":"IF('Datos Iniciales'!B193=\"\",\"\",\"Si\")","v":""},{"$f":"(IF('Datos Iniciales'!A193=\"Cliente\",\"Si\",(IF('Datos Iniciales'!A193=\"\",\"\",\"No\"))))","v":""},{"$f":"(IF('Datos Iniciales'!A193=\"Distribuidor\",\"Si\",(IF('Datos Iniciales'!A193=\"\",\"\",\"No\"))))","v":""},{"$f":"(IF('Datos Iniciales'!A193=\"Otros\",\"Si\",(IF('Datos Iniciales'!A193=\"\",\"\",\"No\"))))","v":""},{"$f":"(IF('Datos Iniciales'!A193=\"Prospecto\",\"Si\",(IF('Datos Iniciales'!A193=\"\",\"\",\"No\"))))","v":""},{"$f":"(IF('Datos Iniciales'!A193=\"Proveedor\",\"Si\",(IF('Datos Iniciales'!A193=\"\",\"\",\"No\"))))","v":""},{"$f":"IF('Datos Iniciales'!B193=\"\",\"\",'Datos Iniciales'!B193)","v":""},{"$f":"IF('Datos Iniciales'!C193=\"\",\"\",'Datos Iniciales'!C193)","v":""},{"$f":"IF('Datos Iniciales'!D193=\"\",\"\",'Datos Iniciales'!D193)","v":""},{"$f":"IF('Datos Iniciales'!E193=datos!$I$2,datos!$J$2,(IF('Datos Iniciales'!E193=datos!$I$3,datos!$J$3,(IF('Datos Iniciales'!E193=datos!$I$4,datos!$J$4,(IF('Datos Iniciales'!E193=datos!$I$5,datos!$J$5,(IF('Datos Iniciales'!E193=datos!$I$6,datos!$J$6,(IF('Datos Iniciales'!E193=datos!$I$7,datos!$J$7,(IF('Datos Iniciales'!E193=datos!$I$2,datos!$J$2,(IF('Datos Iniciales'!E193=datos!$I$8,datos!$J$8,(IF('Datos Iniciales'!E193=datos!$I$9,datos!$J$9,(IF('Datos Iniciales'!E193=datos!$I$10,datos!$J$10,(IF('Datos Iniciales'!E193=datos!$I$11,datos!$J$11,(IF('Datos Iniciales'!E193=datos!$I$12,datos!$J$12,(IF('Datos Iniciales'!E193=datos!$I$13,datos!$J$13,(IF('Datos Iniciales'!E193=datos!$I$14,datos!$J$14,(IF('Datos Iniciales'!E193=datos!$I$15,datos!$J$15,\"\")))))))))))))))))))))))))))))","v":""},{"$f":"IF('Datos Iniciales'!F193=\"\",\"\",'Datos Iniciales'!F193)","v":""},{"$f":"IFERROR(datos!B192,\"\")","v":""},null,null,null,null,{"$f":"IF('Datos Iniciales'!H193=\"\",\"\",'Datos Iniciales'!H193)","v":""},{"$f":"IF('Datos Iniciales'!I193=\"\",\"\",datos!$K$2)","v":""},{"$f":"IFERROR(VLOOKUP('Datos Iniciales'!J193,datos!O191:P1310,2,FALSE),\"\")","v":""},null,{"$f":"IF('Datos Iniciales'!K193=\"\",\"\",(CONCATENATE(RIGHT('Datos Iniciales'!K193,1),\"-\",'Datos Iniciales'!L193,\"-\",'Datos Iniciales'!M193)))","v":""},null,null,null,{"$f":"IF('Datos Iniciales'!N193=\"\",\"\",'Datos Iniciales'!N193)","v":""},{"$f":"IF('Datos Iniciales'!O193=\"\",\"\",'Datos Iniciales'!O193)","v":""},null,null,null,null,{"$f":"IF('Datos Iniciales'!P193=\"\",\"\",'Datos Iniciales'!P193)","v":""},null,null,null,null,null,null,null,null,null,null,null,null,{"$f":"IF('Datos Iniciales'!B193=\"\",\"\",(IF('Datos Iniciales'!B193=\"Si\",\"002\",\"003\")))","v":""},null,{"$f":"IF('Datos Iniciales'!Q193=\"\",\"\",(IF('Datos Iniciales'!Q193=datos!S192,\"0\",\"2\")))","v":""},{"$f":"IF('Datos Iniciales'!B193=\"\",\"\",(IF('Datos Iniciales'!B193=\"Si\",\"O-48\",\"O-49\")))","v":""}]
[{"$f":"IF('Datos Iniciales'!B194=\"\",\"\",\"Si\")","v":""},{"$f":"(IF('Datos Iniciales'!A194=\"Cliente\",\"Si\",(IF('Datos Iniciales'!A194=\"\",\"\",\"No\"))))","v":""},{"$f":"(IF('Datos Iniciales'!A194=\"Distribuidor\",\"Si\",(IF('Datos Iniciales'!A194=\"\",\"\",\"No\"))))","v":""},{"$f":"(IF('Datos Iniciales'!A194=\"Otros\",\"Si\",(IF('Datos Iniciales'!A194=\"\",\"\",\"No\"))))","v":""},{"$f":"(IF('Datos Iniciales'!A194=\"Prospecto\",\"Si\",(IF('Datos Iniciales'!A194=\"\",\"\",\"No\"))))","v":""},{"$f":"(IF('Datos Iniciales'!A194=\"Proveedor\",\"Si\",(IF('Datos Iniciales'!A194=\"\",\"\",\"No\"))))","v":""},{"$f":"IF('Datos Iniciales'!B194=\"\",\"\",'Datos Iniciales'!B194)","v":""},{"$f":"IF('Datos Iniciales'!C194=\"\",\"\",'Datos Iniciales'!C194)","v":""},{"$f":"IF('Datos Iniciales'!D194=\"\",\"\",'Datos Iniciales'!D194)","v":""},{"$f":"IF('Datos Iniciales'!E194=datos!$I$2,datos!$J$2,(IF('Datos Iniciales'!E194=datos!$I$3,datos!$J$3,(IF('Datos Iniciales'!E194=datos!$I$4,datos!$J$4,(IF('Datos Iniciales'!E194=datos!$I$5,datos!$J$5,(IF('Datos Iniciales'!E194=datos!$I$6,datos!$J$6,(IF('Datos Iniciales'!E194=datos!$I$7,datos!$J$7,(IF('Datos Iniciales'!E194=datos!$I$2,datos!$J$2,(IF('Datos Iniciales'!E194=datos!$I$8,datos!$J$8,(IF('Datos Iniciales'!E194=datos!$I$9,datos!$J$9,(IF('Datos Iniciales'!E194=datos!$I$10,datos!$J$10,(IF('Datos Iniciales'!E194=datos!$I$11,datos!$J$11,(IF('Datos Iniciales'!E194=datos!$I$12,datos!$J$12,(IF('Datos Iniciales'!E194=datos!$I$13,datos!$J$13,(IF('Datos Iniciales'!E194=datos!$I$14,datos!$J$14,(IF('Datos Iniciales'!E194=datos!$I$15,datos!$J$15,\"\")))))))))))))))))))))))))))))","v":""},{"$f":"IF('Datos Iniciales'!F194=\"\",\"\",'Datos Iniciales'!F194)","v":""},{"$f":"IFERROR(datos!B193,\"\")","v":""},null,null,null,null,{"$f":"IF('Datos Iniciales'!H194=\"\",\"\",'Datos Iniciales'!H194)","v":""},{"$f":"IF('Datos Iniciales'!I194=\"\",\"\",datos!$K$2)","v":""},{"$f":"IFERROR(VLOOKUP('Datos Iniciales'!J194,datos!O192:P1311,2,FALSE),\"\")","v":""},null,{"$f":"IF('Datos Iniciales'!K194=\"\",\"\",(CONCATENATE(RIGHT('Datos Iniciales'!K194,1),\"-\",'Datos Iniciales'!L194,\"-\",'Datos Iniciales'!M194)))","v":""},null,null,null,{"$f":"IF('Datos Iniciales'!N194=\"\",\"\",'Datos Iniciales'!N194)","v":""},{"$f":"IF('Datos Iniciales'!O194=\"\",\"\",'Datos Iniciales'!O194)","v":""},null,null,null,null,{"$f":"IF('Datos Iniciales'!P194=\"\",\"\",'Datos Iniciales'!P194)","v":""},null,null,null,null,null,null,null,null,null,null,null,null,{"$f":"IF('Datos Iniciales'!B194=\"\",\"\",(IF('Datos Iniciales'!B194=\"Si\",\"002\",\"003\")))","v":""},null,{"$f":"IF('Datos Iniciales'!Q194=\"\",\"\",(IF('Datos Iniciales'!Q194=datos!S193,\"0\",\"2\")))","v":""},{"$f":"IF('Datos Iniciales'!B194=\"\",\"\",(IF('Datos Iniciales'!B194=\"Si\",\"O-48\",\"O-49\")))","v":""}]
[{"$f":"IF('Datos Iniciales'!B195=\"\",\"\",\"Si\")","v":""},{"$f":"(IF('Datos Iniciales'!A195=\"Cliente\",\"Si\",(IF('Datos Iniciales'!A195=\"\",\"\",\"No\"))))","v":""},{"$f":"(IF('Datos Iniciales'!A195=\"Distribuidor\",\"Si\",(IF('Datos Iniciales'!A195=\"\",\"\",\"No\"))))","v":""},{"$f":"(IF('Datos Iniciales'!A195=\"Otros\",\"Si\",(IF('Datos Iniciales'!A195=\"\",\"\",\"No\"))))","v":""},{"$f":"(IF('Datos Iniciales'!A195=\"Prospecto\",\"Si\",(IF('Datos Iniciales'!A195=\"\",\"\",\"No\"))))","v":""},{"$f":"(IF('Datos Iniciales'!A195=\"Proveedor\",\"Si\",(IF('Datos Iniciales'!A195=\"\",\"\",\"No\"))))","v":""},{"$f":"IF('Datos Iniciales'!B195=\"\",\"\",'Datos Iniciales'!B195)","v":""},{"$f":"IF('Datos Iniciales'!C195=\"\",\"\",'Datos Iniciales'!C195)","v":""},{"$f":"IF('Datos Iniciales'!D195=\"\",\"\",'Datos Iniciales'!D195)","v":""},{"$f":"IF('Datos Iniciales'!E195=datos!$I$2,datos!$J$2,(IF('Datos Iniciales'!E195=datos!$I$3,datos!$J$3,(IF('Datos Iniciales'!E195=datos!$I$4,datos!$J$4,(IF('Datos Iniciales'!E195=datos!$I$5,datos!$J$5,(IF('Datos Iniciales'!E195=datos!$I$6,datos!$J$6,(IF('Datos Iniciales'!E195=datos!$I$7,datos!$J$7,(IF('Datos Iniciales'!E195=datos!$I$2,datos!$J$2,(IF('Datos Iniciales'!E195=datos!$I$8,datos!$J$8,(IF('Datos Iniciales'!E195=datos!$I$9,datos!$J$9,(IF('Datos Iniciales'!E195=datos!$I$10,datos!$J$10,(IF('Datos Iniciales'!E195=datos!$I$11,datos!$J$11,(IF('Datos Iniciales'!E195=datos!$I$12,datos!$J$12,(IF('Datos Iniciales'!E195=datos!$I$13,datos!$J$13,(IF('Datos Iniciales'!E195=datos!$I$14,datos!$J$14,(IF('Datos Iniciales'!E195=datos!$I$15,datos!$J$15,\"\")))))))))))))))))))))))))))))","v":""},{"$f":"IF('Datos Iniciales'!F195=\"\",\"\",'Datos Iniciales'!F195)","v":""},{"$f":"IFERROR(datos!B194,\"\")","v":""},null,null,null,null,{"$f":"IF('Datos Iniciales'!H195=\"\",\"\",'Datos Iniciales'!H195)","v":""},{"$f":"IF('Datos Iniciales'!I195=\"\",\"\",datos!$K$2)","v":""},{"$f":"IFERROR(VLOOKUP('Datos Iniciales'!J195,datos!O193:P1312,2,FALSE),\"\")","v":""},null,{"$f":"IF('Datos Iniciales'!K195=\"\",\"\",(CONCATENATE(RIGHT('Datos Iniciales'!K195,1),\"-\",'Datos Iniciales'!L195,\"-\",'Datos Iniciales'!M195)))","v":""},null,null,null,{"$f":"IF('Datos Iniciales'!N195=\"\",\"\",'Datos Iniciales'!N195)","v":""},{"$f":"IF('Datos Iniciales'!O195=\"\",\"\",'Datos Iniciales'!O195)","v":""},null,null,null,null,{"$f":"IF('Datos Iniciales'!P195=\"\",\"\",'Datos Iniciales'!P195)","v":""},null,null,null,null,null,null,null,null,null,null,null,null,{"$f":"IF('Datos Iniciales'!B195=\"\",\"\",(IF('Datos Iniciales'!B195=\"Si\",\"002\",\"003\")))","v":""},null,{"$f":"IF('Datos Iniciales'!Q195=\"\",\"\",(IF('Datos Iniciales'!Q195=datos!S194,\"0\",\"2\")))","v":""},{"$f":"IF('Datos Iniciales'!B195=\"\",\"\",(IF('Datos Iniciales'!B195=\"Si\",\"O-48\",\"O-49\")))","v":""}]
[{"$f":"IF('Datos Iniciales'!B196=\"\",\"\",\"Si\")","v":""},{"$f":"(IF('Datos Iniciales'!A196=\"Cliente\",\"Si\",(IF('Datos Iniciales'!A196=\"\",\"\",\"No\"))))","v":""},{"$f":"(IF('Datos Iniciales'!A196=\"Distribuidor\",\"Si\",(IF('Datos Iniciales'!A196=\"\",\"\",\"No\"))))","v":""},{"$f":"(IF('Datos Iniciales'!A196=\"Otros\",\"Si\",(IF('Datos Iniciales'!A196=\"\",\"\",\"No\"))))","v":""},{"$f":"(IF('Datos Iniciales'!A196=\"Prospecto\",\"Si\",(IF('Datos Iniciales'!A196=\"\",\"\",\"No\"))))","v":""},{"$f":"(IF('Datos Iniciales'!A196=\"Proveedor\",\"Si\",(IF('Datos Iniciales'!A196=\"\",\"\",\"No\"))))","v":""},{"$f":"IF('Datos Iniciales'!B196=\"\",\"\",'Datos Iniciales'!B196)","v":""},{"$f":"IF('Datos Iniciales'!C196=\"\",\"\",'Datos Iniciales'!C196)","v":""},{"$f":"IF('Datos Iniciales'!D196=\"\",\"\",'Datos Iniciales'!D196)","v":""},{"$f":"IF('Datos Iniciales'!E196=datos!$I$2,datos!$J$2,(IF('Datos Iniciales'!E196=datos!$I$3,datos!$J$3,(IF('Datos Iniciales'!E196=datos!$I$4,datos!$J$4,(IF('Datos Iniciales'!E196=datos!$I$5,datos!$J$5,(IF('Datos Iniciales'!E196=datos!$I$6,datos!$J$6,(IF('Datos Iniciales'!E196=datos!$I$7,datos!$J$7,(IF('Datos Iniciales'!E196=datos!$I$2,datos!$J$2,(IF('Datos Iniciales'!E196=datos!$I$8,datos!$J$8,(IF('Datos Iniciales'!E196=datos!$I$9,datos!$J$9,(IF('Datos Iniciales'!E196=datos!$I$10,datos!$J$10,(IF('Datos Iniciales'!E196=datos!$I$11,datos!$J$11,(IF('Datos Iniciales'!E196=datos!$I$12,datos!$J$12,(IF('Datos Iniciales'!E196=datos!$I$13,datos!$J$13,(IF('Datos Iniciales'!E196=datos!$I$14,datos!$J$14,(IF('Datos Iniciales'!E196=datos!$I$15,datos!$J$15,\"\")))))))))))))))))))))))))))))","v":""},{"$f":"IF('Datos Iniciales'!F196=\"\",\"\",'Datos Iniciales'!F196)","v":""},{"$f":"IFERROR(datos!B195,\"\")","v":""},null,null,null,null,{"$f":"IF('Datos Iniciales'!H196=\"\",\"\",'Datos Iniciales'!H196)","v":""},{"$f":"IF('Datos Iniciales'!I196=\"\",\"\",datos!$K$2)","v":""},{"$f":"IFERROR(VLOOKUP('Datos Iniciales'!J196,datos!O194:P1313,2,FALSE),\"\")","v":""},null,{"$f":"IF('Datos Iniciales'!K196=\"\",\"\",(CONCATENATE(RIGHT('Datos Iniciales'!K196,1),\"-\",'Datos Iniciales'!L196,\"-\",'Datos Iniciales'!M196)))","v":""},null,null,null,{"$f":"IF('Datos Iniciales'!N196=\"\",\"\",'Datos Iniciales'!N196)","v":""},{"$f":"IF('Datos Iniciales'!O196=\"\",\"\",'Datos Iniciales'!O196)","v":""},null,null,null,null,{"$f":"IF('Datos Iniciales'!P196=\"\",\"\",'Datos Iniciales'!P196)","v":""},null,null,null,null,null,null,null,null,null,null,null,null,{"$f":"IF('Datos Iniciales'!B196=\"\",\"\",(IF('Datos Iniciales'!B196=\"Si\",\"002\",\"003\")))","v":""},null,{"$f":"IF('Datos Iniciales'!Q196=\"\",\"\",(IF('Datos Iniciales'!Q196=datos!S195,\"0\",\"2\")))","v":""},{"$f":"IF('Datos Iniciales'!B196=\"\",\"\",(IF('Datos Iniciales'!B196=\"Si\",\"O-48\",\"O-49\")))","v":""}]
[{"$f":"IF('Datos Iniciales'!B197=\"\",\"\",\"Si\")","v":""},{"$f":"(IF('Datos Iniciales'!A197=\"Cliente\",\"Si\",(IF('Datos Iniciales'!A197=\"\",\"\",\"No\"))))","v":""},{"$f":"(IF('Datos Iniciales'!A197=\"Distribuidor\",\"Si\",(IF('Datos Iniciales'!A197=\"\",\"\",\"No\"))))","v":""},{"$f":"(IF('Datos Iniciales'!A197=\"Otros\",\"Si\",(IF('Datos Iniciales'!A197=\"\",\"\",\"No\"))))","v":""},{"$f":"(IF('Datos Iniciales'!A197=\"Prospecto\",\"Si\",(IF('Datos Iniciales'!A197=\"\",\"\",\"No\"))))","v":""},{"$f":"(IF('Datos Iniciales'!A197=\"Proveedor\",\"Si\",(IF('Datos Iniciales'!A197=\"\",\"\",\"No\"))))","v":""},{"$f":"IF('Datos Iniciales'!B197=\"\",\"\",'Datos Iniciales'!B197)","v":""},{"$f":"IF('Datos Iniciales'!C197=\"\",\"\",'Datos Iniciales'!C197)","v":""},{"$f":"IF('Datos Iniciales'!D197=\"\",\"\",'Datos Iniciales'!D197)","v":""},{"$f":"IF('Datos Iniciales'!E197=datos!$I$2,datos!$J$2,(IF('Datos Iniciales'!E197=datos!$I$3,datos!$J$3,(IF('Datos Iniciales'!E197=datos!$I$4,datos!$J$4,(IF('Datos Iniciales'!E197=datos!$I$5,datos!$J$5,(IF('Datos Iniciales'!E197=datos!$I$6,datos!$J$6,(IF('Datos Iniciales'!E197=datos!$I$7,datos!$J$7,(IF('Datos Iniciales'!E197=datos!$I$2,datos!$J$2,(IF('Datos Iniciales'!E197=datos!$I$8,datos!$J$8,(IF('Datos Iniciales'!E197=datos!$I$9,datos!$J$9,(IF('Datos Iniciales'!E197=datos!$I$10,datos!$J$10,(IF('Datos Iniciales'!E197=datos!$I$11,datos!$J$11,(IF('Datos Iniciales'!E197=datos!$I$12,datos!$J$12,(IF('Datos Iniciales'!E197=datos!$I$13,datos!$J$13,(IF('Datos Iniciales'!E197=datos!$I$14,datos!$J$14,(IF('Datos Iniciales'!E197=datos!$I$15,datos!$J$15,\"\")))))))))))))))))))))))))))))","v":""},{"$f":"IF('Datos Iniciales'!F197=\"\",\"\",'Datos Iniciales'!F197)","v":""},{"$f":"IFERROR(datos!B196,\"\")","v":""},null,null,null,null,{"$f":"IF('Datos Iniciales'!H197=\"\",\"\",'Datos Iniciales'!H197)","v":""},{"$f":"IF('Datos Iniciales'!I197=\"\",\"\",datos!$K$2)","v":""},{"$f":"IFERROR(VLOOKUP('Datos Iniciales'!J197,datos!O195:P1314,2,FALSE),\"\")","v":""},null,{"$f":"IF('Datos Iniciales'!K197=\"\",\"\",(CONCATENATE(RIGHT('Datos Iniciales'!K197,1),\"-\",'Datos Iniciales'!L197,\"-\",'Datos Iniciales'!M197)))","v":""},null,null,null,{"$f":"IF('Datos Iniciales'!N197=\"\",\"\",'Datos Iniciales'!N197)","v":""},{"$f":"IF('Datos Iniciales'!O197=\"\",\"\",'Datos Iniciales'!O197)","v":""},null,null,null,null,{"$f":"IF('Datos Iniciales'!P197=\"\",\"\",'Datos Iniciales'!P197)","v":""},null,null,null,null,null,null,null,null,null,null,null,null,{"$f":"IF('Datos Iniciales'!B197=\"\",\"\",(IF('Datos Iniciales'!B197=\"Si\",\"002\",\"003\")))","v":""},null,{"$f":"IF('Datos Iniciales'!Q197=\"\",\"\",(IF('Datos Iniciales'!Q197=datos!S196,\"0\",\"2\")))","v":""},{"$f":"IF('Datos Iniciales'!B197=\"\",\"\",(IF('Datos Iniciales'!B197=\"Si\",\"O-48\",\"O-49\")))","v":""}]
[{"$f":"IF('Datos Iniciales'!B198=\"\",\"\",\"Si\")","v":""},{"$f":"(IF('Datos Iniciales'!A198=\"Cliente\",\"Si\",(IF('Datos Iniciales'!A198=\"\",\"\",\"No\"))))","v":""},{"$f":"(IF('Datos Iniciales'!A198=\"Distribuidor\",\"Si\",(IF('Datos Iniciales'!A198=\"\",\"\",\"No\"))))","v":""},{"$f":"(IF('Datos Iniciales'!A198=\"Otros\",\"Si\",(IF('Datos Iniciales'!A198=\"\",\"\",\"No\"))))","v":""},{"$f":"(IF('Datos Iniciales'!A198=\"Prospecto\",\"Si\",(IF('Datos Iniciales'!A198=\"\",\"\",\"No\"))))","v":""},{"$f":"(IF('Datos Iniciales'!A198=\"Proveedor\",\"Si\",(IF('Datos Iniciales'!A198=\"\",\"\",\"No\"))))","v":""},{"$f":"IF('Datos Iniciales'!B198=\"\",\"\",'Datos Iniciales'!B198)","v":""},{"$f":"IF('Datos Iniciales'!C198=\"\",\"\",'Datos Iniciales'!C198)","v":""},{"$f":"IF('Datos Iniciales'!D198=\"\",\"\",'Datos Iniciales'!D198)","v":""},{"$f":"IF('Datos Iniciales'!E198=datos!$I$2,datos!$J$2,(IF('Datos Iniciales'!E198=datos!$I$3,datos!$J$3,(IF('Datos Iniciales'!E198=datos!$I$4,datos!$J$4,(IF('Datos Iniciales'!E198=datos!$I$5,datos!$J$5,(IF('Datos Iniciales'!E198=datos!$I$6,datos!$J$6,(IF('Datos Iniciales'!E198=datos!$I$7,datos!$J$7,(IF('Datos Iniciales'!E198=datos!$I$2,datos!$J$2,(IF('Datos Iniciales'!E198=datos!$I$8,datos!$J$8,(IF('Datos Iniciales'!E198=datos!$I$9,datos!$J$9,(IF('Datos Iniciales'!E198=datos!$I$10,datos!$J$10,(IF('Datos Iniciales'!E198=datos!$I$11,datos!$J$11,(IF('Datos Iniciales'!E198=datos!$I$12,datos!$J$12,(IF('Datos Iniciales'!E198=datos!$I$13,datos!$J$13,(IF('Datos Iniciales'!E198=datos!$I$14,datos!$J$14,(IF('Datos Iniciales'!E198=datos!$I$15,datos!$J$15,\"\")))))))))))))))))))))))))))))","v":""},{"$f":"IF('Datos Iniciales'!F198=\"\",\"\",'Datos Iniciales'!F198)","v":""},{"$f":"IFERROR(datos!B197,\"\")","v":""},null,null,null,null,{"$f":"IF('Datos Iniciales'!H198=\"\",\"\",'Datos Iniciales'!H198)","v":""},{"$f":"IF('Datos Iniciales'!I198=\"\",\"\",datos!$K$2)","v":""},{"$f":"IFERROR(VLOOKUP('Datos Iniciales'!J198,datos!O196:P1315,2,FALSE),\"\")","v":""},null,{"$f":"IF('Datos Iniciales'!K198=\"\",\"\",(CONCATENATE(RIGHT('Datos Iniciales'!K198,1),\"-\",'Datos Iniciales'!L198,\"-\",'Datos Iniciales'!M198)))","v":""},null,null,null,{"$f":"IF('Datos Iniciales'!N198=\"\",\"\",'Datos Iniciales'!N198)","v":""},{"$f":"IF('Datos Iniciales'!O198=\"\",\"\",'Datos Iniciales'!O198)","v":""},null,null,null,null,{"$f":"IF('Datos Iniciales'!P198=\"\",\"\",'Datos Iniciales'!P198)","v":""},null,null,null,null,null,null,null,null,null,null,null,null,{"$f":"IF('Datos Iniciales'!B198=\"\",\"\",(IF('Datos Iniciales'!B198=\"Si\",\"002\",\"003\")))","v":""},null,{"$f":"IF('Datos Iniciales'!Q198=\"\",\"\",(IF('Datos Iniciales'!Q198=datos!S197,\"0\",\"2\")))","v":""},{"$f":"IF('Datos Iniciales'!B198=\"\",\"\",(IF('Datos Iniciales'!B198=\"Si\",\"O-48\",\"O-49\")))","v":""}]
[{"$f":"IF('Datos Iniciales'!B199=\"\",\"\",\"Si\")","v":""},{"$f":"(IF('Datos Iniciales'!A199=\"Cliente\",\"Si\",(IF('Datos Iniciales'!A199=\"\",\"\",\"No\"))))","v":""},{"$f":"(IF('Datos Iniciales'!A199=\"Distribuidor\",\"Si\",(IF('Datos Iniciales'!A199=\"\",\"\",\"No\"))))","v":""},{"$f":"(IF('Datos Iniciales'!A199=\"Otros\",\"Si\",(IF('Datos Iniciales'!A199=\"\",\"\",\"No\"))))","v":""},{"$f":"(IF('Datos Iniciales'!A199=\"Prospecto\",\"Si\",(IF('Datos Iniciales'!A199=\"\",\"\",\"No\"))))","v":""},{"$f":"(IF('Datos Iniciales'!A199=\"Proveedor\",\"Si\",(IF('Datos Iniciales'!A199=\"\",\"\",\"No\"))))","v":""},{"$f":"IF('Datos Iniciales'!B199=\"\",\"\",'Datos Iniciales'!B199)","v":""},{"$f":"IF('Datos Iniciales'!C199=\"\",\"\",'Datos Iniciales'!C199)","v":""},{"$f":"IF('Datos Iniciales'!D199=\"\",\"\",'Datos Iniciales'!D199)","v":""},{"$f":"IF('Datos Iniciales'!E199=datos!$I$2,datos!$J$2,(IF('Datos Iniciales'!E199=datos!$I$3,datos!$J$3,(IF('Datos Iniciales'!E199=datos!$I$4,datos!$J$4,(IF('Datos Iniciales'!E199=datos!$I$5,datos!$J$5,(IF('Datos Iniciales'!E199=datos!$I$6,datos!$J$6,(IF('Datos Iniciales'!E199=datos!$I$7,datos!$J$7,(IF('Datos Iniciales'!E199=datos!$I$2,datos!$J$2,(IF('Datos Iniciales'!E199=datos!$I$8,datos!$J$8,(IF('Datos Iniciales'!E199=datos!$I$9,datos!$J$9,(IF('Datos Iniciales'!E199=datos!$I$10,datos!$J$10,(IF('Datos Iniciales'!E199=datos!$I$11,datos!$J$11,(IF('Datos Iniciales'!E199=datos!$I$12,datos!$J$12,(IF('Datos Iniciales'!E199=datos!$I$13,datos!$J$13,(IF('Datos Iniciales'!E199=datos!$I$14,datos!$J$14,(IF('Datos Iniciales'!E199=datos!$I$15,datos!$J$15,\"\")))))))))))))))))))))))))))))","v":""},{"$f":"IF('Datos Iniciales'!F199=\"\",\"\",'Datos Iniciales'!F199)","v":""},{"$f":"IFERROR(datos!B198,\"\")","v":""},null,null,null,null,{"$f":"IF('Datos Iniciales'!H199=\"\",\"\",'Datos Iniciales'!H199)","v":""},{"$f":"IF('Datos Iniciales'!I199=\"\",\"\",datos!$K$2)","v":""},{"$f":"IFERROR(VLOOKUP('Datos Iniciales'!J199,datos!O197:P1316,2,FALSE),\"\")","v":""},null,{"$f":"IF('Datos Iniciales'!K199=\"\",\"\",(CONCATENATE(RIGHT('Datos Iniciales'!K199,1),\"-\",'Datos Iniciales'!L199,\"-\",'Datos Iniciales'!M199)))","v":""},null,null,null,{"$f":"IF('Datos Iniciales'!N199=\"\",\"\",'Datos Iniciales'!N199)","v":""},{"$f":"IF('Datos Iniciales'!O199=\"\",\"\",'Datos Iniciales'!O199)","v":""},null,null,null,null,{"$f":"IF('Datos Iniciales'!P199=\"\",\"\",'Datos Iniciales'!P199)","v":""},null,null,null,null,null,null,null,null,null,null,null,null,{"$f":"IF('Datos Iniciales'!B199=\"\",\"\",(IF('Datos Iniciales'!B199=\"Si\",\"002\",\"003\")))","v":""},null,{"$f":"IF('Datos Iniciales'!Q199=\"\",\"\",(IF('Datos Iniciales'!Q199=datos!S198,\"0\",\"2\")))","v":""},{"$f":"IF('Datos Iniciales'!B199=\"\",\"\",(IF('Datos Iniciales'!B199=\"Si\",\"O-48\",\"O-49\")))","v":""}]
[{"$f":"IF('Datos Iniciales'!B200=\"\",\"\",\"Si\")","v":""},{"$f":"(IF('Datos Iniciales'!A200=\"Cliente\",\"Si\",(IF('Datos Iniciales'!A200=\"\",\"\",\"No\"))))","v":""},{"$f":"(IF('Datos Iniciales'!A200=\"Distribuidor\",\"Si\",(IF('Datos Iniciales'!A200=\"\",\"\",\"No\"))))","v":""},{"$f":"(IF('Datos Iniciales'!A200=\"Otros\",\"Si\",(IF('Datos Iniciales'!A200=\"\",\"\",\"No\"))))","v":""},{"$f":"(IF('Datos Iniciales'!A200=\"Prospecto\",\"Si\",(IF('Datos Iniciales'!A200=\"\",\"\",\"No\"))))","v":""},{"$f":"(IF('Datos Iniciales'!A200=\"Proveedor\",\"Si\",(IF('Datos Iniciales'!A200=\"\",\"\",\"No\"))))","v":""},{"$f":"IF('Datos Iniciales'!B200=\"\",\"\",'Datos Iniciales'!B200)","v":""},{"$f":"IF('Datos Iniciales'!C200=\"\",\"\",'Datos Iniciales'!C200)","v":""},{"$f":"IF('Datos Iniciales'!D200=\"\",\"\",'Datos Iniciales'!D200)","v":""},{"$f":"IF('Datos Iniciales'!E200=datos!$I$2,datos!$J$2,(IF('Datos Iniciales'!E200=datos!$I$3,datos!$J$3,(IF('Datos Iniciales'!E200=datos!$I$4,datos!$J$4,(IF('Datos Iniciales'!E200=datos!$I$5,datos!$J$5,(IF('Datos Iniciales'!E200=datos!$I$6,datos!$J$6,(IF('Datos Iniciales'!E200=datos!$I$7,datos!$J$7,(IF('Datos Iniciales'!E200=datos!$I$2,datos!$J$2,(IF('Datos Iniciales'!E200=datos!$I$8,datos!$J$8,(IF('Datos Iniciales'!E200=datos!$I$9,datos!$J$9,(IF('Datos Iniciales'!E200=datos!$I$10,datos!$J$10,(IF('Datos Iniciales'!E200=datos!$I$11,datos!$J$11,(IF('Datos Iniciales'!E200=datos!$I$12,datos!$J$12,(IF('Datos Iniciales'!E200=datos!$I$13,datos!$J$13,(IF('Datos Iniciales'!E200=datos!$I$14,datos!$J$14,(IF('Datos Iniciales'!E200=datos!$I$15,datos!$J$15,\"\")))))))))))))))))))))))))))))","v":""},{"$f":"IF('Datos Iniciales'!F200=\"\",\"\",'Datos Iniciales'!F200)","v":""},{"$f":"IFERROR(datos!B199,\"\")","v":""},null,null,null,null,{"$f":"IF('Datos Iniciales'!H200=\"\",\"\",'Datos Iniciales'!H200)","v":""},{"$f":"IF('Datos Iniciales'!I200=\"\",\"\",datos!$K$2)","v":""},{"$f":"IFERROR(VLOOKUP('Datos Iniciales'!J200,datos!O198:P1317,2,FALSE),\"\")","v":""},null,{"$f":"IF('Datos Iniciales'!K200=\"\",\"\",(CONCATENATE(RIGHT('Datos Iniciales'!K200,1),\"-\",'Datos Iniciales'!L200,\"-\",'Datos Iniciales'!M200)))","v":""},null,null,null,{"$f":"IF('Datos Iniciales'!N200=\"\",\"\",'Datos Iniciales'!N200)","v":""},{"$f":"IF('Datos Iniciales'!O200=\"\",\"\",'Datos Iniciales'!O200)","v":""},null,null,null,null,{"$f":"IF('Datos Iniciales'!P200=\"\",\"\",'Datos Iniciales'!P200)","v":""},null,null,null,null,null,null,null,null,null,null,null,null,{"$f":"IF('Datos Iniciales'!B200=\"\",\"\",(IF('Datos Iniciales'!B200=\"Si\",\"002\",\"003\")))","v":""},null,{"$f":"IF('Datos Iniciales'!Q200=\"\",\"\",(IF('Datos Iniciales'!Q200=datos!S199,\"0\",\"2\")))","v":""},{"$f":"IF('Datos Iniciales'!B200=\"\",\"\",(IF('Datos Iniciales'!B200=\"Si\",\"O-48\",\"O-49\")))","v":""}]
[{"$f":"IF('Datos Iniciales'!B201=\"\",\"\",\"Si\")","v":""},{"$f":"(IF('Datos Iniciales'!A201=\"Cliente\",\"Si\",(IF('Datos Iniciales'!A201=\"\",\"\",\"No\"))))","v":""},{"$f":"(IF('Datos Iniciales'!A201=\"Distribuidor\",\"Si\",(IF('Datos Iniciales'!A201=\"\",\"\",\"No\"))))","v":""},{"$f":"(IF('Datos Iniciales'!A201=\"Otros\",\"Si\",(IF('Datos Iniciales'!A201=\"\",\"\",\"No\"))))","v":""},{"$f":"(IF('Datos Iniciales'!A201=\"Prospecto\",\"Si\",(IF('Datos Iniciales'!A201=\"\",\"\",\"No\"))))","v":""},{"$f":"(IF('Datos Iniciales'!A201=\"Proveedor\",\"Si\",(IF('Datos Iniciales'!A201=\"\",\"\",\"No\"))))","v":""},{"$f":"IF('Datos Iniciales'!B201=\"\",\"\",'Datos Iniciales'!B201)","v":""},{"$f":"IF('Datos Iniciales'!C201=\"\",\"\",'Datos Iniciales'!C201)","v":""},{"$f":"IF('Datos Iniciales'!D201=\"\",\"\",'Datos Iniciales'!D201)","v":""},{"$f":"IF('Datos Iniciales'!E201=datos!$I$2,datos!$J$2,(IF('Datos Iniciales'!E201=datos!$I$3,datos!$J$3,(IF('Datos Iniciales'!E201=datos!$I$4,datos!$J$4,(IF('Datos Iniciales'!E201=datos!$I$5,datos!$J$5,(IF('Datos Iniciales'!E201=datos!$I$6,datos!$J$6,(IF('Datos Iniciales'!E201=datos!$I$7,datos!$J$7,(IF('Datos Iniciales'!E201=datos!$I$2,datos!$J$2,(IF('Datos Iniciales'!E201=datos!$I$8,datos!$J$8,(IF('Datos Iniciales'!E201=datos!$I$9,datos!$J$9,(IF('Datos Iniciales'!E201=datos!$I$10,datos!$J$10,(IF('Datos Iniciales'!E201=datos!$I$11,datos!$J$11,(IF('Datos Iniciales'!E201=datos!$I$12,datos!$J$12,(IF('Datos Iniciales'!E201=datos!$I$13,datos!$J$13,(IF('Datos Iniciales'!E201=datos!$I$14,datos!$J$14,(IF('Datos Iniciales'!E201=datos!$I$15,datos!$J$15,\"\")))))))))))))))))))))))))))))","v":""},{"$f":"IF('Datos Iniciales'!F201=\"\",\"\",'Datos Iniciales'!F201)","v":""},{"$f":"IFERROR(datos!B200,\"\")","v":""},null,null,null,null,{"$f":"IF('Datos Iniciales'!H201=\"\",\"\",'Datos Iniciales'!H201)","v":""},{"$f":"IF('Datos Iniciales'!I201=\"\",\"\",datos!$K$2)","v":""},{"$f":"IFERROR(VLOOKUP('Datos Iniciales'!J201,datos!O199:P1318,2,FALSE),\"\")","v":""},null,{"$f":"IF('Datos Iniciales'!K201=\"\",\"\",(CONCATENATE(RIGHT('Datos Iniciales'!K201,1),\"-\",'Datos Iniciales'!L201,\"-\",'Datos Iniciales'!M201)))","v":""},null,null,null,{"$f":"IF('Datos Iniciales'!N201=\"\",\"\",'Datos Iniciales'!N201)","v":""},{"$f":"IF('Datos Iniciales'!O201=\"\",\"\",'Datos Iniciales'!O201)","v":""},null,null,null,null,{"$f":"IF('Datos Iniciales'!P201=\"\",\"\",'Datos Iniciales'!P201)","v":""},null,null,null,null,null,null,null,null,null,null,null,null,{"$f":"IF('Datos Iniciales'!B201=\"\",\"\",(IF('Datos Iniciales'!B201=\"Si\",\"002\",\"003\")))","v":""},null,{"$f":"IF('Datos Iniciales'!Q201=\"\",\"\",(IF('Datos Iniciales'!Q201=datos!S200,\"0\",\"2\")))","v":""},{"$f":"IF('Datos Iniciales'!B201=\"\",\"\",(IF('Datos Iniciales'!B201=\"Si\",\"O-48\",\"O-49\")))","v":""}]
[{"$f":"IF('Datos Iniciales'!B202=\"\",\"\",\"Si\")","v":""},{"$f":"(IF('Datos Iniciales'!A202=\"Cliente\",\"Si\",(IF('Datos Iniciales'!A202=\"\",\"\",\"No\"))))","v":""},{"$f":"(IF('Datos Iniciales'!A202=\"Distribuidor\",\"Si\",(IF('Datos Iniciales'!A202=\"\",\"\",\"No\"))))","v":""},{"$f":"(IF('Datos Iniciales'!A202=\"Otros\",\"Si\",(IF('Datos Iniciales'!A202=\"\",\"\",\"No\"))))","v":""},{"$f":"(IF('Datos Iniciales'!A202=\"Prospecto\",\"Si\",(IF('Datos Iniciales'!A202=\"\",\"\",\"No\"))))","v":""},{"$f":"(IF('Datos Iniciales'!A202=\"Proveedor\",\"Si\",(IF('Datos Iniciales'!A202=\"\",\"\",\"No\"))))","v":""},{"$f":"IF('Datos Iniciales'!B202=\"\",\"\",'Datos Iniciales'!B202)","v":""},{"$f":"IF('Datos Iniciales'!C202=\"\",\"\",'Datos Iniciales'!C202)","v":""},{"$f":"IF('Datos Iniciales'!D202=\"\",\"\",'Datos Iniciales'!D202)","v":""},{"$f":"IF('Datos Iniciales'!E202=datos!$I$2,datos!$J$2,(IF('Datos Iniciales'!E202=datos!$I$3,datos!$J$3,(IF('Datos Iniciales'!E202=datos!$I$4,datos!$J$4,(IF('Datos Iniciales'!E202=datos!$I$5,datos!$J$5,(IF('Datos Iniciales'!E202=datos!$I$6,datos!$J$6,(IF('Datos Iniciales'!E202=datos!$I$7,datos!$J$7,(IF('Datos Iniciales'!E202=datos!$I$2,datos!$J$2,(IF('Datos Iniciales'!E202=datos!$I$8,datos!$J$8,(IF('Datos Iniciales'!E202=datos!$I$9,datos!$J$9,(IF('Datos Iniciales'!E202=datos!$I$10,datos!$J$10,(IF('Datos Iniciales'!E202=datos!$I$11,datos!$J$11,(IF('Datos Iniciales'!E202=datos!$I$12,datos!$J$12,(IF('Datos Iniciales'!E202=datos!$I$13,datos!$J$13,(IF('Datos Iniciales'!E202=datos!$I$14,datos!$J$14,(IF('Datos Iniciales'!E202=datos!$I$15,datos!$J$15,\"\")))))))))))))))))))))))))))))","v":""},{"$f":"IF('Datos Iniciales'!F202=\"\",\"\",'Datos Iniciales'!F202)","v":""},{"$f":"IFERROR(datos!B201,\"\")","v":""},null,null,null,null,{"$f":"IF('Datos Iniciales'!H202=\"\",\"\",'Datos Iniciales'!H202)","v":""},{"$f":"IF('Datos Iniciales'!I202=\"\",\"\",datos!$K$2)","v":""},{"$f":"IFERROR(VLOOKUP('Datos Iniciales'!J202,datos!O200:P1319,2,FALSE),\"\")","v":""},null,{"$f":"IF('Datos Iniciales'!K202=\"\",\"\",(CONCATENATE(RIGHT('Datos Iniciales'!K202,1),\"-\",'Datos Iniciales'!L202,\"-\",'Datos Iniciales'!M202)))","v":""},null,null,null,{"$f":"IF('Datos Iniciales'!N202=\"\",\"\",'Datos Iniciales'!N202)","v":""},{"$f":"IF('Datos Iniciales'!O202=\"\",\"\",'Datos Iniciales'!O202)","v":""},null,null,null,null,{"$f":"IF('Datos Iniciales'!P202=\"\",\"\",'Datos Iniciales'!P202)","v":""},null,null,null,null,null,null,null,null,null,null,null,null,{"$f":"IF('Datos Iniciales'!B202=\"\",\"\",(IF('Datos Iniciales'!B202=\"Si\",\"002\",\"003\")))","v":""},null,{"$f":"IF('Datos Iniciales'!Q202=\"\",\"\",(IF('Datos Iniciales'!Q202=datos!S201,\"0\",\"2\")))","v":""},{"$f":"IF('Datos Iniciales'!B202=\"\",\"\",(IF('Datos Iniciales'!B202=\"Si\",\"O-48\",\"O-49\")))","v":""}]
[{"$f":"IF('Datos Iniciales'!B203=\"\",\"\",\"Si\")","v":""},{"$f":"(IF('Datos Iniciales'!A203=\"Cliente\",\"Si\",(IF('Datos Iniciales'!A203=\"\",\"\",\"No\"))))","v":""},{"$f":"(IF('Datos Iniciales'!A203=\"Distribuidor\",\"Si\",(IF('Datos Iniciales'!A203=\"\",\"\",\"No\"))))","v":""},{"$f":"(IF('Datos Iniciales'!A203=\"Otros\",\"Si\",(IF('Datos Iniciales'!A203=\"\",\"\",\"No\"))))","v":""},{"$f":"(IF('Datos Iniciales'!A203=\"Prospecto\",\"Si\",(IF('Datos Iniciales'!A203=\"\",\"\",\"No\"))))","v":""},{"$f":"(IF('Datos Iniciales'!A203=\"Proveedor\",\"Si\",(IF('Datos Iniciales'!A203=\"\",\"\",\"No\"))))","v":""},{"$f":"IF('Datos Iniciales'!B203=\"\",\"\",'Datos Iniciales'!B203)","v":""},{"$f":"IF('Datos Iniciales'!C203=\"\",\"\",'Datos Iniciales'!C203)","v":""},{"$f":"IF('Datos Iniciales'!D203=\"\",\"\",'Datos Iniciales'!D203)","v":""},{"$f":"IF('Datos Iniciales'!E203=datos!$I$2,datos!$J$2,(IF('Datos Iniciales'!E203=datos!$I$3,datos!$J$3,(IF('Datos Iniciales'!E203=datos!$I$4,datos!$J$4,(IF('Datos Iniciales'!E203=datos!$I$5,datos!$J$5,(IF('Datos Iniciales'!E203=datos!$I$6,datos!$J$6,(IF('Datos Iniciales'!E203=datos!$I$7,datos!$J$7,(IF('Datos Iniciales'!E203=datos!$I$2,datos!$J$2,(IF('Datos Iniciales'!E203=datos!$I$8,datos!$J$8,(IF('Datos Iniciales'!E203=datos!$I$9,datos!$J$9,(IF('Datos Iniciales'!E203=datos!$I$10,datos!$J$10,(IF('Datos Iniciales'!E203=datos!$I$11,datos!$J$11,(IF('Datos Iniciales'!E203=datos!$I$12,datos!$J$12,(IF('Datos Iniciales'!E203=datos!$I$13,datos!$J$13,(IF('Datos Iniciales'!E203=datos!$I$14,datos!$J$14,(IF('Datos Iniciales'!E203=datos!$I$15,datos!$J$15,\"\")))))))))))))))))))))))))))))","v":""},{"$f":"IF('Datos Iniciales'!F203=\"\",\"\",'Datos Iniciales'!F203)","v":""},{"$f":"IFERROR(datos!B202,\"\")","v":""},null,null,null,null,{"$f":"IF('Datos Iniciales'!H203=\"\",\"\",'Datos Iniciales'!H203)","v":""},{"$f":"IF('Datos Iniciales'!I203=\"\",\"\",datos!$K$2)","v":""},{"$f":"IFERROR(VLOOKUP('Datos Iniciales'!J203,datos!O201:P1320,2,FALSE),\"\")","v":""},null,{"$f":"IF('Datos Iniciales'!K203=\"\",\"\",(CONCATENATE(RIGHT('Datos Iniciales'!K203,1),\"-\",'Datos Iniciales'!L203,\"-\",'Datos Iniciales'!M203)))","v":""},null,null,null,{"$f":"IF('Datos Iniciales'!N203=\"\",\"\",'Datos Iniciales'!N203)","v":""},{"$f":"IF('Datos Iniciales'!O203=\"\",\"\",'Datos Iniciales'!O203)","v":""},null,null,null,null,{"$f":"IF('Datos Iniciales'!P203=\"\",\"\",'Datos Iniciales'!P203)","v":""},null,null,null,null,null,null,null,null,null,null,null,null,{"$f":"IF('Datos Iniciales'!B203=\"\",\"\",(IF('Datos Iniciales'!B203=\"Si\",\"002\",\"003\")))","v":""},null,{"$f":"IF('Datos Iniciales'!Q203=\"\",\"\",(IF('Datos Iniciales'!Q203=datos!S202,\"0\",\"2\")))","v":""},{"$f":"IF('Datos Iniciales'!B203=\"\",\"\",(IF('Datos Iniciales'!B203=\"Si\",\"O-48\",\"O-49\")))","v":""}]
[{"$f":"IF('Datos Iniciales'!B204=\"\",\"\",\"Si\")","v":""},{"$f":"(IF('Datos Iniciales'!A204=\"Cliente\",\"Si\",(IF('Datos Iniciales'!A204=\"\",\"\",\"No\"))))","v":""},{"$f":"(IF('Datos Iniciales'!A204=\"Distribuidor\",\"Si\",(IF('Datos Iniciales'!A204=\"\",\"\",\"No\"))))","v":""},{"$f":"(IF('Datos Iniciales'!A204=\"Otros\",\"Si\",(IF('Datos Iniciales'!A204=\"\",\"\",\"No\"))))","v":""},{"$f":"(IF('Datos Iniciales'!A204=\"Prospecto\",\"Si\",(IF('Datos Iniciales'!A204=\"\",\"\",\"No\"))))","v":""},{"$f":"(IF('Datos Iniciales'!A204=\"Proveedor\",\"Si\",(IF('Datos Iniciales'!A204=\"\",\"\",\"No\"))))","v":""},{"$f":"IF('Datos Iniciales'!B204=\"\",\"\",'Datos Iniciales'!B204)","v":""},{"$f":"IF('Datos Iniciales'!C204=\"\",\"\",'Datos Iniciales'!C204)","v":""},{"$f":"IF('Datos Iniciales'!D204=\"\",\"\",'Datos Iniciales'!D204)","v":""},{"$f":"IF('Datos Iniciales'!E204=datos!$I$2,datos!$J$2,(IF('Datos Iniciales'!E204=datos!$I$3,datos!$J$3,(IF('Datos Iniciales'!E204=datos!$I$4,datos!$J$4,(IF('Datos Iniciales'!E204=datos!$I$5,datos!$J$5,(IF('Datos Iniciales'!E204=datos!$I$6,datos!$J$6,(IF('Datos Iniciales'!E204=datos!$I$7,datos!$J$7,(IF('Datos Iniciales'!E204=datos!$I$2,datos!$J$2,(IF('Datos Iniciales'!E204=datos!$I$8,datos!$J$8,(IF('Datos Iniciales'!E204=datos!$I$9,datos!$J$9,(IF('Datos Iniciales'!E204=datos!$I$10,datos!$J$10,(IF('Datos Iniciales'!E204=datos!$I$11,datos!$J$11,(IF('Datos Iniciales'!E204=datos!$I$12,datos!$J$12,(IF('Datos Iniciales'!E204=datos!$I$13,datos!$J$13,(IF('Datos Iniciales'!E204=datos!$I$14,datos!$J$14,(IF('Datos Iniciales'!E204=datos!$I$15,datos!$J$15,\"\")))))))))))))))))))))))))))))","v":""},{"$f":"IF('Datos Iniciales'!F204=\"\",\"\",'Datos Iniciales'!F204)","v":""},{"$f":"IFERROR(datos!B203,\"\")","v":""},null,null,null,null,{"$f":"IF('Datos Iniciales'!H204=\"\",\"\",'Datos Iniciales'!H204)","v":""},{"$f":"IF('Datos Iniciales'!I204=\"\",\"\",datos!$K$2)","v":""},{"$f":"IFERROR(VLOOKUP('Datos Iniciales'!J204,datos!O202:P1321,2,FALSE),\"\")","v":""},null,{"$f":"IF('Datos Iniciales'!K204=\"\",\"\",(CONCATENATE(RIGHT('Datos Iniciales'!K204,1),\"-\",'Datos Iniciales'!L204,\"-\",'Datos Iniciales'!M204)))","v":""},null,null,null,{"$f":"IF('Datos Iniciales'!N204=\"\",\"\",'Datos Iniciales'!N204)","v":""},{"$f":"IF('Datos Iniciales'!O204=\"\",\"\",'Datos Iniciales'!O204)","v":""},null,null,null,null,{"$f":"IF('Datos Iniciales'!P204=\"\",\"\",'Datos Iniciales'!P204)","v":""},null,null,null,null,null,null,null,null,null,null,null,null,{"$f":"IF('Datos Iniciales'!B204=\"\",\"\",(IF('Datos Iniciales'!B204=\"Si\",\"002\",\"003\")))","v":""},null,{"$f":"IF('Datos Iniciales'!Q204=\"\",\"\",(IF('Datos Iniciales'!Q204=datos!S203,\"0\",\"2\")))","v":""},{"$f":"IF('Datos Iniciales'!B204=\"\",\"\",(IF('Datos Iniciales'!B204=\"Si\",\"O-48\",\"O-49\")))","v":""}]
[{"$f":"IF('Datos Iniciales'!B205=\"\",\"\",\"Si\")","v":""},{"$f":"(IF('Datos Iniciales'!A205=\"Cliente\",\"Si\",(IF('Datos Iniciales'!A205=\"\",\"\",\"No\"))))","v":""},{"$f":"(IF('Datos Iniciales'!A205=\"Distribuidor\",\"Si\",(IF('Datos Iniciales'!A205=\"\",\"\",\"No\"))))","v":""},{"$f":"(IF('Datos Iniciales'!A205=\"Otros\",\"Si\",(IF('Datos Iniciales'!A205=\"\",\"\",\"No\"))))","v":""},{"$f":"(IF('Datos Iniciales'!A205=\"Prospecto\",\"Si\",(IF('Datos Iniciales'!A205=\"\",\"\",\"No\"))))","v":""},{"$f":"(IF('Datos Iniciales'!A205=\"Proveedor\",\"Si\",(IF('Datos Iniciales'!A205=\"\",\"\",\"No\"))))","v":""},{"$f":"IF('Datos Iniciales'!B205=\"\",\"\",'Datos Iniciales'!B205)","v":""},{"$f":"IF('Datos Iniciales'!C205=\"\",\"\",'Datos Iniciales'!C205)","v":""},{"$f":"IF('Datos Iniciales'!D205=\"\",\"\",'Datos Iniciales'!D205)","v":""},{"$f":"IF('Datos Iniciales'!E205=datos!$I$2,datos!$J$2,(IF('Datos Iniciales'!E205=datos!$I$3,datos!$J$3,(IF('Datos Iniciales'!E205=datos!$I$4,datos!$J$4,(IF('Datos Iniciales'!E205=datos!$I$5,datos!$J$5,(IF('Datos Iniciales'!E205=datos!$I$6,datos!$J$6,(IF('Datos Iniciales'!E205=datos!$I$7,datos!$J$7,(IF('Datos Iniciales'!E205=datos!$I$2,datos!$J$2,(IF('Datos Iniciales'!E205=datos!$I$8,datos!$J$8,(IF('Datos Iniciales'!E205=datos!$I$9,datos!$J$9,(IF('Datos Iniciales'!E205=datos!$I$10,datos!$J$10,(IF('Datos Iniciales'!E205=datos!$I$11,datos!$J$11,(IF('Datos Iniciales'!E205=datos!$I$12,datos!$J$12,(IF('Datos Iniciales'!E205=datos!$I$13,datos!$J$13,(IF('Datos Iniciales'!E205=datos!$I$14,datos!$J$14,(IF('Datos Iniciales'!E205=datos!$I$15,datos!$J$15,\"\")))))))))))))))))))))))))))))","v":""},{"$f":"IF('Datos Iniciales'!F205=\"\",\"\",'Datos Iniciales'!F205)","v":""},{"$f":"IFERROR(datos!B204,\"\")","v":""},null,null,null,null,{"$f":"IF('Datos Iniciales'!H205=\"\",\"\",'Datos Iniciales'!H205)","v":""},{"$f":"IF('Datos Iniciales'!I205=\"\",\"\",datos!$K$2)","v":""},{"$f":"IFERROR(VLOOKUP('Datos Iniciales'!J205,datos!O203:P1322,2,FALSE),\"\")","v":""},null,{"$f":"IF('Datos Iniciales'!K205=\"\",\"\",(CONCATENATE(RIGHT('Datos Iniciales'!K205,1),\"-\",'Datos Iniciales'!L205,\"-\",'Datos Iniciales'!M205)))","v":""},null,null,null,{"$f":"IF('Datos Iniciales'!N205=\"\",\"\",'Datos Iniciales'!N205)","v":""},{"$f":"IF('Datos Iniciales'!O205=\"\",\"\",'Datos Iniciales'!O205)","v":""},null,null,null,null,{"$f":"IF('Datos Iniciales'!P205=\"\",\"\",'Datos Iniciales'!P205)","v":""},null,null,null,null,null,null,null,null,null,null,null,null,{"$f":"IF('Datos Iniciales'!B205=\"\",\"\",(IF('Datos Iniciales'!B205=\"Si\",\"002\",\"003\")))","v":""},null,{"$f":"IF('Datos Iniciales'!Q205=\"\",\"\",(IF('Datos Iniciales'!Q205=datos!S204,\"0\",\"2\")))","v":""},{"$f":"IF('Datos Iniciales'!B205=\"\",\"\",(IF('Datos Iniciales'!B205=\"Si\",\"O-48\",\"O-49\")))","v":""}]
[{"$f":"IF('Datos Iniciales'!B206=\"\",\"\",\"Si\")","v":""},{"$f":"(IF('Datos Iniciales'!A206=\"Cliente\",\"Si\",(IF('Datos Iniciales'!A206=\"\",\"\",\"No\"))))","v":""},{"$f":"(IF('Datos Iniciales'!A206=\"Distribuidor\",\"Si\",(IF('Datos Iniciales'!A206=\"\",\"\",\"No\"))))","v":""},{"$f":"(IF('Datos Iniciales'!A206=\"Otros\",\"Si\",(IF('Datos Iniciales'!A206=\"\",\"\",\"No\"))))","v":""},{"$f":"(IF('Datos Iniciales'!A206=\"Prospecto\",\"Si\",(IF('Datos Iniciales'!A206=\"\",\"\",\"No\"))))","v":""},{"$f":"(IF('Datos Iniciales'!A206=\"Proveedor\",\"Si\",(IF('Datos Iniciales'!A206=\"\",\"\",\"No\"))))","v":""},{"$f":"IF('Datos Iniciales'!B206=\"\",\"\",'Datos Iniciales'!B206)","v":""},{"$f":"IF('Datos Iniciales'!C206=\"\",\"\",'Datos Iniciales'!C206)","v":""},{"$f":"IF('Datos Iniciales'!D206=\"\",\"\",'Datos Iniciales'!D206)","v":""},{"$f":"IF('Datos Iniciales'!E206=datos!$I$2,datos!$J$2,(IF('Datos Iniciales'!E206=datos!$I$3,datos!$J$3,(IF('Datos Iniciales'!E206=datos!$I$4,datos!$J$4,(IF('Datos Iniciales'!E206=datos!$I$5,datos!$J$5,(IF('Datos Iniciales'!E206=datos!$I$6,datos!$J$6,(IF('Datos Iniciales'!E206=datos!$I$7,datos!$J$7,(IF('Datos Iniciales'!E206=datos!$I$2,datos!$J$2,(IF('Datos Iniciales'!E206=datos!$I$8,datos!$J$8,(IF('Datos Iniciales'!E206=datos!$I$9,datos!$J$9,(IF('Datos Iniciales'!E206=datos!$I$10,datos!$J$10,(IF('Datos Iniciales'!E206=datos!$I$11,datos!$J$11,(IF('Datos Iniciales'!E206=datos!$I$12,datos!$J$12,(IF('Datos Iniciales'!E206=datos!$I$13,datos!$J$13,(IF('Datos Iniciales'!E206=datos!$I$14,datos!$J$14,(IF('Datos Iniciales'!E206=datos!$I$15,datos!$J$15,\"\")))))))))))))))))))))))))))))","v":""},{"$f":"IF('Datos Iniciales'!F206=\"\",\"\",'Datos Iniciales'!F206)","v":""},{"$f":"IFERROR(datos!B205,\"\")","v":""},null,null,null,null,{"$f":"IF('Datos Iniciales'!H206=\"\",\"\",'Datos Iniciales'!H206)","v":""},{"$f":"IF('Datos Iniciales'!I206=\"\",\"\",datos!$K$2)","v":""},{"$f":"IFERROR(VLOOKUP('Datos Iniciales'!J206,datos!O204:P1323,2,FALSE),\"\")","v":""},null,{"$f":"IF('Datos Iniciales'!K206=\"\",\"\",(CONCATENATE(RIGHT('Datos Iniciales'!K206,1),\"-\",'Datos Iniciales'!L206,\"-\",'Datos Iniciales'!M206)))","v":""},null,null,null,{"$f":"IF('Datos Iniciales'!N206=\"\",\"\",'Datos Iniciales'!N206)","v":""},{"$f":"IF('Datos Iniciales'!O206=\"\",\"\",'Datos Iniciales'!O206)","v":""},null,null,null,null,{"$f":"IF('Datos Iniciales'!P206=\"\",\"\",'Datos Iniciales'!P206)","v":""},null,null,null,null,null,null,null,null,null,null,null,null,{"$f":"IF('Datos Iniciales'!B206=\"\",\"\",(IF('Datos Iniciales'!B206=\"Si\",\"002\",\"003\")))","v":""},null,{"$f":"IF('Datos Iniciales'!Q206=\"\",\"\",(IF('Datos Iniciales'!Q206=datos!S205,\"0\",\"2\")))","v":""},{"$f":"IF('Datos Iniciales'!B206=\"\",\"\",(IF('Datos Iniciales'!B206=\"Si\",\"O-48\",\"O-49\")))","v":""}]
[{"$f":"IF('Datos Iniciales'!B207=\"\",\"\",\"Si\")","v":""},{"$f":"(IF('Datos Iniciales'!A207=\"Cliente\",\"Si\",(IF('Datos Iniciales'!A207=\"\",\"\",\"No\"))))","v":""},{"$f":"(IF('Datos Iniciales'!A207=\"Distribuidor\",\"Si\",(IF('Datos Iniciales'!A207=\"\",\"\",\"No\"))))","v":""},{"$f":"(IF('Datos Iniciales'!A207=\"Otros\",\"Si\",(IF('Datos Iniciales'!A207=\"\",\"\",\"No\"))))","v":""},{"$f":"(IF('Datos Iniciales'!A207=\"Prospecto\",\"Si\",(IF('Datos Iniciales'!A207=\"\",\"\",\"No\"))))","v":""},{"$f":"(IF('Datos Iniciales'!A207=\"Proveedor\",\"Si\",(IF('Datos Iniciales'!A207=\"\",\"\",\"No\"))))","v":""},{"$f":"IF('Datos Iniciales'!B207=\"\",\"\",'Datos Iniciales'!B207)","v":""},{"$f":"IF('Datos Iniciales'!C207=\"\",\"\",'Datos Iniciales'!C207)","v":""},{"$f":"IF('Datos Iniciales'!D207=\"\",\"\",'Datos Iniciales'!D207)","v":""},{"$f":"IF('Datos Iniciales'!E207=datos!$I$2,datos!$J$2,(IF('Datos Iniciales'!E207=datos!$I$3,datos!$J$3,(IF('Datos Iniciales'!E207=datos!$I$4,datos!$J$4,(IF('Datos Iniciales'!E207=datos!$I$5,datos!$J$5,(IF('Datos Iniciales'!E207=datos!$I$6,datos!$J$6,(IF('Datos Iniciales'!E207=datos!$I$7,datos!$J$7,(IF('Datos Iniciales'!E207=datos!$I$2,datos!$J$2,(IF('Datos Iniciales'!E207=datos!$I$8,datos!$J$8,(IF('Datos Iniciales'!E207=datos!$I$9,datos!$J$9,(IF('Datos Iniciales'!E207=datos!$I$10,datos!$J$10,(IF('Datos Iniciales'!E207=datos!$I$11,datos!$J$11,(IF('Datos Iniciales'!E207=datos!$I$12,datos!$J$12,(IF('Datos Iniciales'!E207=datos!$I$13,datos!$J$13,(IF('Datos Iniciales'!E207=datos!$I$14,datos!$J$14,(IF('Datos Iniciales'!E207=datos!$I$15,datos!$J$15,\"\")))))))))))))))))))))))))))))","v":""},{"$f":"IF('Datos Iniciales'!F207=\"\",\"\",'Datos Iniciales'!F207)","v":""},{"$f":"IFERROR(datos!B206,\"\")","v":""},null,null,null,null,{"$f":"IF('Datos Iniciales'!H207=\"\",\"\",'Datos Iniciales'!H207)","v":""},{"$f":"IF('Datos Iniciales'!I207=\"\",\"\",datos!$K$2)","v":""},{"$f":"IFERROR(VLOOKUP('Datos Iniciales'!J207,datos!O205:P1324,2,FALSE),\"\")","v":""},null,{"$f":"IF('Datos Iniciales'!K207=\"\",\"\",(CONCATENATE(RIGHT('Datos Iniciales'!K207,1),\"-\",'Datos Iniciales'!L207,\"-\",'Datos Iniciales'!M207)))","v":""},null,null,null,{"$f":"IF('Datos Iniciales'!N207=\"\",\"\",'Datos Iniciales'!N207)","v":""},{"$f":"IF('Datos Iniciales'!O207=\"\",\"\",'Datos Iniciales'!O207)","v":""},null,null,null,null,{"$f":"IF('Datos Iniciales'!P207=\"\",\"\",'Datos Iniciales'!P207)","v":""},null,null,null,null,null,null,null,null,null,null,null,null,{"$f":"IF('Datos Iniciales'!B207=\"\",\"\",(IF('Datos Iniciales'!B207=\"Si\",\"002\",\"003\")))","v":""},null,{"$f":"IF('Datos Iniciales'!Q207=\"\",\"\",(IF('Datos Iniciales'!Q207=datos!S206,\"0\",\"2\")))","v":""},{"$f":"IF('Datos Iniciales'!B207=\"\",\"\",(IF('Datos Iniciales'!B207=\"Si\",\"O-48\",\"O-49\")))","v":""}]
[{"$f":"IF('Datos Iniciales'!B208=\"\",\"\",\"Si\")","v":""},{"$f":"(IF('Datos Iniciales'!A208=\"Cliente\",\"Si\",(IF('Datos Iniciales'!A208=\"\",\"\",\"No\"))))","v":""},{"$f":"(IF('Datos Iniciales'!A208=\"Distribuidor\",\"Si\",(IF('Datos Iniciales'!A208=\"\",\"\",\"No\"))))","v":""},{"$f":"(IF('Datos Iniciales'!A208=\"Otros\",\"Si\",(IF('Datos Iniciales'!A208=\"\",\"\",\"No\"))))","v":""},{"$f":"(IF('Datos Iniciales'!A208=\"Prospecto\",\"Si\",(IF('Datos Iniciales'!A208=\"\",\"\",\"No\"))))","v":""},{"$f":"(IF('Datos Iniciales'!A208=\"Proveedor\",\"Si\",(IF('Datos Iniciales'!A208=\"\",\"\",\"No\"))))","v":""},{"$f":"IF('Datos Iniciales'!B208=\"\",\"\",'Datos Iniciales'!B208)","v":""},{"$f":"IF('Datos Iniciales'!C208=\"\",\"\",'Datos Iniciales'!C208)","v":""},{"$f":"IF('Datos Iniciales'!D208=\"\",\"\",'Datos Iniciales'!D208)","v":""},{"$f":"IF('Datos Iniciales'!E208=datos!$I$2,datos!$J$2,(IF('Datos Iniciales'!E208=datos!$I$3,datos!$J$3,(IF('Datos Iniciales'!E208=datos!$I$4,datos!$J$4,(IF('Datos Iniciales'!E208=datos!$I$5,datos!$J$5,(IF('Datos Iniciales'!E208=datos!$I$6,datos!$J$6,(IF('Datos Iniciales'!E208=datos!$I$7,datos!$J$7,(IF('Datos Iniciales'!E208=datos!$I$2,datos!$J$2,(IF('Datos Iniciales'!E208=datos!$I$8,datos!$J$8,(IF('Datos Iniciales'!E208=datos!$I$9,datos!$J$9,(IF('Datos Iniciales'!E208=datos!$I$10,datos!$J$10,(IF('Datos Iniciales'!E208=datos!$I$11,datos!$J$11,(IF('Datos Iniciales'!E208=datos!$I$12,datos!$J$12,(IF('Datos Iniciales'!E208=datos!$I$13,datos!$J$13,(IF('Datos Iniciales'!E208=datos!$I$14,datos!$J$14,(IF('Datos Iniciales'!E208=datos!$I$15,datos!$J$15,\"\")))))))))))))))))))))))))))))","v":""},{"$f":"IF('Datos Iniciales'!F208=\"\",\"\",'Datos Iniciales'!F208)","v":""},{"$f":"IFERROR(datos!B207,\"\")","v":""},null,null,null,null,{"$f":"IF('Datos Iniciales'!H208=\"\",\"\",'Datos Iniciales'!H208)","v":""},{"$f":"IF('Datos Iniciales'!I208=\"\",\"\",datos!$K$2)","v":""},{"$f":"IFERROR(VLOOKUP('Datos Iniciales'!J208,datos!O206:P1325,2,FALSE),\"\")","v":""},null,{"$f":"IF('Datos Iniciales'!K208=\"\",\"\",(CONCATENATE(RIGHT('Datos Iniciales'!K208,1),\"-\",'Datos Iniciales'!L208,\"-\",'Datos Iniciales'!M208)))","v":""},null,null,null,{"$f":"IF('Datos Iniciales'!N208=\"\",\"\",'Datos Iniciales'!N208)","v":""},{"$f":"IF('Datos Iniciales'!O208=\"\",\"\",'Datos Iniciales'!O208)","v":""},null,null,null,null,{"$f":"IF('Datos Iniciales'!P208=\"\",\"\",'Datos Iniciales'!P208)","v":""},null,null,null,null,null,null,null,null,null,null,null,null,{"$f":"IF('Datos Iniciales'!B208=\"\",\"\",(IF('Datos Iniciales'!B208=\"Si\",\"002\",\"003\")))","v":""},null,{"$f":"IF('Datos Iniciales'!Q208=\"\",\"\",(IF('Datos Iniciales'!Q208=datos!S207,\"0\",\"2\")))","v":""},{"$f":"IF('Datos Iniciales'!B208=\"\",\"\",(IF('Datos Iniciales'!B208=\"Si\",\"O-48\",\"O-49\")))","v":""}]
[{"$f":"IF('Datos Iniciales'!B209=\"\",\"\",\"Si\")","v":""},{"$f":"(IF('Datos Iniciales'!A209=\"Cliente\",\"Si\",(IF('Datos Iniciales'!A209=\"\",\"\",\"No\"))))","v":""},{"$f":"(IF('Datos Iniciales'!A209=\"Distribuidor\",\"Si\",(IF('Datos Iniciales'!A209=\"\",\"\",\"No\"))))","v":""},{"$f":"(IF('Datos Iniciales'!A209=\"Otros\",\"Si\",(IF('Datos Iniciales'!A209=\"\",\"\",\"No\"))))","v":""},{"$f":"(IF('Datos Iniciales'!A209=\"Prospecto\",\"Si\",(IF('Datos Iniciales'!A209=\"\",\"\",\"No\"))))","v":""},{"$f":"(IF('Datos Iniciales'!A209=\"Proveedor\",\"Si\",(IF('Datos Iniciales'!A209=\"\",\"\",\"No\"))))","v":""},{"$f":"IF('Datos Iniciales'!B209=\"\",\"\",'Datos Iniciales'!B209)","v":""},{"$f":"IF('Datos Iniciales'!C209=\"\",\"\",'Datos Iniciales'!C209)","v":""},{"$f":"IF('Datos Iniciales'!D209=\"\",\"\",'Datos Iniciales'!D209)","v":""},{"$f":"IF('Datos Iniciales'!E209=datos!$I$2,datos!$J$2,(IF('Datos Iniciales'!E209=datos!$I$3,datos!$J$3,(IF('Datos Iniciales'!E209=datos!$I$4,datos!$J$4,(IF('Datos Iniciales'!E209=datos!$I$5,datos!$J$5,(IF('Datos Iniciales'!E209=datos!$I$6,datos!$J$6,(IF('Datos Iniciales'!E209=datos!$I$7,datos!$J$7,(IF('Datos Iniciales'!E209=datos!$I$2,datos!$J$2,(IF('Datos Iniciales'!E209=datos!$I$8,datos!$J$8,(IF('Datos Iniciales'!E209=datos!$I$9,datos!$J$9,(IF('Datos Iniciales'!E209=datos!$I$10,datos!$J$10,(IF('Datos Iniciales'!E209=datos!$I$11,datos!$J$11,(IF('Datos Iniciales'!E209=datos!$I$12,datos!$J$12,(IF('Datos Iniciales'!E209=datos!$I$13,datos!$J$13,(IF('Datos Iniciales'!E209=datos!$I$14,datos!$J$14,(IF('Datos Iniciales'!E209=datos!$I$15,datos!$J$15,\"\")))))))))))))))))))))))))))))","v":""},{"$f":"IF('Datos Iniciales'!F209=\"\",\"\",'Datos Iniciales'!F209)","v":""},{"$f":"IFERROR(datos!B208,\"\")","v":""},null,null,null,null,{"$f":"IF('Datos Iniciales'!H209=\"\",\"\",'Datos Iniciales'!H209)","v":""},{"$f":"IF('Datos Iniciales'!I209=\"\",\"\",datos!$K$2)","v":""},{"$f":"IFERROR(VLOOKUP('Datos Iniciales'!J209,datos!O207:P1326,2,FALSE),\"\")","v":""},null,{"$f":"IF('Datos Iniciales'!K209=\"\",\"\",(CONCATENATE(RIGHT('Datos Iniciales'!K209,1),\"-\",'Datos Iniciales'!L209,\"-\",'Datos Iniciales'!M209)))","v":""},null,null,null,{"$f":"IF('Datos Iniciales'!N209=\"\",\"\",'Datos Iniciales'!N209)","v":""},{"$f":"IF('Datos Iniciales'!O209=\"\",\"\",'Datos Iniciales'!O209)","v":""},null,null,null,null,{"$f":"IF('Datos Iniciales'!P209=\"\",\"\",'Datos Iniciales'!P209)","v":""},null,null,null,null,null,null,null,null,null,null,null,null,{"$f":"IF('Datos Iniciales'!B209=\"\",\"\",(IF('Datos Iniciales'!B209=\"Si\",\"002\",\"003\")))","v":""},null,{"$f":"IF('Datos Iniciales'!Q209=\"\",\"\",(IF('Datos Iniciales'!Q209=datos!S208,\"0\",\"2\")))","v":""},{"$f":"IF('Datos Iniciales'!B209=\"\",\"\",(IF('Datos Iniciales'!B209=\"Si\",\"O-48\",\"O-49\")))","v":""}]
[{"$f":"IF('Datos Iniciales'!B210=\"\",\"\",\"Si\")","v":""},{"$f":"(IF('Datos Iniciales'!A210=\"Cliente\",\"Si\",(IF('Datos Iniciales'!A210=\"\",\"\",\"No\"))))","v":""},{"$f":"(IF('Datos Iniciales'!A210=\"Distribuidor\",\"Si\",(IF('Datos Iniciales'!A210=\"\",\"\",\"No\"))))","v":""},{"$f":"(IF('Datos Iniciales'!A210=\"Otros\",\"Si\",(IF('Datos Iniciales'!A210=\"\",\"\",\"No\"))))","v":""},{"$f":"(IF('Datos Iniciales'!A210=\"Prospecto\",\"Si\",(IF('Datos Iniciales'!A210=\"\",\"\",\"No\"))))","v":""},{"$f":"(IF('Datos Iniciales'!A210=\"Proveedor\",\"Si\",(IF('Datos Iniciales'!A210=\"\",\"\",\"No\"))))","v":""},{"$f":"IF('Datos Iniciales'!B210=\"\",\"\",'Datos Iniciales'!B210)","v":""},{"$f":"IF('Datos Iniciales'!C210=\"\",\"\",'Datos Iniciales'!C210)","v":""},{"$f":"IF('Datos Iniciales'!D210=\"\",\"\",'Datos Iniciales'!D210)","v":""},{"$f":"IF('Datos Iniciales'!E210=datos!$I$2,datos!$J$2,(IF('Datos Iniciales'!E210=datos!$I$3,datos!$J$3,(IF('Datos Iniciales'!E210=datos!$I$4,datos!$J$4,(IF('Datos Iniciales'!E210=datos!$I$5,datos!$J$5,(IF('Datos Iniciales'!E210=datos!$I$6,datos!$J$6,(IF('Datos Iniciales'!E210=datos!$I$7,datos!$J$7,(IF('Datos Iniciales'!E210=datos!$I$2,datos!$J$2,(IF('Datos Iniciales'!E210=datos!$I$8,datos!$J$8,(IF('Datos Iniciales'!E210=datos!$I$9,datos!$J$9,(IF('Datos Iniciales'!E210=datos!$I$10,datos!$J$10,(IF('Datos Iniciales'!E210=datos!$I$11,datos!$J$11,(IF('Datos Iniciales'!E210=datos!$I$12,datos!$J$12,(IF('Datos Iniciales'!E210=datos!$I$13,datos!$J$13,(IF('Datos Iniciales'!E210=datos!$I$14,datos!$J$14,(IF('Datos Iniciales'!E210=datos!$I$15,datos!$J$15,\"\")))))))))))))))))))))))))))))","v":""},{"$f":"IF('Datos Iniciales'!F210=\"\",\"\",'Datos Iniciales'!F210)","v":""},{"$f":"IFERROR(datos!B209,\"\")","v":""},null,null,null,null,{"$f":"IF('Datos Iniciales'!H210=\"\",\"\",'Datos Iniciales'!H210)","v":""},{"$f":"IF('Datos Iniciales'!I210=\"\",\"\",datos!$K$2)","v":""},{"$f":"IFERROR(VLOOKUP('Datos Iniciales'!J210,datos!O208:P1327,2,FALSE),\"\")","v":""},null,{"$f":"IF('Datos Iniciales'!K210=\"\",\"\",(CONCATENATE(RIGHT('Datos Iniciales'!K210,1),\"-\",'Datos Iniciales'!L210,\"-\",'Datos Iniciales'!M210)))","v":""},null,null,null,{"$f":"IF('Datos Iniciales'!N210=\"\",\"\",'Datos Iniciales'!N210)","v":""},{"$f":"IF('Datos Iniciales'!O210=\"\",\"\",'Datos Iniciales'!O210)","v":""},null,null,null,null,{"$f":"IF('Datos Iniciales'!P210=\"\",\"\",'Datos Iniciales'!P210)","v":""},null,null,null,null,null,null,null,null,null,null,null,null,{"$f":"IF('Datos Iniciales'!B210=\"\",\"\",(IF('Datos Iniciales'!B210=\"Si\",\"002\",\"003\")))","v":""},null,{"$f":"IF('Datos Iniciales'!Q210=\"\",\"\",(IF('Datos Iniciales'!Q210=datos!S209,\"0\",\"2\")))","v":""},{"$f":"IF('Datos Iniciales'!B210=\"\",\"\",(IF('Datos Iniciales'!B210=\"Si\",\"O-48\",\"O-49\")))","v":""}]
[{"$f":"IF('Datos Iniciales'!B211=\"\",\"\",\"Si\")","v":""},{"$f":"(IF('Datos Iniciales'!A211=\"Cliente\",\"Si\",(IF('Datos Iniciales'!A211=\"\",\"\",\"No\"))))","v":""},{"$f":"(IF('Datos Iniciales'!A211=\"Distribuidor\",\"Si\",(IF('Datos Iniciales'!A211=\"\",\"\",\"No\"))))","v":""},{"$f":"(IF('Datos Iniciales'!A211=\"Otros\",\"Si\",(IF('Datos Iniciales'!A211=\"\",\"\",\"No\"))))","v":""},{"$f":"(IF('Datos Iniciales'!A211=\"Prospecto\",\"Si\",(IF('Datos Iniciales'!A211=\"\",\"\",\"No\"))))","v":""},{"$f":"(IF('Datos Iniciales'!A211=\"Proveedor\",\"Si\",(IF('Datos Iniciales'!A211=\"\",\"\",\"No\"))))","v":""},{"$f":"IF('Datos Iniciales'!B211=\"\",\"\",'Datos Iniciales'!B211)","v":""},{"$f":"IF('Datos Iniciales'!C211=\"\",\"\",'Datos Iniciales'!C211)","v":""},{"$f":"IF('Datos Iniciales'!D211=\"\",\"\",'Datos Iniciales'!D211)","v":""},{"$f":"IF('Datos Iniciales'!E211=datos!$I$2,datos!$J$2,(IF('Datos Iniciales'!E211=datos!$I$3,datos!$J$3,(IF('Datos Iniciales'!E211=datos!$I$4,datos!$J$4,(IF('Datos Iniciales'!E211=datos!$I$5,datos!$J$5,(IF('Datos Iniciales'!E211=datos!$I$6,datos!$J$6,(IF('Datos Iniciales'!E211=datos!$I$7,datos!$J$7,(IF('Datos Iniciales'!E211=datos!$I$2,datos!$J$2,(IF('Datos Iniciales'!E211=datos!$I$8,datos!$J$8,(IF('Datos Iniciales'!E211=datos!$I$9,datos!$J$9,(IF('Datos Iniciales'!E211=datos!$I$10,datos!$J$10,(IF('Datos Iniciales'!E211=datos!$I$11,datos!$J$11,(IF('Datos Iniciales'!E211=datos!$I$12,datos!$J$12,(IF('Datos Iniciales'!E211=datos!$I$13,datos!$J$13,(IF('Datos Iniciales'!E211=datos!$I$14,datos!$J$14,(IF('Datos Iniciales'!E211=datos!$I$15,datos!$J$15,\"\")))))))))))))))))))))))))))))","v":""},{"$f":"IF('Datos Iniciales'!F211=\"\",\"\",'Datos Iniciales'!F211)","v":""},{"$f":"IFERROR(datos!B210,\"\")","v":""},null,null,null,null,{"$f":"IF('Datos Iniciales'!H211=\"\",\"\",'Datos Iniciales'!H211)","v":""},{"$f":"IF('Datos Iniciales'!I211=\"\",\"\",datos!$K$2)","v":""},{"$f":"IFERROR(VLOOKUP('Datos Iniciales'!J211,datos!O209:P1328,2,FALSE),\"\")","v":""},null,{"$f":"IF('Datos Iniciales'!K211=\"\",\"\",(CONCATENATE(RIGHT('Datos Iniciales'!K211,1),\"-\",'Datos Iniciales'!L211,\"-\",'Datos Iniciales'!M211)))","v":""},null,null,null,{"$f":"IF('Datos Iniciales'!N211=\"\",\"\",'Datos Iniciales'!N211)","v":""},{"$f":"IF('Datos Iniciales'!O211=\"\",\"\",'Datos Iniciales'!O211)","v":""},null,null,null,null,{"$f":"IF('Datos Iniciales'!P211=\"\",\"\",'Datos Iniciales'!P211)","v":""},null,null,null,null,null,null,null,null,null,null,null,null,{"$f":"IF('Datos Iniciales'!B211=\"\",\"\",(IF('Datos Iniciales'!B211=\"Si\",\"002\",\"003\")))","v":""},null,{"$f":"IF('Datos Iniciales'!Q211=\"\",\"\",(IF('Datos Iniciales'!Q211=datos!S210,\"0\",\"2\")))","v":""},{"$f":"IF('Datos Iniciales'!B211=\"\",\"\",(IF('Datos Iniciales'!B211=\"Si\",\"O-48\",\"O-49\")))","v":""}]
[{"$f":"IF('Datos Iniciales'!B212=\"\",\"\",\"Si\")","v":""},{"$f":"(IF('Datos Iniciales'!A212=\"Cliente\",\"Si\",(IF('Datos Iniciales'!A212=\"\",\"\",\"No\"))))","v":""},{"$f":"(IF('Datos Iniciales'!A212=\"Distribuidor\",\"Si\",(IF('Datos Iniciales'!A212=\"\",\"\",\"No\"))))","v":""},{"$f":"(IF('Datos Iniciales'!A212=\"Otros\",\"Si\",(IF('Datos Iniciales'!A212=\"\",\"\",\"No\"))))","v":""},{"$f":"(IF('Datos Iniciales'!A212=\"Prospecto\",\"Si\",(IF('Datos Iniciales'!A212=\"\",\"\",\"No\"))))","v":""},{"$f":"(IF('Datos Iniciales'!A212=\"Proveedor\",\"Si\",(IF('Datos Iniciales'!A212=\"\",\"\",\"No\"))))","v":""},{"$f":"IF('Datos Iniciales'!B212=\"\",\"\",'Datos Iniciales'!B212)","v":""},{"$f":"IF('Datos Iniciales'!C212=\"\",\"\",'Datos Iniciales'!C212)","v":""},{"$f":"IF('Datos Iniciales'!D212=\"\",\"\",'Datos Iniciales'!D212)","v":""},{"$f":"IF('Datos Iniciales'!E212=datos!$I$2,datos!$J$2,(IF('Datos Iniciales'!E212=datos!$I$3,datos!$J$3,(IF('Datos Iniciales'!E212=datos!$I$4,datos!$J$4,(IF('Datos Iniciales'!E212=datos!$I$5,datos!$J$5,(IF('Datos Iniciales'!E212=datos!$I$6,datos!$J$6,(IF('Datos Iniciales'!E212=datos!$I$7,datos!$J$7,(IF('Datos Iniciales'!E212=datos!$I$2,datos!$J$2,(IF('Datos Iniciales'!E212=datos!$I$8,datos!$J$8,(IF('Datos Iniciales'!E212=datos!$I$9,datos!$J$9,(IF('Datos Iniciales'!E212=datos!$I$10,datos!$J$10,(IF('Datos Iniciales'!E212=datos!$I$11,datos!$J$11,(IF('Datos Iniciales'!E212=datos!$I$12,datos!$J$12,(IF('Datos Iniciales'!E212=datos!$I$13,datos!$J$13,(IF('Datos Iniciales'!E212=datos!$I$14,datos!$J$14,(IF('Datos Iniciales'!E212=datos!$I$15,datos!$J$15,\"\")))))))))))))))))))))))))))))","v":""},{"$f":"IF('Datos Iniciales'!F212=\"\",\"\",'Datos Iniciales'!F212)","v":""},{"$f":"IFERROR(datos!B211,\"\")","v":""},null,null,null,null,{"$f":"IF('Datos Iniciales'!H212=\"\",\"\",'Datos Iniciales'!H212)","v":""},{"$f":"IF('Datos Iniciales'!I212=\"\",\"\",datos!$K$2)","v":""},{"$f":"IFERROR(VLOOKUP('Datos Iniciales'!J212,datos!O210:P1329,2,FALSE),\"\")","v":""},null,{"$f":"IF('Datos Iniciales'!K212=\"\",\"\",(CONCATENATE(RIGHT('Datos Iniciales'!K212,1),\"-\",'Datos Iniciales'!L212,\"-\",'Datos Iniciales'!M212)))","v":""},null,null,null,{"$f":"IF('Datos Iniciales'!N212=\"\",\"\",'Datos Iniciales'!N212)","v":""},{"$f":"IF('Datos Iniciales'!O212=\"\",\"\",'Datos Iniciales'!O212)","v":""},null,null,null,null,{"$f":"IF('Datos Iniciales'!P212=\"\",\"\",'Datos Iniciales'!P212)","v":""},null,null,null,null,null,null,null,null,null,null,null,null,{"$f":"IF('Datos Iniciales'!B212=\"\",\"\",(IF('Datos Iniciales'!B212=\"Si\",\"002\",\"003\")))","v":""},null,{"$f":"IF('Datos Iniciales'!Q212=\"\",\"\",(IF('Datos Iniciales'!Q212=datos!S211,\"0\",\"2\")))","v":""},{"$f":"IF('Datos Iniciales'!B212=\"\",\"\",(IF('Datos Iniciales'!B212=\"Si\",\"O-48\",\"O-49\")))","v":""}]
[{"$f":"IF('Datos Iniciales'!B213=\"\",\"\",\"Si\")","v":""},{"$f":"(IF('Datos Iniciales'!A213=\"Cliente\",\"Si\",(IF('Datos Iniciales'!A213=\"\",\"\",\"No\"))))","v":""},{"$f":"(IF('Datos Iniciales'!A213=\"Distribuidor\",\"Si\",(IF('Datos Iniciales'!A213=\"\",\"\",\"No\"))))","v":""},{"$f":"(IF('Datos Iniciales'!A213=\"Otros\",\"Si\",(IF('Datos Iniciales'!A213=\"\",\"\",\"No\"))))","v":""},{"$f":"(IF('Datos Iniciales'!A213=\"Prospecto\",\"Si\",(IF('Datos Iniciales'!A213=\"\",\"\",\"No\"))))","v":""},{"$f":"(IF('Datos Iniciales'!A213=\"Proveedor\",\"Si\",(IF('Datos Iniciales'!A213=\"\",\"\",\"No\"))))","v":""},{"$f":"IF('Datos Iniciales'!B213=\"\",\"\",'Datos Iniciales'!B213)","v":""},{"$f":"IF('Datos Iniciales'!C213=\"\",\"\",'Datos Iniciales'!C213)","v":""},{"$f":"IF('Datos Iniciales'!D213=\"\",\"\",'Datos Iniciales'!D213)","v":""},{"$f":"IF('Datos Iniciales'!E213=datos!$I$2,datos!$J$2,(IF('Datos Iniciales'!E213=datos!$I$3,datos!$J$3,(IF('Datos Iniciales'!E213=datos!$I$4,datos!$J$4,(IF('Datos Iniciales'!E213=datos!$I$5,datos!$J$5,(IF('Datos Iniciales'!E213=datos!$I$6,datos!$J$6,(IF('Datos Iniciales'!E213=datos!$I$7,datos!$J$7,(IF('Datos Iniciales'!E213=datos!$I$2,datos!$J$2,(IF('Datos Iniciales'!E213=datos!$I$8,datos!$J$8,(IF('Datos Iniciales'!E213=datos!$I$9,datos!$J$9,(IF('Datos Iniciales'!E213=datos!$I$10,datos!$J$10,(IF('Datos Iniciales'!E213=datos!$I$11,datos!$J$11,(IF('Datos Iniciales'!E213=datos!$I$12,datos!$J$12,(IF('Datos Iniciales'!E213=datos!$I$13,datos!$J$13,(IF('Datos Iniciales'!E213=datos!$I$14,datos!$J$14,(IF('Datos Iniciales'!E213=datos!$I$15,datos!$J$15,\"\")))))))))))))))))))))))))))))","v":""},{"$f":"IF('Datos Iniciales'!F213=\"\",\"\",'Datos Iniciales'!F213)","v":""},{"$f":"IFERROR(datos!B212,\"\")","v":""},null,null,null,null,{"$f":"IF('Datos Iniciales'!H213=\"\",\"\",'Datos Iniciales'!H213)","v":""},{"$f":"IF('Datos Iniciales'!I213=\"\",\"\",datos!$K$2)","v":""},{"$f":"IFERROR(VLOOKUP('Datos Iniciales'!J213,datos!O211:P1330,2,FALSE),\"\")","v":""},null,{"$f":"IF('Datos Iniciales'!K213=\"\",\"\",(CONCATENATE(RIGHT('Datos Iniciales'!K213,1),\"-\",'Datos Iniciales'!L213,\"-\",'Datos Iniciales'!M213)))","v":""},null,null,null,{"$f":"IF('Datos Iniciales'!N213=\"\",\"\",'Datos Iniciales'!N213)","v":""},{"$f":"IF('Datos Iniciales'!O213=\"\",\"\",'Datos Iniciales'!O213)","v":""},null,null,null,null,{"$f":"IF('Datos Iniciales'!P213=\"\",\"\",'Datos Iniciales'!P213)","v":""},null,null,null,null,null,null,null,null,null,null,null,null,{"$f":"IF('Datos Iniciales'!B213=\"\",\"\",(IF('Datos Iniciales'!B213=\"Si\",\"002\",\"003\")))","v":""},null,{"$f":"IF('Datos Iniciales'!Q213=\"\",\"\",(IF('Datos Iniciales'!Q213=datos!S212,\"0\",\"2\")))","v":""},{"$f":"IF('Datos Iniciales'!B213=\"\",\"\",(IF('Datos Iniciales'!B213=\"Si\",\"O-48\",\"O-49\")))","v":""}]
[{"$f":"IF('Datos Iniciales'!B214=\"\",\"\",\"Si\")","v":""},{"$f":"(IF('Datos Iniciales'!A214=\"Cliente\",\"Si\",(IF('Datos Iniciales'!A214=\"\",\"\",\"No\"))))","v":""},{"$f":"(IF('Datos Iniciales'!A214=\"Distribuidor\",\"Si\",(IF('Datos Iniciales'!A214=\"\",\"\",\"No\"))))","v":""},{"$f":"(IF('Datos Iniciales'!A214=\"Otros\",\"Si\",(IF('Datos Iniciales'!A214=\"\",\"\",\"No\"))))","v":""},{"$f":"(IF('Datos Iniciales'!A214=\"Prospecto\",\"Si\",(IF('Datos Iniciales'!A214=\"\",\"\",\"No\"))))","v":""},{"$f":"(IF('Datos Iniciales'!A214=\"Proveedor\",\"Si\",(IF('Datos Iniciales'!A214=\"\",\"\",\"No\"))))","v":""},{"$f":"IF('Datos Iniciales'!B214=\"\",\"\",'Datos Iniciales'!B214)","v":""},{"$f":"IF('Datos Iniciales'!C214=\"\",\"\",'Datos Iniciales'!C214)","v":""},{"$f":"IF('Datos Iniciales'!D214=\"\",\"\",'Datos Iniciales'!D214)","v":""},{"$f":"IF('Datos Iniciales'!E214=datos!$I$2,datos!$J$2,(IF('Datos Iniciales'!E214=datos!$I$3,datos!$J$3,(IF('Datos Iniciales'!E214=datos!$I$4,datos!$J$4,(IF('Datos Iniciales'!E214=datos!$I$5,datos!$J$5,(IF('Datos Iniciales'!E214=datos!$I$6,datos!$J$6,(IF('Datos Iniciales'!E214=datos!$I$7,datos!$J$7,(IF('Datos Iniciales'!E214=datos!$I$2,datos!$J$2,(IF('Datos Iniciales'!E214=datos!$I$8,datos!$J$8,(IF('Datos Iniciales'!E214=datos!$I$9,datos!$J$9,(IF('Datos Iniciales'!E214=datos!$I$10,datos!$J$10,(IF('Datos Iniciales'!E214=datos!$I$11,datos!$J$11,(IF('Datos Iniciales'!E214=datos!$I$12,datos!$J$12,(IF('Datos Iniciales'!E214=datos!$I$13,datos!$J$13,(IF('Datos Iniciales'!E214=datos!$I$14,datos!$J$14,(IF('Datos Iniciales'!E214=datos!$I$15,datos!$J$15,\"\")))))))))))))))))))))))))))))","v":""},{"$f":"IF('Datos Iniciales'!F214=\"\",\"\",'Datos Iniciales'!F214)","v":""},{"$f":"IFERROR(datos!B213,\"\")","v":""},null,null,null,null,{"$f":"IF('Datos Iniciales'!H214=\"\",\"\",'Datos Iniciales'!H214)","v":""},{"$f":"IF('Datos Iniciales'!I214=\"\",\"\",datos!$K$2)","v":""},{"$f":"IFERROR(VLOOKUP('Datos Iniciales'!J214,datos!O212:P1331,2,FALSE),\"\")","v":""},null,{"$f":"IF('Datos Iniciales'!K214=\"\",\"\",(CONCATENATE(RIGHT('Datos Iniciales'!K214,1),\"-\",'Datos Iniciales'!L214,\"-\",'Datos Iniciales'!M214)))","v":""},null,null,null,{"$f":"IF('Datos Iniciales'!N214=\"\",\"\",'Datos Iniciales'!N214)","v":""},{"$f":"IF('Datos Iniciales'!O214=\"\",\"\",'Datos Iniciales'!O214)","v":""},null,null,null,null,{"$f":"IF('Datos Iniciales'!P214=\"\",\"\",'Datos Iniciales'!P214)","v":""},null,null,null,null,null,null,null,null,null,null,null,null,{"$f":"IF('Datos Iniciales'!B214=\"\",\"\",(IF('Datos Iniciales'!B214=\"Si\",\"002\",\"003\")))","v":""},null,{"$f":"IF('Datos Iniciales'!Q214=\"\",\"\",(IF('Datos Iniciales'!Q214=datos!S213,\"0\",\"2\")))","v":""},{"$f":"IF('Datos Iniciales'!B214=\"\",\"\",(IF('Datos Iniciales'!B214=\"Si\",\"O-48\",\"O-49\")))","v":""}]
[{"$f":"IF('Datos Iniciales'!B215=\"\",\"\",\"Si\")","v":""},{"$f":"(IF('Datos Iniciales'!A215=\"Cliente\",\"Si\",(IF('Datos Iniciales'!A215=\"\",\"\",\"No\"))))","v":""},{"$f":"(IF('Datos Iniciales'!A215=\"Distribuidor\",\"Si\",(IF('Datos Iniciales'!A215=\"\",\"\",\"No\"))))","v":""},{"$f":"(IF('Datos Iniciales'!A215=\"Otros\",\"Si\",(IF('Datos Iniciales'!A215=\"\",\"\",\"No\"))))","v":""},{"$f":"(IF('Datos Iniciales'!A215=\"Prospecto\",\"Si\",(IF('Datos Iniciales'!A215=\"\",\"\",\"No\"))))","v":""},{"$f":"(IF('Datos Iniciales'!A215=\"Proveedor\",\"Si\",(IF('Datos Iniciales'!A215=\"\",\"\",\"No\"))))","v":""},{"$f":"IF('Datos Iniciales'!B215=\"\",\"\",'Datos Iniciales'!B215)","v":""},{"$f":"IF('Datos Iniciales'!C215=\"\",\"\",'Datos Iniciales'!C215)","v":""},{"$f":"IF('Datos Iniciales'!D215=\"\",\"\",'Datos Iniciales'!D215)","v":""},{"$f":"IF('Datos Iniciales'!E215=datos!$I$2,datos!$J$2,(IF('Datos Iniciales'!E215=datos!$I$3,datos!$J$3,(IF('Datos Iniciales'!E215=datos!$I$4,datos!$J$4,(IF('Datos Iniciales'!E215=datos!$I$5,datos!$J$5,(IF('Datos Iniciales'!E215=datos!$I$6,datos!$J$6,(IF('Datos Iniciales'!E215=datos!$I$7,datos!$J$7,(IF('Datos Iniciales'!E215=datos!$I$2,datos!$J$2,(IF('Datos Iniciales'!E215=datos!$I$8,datos!$J$8,(IF('Datos Iniciales'!E215=datos!$I$9,datos!$J$9,(IF('Datos Iniciales'!E215=datos!$I$10,datos!$J$10,(IF('Datos Iniciales'!E215=datos!$I$11,datos!$J$11,(IF('Datos Iniciales'!E215=datos!$I$12,datos!$J$12,(IF('Datos Iniciales'!E215=datos!$I$13,datos!$J$13,(IF('Datos Iniciales'!E215=datos!$I$14,datos!$J$14,(IF('Datos Iniciales'!E215=datos!$I$15,datos!$J$15,\"\")))))))))))))))))))))))))))))","v":""},{"$f":"IF('Datos Iniciales'!F215=\"\",\"\",'Datos Iniciales'!F215)","v":""},{"$f":"IFERROR(datos!B214,\"\")","v":""},null,null,null,null,{"$f":"IF('Datos Iniciales'!H215=\"\",\"\",'Datos Iniciales'!H215)","v":""},{"$f":"IF('Datos Iniciales'!I215=\"\",\"\",datos!$K$2)","v":""},{"$f":"IFERROR(VLOOKUP('Datos Iniciales'!J215,datos!O213:P1332,2,FALSE),\"\")","v":""},null,{"$f":"IF('Datos Iniciales'!K215=\"\",\"\",(CONCATENATE(RIGHT('Datos Iniciales'!K215,1),\"-\",'Datos Iniciales'!L215,\"-\",'Datos Iniciales'!M215)))","v":""},null,null,null,{"$f":"IF('Datos Iniciales'!N215=\"\",\"\",'Datos Iniciales'!N215)","v":""},{"$f":"IF('Datos Iniciales'!O215=\"\",\"\",'Datos Iniciales'!O215)","v":""},null,null,null,null,{"$f":"IF('Datos Iniciales'!P215=\"\",\"\",'Datos Iniciales'!P215)","v":""},null,null,null,null,null,null,null,null,null,null,null,null,{"$f":"IF('Datos Iniciales'!B215=\"\",\"\",(IF('Datos Iniciales'!B215=\"Si\",\"002\",\"003\")))","v":""},null,{"$f":"IF('Datos Iniciales'!Q215=\"\",\"\",(IF('Datos Iniciales'!Q215=datos!S214,\"0\",\"2\")))","v":""},{"$f":"IF('Datos Iniciales'!B215=\"\",\"\",(IF('Datos Iniciales'!B215=\"Si\",\"O-48\",\"O-49\")))","v":""}]
[{"$f":"IF('Datos Iniciales'!B216=\"\",\"\",\"Si\")","v":""},{"$f":"(IF('Datos Iniciales'!A216=\"Cliente\",\"Si\",(IF('Datos Iniciales'!A216=\"\",\"\",\"No\"))))","v":""},{"$f":"(IF('Datos Iniciales'!A216=\"Distribuidor\",\"Si\",(IF('Datos Iniciales'!A216=\"\",\"\",\"No\"))))","v":""},{"$f":"(IF('Datos Iniciales'!A216=\"Otros\",\"Si\",(IF('Datos Iniciales'!A216=\"\",\"\",\"No\"))))","v":""},{"$f":"(IF('Datos Iniciales'!A216=\"Prospecto\",\"Si\",(IF('Datos Iniciales'!A216=\"\",\"\",\"No\"))))","v":""},{"$f":"(IF('Datos Iniciales'!A216=\"Proveedor\",\"Si\",(IF('Datos Iniciales'!A216=\"\",\"\",\"No\"))))","v":""},{"$f":"IF('Datos Iniciales'!B216=\"\",\"\",'Datos Iniciales'!B216)","v":""},{"$f":"IF('Datos Iniciales'!C216=\"\",\"\",'Datos Iniciales'!C216)","v":""},{"$f":"IF('Datos Iniciales'!D216=\"\",\"\",'Datos Iniciales'!D216)","v":""},{"$f":"IF('Datos Iniciales'!E216=datos!$I$2,datos!$J$2,(IF('Datos Iniciales'!E216=datos!$I$3,datos!$J$3,(IF('Datos Iniciales'!E216=datos!$I$4,datos!$J$4,(IF('Datos Iniciales'!E216=datos!$I$5,datos!$J$5,(IF('Datos Iniciales'!E216=datos!$I$6,datos!$J$6,(IF('Datos Iniciales'!E216=datos!$I$7,datos!$J$7,(IF('Datos Iniciales'!E216=datos!$I$2,datos!$J$2,(IF('Datos Iniciales'!E216=datos!$I$8,datos!$J$8,(IF('Datos Iniciales'!E216=datos!$I$9,datos!$J$9,(IF('Datos Iniciales'!E216=datos!$I$10,datos!$J$10,(IF('Datos Iniciales'!E216=datos!$I$11,datos!$J$11,(IF('Datos Iniciales'!E216=datos!$I$12,datos!$J$12,(IF('Datos Iniciales'!E216=datos!$I$13,datos!$J$13,(IF('Datos Iniciales'!E216=datos!$I$14,datos!$J$14,(IF('Datos Iniciales'!E216=datos!$I$15,datos!$J$15,\"\")))))))))))))))))))))))))))))","v":""},{"$f":"IF('Datos Iniciales'!F216=\"\",\"\",'Datos Iniciales'!F216)","v":""},{"$f":"IFERROR(datos!B215,\"\")","v":""},null,null,null,null,{"$f":"IF('Datos Iniciales'!H216=\"\",\"\",'Datos Iniciales'!H216)","v":""},{"$f":"IF('Datos Iniciales'!I216=\"\",\"\",datos!$K$2)","v":""},{"$f":"IFERROR(VLOOKUP('Datos Iniciales'!J216,datos!O214:P1333,2,FALSE),\"\")","v":""},null,{"$f":"IF('Datos Iniciales'!K216=\"\",\"\",(CONCATENATE(RIGHT('Datos Iniciales'!K216,1),\"-\",'Datos Iniciales'!L216,\"-\",'Datos Iniciales'!M216)))","v":""},null,null,null,{"$f":"IF('Datos Iniciales'!N216=\"\",\"\",'Datos Iniciales'!N216)","v":""},{"$f":"IF('Datos Iniciales'!O216=\"\",\"\",'Datos Iniciales'!O216)","v":""},null,null,null,null,{"$f":"IF('Datos Iniciales'!P216=\"\",\"\",'Datos Iniciales'!P216)","v":""},null,null,null,null,null,null,null,null,null,null,null,null,{"$f":"IF('Datos Iniciales'!B216=\"\",\"\",(IF('Datos Iniciales'!B216=\"Si\",\"002\",\"003\")))","v":""},null,{"$f":"IF('Datos Iniciales'!Q216=\"\",\"\",(IF('Datos Iniciales'!Q216=datos!S215,\"0\",\"2\")))","v":""},{"$f":"IF('Datos Iniciales'!B216=\"\",\"\",(IF('Datos Iniciales'!B216=\"Si\",\"O-48\",\"O-49\")))","v":""}]
[{"$f":"IF('Datos Iniciales'!B217=\"\",\"\",\"Si\")","v":""},{"$f":"(IF('Datos Iniciales'!A217=\"Cliente\",\"Si\",(IF('Datos Iniciales'!A217=\"\",\"\",\"No\"))))","v":""},{"$f":"(IF('Datos Iniciales'!A217=\"Distribuidor\",\"Si\",(IF('Datos Iniciales'!A217=\"\",\"\",\"No\"))))","v":""},{"$f":"(IF('Datos Iniciales'!A217=\"Otros\",\"Si\",(IF('Datos Iniciales'!A217=\"\",\"\",\"No\"))))","v":""},{"$f":"(IF('Datos Iniciales'!A217=\"Prospecto\",\"Si\",(IF('Datos Iniciales'!A217=\"\",\"\",\"No\"))))","v":""},{"$f":"(IF('Datos Iniciales'!A217=\"Proveedor\",\"Si\",(IF('Datos Iniciales'!A217=\"\",\"\",\"No\"))))","v":""},{"$f":"IF('Datos Iniciales'!B217=\"\",\"\",'Datos Iniciales'!B217)","v":""},{"$f":"IF('Datos Iniciales'!C217=\"\",\"\",'Datos Iniciales'!C217)","v":""},{"$f":"IF('Datos Iniciales'!D217=\"\",\"\",'Datos Iniciales'!D217)","v":""},{"$f":"IF('Datos Iniciales'!E217=datos!$I$2,datos!$J$2,(IF('Datos Iniciales'!E217=datos!$I$3,datos!$J$3,(IF('Datos Iniciales'!E217=datos!$I$4,datos!$J$4,(IF('Datos Iniciales'!E217=datos!$I$5,datos!$J$5,(IF('Datos Iniciales'!E217=datos!$I$6,datos!$J$6,(IF('Datos Iniciales'!E217=datos!$I$7,datos!$J$7,(IF('Datos Iniciales'!E217=datos!$I$2,datos!$J$2,(IF('Datos Iniciales'!E217=datos!$I$8,datos!$J$8,(IF('Datos Iniciales'!E217=datos!$I$9,datos!$J$9,(IF('Datos Iniciales'!E217=datos!$I$10,datos!$J$10,(IF('Datos Iniciales'!E217=datos!$I$11,datos!$J$11,(IF('Datos Iniciales'!E217=datos!$I$12,datos!$J$12,(IF('Datos Iniciales'!E217=datos!$I$13,datos!$J$13,(IF('Datos Iniciales'!E217=datos!$I$14,datos!$J$14,(IF('Datos Iniciales'!E217=datos!$I$15,datos!$J$15,\"\")))))))))))))))))))))))))))))","v":""},{"$f":"IF('Datos Iniciales'!F217=\"\",\"\",'Datos Iniciales'!F217)","v":""},{"$f":"IFERROR(datos!B216,\"\")","v":""},null,null,null,null,{"$f":"IF('Datos Iniciales'!H217=\"\",\"\",'Datos Iniciales'!H217)","v":""},{"$f":"IF('Datos Iniciales'!I217=\"\",\"\",datos!$K$2)","v":""},{"$f":"IFERROR(VLOOKUP('Datos Iniciales'!J217,datos!O215:P1334,2,FALSE),\"\")","v":""},null,{"$f":"IF('Datos Iniciales'!K217=\"\",\"\",(CONCATENATE(RIGHT('Datos Iniciales'!K217,1),\"-\",'Datos Iniciales'!L217,\"-\",'Datos Iniciales'!M217)))","v":""},null,null,null,{"$f":"IF('Datos Iniciales'!N217=\"\",\"\",'Datos Iniciales'!N217)","v":""},{"$f":"IF('Datos Iniciales'!O217=\"\",\"\",'Datos Iniciales'!O217)","v":""},null,null,null,null,{"$f":"IF('Datos Iniciales'!P217=\"\",\"\",'Datos Iniciales'!P217)","v":""},null,null,null,null,null,null,null,null,null,null,null,null,{"$f":"IF('Datos Iniciales'!B217=\"\",\"\",(IF('Datos Iniciales'!B217=\"Si\",\"002\",\"003\")))","v":""},null,{"$f":"IF('Datos Iniciales'!Q217=\"\",\"\",(IF('Datos Iniciales'!Q217=datos!S216,\"0\",\"2\")))","v":""},{"$f":"IF('Datos Iniciales'!B217=\"\",\"\",(IF('Datos Iniciales'!B217=\"Si\",\"O-48\",\"O-49\")))","v":""}]
[{"$f":"IF('Datos Iniciales'!B218=\"\",\"\",\"Si\")","v":""},{"$f":"(IF('Datos Iniciales'!A218=\"Cliente\",\"Si\",(IF('Datos Iniciales'!A218=\"\",\"\",\"No\"))))","v":""},{"$f":"(IF('Datos Iniciales'!A218=\"Distribuidor\",\"Si\",(IF('Datos Iniciales'!A218=\"\",\"\",\"No\"))))","v":""},{"$f":"(IF('Datos Iniciales'!A218=\"Otros\",\"Si\",(IF('Datos Iniciales'!A218=\"\",\"\",\"No\"))))","v":""},{"$f":"(IF('Datos Iniciales'!A218=\"Prospecto\",\"Si\",(IF('Datos Iniciales'!A218=\"\",\"\",\"No\"))))","v":""},{"$f":"(IF('Datos Iniciales'!A218=\"Proveedor\",\"Si\",(IF('Datos Iniciales'!A218=\"\",\"\",\"No\"))))","v":""},{"$f":"IF('Datos Iniciales'!B218=\"\",\"\",'Datos Iniciales'!B218)","v":""},{"$f":"IF('Datos Iniciales'!C218=\"\",\"\",'Datos Iniciales'!C218)","v":""},{"$f":"IF('Datos Iniciales'!D218=\"\",\"\",'Datos Iniciales'!D218)","v":""},{"$f":"IF('Datos Iniciales'!E218=datos!$I$2,datos!$J$2,(IF('Datos Iniciales'!E218=datos!$I$3,datos!$J$3,(IF('Datos Iniciales'!E218=datos!$I$4,datos!$J$4,(IF('Datos Iniciales'!E218=datos!$I$5,datos!$J$5,(IF('Datos Iniciales'!E218=datos!$I$6,datos!$J$6,(IF('Datos Iniciales'!E218=datos!$I$7,datos!$J$7,(IF('Datos Iniciales'!E218=datos!$I$2,datos!$J$2,(IF('Datos Iniciales'!E218=datos!$I$8,datos!$J$8,(IF('Datos Iniciales'!E218=datos!$I$9,datos!$J$9,(IF('Datos Iniciales'!E218=datos!$I$10,datos!$J$10,(IF('Datos Iniciales'!E218=datos!$I$11,datos!$J$11,(IF('Datos Iniciales'!E218=datos!$I$12,datos!$J$12,(IF('Datos Iniciales'!E218=datos!$I$13,datos!$J$13,(IF('Datos Iniciales'!E218=datos!$I$14,datos!$J$14,(IF('Datos Iniciales'!E218=datos!$I$15,datos!$J$15,\"\")))))))))))))))))))))))))))))","v":""},{"$f":"IF('Datos Iniciales'!F218=\"\",\"\",'Datos Iniciales'!F218)","v":""},{"$f":"IFERROR(datos!B217,\"\")","v":""},null,null,null,null,{"$f":"IF('Datos Iniciales'!H218=\"\",\"\",'Datos Iniciales'!H218)","v":""},{"$f":"IF('Datos Iniciales'!I218=\"\",\"\",datos!$K$2)","v":""},{"$f":"IFERROR(VLOOKUP('Datos Iniciales'!J218,datos!O216:P1335,2,FALSE),\"\")","v":""},null,{"$f":"IF('Datos Iniciales'!K218=\"\",\"\",(CONCATENATE(RIGHT('Datos Iniciales'!K218,1),\"-\",'Datos Iniciales'!L218,\"-\",'Datos Iniciales'!M218)))","v":""},null,null,null,{"$f":"IF('Datos Iniciales'!N218=\"\",\"\",'Datos Iniciales'!N218)","v":""},{"$f":"IF('Datos Iniciales'!O218=\"\",\"\",'Datos Iniciales'!O218)","v":""},null,null,null,null,{"$f":"IF('Datos Iniciales'!P218=\"\",\"\",'Datos Iniciales'!P218)","v":""},null,null,null,null,null,null,null,null,null,null,null,null,{"$f":"IF('Datos Iniciales'!B218=\"\",\"\",(IF('Datos Iniciales'!B218=\"Si\",\"002\",\"003\")))","v":""},null,{"$f":"IF('Datos Iniciales'!Q218=\"\",\"\",(IF('Datos Iniciales'!Q218=datos!S217,\"0\",\"2\")))","v":""},{"$f":"IF('Datos Iniciales'!B218=\"\",\"\",(IF('Datos Iniciales'!B218=\"Si\",\"O-48\",\"O-49\")))","v":""}]
[{"$f":"IF('Datos Iniciales'!B219=\"\",\"\",\"Si\")","v":""},{"$f":"(IF('Datos Iniciales'!A219=\"Cliente\",\"Si\",(IF('Datos Iniciales'!A219=\"\",\"\",\"No\"))))","v":""},{"$f":"(IF('Datos Iniciales'!A219=\"Distribuidor\",\"Si\",(IF('Datos Iniciales'!A219=\"\",\"\",\"No\"))))","v":""},{"$f":"(IF('Datos Iniciales'!A219=\"Otros\",\"Si\",(IF('Datos Iniciales'!A219=\"\",\"\",\"No\"))))","v":""},{"$f":"(IF('Datos Iniciales'!A219=\"Prospecto\",\"Si\",(IF('Datos Iniciales'!A219=\"\",\"\",\"No\"))))","v":""},{"$f":"(IF('Datos Iniciales'!A219=\"Proveedor\",\"Si\",(IF('Datos Iniciales'!A219=\"\",\"\",\"No\"))))","v":""},{"$f":"IF('Datos Iniciales'!B219=\"\",\"\",'Datos Iniciales'!B219)","v":""},{"$f":"IF('Datos Iniciales'!C219=\"\",\"\",'Datos Iniciales'!C219)","v":""},{"$f":"IF('Datos Iniciales'!D219=\"\",\"\",'Datos Iniciales'!D219)","v":""},{"$f":"IF('Datos Iniciales'!E219=datos!$I$2,datos!$J$2,(IF('Datos Iniciales'!E219=datos!$I$3,datos!$J$3,(IF('Datos Iniciales'!E219=datos!$I$4,datos!$J$4,(IF('Datos Iniciales'!E219=datos!$I$5,datos!$J$5,(IF('Datos Iniciales'!E219=datos!$I$6,datos!$J$6,(IF('Datos Iniciales'!E219=datos!$I$7,datos!$J$7,(IF('Datos Iniciales'!E219=datos!$I$2,datos!$J$2,(IF('Datos Iniciales'!E219=datos!$I$8,datos!$J$8,(IF('Datos Iniciales'!E219=datos!$I$9,datos!$J$9,(IF('Datos Iniciales'!E219=datos!$I$10,datos!$J$10,(IF('Datos Iniciales'!E219=datos!$I$11,datos!$J$11,(IF('Datos Iniciales'!E219=datos!$I$12,datos!$J$12,(IF('Datos Iniciales'!E219=datos!$I$13,datos!$J$13,(IF('Datos Iniciales'!E219=datos!$I$14,datos!$J$14,(IF('Datos Iniciales'!E219=datos!$I$15,datos!$J$15,\"\")))))))))))))))))))))))))))))","v":""},{"$f":"IF('Datos Iniciales'!F219=\"\",\"\",'Datos Iniciales'!F219)","v":""},{"$f":"IFERROR(datos!B218,\"\")","v":""},null,null,null,null,{"$f":"IF('Datos Iniciales'!H219=\"\",\"\",'Datos Iniciales'!H219)","v":""},{"$f":"IF('Datos Iniciales'!I219=\"\",\"\",datos!$K$2)","v":""},{"$f":"IFERROR(VLOOKUP('Datos Iniciales'!J219,datos!O217:P1336,2,FALSE),\"\")","v":""},null,{"$f":"IF('Datos Iniciales'!K219=\"\",\"\",(CONCATENATE(RIGHT('Datos Iniciales'!K219,1),\"-\",'Datos Iniciales'!L219,\"-\",'Datos Iniciales'!M219)))","v":""},null,null,null,{"$f":"IF('Datos Iniciales'!N219=\"\",\"\",'Datos Iniciales'!N219)","v":""},{"$f":"IF('Datos Iniciales'!O219=\"\",\"\",'Datos Iniciales'!O219)","v":""},null,null,null,null,{"$f":"IF('Datos Iniciales'!P219=\"\",\"\",'Datos Iniciales'!P219)","v":""},null,null,null,null,null,null,null,null,null,null,null,null,{"$f":"IF('Datos Iniciales'!B219=\"\",\"\",(IF('Datos Iniciales'!B219=\"Si\",\"002\",\"003\")))","v":""},null,{"$f":"IF('Datos Iniciales'!Q219=\"\",\"\",(IF('Datos Iniciales'!Q219=datos!S218,\"0\",\"2\")))","v":""},{"$f":"IF('Datos Iniciales'!B219=\"\",\"\",(IF('Datos Iniciales'!B219=\"Si\",\"O-48\",\"O-49\")))","v":""}]
[{"$f":"IF('Datos Iniciales'!B220=\"\",\"\",\"Si\")","v":""},{"$f":"(IF('Datos Iniciales'!A220=\"Cliente\",\"Si\",(IF('Datos Iniciales'!A220=\"\",\"\",\"No\"))))","v":""},{"$f":"(IF('Datos Iniciales'!A220=\"Distribuidor\",\"Si\",(IF('Datos Iniciales'!A220=\"\",\"\",\"No\"))))","v":""},{"$f":"(IF('Datos Iniciales'!A220=\"Otros\",\"Si\",(IF('Datos Iniciales'!A220=\"\",\"\",\"No\"))))","v":""},{"$f":"(IF('Datos Iniciales'!A220=\"Prospecto\",\"Si\",(IF('Datos Iniciales'!A220=\"\",\"\",\"No\"))))","v":""},{"$f":"(IF('Datos Iniciales'!A220=\"Proveedor\",\"Si\",(IF('Datos Iniciales'!A220=\"\",\"\",\"No\"))))","v":""},{"$f":"IF('Datos Iniciales'!B220=\"\",\"\",'Datos Iniciales'!B220)","v":""},{"$f":"IF('Datos Iniciales'!C220=\"\",\"\",'Datos Iniciales'!C220)","v":""},{"$f":"IF('Datos Iniciales'!D220=\"\",\"\",'Datos Iniciales'!D220)","v":""},{"$f":"IF('Datos Iniciales'!E220=datos!$I$2,datos!$J$2,(IF('Datos Iniciales'!E220=datos!$I$3,datos!$J$3,(IF('Datos Iniciales'!E220=datos!$I$4,datos!$J$4,(IF('Datos Iniciales'!E220=datos!$I$5,datos!$J$5,(IF('Datos Iniciales'!E220=datos!$I$6,datos!$J$6,(IF('Datos Iniciales'!E220=datos!$I$7,datos!$J$7,(IF('Datos Iniciales'!E220=datos!$I$2,datos!$J$2,(IF('Datos Iniciales'!E220=datos!$I$8,datos!$J$8,(IF('Datos Iniciales'!E220=datos!$I$9,datos!$J$9,(IF('Datos Iniciales'!E220=datos!$I$10,datos!$J$10,(IF('Datos Iniciales'!E220=datos!$I$11,datos!$J$11,(IF('Datos Iniciales'!E220=datos!$I$12,datos!$J$12,(IF('Datos Iniciales'!E220=datos!$I$13,datos!$J$13,(IF('Datos Iniciales'!E220=datos!$I$14,datos!$J$14,(IF('Datos Iniciales'!E220=datos!$I$15,datos!$J$15,\"\")))))))))))))))))))))))))))))","v":""},{"$f":"IF('Datos Iniciales'!F220=\"\",\"\",'Datos Iniciales'!F220)","v":""},{"$f":"IFERROR(datos!B219,\"\")","v":""},null,null,null,null,{"$f":"IF('Datos Iniciales'!H220=\"\",\"\",'Datos Iniciales'!H220)","v":""},{"$f":"IF('Datos Iniciales'!I220=\"\",\"\",datos!$K$2)","v":""},{"$f":"IFERROR(VLOOKUP('Datos Iniciales'!J220,datos!O218:P1337,2,FALSE),\"\")","v":""},null,{"$f":"IF('Datos Iniciales'!K220=\"\",\"\",(CONCATENATE(RIGHT('Datos Iniciales'!K220,1),\"-\",'Datos Iniciales'!L220,\"-\",'Datos Iniciales'!M220)))","v":""},null,null,null,{"$f":"IF('Datos Iniciales'!N220=\"\",\"\",'Datos Iniciales'!N220)","v":""},{"$f":"IF('Datos Iniciales'!O220=\"\",\"\",'Datos Iniciales'!O220)","v":""},null,null,null,null,{"$f":"IF('Datos Iniciales'!P220=\"\",\"\",'Datos Iniciales'!P220)","v":""},null,null,null,null,null,null,null,null,null,null,null,null,{"$f":"IF('Datos Iniciales'!B220=\"\",\"\",(IF('Datos Iniciales'!B220=\"Si\",\"002\",\"003\")))","v":""},null,{"$f":"IF('Datos Iniciales'!Q220=\"\",\"\",(IF('Datos Iniciales'!Q220=datos!S219,\"0\",\"2\")))","v":""},{"$f":"IF('Datos Iniciales'!B220=\"\",\"\",(IF('Datos Iniciales'!B220=\"Si\",\"O-48\",\"O-49\")))","v":""}]
[{"$f":"IF('Datos Iniciales'!B221=\"\",\"\",\"Si\")","v":""},{"$f":"(IF('Datos Iniciales'!A221=\"Cliente\",\"Si\",(IF('Datos Iniciales'!A221=\"\",\"\",\"No\"))))","v":""},{"$f":"(IF('Datos Iniciales'!A221=\"Distribuidor\",\"Si\",(IF('Datos Iniciales'!A221=\"\",\"\",\"No\"))))","v":""},{"$f":"(IF('Datos Iniciales'!A221=\"Otros\",\"Si\",(IF('Datos Iniciales'!A221=\"\",\"\",\"No\"))))","v":""},{"$f":"(IF('Datos Iniciales'!A221=\"Prospecto\",\"Si\",(IF('Datos Iniciales'!A221=\"\",\"\",\"No\"))))","v":""},{"$f":"(IF('Datos Iniciales'!A221=\"Proveedor\",\"Si\",(IF('Datos Iniciales'!A221=\"\",\"\",\"No\"))))","v":""},{"$f":"IF('Datos Iniciales'!B221=\"\",\"\",'Datos Iniciales'!B221)","v":""},{"$f":"IF('Datos Iniciales'!C221=\"\",\"\",'Datos Iniciales'!C221)","v":""},{"$f":"IF('Datos Iniciales'!D221=\"\",\"\",'Datos Iniciales'!D221)","v":""},{"$f":"IF('Datos Iniciales'!E221=datos!$I$2,datos!$J$2,(IF('Datos Iniciales'!E221=datos!$I$3,datos!$J$3,(IF('Datos Iniciales'!E221=datos!$I$4,datos!$J$4,(IF('Datos Iniciales'!E221=datos!$I$5,datos!$J$5,(IF('Datos Iniciales'!E221=datos!$I$6,datos!$J$6,(IF('Datos Iniciales'!E221=datos!$I$7,datos!$J$7,(IF('Datos Iniciales'!E221=datos!$I$2,datos!$J$2,(IF('Datos Iniciales'!E221=datos!$I$8,datos!$J$8,(IF('Datos Iniciales'!E221=datos!$I$9,datos!$J$9,(IF('Datos Iniciales'!E221=datos!$I$10,datos!$J$10,(IF('Datos Iniciales'!E221=datos!$I$11,datos!$J$11,(IF('Datos Iniciales'!E221=datos!$I$12,datos!$J$12,(IF('Datos Iniciales'!E221=datos!$I$13,datos!$J$13,(IF('Datos Iniciales'!E221=datos!$I$14,datos!$J$14,(IF('Datos Iniciales'!E221=datos!$I$15,datos!$J$15,\"\")))))))))))))))))))))))))))))","v":""},{"$f":"IF('Datos Iniciales'!F221=\"\",\"\",'Datos Iniciales'!F221)","v":""},{"$f":"IFERROR(datos!B220,\"\")","v":""},null,null,null,null,{"$f":"IF('Datos Iniciales'!H221=\"\",\"\",'Datos Iniciales'!H221)","v":""},{"$f":"IF('Datos Iniciales'!I221=\"\",\"\",datos!$K$2)","v":""},{"$f":"IFERROR(VLOOKUP('Datos Iniciales'!J221,datos!O219:P1338,2,FALSE),\"\")","v":""},null,{"$f":"IF('Datos Iniciales'!K221=\"\",\"\",(CONCATENATE(RIGHT('Datos Iniciales'!K221,1),\"-\",'Datos Iniciales'!L221,\"-\",'Datos Iniciales'!M221)))","v":""},null,null,null,{"$f":"IF('Datos Iniciales'!N221=\"\",\"\",'Datos Iniciales'!N221)","v":""},{"$f":"IF('Datos Iniciales'!O221=\"\",\"\",'Datos Iniciales'!O221)","v":""},null,null,null,null,{"$f":"IF('Datos Iniciales'!P221=\"\",\"\",'Datos Iniciales'!P221)","v":""},null,null,null,null,null,null,null,null,null,null,null,null,{"$f":"IF('Datos Iniciales'!B221=\"\",\"\",(IF('Datos Iniciales'!B221=\"Si\",\"002\",\"003\")))","v":""},null,{"$f":"IF('Datos Iniciales'!Q221=\"\",\"\",(IF('Datos Iniciales'!Q221=datos!S220,\"0\",\"2\")))","v":""},{"$f":"IF('Datos Iniciales'!B221=\"\",\"\",(IF('Datos Iniciales'!B221=\"Si\",\"O-48\",\"O-49\")))","v":""}]
[{"$f":"IF('Datos Iniciales'!B222=\"\",\"\",\"Si\")","v":""},{"$f":"(IF('Datos Iniciales'!A222=\"Cliente\",\"Si\",(IF('Datos Iniciales'!A222=\"\",\"\",\"No\"))))","v":""},{"$f":"(IF('Datos Iniciales'!A222=\"Distribuidor\",\"Si\",(IF('Datos Iniciales'!A222=\"\",\"\",\"No\"))))","v":""},{"$f":"(IF('Datos Iniciales'!A222=\"Otros\",\"Si\",(IF('Datos Iniciales'!A222=\"\",\"\",\"No\"))))","v":""},{"$f":"(IF('Datos Iniciales'!A222=\"Prospecto\",\"Si\",(IF('Datos Iniciales'!A222=\"\",\"\",\"No\"))))","v":""},{"$f":"(IF('Datos Iniciales'!A222=\"Proveedor\",\"Si\",(IF('Datos Iniciales'!A222=\"\",\"\",\"No\"))))","v":""},{"$f":"IF('Datos Iniciales'!B222=\"\",\"\",'Datos Iniciales'!B222)","v":""},{"$f":"IF('Datos Iniciales'!C222=\"\",\"\",'Datos Iniciales'!C222)","v":""},{"$f":"IF('Datos Iniciales'!D222=\"\",\"\",'Datos Iniciales'!D222)","v":""},{"$f":"IF('Datos Iniciales'!E222=datos!$I$2,datos!$J$2,(IF('Datos Iniciales'!E222=datos!$I$3,datos!$J$3,(IF('Datos Iniciales'!E222=datos!$I$4,datos!$J$4,(IF('Datos Iniciales'!E222=datos!$I$5,datos!$J$5,(IF('Datos Iniciales'!E222=datos!$I$6,datos!$J$6,(IF('Datos Iniciales'!E222=datos!$I$7,datos!$J$7,(IF('Datos Iniciales'!E222=datos!$I$2,datos!$J$2,(IF('Datos Iniciales'!E222=datos!$I$8,datos!$J$8,(IF('Datos Iniciales'!E222=datos!$I$9,datos!$J$9,(IF('Datos Iniciales'!E222=datos!$I$10,datos!$J$10,(IF('Datos Iniciales'!E222=datos!$I$11,datos!$J$11,(IF('Datos Iniciales'!E222=datos!$I$12,datos!$J$12,(IF('Datos Iniciales'!E222=datos!$I$13,datos!$J$13,(IF('Datos Iniciales'!E222=datos!$I$14,datos!$J$14,(IF('Datos Iniciales'!E222=datos!$I$15,datos!$J$15,\"\")))))))))))))))))))))))))))))","v":""},{"$f":"IF('Datos Iniciales'!F222=\"\",\"\",'Datos Iniciales'!F222)","v":""},{"$f":"IFERROR(datos!B221,\"\")","v":""},null,null,null,null,{"$f":"IF('Datos Iniciales'!H222=\"\",\"\",'Datos Iniciales'!H222)","v":""},{"$f":"IF('Datos Iniciales'!I222=\"\",\"\",datos!$K$2)","v":""},{"$f":"IFERROR(VLOOKUP('Datos Iniciales'!J222,datos!O220:P1339,2,FALSE),\"\")","v":""},null,{"$f":"IF('Datos Iniciales'!K222=\"\",\"\",(CONCATENATE(RIGHT('Datos Iniciales'!K222,1),\"-\",'Datos Iniciales'!L222,\"-\",'Datos Iniciales'!M222)))","v":""},null,null,null,{"$f":"IF('Datos Iniciales'!N222=\"\",\"\",'Datos Iniciales'!N222)","v":""},{"$f":"IF('Datos Iniciales'!O222=\"\",\"\",'Datos Iniciales'!O222)","v":""},null,null,null,null,{"$f":"IF('Datos Iniciales'!P222=\"\",\"\",'Datos Iniciales'!P222)","v":""},null,null,null,null,null,null,null,null,null,null,null,null,{"$f":"IF('Datos Iniciales'!B222=\"\",\"\",(IF('Datos Iniciales'!B222=\"Si\",\"002\",\"003\")))","v":""},null,{"$f":"IF('Datos Iniciales'!Q222=\"\",\"\",(IF('Datos Iniciales'!Q222=datos!S221,\"0\",\"2\")))","v":""},{"$f":"IF('Datos Iniciales'!B222=\"\",\"\",(IF('Datos Iniciales'!B222=\"Si\",\"O-48\",\"O-49\")))","v":""}]
[{"$f":"IF('Datos Iniciales'!B223=\"\",\"\",\"Si\")","v":""},{"$f":"(IF('Datos Iniciales'!A223=\"Cliente\",\"Si\",(IF('Datos Iniciales'!A223=\"\",\"\",\"No\"))))","v":""},{"$f":"(IF('Datos Iniciales'!A223=\"Distribuidor\",\"Si\",(IF('Datos Iniciales'!A223=\"\",\"\",\"No\"))))","v":""},{"$f":"(IF('Datos Iniciales'!A223=\"Otros\",\"Si\",(IF('Datos Iniciales'!A223=\"\",\"\",\"No\"))))","v":""},{"$f":"(IF('Datos Iniciales'!A223=\"Prospecto\",\"Si\",(IF('Datos Iniciales'!A223=\"\",\"\",\"No\"))))","v":""},{"$f":"(IF('Datos Iniciales'!A223=\"Proveedor\",\"Si\",(IF('Datos Iniciales'!A223=\"\",\"\",\"No\"))))","v":""},{"$f":"IF('Datos Iniciales'!B223=\"\",\"\",'Datos Iniciales'!B223)","v":""},{"$f":"IF('Datos Iniciales'!C223=\"\",\"\",'Datos Iniciales'!C223)","v":""},{"$f":"IF('Datos Iniciales'!D223=\"\",\"\",'Datos Iniciales'!D223)","v":""},{"$f":"IF('Datos Iniciales'!E223=datos!$I$2,datos!$J$2,(IF('Datos Iniciales'!E223=datos!$I$3,datos!$J$3,(IF('Datos Iniciales'!E223=datos!$I$4,datos!$J$4,(IF('Datos Iniciales'!E223=datos!$I$5,datos!$J$5,(IF('Datos Iniciales'!E223=datos!$I$6,datos!$J$6,(IF('Datos Iniciales'!E223=datos!$I$7,datos!$J$7,(IF('Datos Iniciales'!E223=datos!$I$2,datos!$J$2,(IF('Datos Iniciales'!E223=datos!$I$8,datos!$J$8,(IF('Datos Iniciales'!E223=datos!$I$9,datos!$J$9,(IF('Datos Iniciales'!E223=datos!$I$10,datos!$J$10,(IF('Datos Iniciales'!E223=datos!$I$11,datos!$J$11,(IF('Datos Iniciales'!E223=datos!$I$12,datos!$J$12,(IF('Datos Iniciales'!E223=datos!$I$13,datos!$J$13,(IF('Datos Iniciales'!E223=datos!$I$14,datos!$J$14,(IF('Datos Iniciales'!E223=datos!$I$15,datos!$J$15,\"\")))))))))))))))))))))))))))))","v":""},{"$f":"IF('Datos Iniciales'!F223=\"\",\"\",'Datos Iniciales'!F223)","v":""},{"$f":"IFERROR(datos!B222,\"\")","v":""},null,null,null,null,{"$f":"IF('Datos Iniciales'!H223=\"\",\"\",'Datos Iniciales'!H223)","v":""},{"$f":"IF('Datos Iniciales'!I223=\"\",\"\",datos!$K$2)","v":""},{"$f":"IFERROR(VLOOKUP('Datos Iniciales'!J223,datos!O221:P1340,2,FALSE),\"\")","v":""},null,{"$f":"IF('Datos Iniciales'!K223=\"\",\"\",(CONCATENATE(RIGHT('Datos Iniciales'!K223,1),\"-\",'Datos Iniciales'!L223,\"-\",'Datos Iniciales'!M223)))","v":""},null,null,null,{"$f":"IF('Datos Iniciales'!N223=\"\",\"\",'Datos Iniciales'!N223)","v":""},{"$f":"IF('Datos Iniciales'!O223=\"\",\"\",'Datos Iniciales'!O223)","v":""},null,null,null,null,{"$f":"IF('Datos Iniciales'!P223=\"\",\"\",'Datos Iniciales'!P223)","v":""},null,null,null,null,null,null,null,null,null,null,null,null,{"$f":"IF('Datos Iniciales'!B223=\"\",\"\",(IF('Datos Iniciales'!B223=\"Si\",\"002\",\"003\")))","v":""},null,{"$f":"IF('Datos Iniciales'!Q223=\"\",\"\",(IF('Datos Iniciales'!Q223=datos!S222,\"0\",\"2\")))","v":""},{"$f":"IF('Datos Iniciales'!B223=\"\",\"\",(IF('Datos Iniciales'!B223=\"Si\",\"O-48\",\"O-49\")))","v":""}]
[{"$f":"IF('Datos Iniciales'!B224=\"\",\"\",\"Si\")","v":""},{"$f":"(IF('Datos Iniciales'!A224=\"Cliente\",\"Si\",(IF('Datos Iniciales'!A224=\"\",\"\",\"No\"))))","v":""},{"$f":"(IF('Datos Iniciales'!A224=\"Distribuidor\",\"Si\",(IF('Datos Iniciales'!A224=\"\",\"\",\"No\"))))","v":""},{"$f":"(IF('Datos Iniciales'!A224=\"Otros\",\"Si\",(IF('Datos Iniciales'!A224=\"\",\"\",\"No\"))))","v":""},{"$f":"(IF('Datos Iniciales'!A224=\"Prospecto\",\"Si\",(IF('Datos Iniciales'!A224=\"\",\"\",\"No\"))))","v":""},{"$f":"(IF('Datos Iniciales'!A224=\"Proveedor\",\"Si\",(IF('Datos Iniciales'!A224=\"\",\"\",\"No\"))))","v":""},{"$f":"IF('Datos Iniciales'!B224=\"\",\"\",'Datos Iniciales'!B224)","v":""},{"$f":"IF('Datos Iniciales'!C224=\"\",\"\",'Datos Iniciales'!C224)","v":""},{"$f":"IF('Datos Iniciales'!D224=\"\",\"\",'Datos Iniciales'!D224)","v":""},{"$f":"IF('Datos Iniciales'!E224=datos!$I$2,datos!$J$2,(IF('Datos Iniciales'!E224=datos!$I$3,datos!$J$3,(IF('Datos Iniciales'!E224=datos!$I$4,datos!$J$4,(IF('Datos Iniciales'!E224=datos!$I$5,datos!$J$5,(IF('Datos Iniciales'!E224=datos!$I$6,datos!$J$6,(IF('Datos Iniciales'!E224=datos!$I$7,datos!$J$7,(IF('Datos Iniciales'!E224=datos!$I$2,datos!$J$2,(IF('Datos Iniciales'!E224=datos!$I$8,datos!$J$8,(IF('Datos Iniciales'!E224=datos!$I$9,datos!$J$9,(IF('Datos Iniciales'!E224=datos!$I$10,datos!$J$10,(IF('Datos Iniciales'!E224=datos!$I$11,datos!$J$11,(IF('Datos Iniciales'!E224=datos!$I$12,datos!$J$12,(IF('Datos Iniciales'!E224=datos!$I$13,datos!$J$13,(IF('Datos Iniciales'!E224=datos!$I$14,datos!$J$14,(IF('Datos Iniciales'!E224=datos!$I$15,datos!$J$15,\"\")))))))))))))))))))))))))))))","v":""},{"$f":"IF('Datos Iniciales'!F224=\"\",\"\",'Datos Iniciales'!F224)","v":""},{"$f":"IFERROR(datos!B223,\"\")","v":""},null,null,null,null,{"$f":"IF('Datos Iniciales'!H224=\"\",\"\",'Datos Iniciales'!H224)","v":""},{"$f":"IF('Datos Iniciales'!I224=\"\",\"\",datos!$K$2)","v":""},{"$f":"IFERROR(VLOOKUP('Datos Iniciales'!J224,datos!O222:P1341,2,FALSE),\"\")","v":""},null,{"$f":"IF('Datos Iniciales'!K224=\"\",\"\",(CONCATENATE(RIGHT('Datos Iniciales'!K224,1),\"-\",'Datos Iniciales'!L224,\"-\",'Datos Iniciales'!M224)))","v":""},null,null,null,{"$f":"IF('Datos Iniciales'!N224=\"\",\"\",'Datos Iniciales'!N224)","v":""},{"$f":"IF('Datos Iniciales'!O224=\"\",\"\",'Datos Iniciales'!O224)","v":""},null,null,null,null,{"$f":"IF('Datos Iniciales'!P224=\"\",\"\",'Datos Iniciales'!P224)","v":""},null,null,null,null,null,null,null,null,null,null,null,null,{"$f":"IF('Datos Iniciales'!B224=\"\",\"\",(IF('Datos Iniciales'!B224=\"Si\",\"002\",\"003\")))","v":""},null,{"$f":"IF('Datos Iniciales'!Q224=\"\",\"\",(IF('Datos Iniciales'!Q224=datos!S223,\"0\",\"2\")))","v":""},{"$f":"IF('Datos Iniciales'!B224=\"\",\"\",(IF('Datos Iniciales'!B224=\"Si\",\"O-48\",\"O-49\")))","v":""}]
[{"$f":"IF('Datos Iniciales'!B225=\"\",\"\",\"Si\")","v":""},{"$f":"(IF('Datos Iniciales'!A225=\"Cliente\",\"Si\",(IF('Datos Iniciales'!A225=\"\",\"\",\"No\"))))","v":""},{"$f":"(IF('Datos Iniciales'!A225=\"Distribuidor\",\"Si\",(IF('Datos Iniciales'!A225=\"\",\"\",\"No\"))))","v":""},{"$f":"(IF('Datos Iniciales'!A225=\"Otros\",\"Si\",(IF('Datos Iniciales'!A225=\"\",\"\",\"No\"))))","v":""},{"$f":"(IF('Datos Iniciales'!A225=\"Prospecto\",\"Si\",(IF('Datos Iniciales'!A225=\"\",\"\",\"No\"))))","v":""},{"$f":"(IF('Datos Iniciales'!A225=\"Proveedor\",\"Si\",(IF('Datos Iniciales'!A225=\"\",\"\",\"No\"))))","v":""},{"$f":"IF('Datos Iniciales'!B225=\"\",\"\",'Datos Iniciales'!B225)","v":""},{"$f":"IF('Datos Iniciales'!C225=\"\",\"\",'Datos Iniciales'!C225)","v":""},{"$f":"IF('Datos Iniciales'!D225=\"\",\"\",'Datos Iniciales'!D225)","v":""},{"$f":"IF('Datos Iniciales'!E225=datos!$I$2,datos!$J$2,(IF('Datos Iniciales'!E225=datos!$I$3,datos!$J$3,(IF('Datos Iniciales'!E225=datos!$I$4,datos!$J$4,(IF('Datos Iniciales'!E225=datos!$I$5,datos!$J$5,(IF('Datos Iniciales'!E225=datos!$I$6,datos!$J$6,(IF('Datos Iniciales'!E225=datos!$I$7,datos!$J$7,(IF('Datos Iniciales'!E225=datos!$I$2,datos!$J$2,(IF('Datos Iniciales'!E225=datos!$I$8,datos!$J$8,(IF('Datos Iniciales'!E225=datos!$I$9,datos!$J$9,(IF('Datos Iniciales'!E225=datos!$I$10,datos!$J$10,(IF('Datos Iniciales'!E225=datos!$I$11,datos!$J$11,(IF('Datos Iniciales'!E225=datos!$I$12,datos!$J$12,(IF('Datos Iniciales'!E225=datos!$I$13,datos!$J$13,(IF('Datos Iniciales'!E225=datos!$I$14,datos!$J$14,(IF('Datos Iniciales'!E225=datos!$I$15,datos!$J$15,\"\")))))))))))))))))))))))))))))","v":""},{"$f":"IF('Datos Iniciales'!F225=\"\",\"\",'Datos Iniciales'!F225)","v":""},{"$f":"IFERROR(datos!B224,\"\")","v":""},null,null,null,null,{"$f":"IF('Datos Iniciales'!H225=\"\",\"\",'Datos Iniciales'!H225)","v":""},{"$f":"IF('Datos Iniciales'!I225=\"\",\"\",datos!$K$2)","v":""},{"$f":"IFERROR(VLOOKUP('Datos Iniciales'!J225,datos!O223:P1342,2,FALSE),\"\")","v":""},null,{"$f":"IF('Datos Iniciales'!K225=\"\",\"\",(CONCATENATE(RIGHT('Datos Iniciales'!K225,1),\"-\",'Datos Iniciales'!L225,\"-\",'Datos Iniciales'!M225)))","v":""},null,null,null,{"$f":"IF('Datos Iniciales'!N225=\"\",\"\",'Datos Iniciales'!N225)","v":""},{"$f":"IF('Datos Iniciales'!O225=\"\",\"\",'Datos Iniciales'!O225)","v":""},null,null,null,null,{"$f":"IF('Datos Iniciales'!P225=\"\",\"\",'Datos Iniciales'!P225)","v":""},null,null,null,null,null,null,null,null,null,null,null,null,{"$f":"IF('Datos Iniciales'!B225=\"\",\"\",(IF('Datos Iniciales'!B225=\"Si\",\"002\",\"003\")))","v":""},null,{"$f":"IF('Datos Iniciales'!Q225=\"\",\"\",(IF('Datos Iniciales'!Q225=datos!S224,\"0\",\"2\")))","v":""},{"$f":"IF('Datos Iniciales'!B225=\"\",\"\",(IF('Datos Iniciales'!B225=\"Si\",\"O-48\",\"O-49\")))","v":""}]
[{"$f":"IF('Datos Iniciales'!B226=\"\",\"\",\"Si\")","v":""},{"$f":"(IF('Datos Iniciales'!A226=\"Cliente\",\"Si\",(IF('Datos Iniciales'!A226=\"\",\"\",\"No\"))))","v":""},{"$f":"(IF('Datos Iniciales'!A226=\"Distribuidor\",\"Si\",(IF('Datos Iniciales'!A226=\"\",\"\",\"No\"))))","v":""},{"$f":"(IF('Datos Iniciales'!A226=\"Otros\",\"Si\",(IF('Datos Iniciales'!A226=\"\",\"\",\"No\"))))","v":""},{"$f":"(IF('Datos Iniciales'!A226=\"Prospecto\",\"Si\",(IF('Datos Iniciales'!A226=\"\",\"\",\"No\"))))","v":""},{"$f":"(IF('Datos Iniciales'!A226=\"Proveedor\",\"Si\",(IF('Datos Iniciales'!A226=\"\",\"\",\"No\"))))","v":""},{"$f":"IF('Datos Iniciales'!B226=\"\",\"\",'Datos Iniciales'!B226)","v":""},{"$f":"IF('Datos Iniciales'!C226=\"\",\"\",'Datos Iniciales'!C226)","v":""},{"$f":"IF('Datos Iniciales'!D226=\"\",\"\",'Datos Iniciales'!D226)","v":""},{"$f":"IF('Datos Iniciales'!E226=datos!$I$2,datos!$J$2,(IF('Datos Iniciales'!E226=datos!$I$3,datos!$J$3,(IF('Datos Iniciales'!E226=datos!$I$4,datos!$J$4,(IF('Datos Iniciales'!E226=datos!$I$5,datos!$J$5,(IF('Datos Iniciales'!E226=datos!$I$6,datos!$J$6,(IF('Datos Iniciales'!E226=datos!$I$7,datos!$J$7,(IF('Datos Iniciales'!E226=datos!$I$2,datos!$J$2,(IF('Datos Iniciales'!E226=datos!$I$8,datos!$J$8,(IF('Datos Iniciales'!E226=datos!$I$9,datos!$J$9,(IF('Datos Iniciales'!E226=datos!$I$10,datos!$J$10,(IF('Datos Iniciales'!E226=datos!$I$11,datos!$J$11,(IF('Datos Iniciales'!E226=datos!$I$12,datos!$J$12,(IF('Datos Iniciales'!E226=datos!$I$13,datos!$J$13,(IF('Datos Iniciales'!E226=datos!$I$14,datos!$J$14,(IF('Datos Iniciales'!E226=datos!$I$15,datos!$J$15,\"\")))))))))))))))))))))))))))))","v":""},{"$f":"IF('Datos Iniciales'!F226=\"\",\"\",'Datos Iniciales'!F226)","v":""},{"$f":"IFERROR(datos!B225,\"\")","v":""},null,null,null,null,{"$f":"IF('Datos Iniciales'!H226=\"\",\"\",'Datos Iniciales'!H226)","v":""},{"$f":"IF('Datos Iniciales'!I226=\"\",\"\",datos!$K$2)","v":""},{"$f":"IFERROR(VLOOKUP('Datos Iniciales'!J226,datos!O224:P1343,2,FALSE),\"\")","v":""},null,{"$f":"IF('Datos Iniciales'!K226=\"\",\"\",(CONCATENATE(RIGHT('Datos Iniciales'!K226,1),\"-\",'Datos Iniciales'!L226,\"-\",'Datos Iniciales'!M226)))","v":""},null,null,null,{"$f":"IF('Datos Iniciales'!N226=\"\",\"\",'Datos Iniciales'!N226)","v":""},{"$f":"IF('Datos Iniciales'!O226=\"\",\"\",'Datos Iniciales'!O226)","v":""},null,null,null,null,{"$f":"IF('Datos Iniciales'!P226=\"\",\"\",'Datos Iniciales'!P226)","v":""},null,null,null,null,null,null,null,null,null,null,null,null,{"$f":"IF('Datos Iniciales'!B226=\"\",\"\",(IF('Datos Iniciales'!B226=\"Si\",\"002\",\"003\")))","v":""},null,{"$f":"IF('Datos Iniciales'!Q226=\"\",\"\",(IF('Datos Iniciales'!Q226=datos!S225,\"0\",\"2\")))","v":""},{"$f":"IF('Datos Iniciales'!B226=\"\",\"\",(IF('Datos Iniciales'!B226=\"Si\",\"O-48\",\"O-49\")))","v":""}]
[{"$f":"IF('Datos Iniciales'!B227=\"\",\"\",\"Si\")","v":""},{"$f":"(IF('Datos Iniciales'!A227=\"Cliente\",\"Si\",(IF('Datos Iniciales'!A227=\"\",\"\",\"No\"))))","v":""},{"$f":"(IF('Datos Iniciales'!A227=\"Distribuidor\",\"Si\",(IF('Datos Iniciales'!A227=\"\",\"\",\"No\"))))","v":""},{"$f":"(IF('Datos Iniciales'!A227=\"Otros\",\"Si\",(IF('Datos Iniciales'!A227=\"\",\"\",\"No\"))))","v":""},{"$f":"(IF('Datos Iniciales'!A227=\"Prospecto\",\"Si\",(IF('Datos Iniciales'!A227=\"\",\"\",\"No\"))))","v":""},{"$f":"(IF('Datos Iniciales'!A227=\"Proveedor\",\"Si\",(IF('Datos Iniciales'!A227=\"\",\"\",\"No\"))))","v":""},{"$f":"IF('Datos Iniciales'!B227=\"\",\"\",'Datos Iniciales'!B227)","v":""},{"$f":"IF('Datos Iniciales'!C227=\"\",\"\",'Datos Iniciales'!C227)","v":""},{"$f":"IF('Datos Iniciales'!D227=\"\",\"\",'Datos Iniciales'!D227)","v":""},{"$f":"IF('Datos Iniciales'!E227=datos!$I$2,datos!$J$2,(IF('Datos Iniciales'!E227=datos!$I$3,datos!$J$3,(IF('Datos Iniciales'!E227=datos!$I$4,datos!$J$4,(IF('Datos Iniciales'!E227=datos!$I$5,datos!$J$5,(IF('Datos Iniciales'!E227=datos!$I$6,datos!$J$6,(IF('Datos Iniciales'!E227=datos!$I$7,datos!$J$7,(IF('Datos Iniciales'!E227=datos!$I$2,datos!$J$2,(IF('Datos Iniciales'!E227=datos!$I$8,datos!$J$8,(IF('Datos Iniciales'!E227=datos!$I$9,datos!$J$9,(IF('Datos Iniciales'!E227=datos!$I$10,datos!$J$10,(IF('Datos Iniciales'!E227=datos!$I$11,datos!$J$11,(IF('Datos Iniciales'!E227=datos!$I$12,datos!$J$12,(IF('Datos Iniciales'!E227=datos!$I$13,datos!$J$13,(IF('Datos Iniciales'!E227=datos!$I$14,datos!$J$14,(IF('Datos Iniciales'!E227=datos!$I$15,datos!$J$15,\"\")))))))))))))))))))))))))))))","v":""},{"$f":"IF('Datos Iniciales'!F227=\"\",\"\",'Datos Iniciales'!F227)","v":""},{"$f":"IFERROR(datos!B226,\"\")","v":""},null,null,null,null,{"$f":"IF('Datos Iniciales'!H227=\"\",\"\",'Datos Iniciales'!H227)","v":""},{"$f":"IF('Datos Iniciales'!I227=\"\",\"\",datos!$K$2)","v":""},{"$f":"IFERROR(VLOOKUP('Datos Iniciales'!J227,datos!O225:P1344,2,FALSE),\"\")","v":""},null,{"$f":"IF('Datos Iniciales'!K227=\"\",\"\",(CONCATENATE(RIGHT('Datos Iniciales'!K227,1),\"-\",'Datos Iniciales'!L227,\"-\",'Datos Iniciales'!M227)))","v":""},null,null,null,{"$f":"IF('Datos Iniciales'!N227=\"\",\"\",'Datos Iniciales'!N227)","v":""},{"$f":"IF('Datos Iniciales'!O227=\"\",\"\",'Datos Iniciales'!O227)","v":""},null,null,null,null,{"$f":"IF('Datos Iniciales'!P227=\"\",\"\",'Datos Iniciales'!P227)","v":""},null,null,null,null,null,null,null,null,null,null,null,null,{"$f":"IF('Datos Iniciales'!B227=\"\",\"\",(IF('Datos Iniciales'!B227=\"Si\",\"002\",\"003\")))","v":""},null,{"$f":"IF('Datos Iniciales'!Q227=\"\",\"\",(IF('Datos Iniciales'!Q227=datos!S226,\"0\",\"2\")))","v":""},{"$f":"IF('Datos Iniciales'!B227=\"\",\"\",(IF('Datos Iniciales'!B227=\"Si\",\"O-48\",\"O-49\")))","v":""}]
[{"$f":"IF('Datos Iniciales'!B228=\"\",\"\",\"Si\")","v":""},{"$f":"(IF('Datos Iniciales'!A228=\"Cliente\",\"Si\",(IF('Datos Iniciales'!A228=\"\",\"\",\"No\"))))","v":""},{"$f":"(IF('Datos Iniciales'!A228=\"Distribuidor\",\"Si\",(IF('Datos Iniciales'!A228=\"\",\"\",\"No\"))))","v":""},{"$f":"(IF('Datos Iniciales'!A228=\"Otros\",\"Si\",(IF('Datos Iniciales'!A228=\"\",\"\",\"No\"))))","v":""},{"$f":"(IF('Datos Iniciales'!A228=\"Prospecto\",\"Si\",(IF('Datos Iniciales'!A228=\"\",\"\",\"No\"))))","v":""},{"$f":"(IF('Datos Iniciales'!A228=\"Proveedor\",\"Si\",(IF('Datos Iniciales'!A228=\"\",\"\",\"No\"))))","v":""},{"$f":"IF('Datos Iniciales'!B228=\"\",\"\",'Datos Iniciales'!B228)","v":""},{"$f":"IF('Datos Iniciales'!C228=\"\",\"\",'Datos Iniciales'!C228)","v":""},{"$f":"IF('Datos Iniciales'!D228=\"\",\"\",'Datos Iniciales'!D228)","v":""},{"$f":"IF('Datos Iniciales'!E228=datos!$I$2,datos!$J$2,(IF('Datos Iniciales'!E228=datos!$I$3,datos!$J$3,(IF('Datos Iniciales'!E228=datos!$I$4,datos!$J$4,(IF('Datos Iniciales'!E228=datos!$I$5,datos!$J$5,(IF('Datos Iniciales'!E228=datos!$I$6,datos!$J$6,(IF('Datos Iniciales'!E228=datos!$I$7,datos!$J$7,(IF('Datos Iniciales'!E228=datos!$I$2,datos!$J$2,(IF('Datos Iniciales'!E228=datos!$I$8,datos!$J$8,(IF('Datos Iniciales'!E228=datos!$I$9,datos!$J$9,(IF('Datos Iniciales'!E228=datos!$I$10,datos!$J$10,(IF('Datos Iniciales'!E228=datos!$I$11,datos!$J$11,(IF('Datos Iniciales'!E228=datos!$I$12,datos!$J$12,(IF('Datos Iniciales'!E228=datos!$I$13,datos!$J$13,(IF('Datos Iniciales'!E228=datos!$I$14,datos!$J$14,(IF('Datos Iniciales'!E228=datos!$I$15,datos!$J$15,\"\")))))))))))))))))))))))))))))","v":""},{"$f":"IF('Datos Iniciales'!F228=\"\",\"\",'Datos Iniciales'!F228)","v":""},{"$f":"IFERROR(datos!B227,\"\")","v":""},null,null,null,null,{"$f":"IF('Datos Iniciales'!H228=\"\",\"\",'Datos Iniciales'!H228)","v":""},{"$f":"IF('Datos Iniciales'!I228=\"\",\"\",datos!$K$2)","v":""},{"$f":"IFERROR(VLOOKUP('Datos Iniciales'!J228,datos!O226:P1345,2,FALSE),\"\")","v":""},null,{"$f":"IF('Datos Iniciales'!K228=\"\",\"\",(CONCATENATE(RIGHT('Datos Iniciales'!K228,1),\"-\",'Datos Iniciales'!L228,\"-\",'Datos Iniciales'!M228)))","v":""},null,null,null,{"$f":"IF('Datos Iniciales'!N228=\"\",\"\",'Datos Iniciales'!N228)","v":""},{"$f":"IF('Datos Iniciales'!O228=\"\",\"\",'Datos Iniciales'!O228)","v":""},null,null,null,null,{"$f":"IF('Datos Iniciales'!P228=\"\",\"\",'Datos Iniciales'!P228)","v":""},null,null,null,null,null,null,null,null,null,null,null,null,{"$f":"IF('Datos Iniciales'!B228=\"\",\"\",(IF('Datos Iniciales'!B228=\"Si\",\"002\",\"003\")))","v":""},null,{"$f":"IF('Datos Iniciales'!Q228=\"\",\"\",(IF('Datos Iniciales'!Q228=datos!S227,\"0\",\"2\")))","v":""},{"$f":"IF('Datos Iniciales'!B228=\"\",\"\",(IF('Datos Iniciales'!B228=\"Si\",\"O-48\",\"O-49\")))","v":""}]
[{"$f":"IF('Datos Iniciales'!B229=\"\",\"\",\"Si\")","v":""},{"$f":"(IF('Datos Iniciales'!A229=\"Cliente\",\"Si\",(IF('Datos Iniciales'!A229=\"\",\"\",\"No\"))))","v":""},{"$f":"(IF('Datos Iniciales'!A229=\"Distribuidor\",\"Si\",(IF('Datos Iniciales'!A229=\"\",\"\",\"No\"))))","v":""},{"$f":"(IF('Datos Iniciales'!A229=\"Otros\",\"Si\",(IF('Datos Iniciales'!A229=\"\",\"\",\"No\"))))","v":""},{"$f":"(IF('Datos Iniciales'!A229=\"Prospecto\",\"Si\",(IF('Datos Iniciales'!A229=\"\",\"\",\"No\"))))","v":""},{"$f":"(IF('Datos Iniciales'!A229=\"Proveedor\",\"Si\",(IF('Datos Iniciales'!A229=\"\",\"\",\"No\"))))","v":""},{"$f":"IF('Datos Iniciales'!B229=\"\",\"\",'Datos Iniciales'!B229)","v":""},{"$f":"IF('Datos Iniciales'!C229=\"\",\"\",'Datos Iniciales'!C229)","v":""},{"$f":"IF('Datos Iniciales'!D229=\"\",\"\",'Datos Iniciales'!D229)","v":""},{"$f":"IF('Datos Iniciales'!E229=datos!$I$2,datos!$J$2,(IF('Datos Iniciales'!E229=datos!$I$3,datos!$J$3,(IF('Datos Iniciales'!E229=datos!$I$4,datos!$J$4,(IF('Datos Iniciales'!E229=datos!$I$5,datos!$J$5,(IF('Datos Iniciales'!E229=datos!$I$6,datos!$J$6,(IF('Datos Iniciales'!E229=datos!$I$7,datos!$J$7,(IF('Datos Iniciales'!E229=datos!$I$2,datos!$J$2,(IF('Datos Iniciales'!E229=datos!$I$8,datos!$J$8,(IF('Datos Iniciales'!E229=datos!$I$9,datos!$J$9,(IF('Datos Iniciales'!E229=datos!$I$10,datos!$J$10,(IF('Datos Iniciales'!E229=datos!$I$11,datos!$J$11,(IF('Datos Iniciales'!E229=datos!$I$12,datos!$J$12,(IF('Datos Iniciales'!E229=datos!$I$13,datos!$J$13,(IF('Datos Iniciales'!E229=datos!$I$14,datos!$J$14,(IF('Datos Iniciales'!E229=datos!$I$15,datos!$J$15,\"\")))))))))))))))))))))))))))))","v":""},{"$f":"IF('Datos Iniciales'!F229=\"\",\"\",'Datos Iniciales'!F229)","v":""},{"$f":"IFERROR(datos!B228,\"\")","v":""},null,null,null,null,{"$f":"IF('Datos Iniciales'!H229=\"\",\"\",'Datos Iniciales'!H229)","v":""},{"$f":"IF('Datos Iniciales'!I229=\"\",\"\",datos!$K$2)","v":""},{"$f":"IFERROR(VLOOKUP('Datos Iniciales'!J229,datos!O227:P1346,2,FALSE),\"\")","v":""},null,{"$f":"IF('Datos Iniciales'!K229=\"\",\"\",(CONCATENATE(RIGHT('Datos Iniciales'!K229,1),\"-\",'Datos Iniciales'!L229,\"-\",'Datos Iniciales'!M229)))","v":""},null,null,null,{"$f":"IF('Datos Iniciales'!N229=\"\",\"\",'Datos Iniciales'!N229)","v":""},{"$f":"IF('Datos Iniciales'!O229=\"\",\"\",'Datos Iniciales'!O229)","v":""},null,null,null,null,{"$f":"IF('Datos Iniciales'!P229=\"\",\"\",'Datos Iniciales'!P229)","v":""},null,null,null,null,null,null,null,null,null,null,null,null,{"$f":"IF('Datos Iniciales'!B229=\"\",\"\",(IF('Datos Iniciales'!B229=\"Si\",\"002\",\"003\")))","v":""},null,{"$f":"IF('Datos Iniciales'!Q229=\"\",\"\",(IF('Datos Iniciales'!Q229=datos!S228,\"0\",\"2\")))","v":""},{"$f":"IF('Datos Iniciales'!B229=\"\",\"\",(IF('Datos Iniciales'!B229=\"Si\",\"O-48\",\"O-49\")))","v":""}]
[{"$f":"IF('Datos Iniciales'!B230=\"\",\"\",\"Si\")","v":""},{"$f":"(IF('Datos Iniciales'!A230=\"Cliente\",\"Si\",(IF('Datos Iniciales'!A230=\"\",\"\",\"No\"))))","v":""},{"$f":"(IF('Datos Iniciales'!A230=\"Distribuidor\",\"Si\",(IF('Datos Iniciales'!A230=\"\",\"\",\"No\"))))","v":""},{"$f":"(IF('Datos Iniciales'!A230=\"Otros\",\"Si\",(IF('Datos Iniciales'!A230=\"\",\"\",\"No\"))))","v":""},{"$f":"(IF('Datos Iniciales'!A230=\"Prospecto\",\"Si\",(IF('Datos Iniciales'!A230=\"\",\"\",\"No\"))))","v":""},{"$f":"(IF('Datos Iniciales'!A230=\"Proveedor\",\"Si\",(IF('Datos Iniciales'!A230=\"\",\"\",\"No\"))))","v":""},{"$f":"IF('Datos Iniciales'!B230=\"\",\"\",'Datos Iniciales'!B230)","v":""},{"$f":"IF('Datos Iniciales'!C230=\"\",\"\",'Datos Iniciales'!C230)","v":""},{"$f":"IF('Datos Iniciales'!D230=\"\",\"\",'Datos Iniciales'!D230)","v":""},{"$f":"IF('Datos Iniciales'!E230=datos!$I$2,datos!$J$2,(IF('Datos Iniciales'!E230=datos!$I$3,datos!$J$3,(IF('Datos Iniciales'!E230=datos!$I$4,datos!$J$4,(IF('Datos Iniciales'!E230=datos!$I$5,datos!$J$5,(IF('Datos Iniciales'!E230=datos!$I$6,datos!$J$6,(IF('Datos Iniciales'!E230=datos!$I$7,datos!$J$7,(IF('Datos Iniciales'!E230=datos!$I$2,datos!$J$2,(IF('Datos Iniciales'!E230=datos!$I$8,datos!$J$8,(IF('Datos Iniciales'!E230=datos!$I$9,datos!$J$9,(IF('Datos Iniciales'!E230=datos!$I$10,datos!$J$10,(IF('Datos Iniciales'!E230=datos!$I$11,datos!$J$11,(IF('Datos Iniciales'!E230=datos!$I$12,datos!$J$12,(IF('Datos Iniciales'!E230=datos!$I$13,datos!$J$13,(IF('Datos Iniciales'!E230=datos!$I$14,datos!$J$14,(IF('Datos Iniciales'!E230=datos!$I$15,datos!$J$15,\"\")))))))))))))))))))))))))))))","v":""},{"$f":"IF('Datos Iniciales'!F230=\"\",\"\",'Datos Iniciales'!F230)","v":""},{"$f":"IFERROR(datos!B229,\"\")","v":""},null,null,null,null,{"$f":"IF('Datos Iniciales'!H230=\"\",\"\",'Datos Iniciales'!H230)","v":""},{"$f":"IF('Datos Iniciales'!I230=\"\",\"\",datos!$K$2)","v":""},{"$f":"IFERROR(VLOOKUP('Datos Iniciales'!J230,datos!O228:P1347,2,FALSE),\"\")","v":""},null,{"$f":"IF('Datos Iniciales'!K230=\"\",\"\",(CONCATENATE(RIGHT('Datos Iniciales'!K230,1),\"-\",'Datos Iniciales'!L230,\"-\",'Datos Iniciales'!M230)))","v":""},null,null,null,{"$f":"IF('Datos Iniciales'!N230=\"\",\"\",'Datos Iniciales'!N230)","v":""},{"$f":"IF('Datos Iniciales'!O230=\"\",\"\",'Datos Iniciales'!O230)","v":""},null,null,null,null,{"$f":"IF('Datos Iniciales'!P230=\"\",\"\",'Datos Iniciales'!P230)","v":""},null,null,null,null,null,null,null,null,null,null,null,null,{"$f":"IF('Datos Iniciales'!B230=\"\",\"\",(IF('Datos Iniciales'!B230=\"Si\",\"002\",\"003\")))","v":""},null,{"$f":"IF('Datos Iniciales'!Q230=\"\",\"\",(IF('Datos Iniciales'!Q230=datos!S229,\"0\",\"2\")))","v":""},{"$f":"IF('Datos Iniciales'!B230=\"\",\"\",(IF('Datos Iniciales'!B230=\"Si\",\"O-48\",\"O-49\")))","v":""}]
[{"$f":"IF('Datos Iniciales'!B231=\"\",\"\",\"Si\")","v":""},{"$f":"(IF('Datos Iniciales'!A231=\"Cliente\",\"Si\",(IF('Datos Iniciales'!A231=\"\",\"\",\"No\"))))","v":""},{"$f":"(IF('Datos Iniciales'!A231=\"Distribuidor\",\"Si\",(IF('Datos Iniciales'!A231=\"\",\"\",\"No\"))))","v":""},{"$f":"(IF('Datos Iniciales'!A231=\"Otros\",\"Si\",(IF('Datos Iniciales'!A231=\"\",\"\",\"No\"))))","v":""},{"$f":"(IF('Datos Iniciales'!A231=\"Prospecto\",\"Si\",(IF('Datos Iniciales'!A231=\"\",\"\",\"No\"))))","v":""},{"$f":"(IF('Datos Iniciales'!A231=\"Proveedor\",\"Si\",(IF('Datos Iniciales'!A231=\"\",\"\",\"No\"))))","v":""},{"$f":"IF('Datos Iniciales'!B231=\"\",\"\",'Datos Iniciales'!B231)","v":""},{"$f":"IF('Datos Iniciales'!C231=\"\",\"\",'Datos Iniciales'!C231)","v":""},{"$f":"IF('Datos Iniciales'!D231=\"\",\"\",'Datos Iniciales'!D231)","v":""},{"$f":"IF('Datos Iniciales'!E231=datos!$I$2,datos!$J$2,(IF('Datos Iniciales'!E231=datos!$I$3,datos!$J$3,(IF('Datos Iniciales'!E231=datos!$I$4,datos!$J$4,(IF('Datos Iniciales'!E231=datos!$I$5,datos!$J$5,(IF('Datos Iniciales'!E231=datos!$I$6,datos!$J$6,(IF('Datos Iniciales'!E231=datos!$I$7,datos!$J$7,(IF('Datos Iniciales'!E231=datos!$I$2,datos!$J$2,(IF('Datos Iniciales'!E231=datos!$I$8,datos!$J$8,(IF('Datos Iniciales'!E231=datos!$I$9,datos!$J$9,(IF('Datos Iniciales'!E231=datos!$I$10,datos!$J$10,(IF('Datos Iniciales'!E231=datos!$I$11,datos!$J$11,(IF('Datos Iniciales'!E231=datos!$I$12,datos!$J$12,(IF('Datos Iniciales'!E231=datos!$I$13,datos!$J$13,(IF('Datos Iniciales'!E231=datos!$I$14,datos!$J$14,(IF('Datos Iniciales'!E231=datos!$I$15,datos!$J$15,\"\")))))))))))))))))))))))))))))","v":""},{"$f":"IF('Datos Iniciales'!F231=\"\",\"\",'Datos Iniciales'!F231)","v":""},{"$f":"IFERROR(datos!B230,\"\")","v":""},null,null,null,null,{"$f":"IF('Datos Iniciales'!H231=\"\",\"\",'Datos Iniciales'!H231)","v":""},{"$f":"IF('Datos Iniciales'!I231=\"\",\"\",datos!$K$2)","v":""},{"$f":"IFERROR(VLOOKUP('Datos Iniciales'!J231,datos!O229:P1348,2,FALSE),\"\")","v":""},null,{"$f":"IF('Datos Iniciales'!K231=\"\",\"\",(CONCATENATE(RIGHT('Datos Iniciales'!K231,1),\"-\",'Datos Iniciales'!L231,\"-\",'Datos Iniciales'!M231)))","v":""},null,null,null,{"$f":"IF('Datos Iniciales'!N231=\"\",\"\",'Datos Iniciales'!N231)","v":""},{"$f":"IF('Datos Iniciales'!O231=\"\",\"\",'Datos Iniciales'!O231)","v":""},null,null,null,null,{"$f":"IF('Datos Iniciales'!P231=\"\",\"\",'Datos Iniciales'!P231)","v":""},null,null,null,null,null,null,null,null,null,null,null,null,{"$f":"IF('Datos Iniciales'!B231=\"\",\"\",(IF('Datos Iniciales'!B231=\"Si\",\"002\",\"003\")))","v":""},null,{"$f":"IF('Datos Iniciales'!Q231=\"\",\"\",(IF('Datos Iniciales'!Q231=datos!S230,\"0\",\"2\")))","v":""},{"$f":"IF('Datos Iniciales'!B231=\"\",\"\",(IF('Datos Iniciales'!B231=\"Si\",\"O-48\",\"O-49\")))","v":""}]
[{"$f":"IF('Datos Iniciales'!B232=\"\",\"\",\"Si\")","v":""},{"$f":"(IF('Datos Iniciales'!A232=\"Cliente\",\"Si\",(IF('Datos Iniciales'!A232=\"\",\"\",\"No\"))))","v":""},{"$f":"(IF('Datos Iniciales'!A232=\"Distribuidor\",\"Si\",(IF('Datos Iniciales'!A232=\"\",\"\",\"No\"))))","v":""},{"$f":"(IF('Datos Iniciales'!A232=\"Otros\",\"Si\",(IF('Datos Iniciales'!A232=\"\",\"\",\"No\"))))","v":""},{"$f":"(IF('Datos Iniciales'!A232=\"Prospecto\",\"Si\",(IF('Datos Iniciales'!A232=\"\",\"\",\"No\"))))","v":""},{"$f":"(IF('Datos Iniciales'!A232=\"Proveedor\",\"Si\",(IF('Datos Iniciales'!A232=\"\",\"\",\"No\"))))","v":""},{"$f":"IF('Datos Iniciales'!B232=\"\",\"\",'Datos Iniciales'!B232)","v":""},{"$f":"IF('Datos Iniciales'!C232=\"\",\"\",'Datos Iniciales'!C232)","v":""},{"$f":"IF('Datos Iniciales'!D232=\"\",\"\",'Datos Iniciales'!D232)","v":""},{"$f":"IF('Datos Iniciales'!E232=datos!$I$2,datos!$J$2,(IF('Datos Iniciales'!E232=datos!$I$3,datos!$J$3,(IF('Datos Iniciales'!E232=datos!$I$4,datos!$J$4,(IF('Datos Iniciales'!E232=datos!$I$5,datos!$J$5,(IF('Datos Iniciales'!E232=datos!$I$6,datos!$J$6,(IF('Datos Iniciales'!E232=datos!$I$7,datos!$J$7,(IF('Datos Iniciales'!E232=datos!$I$2,datos!$J$2,(IF('Datos Iniciales'!E232=datos!$I$8,datos!$J$8,(IF('Datos Iniciales'!E232=datos!$I$9,datos!$J$9,(IF('Datos Iniciales'!E232=datos!$I$10,datos!$J$10,(IF('Datos Iniciales'!E232=datos!$I$11,datos!$J$11,(IF('Datos Iniciales'!E232=datos!$I$12,datos!$J$12,(IF('Datos Iniciales'!E232=datos!$I$13,datos!$J$13,(IF('Datos Iniciales'!E232=datos!$I$14,datos!$J$14,(IF('Datos Iniciales'!E232=datos!$I$15,datos!$J$15,\"\")))))))))))))))))))))))))))))","v":""},{"$f":"IF('Datos Iniciales'!F232=\"\",\"\",'Datos Iniciales'!F232)","v":""},{"$f":"IFERROR(datos!B231,\"\")","v":""},null,null,null,null,{"$f":"IF('Datos Iniciales'!H232=\"\",\"\",'Datos Iniciales'!H232)","v":""},{"$f":"IF('Datos Iniciales'!I232=\"\",\"\",datos!$K$2)","v":""},{"$f":"IFERROR(VLOOKUP('Datos Iniciales'!J232,datos!O230:P1349,2,FALSE),\"\")","v":""},null,{"$f":"IF('Datos Iniciales'!K232=\"\",\"\",(CONCATENATE(RIGHT('Datos Iniciales'!K232,1),\"-\",'Datos Iniciales'!L232,\"-\",'Datos Iniciales'!M232)))","v":""},null,null,null,{"$f":"IF('Datos Iniciales'!N232=\"\",\"\",'Datos Iniciales'!N232)","v":""},{"$f":"IF('Datos Iniciales'!O232=\"\",\"\",'Datos Iniciales'!O232)","v":""},null,null,null,null,{"$f":"IF('Datos Iniciales'!P232=\"\",\"\",'Datos Iniciales'!P232)","v":""},null,null,null,null,null,null,null,null,null,null,null,null,{"$f":"IF('Datos Iniciales'!B232=\"\",\"\",(IF('Datos Iniciales'!B232=\"Si\",\"002\",\"003\")))","v":""},null,{"$f":"IF('Datos Iniciales'!Q232=\"\",\"\",(IF('Datos Iniciales'!Q232=datos!S231,\"0\",\"2\")))","v":""},{"$f":"IF('Datos Iniciales'!B232=\"\",\"\",(IF('Datos Iniciales'!B232=\"Si\",\"O-48\",\"O-49\")))","v":""}]
[{"$f":"IF('Datos Iniciales'!B233=\"\",\"\",\"Si\")","v":""},{"$f":"(IF('Datos Iniciales'!A233=\"Cliente\",\"Si\",(IF('Datos Iniciales'!A233=\"\",\"\",\"No\"))))","v":""},{"$f":"(IF('Datos Iniciales'!A233=\"Distribuidor\",\"Si\",(IF('Datos Iniciales'!A233=\"\",\"\",\"No\"))))","v":""},{"$f":"(IF('Datos Iniciales'!A233=\"Otros\",\"Si\",(IF('Datos Iniciales'!A233=\"\",\"\",\"No\"))))","v":""},{"$f":"(IF('Datos Iniciales'!A233=\"Prospecto\",\"Si\",(IF('Datos Iniciales'!A233=\"\",\"\",\"No\"))))","v":""},{"$f":"(IF('Datos Iniciales'!A233=\"Proveedor\",\"Si\",(IF('Datos Iniciales'!A233=\"\",\"\",\"No\"))))","v":""},{"$f":"IF('Datos Iniciales'!B233=\"\",\"\",'Datos Iniciales'!B233)","v":""},{"$f":"IF('Datos Iniciales'!C233=\"\",\"\",'Datos Iniciales'!C233)","v":""},{"$f":"IF('Datos Iniciales'!D233=\"\",\"\",'Datos Iniciales'!D233)","v":""},{"$f":"IF('Datos Iniciales'!E233=datos!$I$2,datos!$J$2,(IF('Datos Iniciales'!E233=datos!$I$3,datos!$J$3,(IF('Datos Iniciales'!E233=datos!$I$4,datos!$J$4,(IF('Datos Iniciales'!E233=datos!$I$5,datos!$J$5,(IF('Datos Iniciales'!E233=datos!$I$6,datos!$J$6,(IF('Datos Iniciales'!E233=datos!$I$7,datos!$J$7,(IF('Datos Iniciales'!E233=datos!$I$2,datos!$J$2,(IF('Datos Iniciales'!E233=datos!$I$8,datos!$J$8,(IF('Datos Iniciales'!E233=datos!$I$9,datos!$J$9,(IF('Datos Iniciales'!E233=datos!$I$10,datos!$J$10,(IF('Datos Iniciales'!E233=datos!$I$11,datos!$J$11,(IF('Datos Iniciales'!E233=datos!$I$12,datos!$J$12,(IF('Datos Iniciales'!E233=datos!$I$13,datos!$J$13,(IF('Datos Iniciales'!E233=datos!$I$14,datos!$J$14,(IF('Datos Iniciales'!E233=datos!$I$15,datos!$J$15,\"\")))))))))))))))))))))))))))))","v":""},{"$f":"IF('Datos Iniciales'!F233=\"\",\"\",'Datos Iniciales'!F233)","v":""},{"$f":"IFERROR(datos!B232,\"\")","v":""},null,null,null,null,{"$f":"IF('Datos Iniciales'!H233=\"\",\"\",'Datos Iniciales'!H233)","v":""},{"$f":"IF('Datos Iniciales'!I233=\"\",\"\",datos!$K$2)","v":""},{"$f":"IFERROR(VLOOKUP('Datos Iniciales'!J233,datos!O231:P1350,2,FALSE),\"\")","v":""},null,{"$f":"IF('Datos Iniciales'!K233=\"\",\"\",(CONCATENATE(RIGHT('Datos Iniciales'!K233,1),\"-\",'Datos Iniciales'!L233,\"-\",'Datos Iniciales'!M233)))","v":""},null,null,null,{"$f":"IF('Datos Iniciales'!N233=\"\",\"\",'Datos Iniciales'!N233)","v":""},{"$f":"IF('Datos Iniciales'!O233=\"\",\"\",'Datos Iniciales'!O233)","v":""},null,null,null,null,{"$f":"IF('Datos Iniciales'!P233=\"\",\"\",'Datos Iniciales'!P233)","v":""},null,null,null,null,null,null,null,null,null,null,null,null,{"$f":"IF('Datos Iniciales'!B233=\"\",\"\",(IF('Datos Iniciales'!B233=\"Si\",\"002\",\"003\")))","v":""},null,{"$f":"IF('Datos Iniciales'!Q233=\"\",\"\",(IF('Datos Iniciales'!Q233=datos!S232,\"0\",\"2\")))","v":""},{"$f":"IF('Datos Iniciales'!B233=\"\",\"\",(IF('Datos Iniciales'!B233=\"Si\",\"O-48\",\"O-49\")))","v":""}]
[{"$f":"IF('Datos Iniciales'!B234=\"\",\"\",\"Si\")","v":""},{"$f":"(IF('Datos Iniciales'!A234=\"Cliente\",\"Si\",(IF('Datos Iniciales'!A234=\"\",\"\",\"No\"))))","v":""},{"$f":"(IF('Datos Iniciales'!A234=\"Distribuidor\",\"Si\",(IF('Datos Iniciales'!A234=\"\",\"\",\"No\"))))","v":""},{"$f":"(IF('Datos Iniciales'!A234=\"Otros\",\"Si\",(IF('Datos Iniciales'!A234=\"\",\"\",\"No\"))))","v":""},{"$f":"(IF('Datos Iniciales'!A234=\"Prospecto\",\"Si\",(IF('Datos Iniciales'!A234=\"\",\"\",\"No\"))))","v":""},{"$f":"(IF('Datos Iniciales'!A234=\"Proveedor\",\"Si\",(IF('Datos Iniciales'!A234=\"\",\"\",\"No\"))))","v":""},{"$f":"IF('Datos Iniciales'!B234=\"\",\"\",'Datos Iniciales'!B234)","v":""},{"$f":"IF('Datos Iniciales'!C234=\"\",\"\",'Datos Iniciales'!C234)","v":""},{"$f":"IF('Datos Iniciales'!D234=\"\",\"\",'Datos Iniciales'!D234)","v":""},{"$f":"IF('Datos Iniciales'!E234=datos!$I$2,datos!$J$2,(IF('Datos Iniciales'!E234=datos!$I$3,datos!$J$3,(IF('Datos Iniciales'!E234=datos!$I$4,datos!$J$4,(IF('Datos Iniciales'!E234=datos!$I$5,datos!$J$5,(IF('Datos Iniciales'!E234=datos!$I$6,datos!$J$6,(IF('Datos Iniciales'!E234=datos!$I$7,datos!$J$7,(IF('Datos Iniciales'!E234=datos!$I$2,datos!$J$2,(IF('Datos Iniciales'!E234=datos!$I$8,datos!$J$8,(IF('Datos Iniciales'!E234=datos!$I$9,datos!$J$9,(IF('Datos Iniciales'!E234=datos!$I$10,datos!$J$10,(IF('Datos Iniciales'!E234=datos!$I$11,datos!$J$11,(IF('Datos Iniciales'!E234=datos!$I$12,datos!$J$12,(IF('Datos Iniciales'!E234=datos!$I$13,datos!$J$13,(IF('Datos Iniciales'!E234=datos!$I$14,datos!$J$14,(IF('Datos Iniciales'!E234=datos!$I$15,datos!$J$15,\"\")))))))))))))))))))))))))))))","v":""},{"$f":"IF('Datos Iniciales'!F234=\"\",\"\",'Datos Iniciales'!F234)","v":""},{"$f":"IFERROR(datos!B233,\"\")","v":""},null,null,null,null,{"$f":"IF('Datos Iniciales'!H234=\"\",\"\",'Datos Iniciales'!H234)","v":""},{"$f":"IF('Datos Iniciales'!I234=\"\",\"\",datos!$K$2)","v":""},{"$f":"IFERROR(VLOOKUP('Datos Iniciales'!J234,datos!O232:P1351,2,FALSE),\"\")","v":""},null,{"$f":"IF('Datos Iniciales'!K234=\"\",\"\",(CONCATENATE(RIGHT('Datos Iniciales'!K234,1),\"-\",'Datos Iniciales'!L234,\"-\",'Datos Iniciales'!M234)))","v":""},null,null,null,{"$f":"IF('Datos Iniciales'!N234=\"\",\"\",'Datos Iniciales'!N234)","v":""},{"$f":"IF('Datos Iniciales'!O234=\"\",\"\",'Datos Iniciales'!O234)","v":""},null,null,null,null,{"$f":"IF('Datos Iniciales'!P234=\"\",\"\",'Datos Iniciales'!P234)","v":""},null,null,null,null,null,null,null,null,null,null,null,null,{"$f":"IF('Datos Iniciales'!B234=\"\",\"\",(IF('Datos Iniciales'!B234=\"Si\",\"002\",\"003\")))","v":""},null,{"$f":"IF('Datos Iniciales'!Q234=\"\",\"\",(IF('Datos Iniciales'!Q234=datos!S233,\"0\",\"2\")))","v":""},{"$f":"IF('Datos Iniciales'!B234=\"\",\"\",(IF('Datos Iniciales'!B234=\"Si\",\"O-48\",\"O-49\")))","v":""}]
[{"$f":"IF('Datos Iniciales'!B235=\"\",\"\",\"Si\")","v":""},{"$f":"(IF('Datos Iniciales'!A235=\"Cliente\",\"Si\",(IF('Datos Iniciales'!A235=\"\",\"\",\"No\"))))","v":""},{"$f":"(IF('Datos Iniciales'!A235=\"Distribuidor\",\"Si\",(IF('Datos Iniciales'!A235=\"\",\"\",\"No\"))))","v":""},{"$f":"(IF('Datos Iniciales'!A235=\"Otros\",\"Si\",(IF('Datos Iniciales'!A235=\"\",\"\",\"No\"))))","v":""},{"$f":"(IF('Datos Iniciales'!A235=\"Prospecto\",\"Si\",(IF('Datos Iniciales'!A235=\"\",\"\",\"No\"))))","v":""},{"$f":"(IF('Datos Iniciales'!A235=\"Proveedor\",\"Si\",(IF('Datos Iniciales'!A235=\"\",\"\",\"No\"))))","v":""},{"$f":"IF('Datos Iniciales'!B235=\"\",\"\",'Datos Iniciales'!B235)","v":""},{"$f":"IF('Datos Iniciales'!C235=\"\",\"\",'Datos Iniciales'!C235)","v":""},{"$f":"IF('Datos Iniciales'!D235=\"\",\"\",'Datos Iniciales'!D235)","v":""},{"$f":"IF('Datos Iniciales'!E235=datos!$I$2,datos!$J$2,(IF('Datos Iniciales'!E235=datos!$I$3,datos!$J$3,(IF('Datos Iniciales'!E235=datos!$I$4,datos!$J$4,(IF('Datos Iniciales'!E235=datos!$I$5,datos!$J$5,(IF('Datos Iniciales'!E235=datos!$I$6,datos!$J$6,(IF('Datos Iniciales'!E235=datos!$I$7,datos!$J$7,(IF('Datos Iniciales'!E235=datos!$I$2,datos!$J$2,(IF('Datos Iniciales'!E235=datos!$I$8,datos!$J$8,(IF('Datos Iniciales'!E235=datos!$I$9,datos!$J$9,(IF('Datos Iniciales'!E235=datos!$I$10,datos!$J$10,(IF('Datos Iniciales'!E235=datos!$I$11,datos!$J$11,(IF('Datos Iniciales'!E235=datos!$I$12,datos!$J$12,(IF('Datos Iniciales'!E235=datos!$I$13,datos!$J$13,(IF('Datos Iniciales'!E235=datos!$I$14,datos!$J$14,(IF('Datos Iniciales'!E235=datos!$I$15,datos!$J$15,\"\")))))))))))))))))))))))))))))","v":""},{"$f":"IF('Datos Iniciales'!F235=\"\",\"\",'Datos Iniciales'!F235)","v":""},{"$f":"IFERROR(datos!B234,\"\")","v":""},null,null,null,null,{"$f":"IF('Datos Iniciales'!H235=\"\",\"\",'Datos Iniciales'!H235)","v":""},{"$f":"IF('Datos Iniciales'!I235=\"\",\"\",datos!$K$2)","v":""},{"$f":"IFERROR(VLOOKUP('Datos Iniciales'!J235,datos!O233:P1352,2,FALSE),\"\")","v":""},null,{"$f":"IF('Datos Iniciales'!K235=\"\",\"\",(CONCATENATE(RIGHT('Datos Iniciales'!K235,1),\"-\",'Datos Iniciales'!L235,\"-\",'Datos Iniciales'!M235)))","v":""},null,null,null,{"$f":"IF('Datos Iniciales'!N235=\"\",\"\",'Datos Iniciales'!N235)","v":""},{"$f":"IF('Datos Iniciales'!O235=\"\",\"\",'Datos Iniciales'!O235)","v":""},null,null,null,null,{"$f":"IF('Datos Iniciales'!P235=\"\",\"\",'Datos Iniciales'!P235)","v":""},null,null,null,null,null,null,null,null,null,null,null,null,{"$f":"IF('Datos Iniciales'!B235=\"\",\"\",(IF('Datos Iniciales'!B235=\"Si\",\"002\",\"003\")))","v":""},null,{"$f":"IF('Datos Iniciales'!Q235=\"\",\"\",(IF('Datos Iniciales'!Q235=datos!S234,\"0\",\"2\")))","v":""},{"$f":"IF('Datos Iniciales'!B235=\"\",\"\",(IF('Datos Iniciales'!B235=\"Si\",\"O-48\",\"O-49\")))","v":""}]
[{"$f":"IF('Datos Iniciales'!B236=\"\",\"\",\"Si\")","v":""},{"$f":"(IF('Datos Iniciales'!A236=\"Cliente\",\"Si\",(IF('Datos Iniciales'!A236=\"\",\"\",\"No\"))))","v":""},{"$f":"(IF('Datos Iniciales'!A236=\"Distribuidor\",\"Si\",(IF('Datos Iniciales'!A236=\"\",\"\",\"No\"))))","v":""},{"$f":"(IF('Datos Iniciales'!A236=\"Otros\",\"Si\",(IF('Datos Iniciales'!A236=\"\",\"\",\"No\"))))","v":""},{"$f":"(IF('Datos Iniciales'!A236=\"Prospecto\",\"Si\",(IF('Datos Iniciales'!A236=\"\",\"\",\"No\"))))","v":""},{"$f":"(IF('Datos Iniciales'!A236=\"Proveedor\",\"Si\",(IF('Datos Iniciales'!A236=\"\",\"\",\"No\"))))","v":""},{"$f":"IF('Datos Iniciales'!B236=\"\",\"\",'Datos Iniciales'!B236)","v":""},{"$f":"IF('Datos Iniciales'!C236=\"\",\"\",'Datos Iniciales'!C236)","v":""},{"$f":"IF('Datos Iniciales'!D236=\"\",\"\",'Datos Iniciales'!D236)","v":""},{"$f":"IF('Datos Iniciales'!E236=datos!$I$2,datos!$J$2,(IF('Datos Iniciales'!E236=datos!$I$3,datos!$J$3,(IF('Datos Iniciales'!E236=datos!$I$4,datos!$J$4,(IF('Datos Iniciales'!E236=datos!$I$5,datos!$J$5,(IF('Datos Iniciales'!E236=datos!$I$6,datos!$J$6,(IF('Datos Iniciales'!E236=datos!$I$7,datos!$J$7,(IF('Datos Iniciales'!E236=datos!$I$2,datos!$J$2,(IF('Datos Iniciales'!E236=datos!$I$8,datos!$J$8,(IF('Datos Iniciales'!E236=datos!$I$9,datos!$J$9,(IF('Datos Iniciales'!E236=datos!$I$10,datos!$J$10,(IF('Datos Iniciales'!E236=datos!$I$11,datos!$J$11,(IF('Datos Iniciales'!E236=datos!$I$12,datos!$J$12,(IF('Datos Iniciales'!E236=datos!$I$13,datos!$J$13,(IF('Datos Iniciales'!E236=datos!$I$14,datos!$J$14,(IF('Datos Iniciales'!E236=datos!$I$15,datos!$J$15,\"\")))))))))))))))))))))))))))))","v":""},{"$f":"IF('Datos Iniciales'!F236=\"\",\"\",'Datos Iniciales'!F236)","v":""},{"$f":"IFERROR(datos!B235,\"\")","v":""},null,null,null,null,{"$f":"IF('Datos Iniciales'!H236=\"\",\"\",'Datos Iniciales'!H236)","v":""},{"$f":"IF('Datos Iniciales'!I236=\"\",\"\",datos!$K$2)","v":""},{"$f":"IFERROR(VLOOKUP('Datos Iniciales'!J236,datos!O234:P1353,2,FALSE),\"\")","v":""},null,{"$f":"IF('Datos Iniciales'!K236=\"\",\"\",(CONCATENATE(RIGHT('Datos Iniciales'!K236,1),\"-\",'Datos Iniciales'!L236,\"-\",'Datos Iniciales'!M236)))","v":""},null,null,null,{"$f":"IF('Datos Iniciales'!N236=\"\",\"\",'Datos Iniciales'!N236)","v":""},{"$f":"IF('Datos Iniciales'!O236=\"\",\"\",'Datos Iniciales'!O236)","v":""},null,null,null,null,{"$f":"IF('Datos Iniciales'!P236=\"\",\"\",'Datos Iniciales'!P236)","v":""},null,null,null,null,null,null,null,null,null,null,null,null,{"$f":"IF('Datos Iniciales'!B236=\"\",\"\",(IF('Datos Iniciales'!B236=\"Si\",\"002\",\"003\")))","v":""},null,{"$f":"IF('Datos Iniciales'!Q236=\"\",\"\",(IF('Datos Iniciales'!Q236=datos!S235,\"0\",\"2\")))","v":""},{"$f":"IF('Datos Iniciales'!B236=\"\",\"\",(IF('Datos Iniciales'!B236=\"Si\",\"O-48\",\"O-49\")))","v":""}]
[{"$f":"IF('Datos Iniciales'!B237=\"\",\"\",\"Si\")","v":""},{"$f":"(IF('Datos Iniciales'!A237=\"Cliente\",\"Si\",(IF('Datos Iniciales'!A237=\"\",\"\",\"No\"))))","v":""},{"$f":"(IF('Datos Iniciales'!A237=\"Distribuidor\",\"Si\",(IF('Datos Iniciales'!A237=\"\",\"\",\"No\"))))","v":""},{"$f":"(IF('Datos Iniciales'!A237=\"Otros\",\"Si\",(IF('Datos Iniciales'!A237=\"\",\"\",\"No\"))))","v":""},{"$f":"(IF('Datos Iniciales'!A237=\"Prospecto\",\"Si\",(IF('Datos Iniciales'!A237=\"\",\"\",\"No\"))))","v":""},{"$f":"(IF('Datos Iniciales'!A237=\"Proveedor\",\"Si\",(IF('Datos Iniciales'!A237=\"\",\"\",\"No\"))))","v":""},{"$f":"IF('Datos Iniciales'!B237=\"\",\"\",'Datos Iniciales'!B237)","v":""},{"$f":"IF('Datos Iniciales'!C237=\"\",\"\",'Datos Iniciales'!C237)","v":""},{"$f":"IF('Datos Iniciales'!D237=\"\",\"\",'Datos Iniciales'!D237)","v":""},{"$f":"IF('Datos Iniciales'!E237=datos!$I$2,datos!$J$2,(IF('Datos Iniciales'!E237=datos!$I$3,datos!$J$3,(IF('Datos Iniciales'!E237=datos!$I$4,datos!$J$4,(IF('Datos Iniciales'!E237=datos!$I$5,datos!$J$5,(IF('Datos Iniciales'!E237=datos!$I$6,datos!$J$6,(IF('Datos Iniciales'!E237=datos!$I$7,datos!$J$7,(IF('Datos Iniciales'!E237=datos!$I$2,datos!$J$2,(IF('Datos Iniciales'!E237=datos!$I$8,datos!$J$8,(IF('Datos Iniciales'!E237=datos!$I$9,datos!$J$9,(IF('Datos Iniciales'!E237=datos!$I$10,datos!$J$10,(IF('Datos Iniciales'!E237=datos!$I$11,datos!$J$11,(IF('Datos Iniciales'!E237=datos!$I$12,datos!$J$12,(IF('Datos Iniciales'!E237=datos!$I$13,datos!$J$13,(IF('Datos Iniciales'!E237=datos!$I$14,datos!$J$14,(IF('Datos Iniciales'!E237=datos!$I$15,datos!$J$15,\"\")))))))))))))))))))))))))))))","v":""},{"$f":"IF('Datos Iniciales'!F237=\"\",\"\",'Datos Iniciales'!F237)","v":""},{"$f":"IFERROR(datos!B236,\"\")","v":""},null,null,null,null,{"$f":"IF('Datos Iniciales'!H237=\"\",\"\",'Datos Iniciales'!H237)","v":""},{"$f":"IF('Datos Iniciales'!I237=\"\",\"\",datos!$K$2)","v":""},{"$f":"IFERROR(VLOOKUP('Datos Iniciales'!J237,datos!O235:P1354,2,FALSE),\"\")","v":""},null,{"$f":"IF('Datos Iniciales'!K237=\"\",\"\",(CONCATENATE(RIGHT('Datos Iniciales'!K237,1),\"-\",'Datos Iniciales'!L237,\"-\",'Datos Iniciales'!M237)))","v":""},null,null,null,{"$f":"IF('Datos Iniciales'!N237=\"\",\"\",'Datos Iniciales'!N237)","v":""},{"$f":"IF('Datos Iniciales'!O237=\"\",\"\",'Datos Iniciales'!O237)","v":""},null,null,null,null,{"$f":"IF('Datos Iniciales'!P237=\"\",\"\",'Datos Iniciales'!P237)","v":""},null,null,null,null,null,null,null,null,null,null,null,null,{"$f":"IF('Datos Iniciales'!B237=\"\",\"\",(IF('Datos Iniciales'!B237=\"Si\",\"002\",\"003\")))","v":""},null,{"$f":"IF('Datos Iniciales'!Q237=\"\",\"\",(IF('Datos Iniciales'!Q237=datos!S236,\"0\",\"2\")))","v":""},{"$f":"IF('Datos Iniciales'!B237=\"\",\"\",(IF('Datos Iniciales'!B237=\"Si\",\"O-48\",\"O-49\")))","v":""}]
[{"$f":"IF('Datos Iniciales'!B238=\"\",\"\",\"Si\")","v":""},{"$f":"(IF('Datos Iniciales'!A238=\"Cliente\",\"Si\",(IF('Datos Iniciales'!A238=\"\",\"\",\"No\"))))","v":""},{"$f":"(IF('Datos Iniciales'!A238=\"Distribuidor\",\"Si\",(IF('Datos Iniciales'!A238=\"\",\"\",\"No\"))))","v":""},{"$f":"(IF('Datos Iniciales'!A238=\"Otros\",\"Si\",(IF('Datos Iniciales'!A238=\"\",\"\",\"No\"))))","v":""},{"$f":"(IF('Datos Iniciales'!A238=\"Prospecto\",\"Si\",(IF('Datos Iniciales'!A238=\"\",\"\",\"No\"))))","v":""},{"$f":"(IF('Datos Iniciales'!A238=\"Proveedor\",\"Si\",(IF('Datos Iniciales'!A238=\"\",\"\",\"No\"))))","v":""},{"$f":"IF('Datos Iniciales'!B238=\"\",\"\",'Datos Iniciales'!B238)","v":""},{"$f":"IF('Datos Iniciales'!C238=\"\",\"\",'Datos Iniciales'!C238)","v":""},{"$f":"IF('Datos Iniciales'!D238=\"\",\"\",'Datos Iniciales'!D238)","v":""},{"$f":"IF('Datos Iniciales'!E238=datos!$I$2,datos!$J$2,(IF('Datos Iniciales'!E238=datos!$I$3,datos!$J$3,(IF('Datos Iniciales'!E238=datos!$I$4,datos!$J$4,(IF('Datos Iniciales'!E238=datos!$I$5,datos!$J$5,(IF('Datos Iniciales'!E238=datos!$I$6,datos!$J$6,(IF('Datos Iniciales'!E238=datos!$I$7,datos!$J$7,(IF('Datos Iniciales'!E238=datos!$I$2,datos!$J$2,(IF('Datos Iniciales'!E238=datos!$I$8,datos!$J$8,(IF('Datos Iniciales'!E238=datos!$I$9,datos!$J$9,(IF('Datos Iniciales'!E238=datos!$I$10,datos!$J$10,(IF('Datos Iniciales'!E238=datos!$I$11,datos!$J$11,(IF('Datos Iniciales'!E238=datos!$I$12,datos!$J$12,(IF('Datos Iniciales'!E238=datos!$I$13,datos!$J$13,(IF('Datos Iniciales'!E238=datos!$I$14,datos!$J$14,(IF('Datos Iniciales'!E238=datos!$I$15,datos!$J$15,\"\")))))))))))))))))))))))))))))","v":""},{"$f":"IF('Datos Iniciales'!F238=\"\",\"\",'Datos Iniciales'!F238)","v":""},{"$f":"IFERROR(datos!B237,\"\")","v":""},null,null,null,null,{"$f":"IF('Datos Iniciales'!H238=\"\",\"\",'Datos Iniciales'!H238)","v":""},{"$f":"IF('Datos Iniciales'!I238=\"\",\"\",datos!$K$2)","v":""},{"$f":"IFERROR(VLOOKUP('Datos Iniciales'!J238,datos!O236:P1355,2,FALSE),\"\")","v":""},null,{"$f":"IF('Datos Iniciales'!K238=\"\",\"\",(CONCATENATE(RIGHT('Datos Iniciales'!K238,1),\"-\",'Datos Iniciales'!L238,\"-\",'Datos Iniciales'!M238)))","v":""},null,null,null,{"$f":"IF('Datos Iniciales'!N238=\"\",\"\",'Datos Iniciales'!N238)","v":""},{"$f":"IF('Datos Iniciales'!O238=\"\",\"\",'Datos Iniciales'!O238)","v":""},null,null,null,null,{"$f":"IF('Datos Iniciales'!P238=\"\",\"\",'Datos Iniciales'!P238)","v":""},null,null,null,null,null,null,null,null,null,null,null,null,{"$f":"IF('Datos Iniciales'!B238=\"\",\"\",(IF('Datos Iniciales'!B238=\"Si\",\"002\",\"003\")))","v":""},null,{"$f":"IF('Datos Iniciales'!Q238=\"\",\"\",(IF('Datos Iniciales'!Q238=datos!S237,\"0\",\"2\")))","v":""},{"$f":"IF('Datos Iniciales'!B238=\"\",\"\",(IF('Datos Iniciales'!B238=\"Si\",\"O-48\",\"O-49\")))","v":""}]
[{"$f":"IF('Datos Iniciales'!B239=\"\",\"\",\"Si\")","v":""},{"$f":"(IF('Datos Iniciales'!A239=\"Cliente\",\"Si\",(IF('Datos Iniciales'!A239=\"\",\"\",\"No\"))))","v":""},{"$f":"(IF('Datos Iniciales'!A239=\"Distribuidor\",\"Si\",(IF('Datos Iniciales'!A239=\"\",\"\",\"No\"))))","v":""},{"$f":"(IF('Datos Iniciales'!A239=\"Otros\",\"Si\",(IF('Datos Iniciales'!A239=\"\",\"\",\"No\"))))","v":""},{"$f":"(IF('Datos Iniciales'!A239=\"Prospecto\",\"Si\",(IF('Datos Iniciales'!A239=\"\",\"\",\"No\"))))","v":""},{"$f":"(IF('Datos Iniciales'!A239=\"Proveedor\",\"Si\",(IF('Datos Iniciales'!A239=\"\",\"\",\"No\"))))","v":""},{"$f":"IF('Datos Iniciales'!B239=\"\",\"\",'Datos Iniciales'!B239)","v":""},{"$f":"IF('Datos Iniciales'!C239=\"\",\"\",'Datos Iniciales'!C239)","v":""},{"$f":"IF('Datos Iniciales'!D239=\"\",\"\",'Datos Iniciales'!D239)","v":""},{"$f":"IF('Datos Iniciales'!E239=datos!$I$2,datos!$J$2,(IF('Datos Iniciales'!E239=datos!$I$3,datos!$J$3,(IF('Datos Iniciales'!E239=datos!$I$4,datos!$J$4,(IF('Datos Iniciales'!E239=datos!$I$5,datos!$J$5,(IF('Datos Iniciales'!E239=datos!$I$6,datos!$J$6,(IF('Datos Iniciales'!E239=datos!$I$7,datos!$J$7,(IF('Datos Iniciales'!E239=datos!$I$2,datos!$J$2,(IF('Datos Iniciales'!E239=datos!$I$8,datos!$J$8,(IF('Datos Iniciales'!E239=datos!$I$9,datos!$J$9,(IF('Datos Iniciales'!E239=datos!$I$10,datos!$J$10,(IF('Datos Iniciales'!E239=datos!$I$11,datos!$J$11,(IF('Datos Iniciales'!E239=datos!$I$12,datos!$J$12,(IF('Datos Iniciales'!E239=datos!$I$13,datos!$J$13,(IF('Datos Iniciales'!E239=datos!$I$14,datos!$J$14,(IF('Datos Iniciales'!E239=datos!$I$15,datos!$J$15,\"\")))))))))))))))))))))))))))))","v":""},{"$f":"IF('Datos Iniciales'!F239=\"\",\"\",'Datos Iniciales'!F239)","v":""},{"$f":"IFERROR(datos!B238,\"\")","v":""},null,null,null,null,{"$f":"IF('Datos Iniciales'!H239=\"\",\"\",'Datos Iniciales'!H239)","v":""},{"$f":"IF('Datos Iniciales'!I239=\"\",\"\",datos!$K$2)","v":""},{"$f":"IFERROR(VLOOKUP('Datos Iniciales'!J239,datos!O237:P1356,2,FALSE),\"\")","v":""},null,{"$f":"IF('Datos Iniciales'!K239=\"\",\"\",(CONCATENATE(RIGHT('Datos Iniciales'!K239,1),\"-\",'Datos Iniciales'!L239,\"-\",'Datos Iniciales'!M239)))","v":""},null,null,null,{"$f":"IF('Datos Iniciales'!N239=\"\",\"\",'Datos Iniciales'!N239)","v":""},{"$f":"IF('Datos Iniciales'!O239=\"\",\"\",'Datos Iniciales'!O239)","v":""},null,null,null,null,{"$f":"IF('Datos Iniciales'!P239=\"\",\"\",'Datos Iniciales'!P239)","v":""},null,null,null,null,null,null,null,null,null,null,null,null,{"$f":"IF('Datos Iniciales'!B239=\"\",\"\",(IF('Datos Iniciales'!B239=\"Si\",\"002\",\"003\")))","v":""},null,{"$f":"IF('Datos Iniciales'!Q239=\"\",\"\",(IF('Datos Iniciales'!Q239=datos!S238,\"0\",\"2\")))","v":""},{"$f":"IF('Datos Iniciales'!B239=\"\",\"\",(IF('Datos Iniciales'!B239=\"Si\",\"O-48\",\"O-49\")))","v":""}]
[{"$f":"IF('Datos Iniciales'!B240=\"\",\"\",\"Si\")","v":""},{"$f":"(IF('Datos Iniciales'!A240=\"Cliente\",\"Si\",(IF('Datos Iniciales'!A240=\"\",\"\",\"No\"))))","v":""},{"$f":"(IF('Datos Iniciales'!A240=\"Distribuidor\",\"Si\",(IF('Datos Iniciales'!A240=\"\",\"\",\"No\"))))","v":""},{"$f":"(IF('Datos Iniciales'!A240=\"Otros\",\"Si\",(IF('Datos Iniciales'!A240=\"\",\"\",\"No\"))))","v":""},{"$f":"(IF('Datos Iniciales'!A240=\"Prospecto\",\"Si\",(IF('Datos Iniciales'!A240=\"\",\"\",\"No\"))))","v":""},{"$f":"(IF('Datos Iniciales'!A240=\"Proveedor\",\"Si\",(IF('Datos Iniciales'!A240=\"\",\"\",\"No\"))))","v":""},{"$f":"IF('Datos Iniciales'!B240=\"\",\"\",'Datos Iniciales'!B240)","v":""},{"$f":"IF('Datos Iniciales'!C240=\"\",\"\",'Datos Iniciales'!C240)","v":""},{"$f":"IF('Datos Iniciales'!D240=\"\",\"\",'Datos Iniciales'!D240)","v":""},{"$f":"IF('Datos Iniciales'!E240=datos!$I$2,datos!$J$2,(IF('Datos Iniciales'!E240=datos!$I$3,datos!$J$3,(IF('Datos Iniciales'!E240=datos!$I$4,datos!$J$4,(IF('Datos Iniciales'!E240=datos!$I$5,datos!$J$5,(IF('Datos Iniciales'!E240=datos!$I$6,datos!$J$6,(IF('Datos Iniciales'!E240=datos!$I$7,datos!$J$7,(IF('Datos Iniciales'!E240=datos!$I$2,datos!$J$2,(IF('Datos Iniciales'!E240=datos!$I$8,datos!$J$8,(IF('Datos Iniciales'!E240=datos!$I$9,datos!$J$9,(IF('Datos Iniciales'!E240=datos!$I$10,datos!$J$10,(IF('Datos Iniciales'!E240=datos!$I$11,datos!$J$11,(IF('Datos Iniciales'!E240=datos!$I$12,datos!$J$12,(IF('Datos Iniciales'!E240=datos!$I$13,datos!$J$13,(IF('Datos Iniciales'!E240=datos!$I$14,datos!$J$14,(IF('Datos Iniciales'!E240=datos!$I$15,datos!$J$15,\"\")))))))))))))))))))))))))))))","v":""},{"$f":"IF('Datos Iniciales'!F240=\"\",\"\",'Datos Iniciales'!F240)","v":""},{"$f":"IFERROR(datos!B239,\"\")","v":""},null,null,null,null,{"$f":"IF('Datos Iniciales'!H240=\"\",\"\",'Datos Iniciales'!H240)","v":""},{"$f":"IF('Datos Iniciales'!I240=\"\",\"\",datos!$K$2)","v":""},{"$f":"IFERROR(VLOOKUP('Datos Iniciales'!J240,datos!O238:P1357,2,FALSE),\"\")","v":""},null,{"$f":"IF('Datos Iniciales'!K240=\"\",\"\",(CONCATENATE(RIGHT('Datos Iniciales'!K240,1),\"-\",'Datos Iniciales'!L240,\"-\",'Datos Iniciales'!M240)))","v":""},null,null,null,{"$f":"IF('Datos Iniciales'!N240=\"\",\"\",'Datos Iniciales'!N240)","v":""},{"$f":"IF('Datos Iniciales'!O240=\"\",\"\",'Datos Iniciales'!O240)","v":""},null,null,null,null,{"$f":"IF('Datos Iniciales'!P240=\"\",\"\",'Datos Iniciales'!P240)","v":""},null,null,null,null,null,null,null,null,null,null,null,null,{"$f":"IF('Datos Iniciales'!B240=\"\",\"\",(IF('Datos Iniciales'!B240=\"Si\",\"002\",\"003\")))","v":""},null,{"$f":"IF('Datos Iniciales'!Q240=\"\",\"\",(IF('Datos Iniciales'!Q240=datos!S239,\"0\",\"2\")))","v":""},{"$f":"IF('Datos Iniciales'!B240=\"\",\"\",(IF('Datos Iniciales'!B240=\"Si\",\"O-48\",\"O-49\")))","v":""}]
[{"$f":"IF('Datos Iniciales'!B241=\"\",\"\",\"Si\")","v":""},{"$f":"(IF('Datos Iniciales'!A241=\"Cliente\",\"Si\",(IF('Datos Iniciales'!A241=\"\",\"\",\"No\"))))","v":""},{"$f":"(IF('Datos Iniciales'!A241=\"Distribuidor\",\"Si\",(IF('Datos Iniciales'!A241=\"\",\"\",\"No\"))))","v":""},{"$f":"(IF('Datos Iniciales'!A241=\"Otros\",\"Si\",(IF('Datos Iniciales'!A241=\"\",\"\",\"No\"))))","v":""},{"$f":"(IF('Datos Iniciales'!A241=\"Prospecto\",\"Si\",(IF('Datos Iniciales'!A241=\"\",\"\",\"No\"))))","v":""},{"$f":"(IF('Datos Iniciales'!A241=\"Proveedor\",\"Si\",(IF('Datos Iniciales'!A241=\"\",\"\",\"No\"))))","v":""},{"$f":"IF('Datos Iniciales'!B241=\"\",\"\",'Datos Iniciales'!B241)","v":""},{"$f":"IF('Datos Iniciales'!C241=\"\",\"\",'Datos Iniciales'!C241)","v":""},{"$f":"IF('Datos Iniciales'!D241=\"\",\"\",'Datos Iniciales'!D241)","v":""},{"$f":"IF('Datos Iniciales'!E241=datos!$I$2,datos!$J$2,(IF('Datos Iniciales'!E241=datos!$I$3,datos!$J$3,(IF('Datos Iniciales'!E241=datos!$I$4,datos!$J$4,(IF('Datos Iniciales'!E241=datos!$I$5,datos!$J$5,(IF('Datos Iniciales'!E241=datos!$I$6,datos!$J$6,(IF('Datos Iniciales'!E241=datos!$I$7,datos!$J$7,(IF('Datos Iniciales'!E241=datos!$I$2,datos!$J$2,(IF('Datos Iniciales'!E241=datos!$I$8,datos!$J$8,(IF('Datos Iniciales'!E241=datos!$I$9,datos!$J$9,(IF('Datos Iniciales'!E241=datos!$I$10,datos!$J$10,(IF('Datos Iniciales'!E241=datos!$I$11,datos!$J$11,(IF('Datos Iniciales'!E241=datos!$I$12,datos!$J$12,(IF('Datos Iniciales'!E241=datos!$I$13,datos!$J$13,(IF('Datos Iniciales'!E241=datos!$I$14,datos!$J$14,(IF('Datos Iniciales'!E241=datos!$I$15,datos!$J$15,\"\")))))))))))))))))))))))))))))","v":""},{"$f":"IF('Datos Iniciales'!F241=\"\",\"\",'Datos Iniciales'!F241)","v":""},{"$f":"IFERROR(datos!B240,\"\")","v":""},null,null,null,null,{"$f":"IF('Datos Iniciales'!H241=\"\",\"\",'Datos Iniciales'!H241)","v":""},{"$f":"IF('Datos Iniciales'!I241=\"\",\"\",datos!$K$2)","v":""},{"$f":"IFERROR(VLOOKUP('Datos Iniciales'!J241,datos!O239:P1358,2,FALSE),\"\")","v":""},null,{"$f":"IF('Datos Iniciales'!K241=\"\",\"\",(CONCATENATE(RIGHT('Datos Iniciales'!K241,1),\"-\",'Datos Iniciales'!L241,\"-\",'Datos Iniciales'!M241)))","v":""},null,null,null,{"$f":"IF('Datos Iniciales'!N241=\"\",\"\",'Datos Iniciales'!N241)","v":""},{"$f":"IF('Datos Iniciales'!O241=\"\",\"\",'Datos Iniciales'!O241)","v":""},null,null,null,null,{"$f":"IF('Datos Iniciales'!P241=\"\",\"\",'Datos Iniciales'!P241)","v":""},null,null,null,null,null,null,null,null,null,null,null,null,{"$f":"IF('Datos Iniciales'!B241=\"\",\"\",(IF('Datos Iniciales'!B241=\"Si\",\"002\",\"003\")))","v":""},null,{"$f":"IF('Datos Iniciales'!Q241=\"\",\"\",(IF('Datos Iniciales'!Q241=datos!S240,\"0\",\"2\")))","v":""},{"$f":"IF('Datos Iniciales'!B241=\"\",\"\",(IF('Datos Iniciales'!B241=\"Si\",\"O-48\",\"O-49\")))","v":""}]
[{"$f":"IF('Datos Iniciales'!B242=\"\",\"\",\"Si\")","v":""},{"$f":"(IF('Datos Iniciales'!A242=\"Cliente\",\"Si\",(IF('Datos Iniciales'!A242=\"\",\"\",\"No\"))))","v":""},{"$f":"(IF('Datos Iniciales'!A242=\"Distribuidor\",\"Si\",(IF('Datos Iniciales'!A242=\"\",\"\",\"No\"))))","v":""},{"$f":"(IF('Datos Iniciales'!A242=\"Otros\",\"Si\",(IF('Datos Iniciales'!A242=\"\",\"\",\"No\"))))","v":""},{"$f":"(IF('Datos Iniciales'!A242=\"Prospecto\",\"Si\",(IF('Datos Iniciales'!A242=\"\",\"\",\"No\"))))","v":""},{"$f":"(IF('Datos Iniciales'!A242=\"Proveedor\",\"Si\",(IF('Datos Iniciales'!A242=\"\",\"\",\"No\"))))","v":""},{"$f":"IF('Datos Iniciales'!B242=\"\",\"\",'Datos Iniciales'!B242)","v":""},{"$f":"IF('Datos Iniciales'!C242=\"\",\"\",'Datos Iniciales'!C242)","v":""},{"$f":"IF('Datos Iniciales'!D242=\"\",\"\",'Datos Iniciales'!D242)","v":""},{"$f":"IF('Datos Iniciales'!E242=datos!$I$2,datos!$J$2,(IF('Datos Iniciales'!E242=datos!$I$3,datos!$J$3,(IF('Datos Iniciales'!E242=datos!$I$4,datos!$J$4,(IF('Datos Iniciales'!E242=datos!$I$5,datos!$J$5,(IF('Datos Iniciales'!E242=datos!$I$6,datos!$J$6,(IF('Datos Iniciales'!E242=datos!$I$7,datos!$J$7,(IF('Datos Iniciales'!E242=datos!$I$2,datos!$J$2,(IF('Datos Iniciales'!E242=datos!$I$8,datos!$J$8,(IF('Datos Iniciales'!E242=datos!$I$9,datos!$J$9,(IF('Datos Iniciales'!E242=datos!$I$10,datos!$J$10,(IF('Datos Iniciales'!E242=datos!$I$11,datos!$J$11,(IF('Datos Iniciales'!E242=datos!$I$12,datos!$J$12,(IF('Datos Iniciales'!E242=datos!$I$13,datos!$J$13,(IF('Datos Iniciales'!E242=datos!$I$14,datos!$J$14,(IF('Datos Iniciales'!E242=datos!$I$15,datos!$J$15,\"\")))))))))))))))))))))))))))))","v":""},{"$f":"IF('Datos Iniciales'!F242=\"\",\"\",'Datos Iniciales'!F242)","v":""},{"$f":"IFERROR(datos!B241,\"\")","v":""},null,null,null,null,{"$f":"IF('Datos Iniciales'!H242=\"\",\"\",'Datos Iniciales'!H242)","v":""},{"$f":"IF('Datos Iniciales'!I242=\"\",\"\",datos!$K$2)","v":""},{"$f":"IFERROR(VLOOKUP('Datos Iniciales'!J242,datos!O240:P1359,2,FALSE),\"\")","v":""},null,{"$f":"IF('Datos Iniciales'!K242=\"\",\"\",(CONCATENATE(RIGHT('Datos Iniciales'!K242,1),\"-\",'Datos Iniciales'!L242,\"-\",'Datos Iniciales'!M242)))","v":""},null,null,null,{"$f":"IF('Datos Iniciales'!N242=\"\",\"\",'Datos Iniciales'!N242)","v":""},{"$f":"IF('Datos Iniciales'!O242=\"\",\"\",'Datos Iniciales'!O242)","v":""},null,null,null,null,{"$f":"IF('Datos Iniciales'!P242=\"\",\"\",'Datos Iniciales'!P242)","v":""},null,null,null,null,null,null,null,null,null,null,null,null,{"$f":"IF('Datos Iniciales'!B242=\"\",\"\",(IF('Datos Iniciales'!B242=\"Si\",\"002\",\"003\")))","v":""},null,{"$f":"IF('Datos Iniciales'!Q242=\"\",\"\",(IF('Datos Iniciales'!Q242=datos!S241,\"0\",\"2\")))","v":""},{"$f":"IF('Datos Iniciales'!B242=\"\",\"\",(IF('Datos Iniciales'!B242=\"Si\",\"O-48\",\"O-49\")))","v":""}]
[{"$f":"IF('Datos Iniciales'!B243=\"\",\"\",\"Si\")","v":""},{"$f":"(IF('Datos Iniciales'!A243=\"Cliente\",\"Si\",(IF('Datos Iniciales'!A243=\"\",\"\",\"No\"))))","v":""},{"$f":"(IF('Datos Iniciales'!A243=\"Distribuidor\",\"Si\",(IF('Datos Iniciales'!A243=\"\",\"\",\"No\"))))","v":""},{"$f":"(IF('Datos Iniciales'!A243=\"Otros\",\"Si\",(IF('Datos Iniciales'!A243=\"\",\"\",\"No\"))))","v":""},{"$f":"(IF('Datos Iniciales'!A243=\"Prospecto\",\"Si\",(IF('Datos Iniciales'!A243=\"\",\"\",\"No\"))))","v":""},{"$f":"(IF('Datos Iniciales'!A243=\"Proveedor\",\"Si\",(IF('Datos Iniciales'!A243=\"\",\"\",\"No\"))))","v":""},{"$f":"IF('Datos Iniciales'!B243=\"\",\"\",'Datos Iniciales'!B243)","v":""},{"$f":"IF('Datos Iniciales'!C243=\"\",\"\",'Datos Iniciales'!C243)","v":""},{"$f":"IF('Datos Iniciales'!D243=\"\",\"\",'Datos Iniciales'!D243)","v":""},{"$f":"IF('Datos Iniciales'!E243=datos!$I$2,datos!$J$2,(IF('Datos Iniciales'!E243=datos!$I$3,datos!$J$3,(IF('Datos Iniciales'!E243=datos!$I$4,datos!$J$4,(IF('Datos Iniciales'!E243=datos!$I$5,datos!$J$5,(IF('Datos Iniciales'!E243=datos!$I$6,datos!$J$6,(IF('Datos Iniciales'!E243=datos!$I$7,datos!$J$7,(IF('Datos Iniciales'!E243=datos!$I$2,datos!$J$2,(IF('Datos Iniciales'!E243=datos!$I$8,datos!$J$8,(IF('Datos Iniciales'!E243=datos!$I$9,datos!$J$9,(IF('Datos Iniciales'!E243=datos!$I$10,datos!$J$10,(IF('Datos Iniciales'!E243=datos!$I$11,datos!$J$11,(IF('Datos Iniciales'!E243=datos!$I$12,datos!$J$12,(IF('Datos Iniciales'!E243=datos!$I$13,datos!$J$13,(IF('Datos Iniciales'!E243=datos!$I$14,datos!$J$14,(IF('Datos Iniciales'!E243=datos!$I$15,datos!$J$15,\"\")))))))))))))))))))))))))))))","v":""},{"$f":"IF('Datos Iniciales'!F243=\"\",\"\",'Datos Iniciales'!F243)","v":""},{"$f":"IFERROR(datos!B242,\"\")","v":""},null,null,null,null,{"$f":"IF('Datos Iniciales'!H243=\"\",\"\",'Datos Iniciales'!H243)","v":""},{"$f":"IF('Datos Iniciales'!I243=\"\",\"\",datos!$K$2)","v":""},{"$f":"IFERROR(VLOOKUP('Datos Iniciales'!J243,datos!O241:P1360,2,FALSE),\"\")","v":""},null,{"$f":"IF('Datos Iniciales'!K243=\"\",\"\",(CONCATENATE(RIGHT('Datos Iniciales'!K243,1),\"-\",'Datos Iniciales'!L243,\"-\",'Datos Iniciales'!M243)))","v":""},null,null,null,{"$f":"IF('Datos Iniciales'!N243=\"\",\"\",'Datos Iniciales'!N243)","v":""},{"$f":"IF('Datos Iniciales'!O243=\"\",\"\",'Datos Iniciales'!O243)","v":""},null,null,null,null,{"$f":"IF('Datos Iniciales'!P243=\"\",\"\",'Datos Iniciales'!P243)","v":""},null,null,null,null,null,null,null,null,null,null,null,null,{"$f":"IF('Datos Iniciales'!B243=\"\",\"\",(IF('Datos Iniciales'!B243=\"Si\",\"002\",\"003\")))","v":""},null,{"$f":"IF('Datos Iniciales'!Q243=\"\",\"\",(IF('Datos Iniciales'!Q243=datos!S242,\"0\",\"2\")))","v":""},{"$f":"IF('Datos Iniciales'!B243=\"\",\"\",(IF('Datos Iniciales'!B243=\"Si\",\"O-48\",\"O-49\")))","v":""}]
[{"$f":"IF('Datos Iniciales'!B244=\"\",\"\",\"Si\")","v":""},{"$f":"(IF('Datos Iniciales'!A244=\"Cliente\",\"Si\",(IF('Datos Iniciales'!A244=\"\",\"\",\"No\"))))","v":""},{"$f":"(IF('Datos Iniciales'!A244=\"Distribuidor\",\"Si\",(IF('Datos Iniciales'!A244=\"\",\"\",\"No\"))))","v":""},{"$f":"(IF('Datos Iniciales'!A244=\"Otros\",\"Si\",(IF('Datos Iniciales'!A244=\"\",\"\",\"No\"))))","v":""},{"$f":"(IF('Datos Iniciales'!A244=\"Prospecto\",\"Si\",(IF('Datos Iniciales'!A244=\"\",\"\",\"No\"))))","v":""},{"$f":"(IF('Datos Iniciales'!A244=\"Proveedor\",\"Si\",(IF('Datos Iniciales'!A244=\"\",\"\",\"No\"))))","v":""},{"$f":"IF('Datos Iniciales'!B244=\"\",\"\",'Datos Iniciales'!B244)","v":""},{"$f":"IF('Datos Iniciales'!C244=\"\",\"\",'Datos Iniciales'!C244)","v":""},{"$f":"IF('Datos Iniciales'!D244=\"\",\"\",'Datos Iniciales'!D244)","v":""},{"$f":"IF('Datos Iniciales'!E244=datos!$I$2,datos!$J$2,(IF('Datos Iniciales'!E244=datos!$I$3,datos!$J$3,(IF('Datos Iniciales'!E244=datos!$I$4,datos!$J$4,(IF('Datos Iniciales'!E244=datos!$I$5,datos!$J$5,(IF('Datos Iniciales'!E244=datos!$I$6,datos!$J$6,(IF('Datos Iniciales'!E244=datos!$I$7,datos!$J$7,(IF('Datos Iniciales'!E244=datos!$I$2,datos!$J$2,(IF('Datos Iniciales'!E244=datos!$I$8,datos!$J$8,(IF('Datos Iniciales'!E244=datos!$I$9,datos!$J$9,(IF('Datos Iniciales'!E244=datos!$I$10,datos!$J$10,(IF('Datos Iniciales'!E244=datos!$I$11,datos!$J$11,(IF('Datos Iniciales'!E244=datos!$I$12,datos!$J$12,(IF('Datos Iniciales'!E244=datos!$I$13,datos!$J$13,(IF('Datos Iniciales'!E244=datos!$I$14,datos!$J$14,(IF('Datos Iniciales'!E244=datos!$I$15,datos!$J$15,\"\")))))))))))))))))))))))))))))","v":""},{"$f":"IF('Datos Iniciales'!F244=\"\",\"\",'Datos Iniciales'!F244)","v":""},{"$f":"IFERROR(datos!B243,\"\")","v":""},null,null,null,null,{"$f":"IF('Datos Iniciales'!H244=\"\",\"\",'Datos Iniciales'!H244)","v":""},{"$f":"IF('Datos Iniciales'!I244=\"\",\"\",datos!$K$2)","v":""},{"$f":"IFERROR(VLOOKUP('Datos Iniciales'!J244,datos!O242:P1361,2,FALSE),\"\")","v":""},null,{"$f":"IF('Datos Iniciales'!K244=\"\",\"\",(CONCATENATE(RIGHT('Datos Iniciales'!K244,1),\"-\",'Datos Iniciales'!L244,\"-\",'Datos Iniciales'!M244)))","v":""},null,null,null,{"$f":"IF('Datos Iniciales'!N244=\"\",\"\",'Datos Iniciales'!N244)","v":""},{"$f":"IF('Datos Iniciales'!O244=\"\",\"\",'Datos Iniciales'!O244)","v":""},null,null,null,null,{"$f":"IF('Datos Iniciales'!P244=\"\",\"\",'Datos Iniciales'!P244)","v":""},null,null,null,null,null,null,null,null,null,null,null,null,{"$f":"IF('Datos Iniciales'!B244=\"\",\"\",(IF('Datos Iniciales'!B244=\"Si\",\"002\",\"003\")))","v":""},null,{"$f":"IF('Datos Iniciales'!Q244=\"\",\"\",(IF('Datos Iniciales'!Q244=datos!S243,\"0\",\"2\")))","v":""},{"$f":"IF('Datos Iniciales'!B244=\"\",\"\",(IF('Datos Iniciales'!B244=\"Si\",\"O-48\",\"O-49\")))","v":""}]
[{"$f":"IF('Datos Iniciales'!B245=\"\",\"\",\"Si\")","v":""},{"$f":"(IF('Datos Iniciales'!A245=\"Cliente\",\"Si\",(IF('Datos Iniciales'!A245=\"\",\"\",\"No\"))))","v":""},{"$f":"(IF('Datos Iniciales'!A245=\"Distribuidor\",\"Si\",(IF('Datos Iniciales'!A245=\"\",\"\",\"No\"))))","v":""},{"$f":"(IF('Datos Iniciales'!A245=\"Otros\",\"Si\",(IF('Datos Iniciales'!A245=\"\",\"\",\"No\"))))","v":""},{"$f":"(IF('Datos Iniciales'!A245=\"Prospecto\",\"Si\",(IF('Datos Iniciales'!A245=\"\",\"\",\"No\"))))","v":""},{"$f":"(IF('Datos Iniciales'!A245=\"Proveedor\",\"Si\",(IF('Datos Iniciales'!A245=\"\",\"\",\"No\"))))","v":""},{"$f":"IF('Datos Iniciales'!B245=\"\",\"\",'Datos Iniciales'!B245)","v":""},{"$f":"IF('Datos Iniciales'!C245=\"\",\"\",'Datos Iniciales'!C245)","v":""},{"$f":"IF('Datos Iniciales'!D245=\"\",\"\",'Datos Iniciales'!D245)","v":""},{"$f":"IF('Datos Iniciales'!E245=datos!$I$2,datos!$J$2,(IF('Datos Iniciales'!E245=datos!$I$3,datos!$J$3,(IF('Datos Iniciales'!E245=datos!$I$4,datos!$J$4,(IF('Datos Iniciales'!E245=datos!$I$5,datos!$J$5,(IF('Datos Iniciales'!E245=datos!$I$6,datos!$J$6,(IF('Datos Iniciales'!E245=datos!$I$7,datos!$J$7,(IF('Datos Iniciales'!E245=datos!$I$2,datos!$J$2,(IF('Datos Iniciales'!E245=datos!$I$8,datos!$J$8,(IF('Datos Iniciales'!E245=datos!$I$9,datos!$J$9,(IF('Datos Iniciales'!E245=datos!$I$10,datos!$J$10,(IF('Datos Iniciales'!E245=datos!$I$11,datos!$J$11,(IF('Datos Iniciales'!E245=datos!$I$12,datos!$J$12,(IF('Datos Iniciales'!E245=datos!$I$13,datos!$J$13,(IF('Datos Iniciales'!E245=datos!$I$14,datos!$J$14,(IF('Datos Iniciales'!E245=datos!$I$15,datos!$J$15,\"\")))))))))))))))))))))))))))))","v":""},{"$f":"IF('Datos Iniciales'!F245=\"\",\"\",'Datos Iniciales'!F245)","v":""},{"$f":"IFERROR(datos!B244,\"\")","v":""},null,null,null,null,{"$f":"IF('Datos Iniciales'!H245=\"\",\"\",'Datos Iniciales'!H245)","v":""},{"$f":"IF('Datos Iniciales'!I245=\"\",\"\",datos!$K$2)","v":""},{"$f":"IFERROR(VLOOKUP('Datos Iniciales'!J245,datos!O243:P1362,2,FALSE),\"\")","v":""},null,{"$f":"IF('Datos Iniciales'!K245=\"\",\"\",(CONCATENATE(RIGHT('Datos Iniciales'!K245,1),\"-\",'Datos Iniciales'!L245,\"-\",'Datos Iniciales'!M245)))","v":""},null,null,null,{"$f":"IF('Datos Iniciales'!N245=\"\",\"\",'Datos Iniciales'!N245)","v":""},{"$f":"IF('Datos Iniciales'!O245=\"\",\"\",'Datos Iniciales'!O245)","v":""},null,null,null,null,{"$f":"IF('Datos Iniciales'!P245=\"\",\"\",'Datos Iniciales'!P245)","v":""},null,null,null,null,null,null,null,null,null,null,null,null,{"$f":"IF('Datos Iniciales'!B245=\"\",\"\",(IF('Datos Iniciales'!B245=\"Si\",\"002\",\"003\")))","v":""},null,{"$f":"IF('Datos Iniciales'!Q245=\"\",\"\",(IF('Datos Iniciales'!Q245=datos!S244,\"0\",\"2\")))","v":""},{"$f":"IF('Datos Iniciales'!B245=\"\",\"\",(IF('Datos Iniciales'!B245=\"Si\",\"O-48\",\"O-49\")))","v":""}]
[{"$f":"IF('Datos Iniciales'!B246=\"\",\"\",\"Si\")","v":""},{"$f":"(IF('Datos Iniciales'!A246=\"Cliente\",\"Si\",(IF('Datos Iniciales'!A246=\"\",\"\",\"No\"))))","v":""},{"$f":"(IF('Datos Iniciales'!A246=\"Distribuidor\",\"Si\",(IF('Datos Iniciales'!A246=\"\",\"\",\"No\"))))","v":""},{"$f":"(IF('Datos Iniciales'!A246=\"Otros\",\"Si\",(IF('Datos Iniciales'!A246=\"\",\"\",\"No\"))))","v":""},{"$f":"(IF('Datos Iniciales'!A246=\"Prospecto\",\"Si\",(IF('Datos Iniciales'!A246=\"\",\"\",\"No\"))))","v":""},{"$f":"(IF('Datos Iniciales'!A246=\"Proveedor\",\"Si\",(IF('Datos Iniciales'!A246=\"\",\"\",\"No\"))))","v":""},{"$f":"IF('Datos Iniciales'!B246=\"\",\"\",'Datos Iniciales'!B246)","v":""},{"$f":"IF('Datos Iniciales'!C246=\"\",\"\",'Datos Iniciales'!C246)","v":""},{"$f":"IF('Datos Iniciales'!D246=\"\",\"\",'Datos Iniciales'!D246)","v":""},{"$f":"IF('Datos Iniciales'!E246=datos!$I$2,datos!$J$2,(IF('Datos Iniciales'!E246=datos!$I$3,datos!$J$3,(IF('Datos Iniciales'!E246=datos!$I$4,datos!$J$4,(IF('Datos Iniciales'!E246=datos!$I$5,datos!$J$5,(IF('Datos Iniciales'!E246=datos!$I$6,datos!$J$6,(IF('Datos Iniciales'!E246=datos!$I$7,datos!$J$7,(IF('Datos Iniciales'!E246=datos!$I$2,datos!$J$2,(IF('Datos Iniciales'!E246=datos!$I$8,datos!$J$8,(IF('Datos Iniciales'!E246=datos!$I$9,datos!$J$9,(IF('Datos Iniciales'!E246=datos!$I$10,datos!$J$10,(IF('Datos Iniciales'!E246=datos!$I$11,datos!$J$11,(IF('Datos Iniciales'!E246=datos!$I$12,datos!$J$12,(IF('Datos Iniciales'!E246=datos!$I$13,datos!$J$13,(IF('Datos Iniciales'!E246=datos!$I$14,datos!$J$14,(IF('Datos Iniciales'!E246=datos!$I$15,datos!$J$15,\"\")))))))))))))))))))))))))))))","v":""},{"$f":"IF('Datos Iniciales'!F246=\"\",\"\",'Datos Iniciales'!F246)","v":""},{"$f":"IFERROR(datos!B245,\"\")","v":""},null,null,null,null,{"$f":"IF('Datos Iniciales'!H246=\"\",\"\",'Datos Iniciales'!H246)","v":""},{"$f":"IF('Datos Iniciales'!I246=\"\",\"\",datos!$K$2)","v":""},{"$f":"IFERROR(VLOOKUP('Datos Iniciales'!J246,datos!O244:P1363,2,FALSE),\"\")","v":""},null,{"$f":"IF('Datos Iniciales'!K246=\"\",\"\",(CONCATENATE(RIGHT('Datos Iniciales'!K246,1),\"-\",'Datos Iniciales'!L246,\"-\",'Datos Iniciales'!M246)))","v":""},null,null,null,{"$f":"IF('Datos Iniciales'!N246=\"\",\"\",'Datos Iniciales'!N246)","v":""},{"$f":"IF('Datos Iniciales'!O246=\"\",\"\",'Datos Iniciales'!O246)","v":""},null,null,null,null,{"$f":"IF('Datos Iniciales'!P246=\"\",\"\",'Datos Iniciales'!P246)","v":""},null,null,null,null,null,null,null,null,null,null,null,null,{"$f":"IF('Datos Iniciales'!B246=\"\",\"\",(IF('Datos Iniciales'!B246=\"Si\",\"002\",\"003\")))","v":""},null,{"$f":"IF('Datos Iniciales'!Q246=\"\",\"\",(IF('Datos Iniciales'!Q246=datos!S245,\"0\",\"2\")))","v":""},{"$f":"IF('Datos Iniciales'!B246=\"\",\"\",(IF('Datos Iniciales'!B246=\"Si\",\"O-48\",\"O-49\")))","v":""}]
[{"$f":"IF('Datos Iniciales'!B247=\"\",\"\",\"Si\")","v":""},{"$f":"(IF('Datos Iniciales'!A247=\"Cliente\",\"Si\",(IF('Datos Iniciales'!A247=\"\",\"\",\"No\"))))","v":""},{"$f":"(IF('Datos Iniciales'!A247=\"Distribuidor\",\"Si\",(IF('Datos Iniciales'!A247=\"\",\"\",\"No\"))))","v":""},{"$f":"(IF('Datos Iniciales'!A247=\"Otros\",\"Si\",(IF('Datos Iniciales'!A247=\"\",\"\",\"No\"))))","v":""},{"$f":"(IF('Datos Iniciales'!A247=\"Prospecto\",\"Si\",(IF('Datos Iniciales'!A247=\"\",\"\",\"No\"))))","v":""},{"$f":"(IF('Datos Iniciales'!A247=\"Proveedor\",\"Si\",(IF('Datos Iniciales'!A247=\"\",\"\",\"No\"))))","v":""},{"$f":"IF('Datos Iniciales'!B247=\"\",\"\",'Datos Iniciales'!B247)","v":""},{"$f":"IF('Datos Iniciales'!C247=\"\",\"\",'Datos Iniciales'!C247)","v":""},{"$f":"IF('Datos Iniciales'!D247=\"\",\"\",'Datos Iniciales'!D247)","v":""},{"$f":"IF('Datos Iniciales'!E247=datos!$I$2,datos!$J$2,(IF('Datos Iniciales'!E247=datos!$I$3,datos!$J$3,(IF('Datos Iniciales'!E247=datos!$I$4,datos!$J$4,(IF('Datos Iniciales'!E247=datos!$I$5,datos!$J$5,(IF('Datos Iniciales'!E247=datos!$I$6,datos!$J$6,(IF('Datos Iniciales'!E247=datos!$I$7,datos!$J$7,(IF('Datos Iniciales'!E247=datos!$I$2,datos!$J$2,(IF('Datos Iniciales'!E247=datos!$I$8,datos!$J$8,(IF('Datos Iniciales'!E247=datos!$I$9,datos!$J$9,(IF('Datos Iniciales'!E247=datos!$I$10,datos!$J$10,(IF('Datos Iniciales'!E247=datos!$I$11,datos!$J$11,(IF('Datos Iniciales'!E247=datos!$I$12,datos!$J$12,(IF('Datos Iniciales'!E247=datos!$I$13,datos!$J$13,(IF('Datos Iniciales'!E247=datos!$I$14,datos!$J$14,(IF('Datos Iniciales'!E247=datos!$I$15,datos!$J$15,\"\")))))))))))))))))))))))))))))","v":""},{"$f":"IF('Datos Iniciales'!F247=\"\",\"\",'Datos Iniciales'!F247)","v":""},{"$f":"IFERROR(datos!B246,\"\")","v":""},null,null,null,null,{"$f":"IF('Datos Iniciales'!H247=\"\",\"\",'Datos Iniciales'!H247)","v":""},{"$f":"IF('Datos Iniciales'!I247=\"\",\"\",datos!$K$2)","v":""},{"$f":"IFERROR(VLOOKUP('Datos Iniciales'!J247,datos!O245:P1364,2,FALSE),\"\")","v":""},null,{"$f":"IF('Datos Iniciales'!K247=\"\",\"\",(CONCATENATE(RIGHT('Datos Iniciales'!K247,1),\"-\",'Datos Iniciales'!L247,\"-\",'Datos Iniciales'!M247)))","v":""},null,null,null,{"$f":"IF('Datos Iniciales'!N247=\"\",\"\",'Datos Iniciales'!N247)","v":""},{"$f":"IF('Datos Iniciales'!O247=\"\",\"\",'Datos Iniciales'!O247)","v":""},null,null,null,null,{"$f":"IF('Datos Iniciales'!P247=\"\",\"\",'Datos Iniciales'!P247)","v":""},null,null,null,null,null,null,null,null,null,null,null,null,{"$f":"IF('Datos Iniciales'!B247=\"\",\"\",(IF('Datos Iniciales'!B247=\"Si\",\"002\",\"003\")))","v":""},null,{"$f":"IF('Datos Iniciales'!Q247=\"\",\"\",(IF('Datos Iniciales'!Q247=datos!S246,\"0\",\"2\")))","v":""},{"$f":"IF('Datos Iniciales'!B247=\"\",\"\",(IF('Datos Iniciales'!B247=\"Si\",\"O-48\",\"O-49\")))","v":""}]
[{"$f":"IF('Datos Iniciales'!B248=\"\",\"\",\"Si\")","v":""},{"$f":"(IF('Datos Iniciales'!A248=\"Cliente\",\"Si\",(IF('Datos Iniciales'!A248=\"\",\"\",\"No\"))))","v":""},{"$f":"(IF('Datos Iniciales'!A248=\"Distribuidor\",\"Si\",(IF('Datos Iniciales'!A248=\"\",\"\",\"No\"))))","v":""},{"$f":"(IF('Datos Iniciales'!A248=\"Otros\",\"Si\",(IF('Datos Iniciales'!A248=\"\",\"\",\"No\"))))","v":""},{"$f":"(IF('Datos Iniciales'!A248=\"Prospecto\",\"Si\",(IF('Datos Iniciales'!A248=\"\",\"\",\"No\"))))","v":""},{"$f":"(IF('Datos Iniciales'!A248=\"Proveedor\",\"Si\",(IF('Datos Iniciales'!A248=\"\",\"\",\"No\"))))","v":""},{"$f":"IF('Datos Iniciales'!B248=\"\",\"\",'Datos Iniciales'!B248)","v":""},{"$f":"IF('Datos Iniciales'!C248=\"\",\"\",'Datos Iniciales'!C248)","v":""},{"$f":"IF('Datos Iniciales'!D248=\"\",\"\",'Datos Iniciales'!D248)","v":""},{"$f":"IF('Datos Iniciales'!E248=datos!$I$2,datos!$J$2,(IF('Datos Iniciales'!E248=datos!$I$3,datos!$J$3,(IF('Datos Iniciales'!E248=datos!$I$4,datos!$J$4,(IF('Datos Iniciales'!E248=datos!$I$5,datos!$J$5,(IF('Datos Iniciales'!E248=datos!$I$6,datos!$J$6,(IF('Datos Iniciales'!E248=datos!$I$7,datos!$J$7,(IF('Datos Iniciales'!E248=datos!$I$2,datos!$J$2,(IF('Datos Iniciales'!E248=datos!$I$8,datos!$J$8,(IF('Datos Iniciales'!E248=datos!$I$9,datos!$J$9,(IF('Datos Iniciales'!E248=datos!$I$10,datos!$J$10,(IF('Datos Iniciales'!E248=datos!$I$11,datos!$J$11,(IF('Datos Iniciales'!E248=datos!$I$12,datos!$J$12,(IF('Datos Iniciales'!E248=datos!$I$13,datos!$J$13,(IF('Datos Iniciales'!E248=datos!$I$14,datos!$J$14,(IF('Datos Iniciales'!E248=datos!$I$15,datos!$J$15,\"\")))))))))))))))))))))))))))))","v":""},{"$f":"IF('Datos Iniciales'!F248=\"\",\"\",'Datos Iniciales'!F248)","v":""},{"$f":"IFERROR(datos!B247,\"\")","v":""},null,null,null,null,{"$f":"IF('Datos Iniciales'!H248=\"\",\"\",'Datos Iniciales'!H248)","v":""},{"$f":"IF('Datos Iniciales'!I248=\"\",\"\",datos!$K$2)","v":""},{"$f":"IFERROR(VLOOKUP('Datos Iniciales'!J248,datos!O246:P1365,2,FALSE),\"\")","v":""},null,{"$f":"IF('Datos Iniciales'!K248=\"\",\"\",(CONCATENATE(RIGHT('Datos Iniciales'!K248,1),\"-\",'Datos Iniciales'!L248,\"-\",'Datos Iniciales'!M248)))","v":""},null,null,null,{"$f":"IF('Datos Iniciales'!N248=\"\",\"\",'Datos Iniciales'!N248)","v":""},{"$f":"IF('Datos Iniciales'!O248=\"\",\"\",'Datos Iniciales'!O248)","v":""},null,null,null,null,{"$f":"IF('Datos Iniciales'!P248=\"\",\"\",'Datos Iniciales'!P248)","v":""},null,null,null,null,null,null,null,null,null,null,null,null,{"$f":"IF('Datos Iniciales'!B248=\"\",\"\",(IF('Datos Iniciales'!B248=\"Si\",\"002\",\"003\")))","v":""},null,{"$f":"IF('Datos Iniciales'!Q248=\"\",\"\",(IF('Datos Iniciales'!Q248=datos!S247,\"0\",\"2\")))","v":""},{"$f":"IF('Datos Iniciales'!B248=\"\",\"\",(IF('Datos Iniciales'!B248=\"Si\",\"O-48\",\"O-49\")))","v":""}]
[{"$f":"IF('Datos Iniciales'!B249=\"\",\"\",\"Si\")","v":""},{"$f":"(IF('Datos Iniciales'!A249=\"Cliente\",\"Si\",(IF('Datos Iniciales'!A249=\"\",\"\",\"No\"))))","v":""},{"$f":"(IF('Datos Iniciales'!A249=\"Distribuidor\",\"Si\",(IF('Datos Iniciales'!A249=\"\",\"\",\"No\"))))","v":""},{"$f":"(IF('Datos Iniciales'!A249=\"Otros\",\"Si\",(IF('Datos Iniciales'!A249=\"\",\"\",\"No\"))))","v":""},{"$f":"(IF('Datos Iniciales'!A249=\"Prospecto\",\"Si\",(IF('Datos Iniciales'!A249=\"\",\"\",\"No\"))))","v":""},{"$f":"(IF('Datos Iniciales'!A249=\"Proveedor\",\"Si\",(IF('Datos Iniciales'!A249=\"\",\"\",\"No\"))))","v":""},{"$f":"IF('Datos Iniciales'!B249=\"\",\"\",'Datos Iniciales'!B249)","v":""},{"$f":"IF('Datos Iniciales'!C249=\"\",\"\",'Datos Iniciales'!C249)","v":""},{"$f":"IF('Datos Iniciales'!D249=\"\",\"\",'Datos Iniciales'!D249)","v":""},{"$f":"IF('Datos Iniciales'!E249=datos!$I$2,datos!$J$2,(IF('Datos Iniciales'!E249=datos!$I$3,datos!$J$3,(IF('Datos Iniciales'!E249=datos!$I$4,datos!$J$4,(IF('Datos Iniciales'!E249=datos!$I$5,datos!$J$5,(IF('Datos Iniciales'!E249=datos!$I$6,datos!$J$6,(IF('Datos Iniciales'!E249=datos!$I$7,datos!$J$7,(IF('Datos Iniciales'!E249=datos!$I$2,datos!$J$2,(IF('Datos Iniciales'!E249=datos!$I$8,datos!$J$8,(IF('Datos Iniciales'!E249=datos!$I$9,datos!$J$9,(IF('Datos Iniciales'!E249=datos!$I$10,datos!$J$10,(IF('Datos Iniciales'!E249=datos!$I$11,datos!$J$11,(IF('Datos Iniciales'!E249=datos!$I$12,datos!$J$12,(IF('Datos Iniciales'!E249=datos!$I$13,datos!$J$13,(IF('Datos Iniciales'!E249=datos!$I$14,datos!$J$14,(IF('Datos Iniciales'!E249=datos!$I$15,datos!$J$15,\"\")))))))))))))))))))))))))))))","v":""},{"$f":"IF('Datos Iniciales'!F249=\"\",\"\",'Datos Iniciales'!F249)","v":""},{"$f":"IFERROR(datos!B248,\"\")","v":""},null,null,null,null,{"$f":"IF('Datos Iniciales'!H249=\"\",\"\",'Datos Iniciales'!H249)","v":""},{"$f":"IF('Datos Iniciales'!I249=\"\",\"\",datos!$K$2)","v":""},{"$f":"IFERROR(VLOOKUP('Datos Iniciales'!J249,datos!O247:P1366,2,FALSE),\"\")","v":""},null,{"$f":"IF('Datos Iniciales'!K249=\"\",\"\",(CONCATENATE(RIGHT('Datos Iniciales'!K249,1),\"-\",'Datos Iniciales'!L249,\"-\",'Datos Iniciales'!M249)))","v":""},null,null,null,{"$f":"IF('Datos Iniciales'!N249=\"\",\"\",'Datos Iniciales'!N249)","v":""},{"$f":"IF('Datos Iniciales'!O249=\"\",\"\",'Datos Iniciales'!O249)","v":""},null,null,null,null,{"$f":"IF('Datos Iniciales'!P249=\"\",\"\",'Datos Iniciales'!P249)","v":""},null,null,null,null,null,null,null,null,null,null,null,null,{"$f":"IF('Datos Iniciales'!B249=\"\",\"\",(IF('Datos Iniciales'!B249=\"Si\",\"002\",\"003\")))","v":""},null,{"$f":"IF('Datos Iniciales'!Q249=\"\",\"\",(IF('Datos Iniciales'!Q249=datos!S248,\"0\",\"2\")))","v":""},{"$f":"IF('Datos Iniciales'!B249=\"\",\"\",(IF('Datos Iniciales'!B249=\"Si\",\"O-48\",\"O-49\")))","v":""}]
[{"$f":"IF('Datos Iniciales'!B250=\"\",\"\",\"Si\")","v":""},{"$f":"(IF('Datos Iniciales'!A250=\"Cliente\",\"Si\",(IF('Datos Iniciales'!A250=\"\",\"\",\"No\"))))","v":""},{"$f":"(IF('Datos Iniciales'!A250=\"Distribuidor\",\"Si\",(IF('Datos Iniciales'!A250=\"\",\"\",\"No\"))))","v":""},{"$f":"(IF('Datos Iniciales'!A250=\"Otros\",\"Si\",(IF('Datos Iniciales'!A250=\"\",\"\",\"No\"))))","v":""},{"$f":"(IF('Datos Iniciales'!A250=\"Prospecto\",\"Si\",(IF('Datos Iniciales'!A250=\"\",\"\",\"No\"))))","v":""},{"$f":"(IF('Datos Iniciales'!A250=\"Proveedor\",\"Si\",(IF('Datos Iniciales'!A250=\"\",\"\",\"No\"))))","v":""},{"$f":"IF('Datos Iniciales'!B250=\"\",\"\",'Datos Iniciales'!B250)","v":""},{"$f":"IF('Datos Iniciales'!C250=\"\",\"\",'Datos Iniciales'!C250)","v":""},{"$f":"IF('Datos Iniciales'!D250=\"\",\"\",'Datos Iniciales'!D250)","v":""},{"$f":"IF('Datos Iniciales'!E250=datos!$I$2,datos!$J$2,(IF('Datos Iniciales'!E250=datos!$I$3,datos!$J$3,(IF('Datos Iniciales'!E250=datos!$I$4,datos!$J$4,(IF('Datos Iniciales'!E250=datos!$I$5,datos!$J$5,(IF('Datos Iniciales'!E250=datos!$I$6,datos!$J$6,(IF('Datos Iniciales'!E250=datos!$I$7,datos!$J$7,(IF('Datos Iniciales'!E250=datos!$I$2,datos!$J$2,(IF('Datos Iniciales'!E250=datos!$I$8,datos!$J$8,(IF('Datos Iniciales'!E250=datos!$I$9,datos!$J$9,(IF('Datos Iniciales'!E250=datos!$I$10,datos!$J$10,(IF('Datos Iniciales'!E250=datos!$I$11,datos!$J$11,(IF('Datos Iniciales'!E250=datos!$I$12,datos!$J$12,(IF('Datos Iniciales'!E250=datos!$I$13,datos!$J$13,(IF('Datos Iniciales'!E250=datos!$I$14,datos!$J$14,(IF('Datos Iniciales'!E250=datos!$I$15,datos!$J$15,\"\")))))))))))))))))))))))))))))","v":""},{"$f":"IF('Datos Iniciales'!F250=\"\",\"\",'Datos Iniciales'!F250)","v":""},{"$f":"IFERROR(datos!B249,\"\")","v":""},null,null,null,null,{"$f":"IF('Datos Iniciales'!H250=\"\",\"\",'Datos Iniciales'!H250)","v":""},{"$f":"IF('Datos Iniciales'!I250=\"\",\"\",datos!$K$2)","v":""},{"$f":"IFERROR(VLOOKUP('Datos Iniciales'!J250,datos!O248:P1367,2,FALSE),\"\")","v":""},null,{"$f":"IF('Datos Iniciales'!K250=\"\",\"\",(CONCATENATE(RIGHT('Datos Iniciales'!K250,1),\"-\",'Datos Iniciales'!L250,\"-\",'Datos Iniciales'!M250)))","v":""},null,null,null,{"$f":"IF('Datos Iniciales'!N250=\"\",\"\",'Datos Iniciales'!N250)","v":""},{"$f":"IF('Datos Iniciales'!O250=\"\",\"\",'Datos Iniciales'!O250)","v":""},null,null,null,null,{"$f":"IF('Datos Iniciales'!P250=\"\",\"\",'Datos Iniciales'!P250)","v":""},null,null,null,null,null,null,null,null,null,null,null,null,{"$f":"IF('Datos Iniciales'!B250=\"\",\"\",(IF('Datos Iniciales'!B250=\"Si\",\"002\",\"003\")))","v":""},null,{"$f":"IF('Datos Iniciales'!Q250=\"\",\"\",(IF('Datos Iniciales'!Q250=datos!S249,\"0\",\"2\")))","v":""},{"$f":"IF('Datos Iniciales'!B250=\"\",\"\",(IF('Datos Iniciales'!B250=\"Si\",\"O-48\",\"O-49\")))","v":""}]
[{"$f":"IF('Datos Iniciales'!B251=\"\",\"\",\"Si\")","v":""},{"$f":"(IF('Datos Iniciales'!A251=\"Cliente\",\"Si\",(IF('Datos Iniciales'!A251=\"\",\"\",\"No\"))))","v":""},{"$f":"(IF('Datos Iniciales'!A251=\"Distribuidor\",\"Si\",(IF('Datos Iniciales'!A251=\"\",\"\",\"No\"))))","v":""},{"$f":"(IF('Datos Iniciales'!A251=\"Otros\",\"Si\",(IF('Datos Iniciales'!A251=\"\",\"\",\"No\"))))","v":""},{"$f":"(IF('Datos Iniciales'!A251=\"Prospecto\",\"Si\",(IF('Datos Iniciales'!A251=\"\",\"\",\"No\"))))","v":""},{"$f":"(IF('Datos Iniciales'!A251=\"Proveedor\",\"Si\",(IF('Datos Iniciales'!A251=\"\",\"\",\"No\"))))","v":""},{"$f":"IF('Datos Iniciales'!B251=\"\",\"\",'Datos Iniciales'!B251)","v":""},{"$f":"IF('Datos Iniciales'!C251=\"\",\"\",'Datos Iniciales'!C251)","v":""},{"$f":"IF('Datos Iniciales'!D251=\"\",\"\",'Datos Iniciales'!D251)","v":""},{"$f":"IF('Datos Iniciales'!E251=datos!$I$2,datos!$J$2,(IF('Datos Iniciales'!E251=datos!$I$3,datos!$J$3,(IF('Datos Iniciales'!E251=datos!$I$4,datos!$J$4,(IF('Datos Iniciales'!E251=datos!$I$5,datos!$J$5,(IF('Datos Iniciales'!E251=datos!$I$6,datos!$J$6,(IF('Datos Iniciales'!E251=datos!$I$7,datos!$J$7,(IF('Datos Iniciales'!E251=datos!$I$2,datos!$J$2,(IF('Datos Iniciales'!E251=datos!$I$8,datos!$J$8,(IF('Datos Iniciales'!E251=datos!$I$9,datos!$J$9,(IF('Datos Iniciales'!E251=datos!$I$10,datos!$J$10,(IF('Datos Iniciales'!E251=datos!$I$11,datos!$J$11,(IF('Datos Iniciales'!E251=datos!$I$12,datos!$J$12,(IF('Datos Iniciales'!E251=datos!$I$13,datos!$J$13,(IF('Datos Iniciales'!E251=datos!$I$14,datos!$J$14,(IF('Datos Iniciales'!E251=datos!$I$15,datos!$J$15,\"\")))))))))))))))))))))))))))))","v":""},{"$f":"IF('Datos Iniciales'!F251=\"\",\"\",'Datos Iniciales'!F251)","v":""},{"$f":"IFERROR(datos!B250,\"\")","v":""},null,null,null,null,{"$f":"IF('Datos Iniciales'!H251=\"\",\"\",'Datos Iniciales'!H251)","v":""},{"$f":"IF('Datos Iniciales'!I251=\"\",\"\",datos!$K$2)","v":""},{"$f":"IFERROR(VLOOKUP('Datos Iniciales'!J251,datos!O249:P1368,2,FALSE),\"\")","v":""},null,{"$f":"IF('Datos Iniciales'!K251=\"\",\"\",(CONCATENATE(RIGHT('Datos Iniciales'!K251,1),\"-\",'Datos Iniciales'!L251,\"-\",'Datos Iniciales'!M251)))","v":""},null,null,null,{"$f":"IF('Datos Iniciales'!N251=\"\",\"\",'Datos Iniciales'!N251)","v":""},{"$f":"IF('Datos Iniciales'!O251=\"\",\"\",'Datos Iniciales'!O251)","v":""},null,null,null,null,{"$f":"IF('Datos Iniciales'!P251=\"\",\"\",'Datos Iniciales'!P251)","v":""},null,null,null,null,null,null,null,null,null,null,null,null,{"$f":"IF('Datos Iniciales'!B251=\"\",\"\",(IF('Datos Iniciales'!B251=\"Si\",\"002\",\"003\")))","v":""},null,{"$f":"IF('Datos Iniciales'!Q251=\"\",\"\",(IF('Datos Iniciales'!Q251=datos!S250,\"0\",\"2\")))","v":""},{"$f":"IF('Datos Iniciales'!B251=\"\",\"\",(IF('Datos Iniciales'!B251=\"Si\",\"O-48\",\"O-49\")))","v":""}]
[{"$f":"IF('Datos Iniciales'!B252=\"\",\"\",\"Si\")","v":""},{"$f":"(IF('Datos Iniciales'!A252=\"Cliente\",\"Si\",(IF('Datos Iniciales'!A252=\"\",\"\",\"No\"))))","v":""},{"$f":"(IF('Datos Iniciales'!A252=\"Distribuidor\",\"Si\",(IF('Datos Iniciales'!A252=\"\",\"\",\"No\"))))","v":""},{"$f":"(IF('Datos Iniciales'!A252=\"Otros\",\"Si\",(IF('Datos Iniciales'!A252=\"\",\"\",\"No\"))))","v":""},{"$f":"(IF('Datos Iniciales'!A252=\"Prospecto\",\"Si\",(IF('Datos Iniciales'!A252=\"\",\"\",\"No\"))))","v":""},{"$f":"(IF('Datos Iniciales'!A252=\"Proveedor\",\"Si\",(IF('Datos Iniciales'!A252=\"\",\"\",\"No\"))))","v":""},{"$f":"IF('Datos Iniciales'!B252=\"\",\"\",'Datos Iniciales'!B252)","v":""},{"$f":"IF('Datos Iniciales'!C252=\"\",\"\",'Datos Iniciales'!C252)","v":""},{"$f":"IF('Datos Iniciales'!D252=\"\",\"\",'Datos Iniciales'!D252)","v":""},{"$f":"IF('Datos Iniciales'!E252=datos!$I$2,datos!$J$2,(IF('Datos Iniciales'!E252=datos!$I$3,datos!$J$3,(IF('Datos Iniciales'!E252=datos!$I$4,datos!$J$4,(IF('Datos Iniciales'!E252=datos!$I$5,datos!$J$5,(IF('Datos Iniciales'!E252=datos!$I$6,datos!$J$6,(IF('Datos Iniciales'!E252=datos!$I$7,datos!$J$7,(IF('Datos Iniciales'!E252=datos!$I$2,datos!$J$2,(IF('Datos Iniciales'!E252=datos!$I$8,datos!$J$8,(IF('Datos Iniciales'!E252=datos!$I$9,datos!$J$9,(IF('Datos Iniciales'!E252=datos!$I$10,datos!$J$10,(IF('Datos Iniciales'!E252=datos!$I$11,datos!$J$11,(IF('Datos Iniciales'!E252=datos!$I$12,datos!$J$12,(IF('Datos Iniciales'!E252=datos!$I$13,datos!$J$13,(IF('Datos Iniciales'!E252=datos!$I$14,datos!$J$14,(IF('Datos Iniciales'!E252=datos!$I$15,datos!$J$15,\"\")))))))))))))))))))))))))))))","v":""},{"$f":"IF('Datos Iniciales'!F252=\"\",\"\",'Datos Iniciales'!F252)","v":""},{"$f":"IFERROR(datos!B251,\"\")","v":""},null,null,null,null,{"$f":"IF('Datos Iniciales'!H252=\"\",\"\",'Datos Iniciales'!H252)","v":""},{"$f":"IF('Datos Iniciales'!I252=\"\",\"\",datos!$K$2)","v":""},{"$f":"IFERROR(VLOOKUP('Datos Iniciales'!J252,datos!O250:P1369,2,FALSE),\"\")","v":""},null,{"$f":"IF('Datos Iniciales'!K252=\"\",\"\",(CONCATENATE(RIGHT('Datos Iniciales'!K252,1),\"-\",'Datos Iniciales'!L252,\"-\",'Datos Iniciales'!M252)))","v":""},null,null,null,{"$f":"IF('Datos Iniciales'!N252=\"\",\"\",'Datos Iniciales'!N252)","v":""},{"$f":"IF('Datos Iniciales'!O252=\"\",\"\",'Datos Iniciales'!O252)","v":""},null,null,null,null,{"$f":"IF('Datos Iniciales'!P252=\"\",\"\",'Datos Iniciales'!P252)","v":""},null,null,null,null,null,null,null,null,null,null,null,null,{"$f":"IF('Datos Iniciales'!B252=\"\",\"\",(IF('Datos Iniciales'!B252=\"Si\",\"002\",\"003\")))","v":""},null,{"$f":"IF('Datos Iniciales'!Q252=\"\",\"\",(IF('Datos Iniciales'!Q252=datos!S251,\"0\",\"2\")))","v":""},{"$f":"IF('Datos Iniciales'!B252=\"\",\"\",(IF('Datos Iniciales'!B252=\"Si\",\"O-48\",\"O-49\")))","v":""}]
[{"$f":"IF('Datos Iniciales'!B253=\"\",\"\",\"Si\")","v":""},{"$f":"(IF('Datos Iniciales'!A253=\"Cliente\",\"Si\",(IF('Datos Iniciales'!A253=\"\",\"\",\"No\"))))","v":""},{"$f":"(IF('Datos Iniciales'!A253=\"Distribuidor\",\"Si\",(IF('Datos Iniciales'!A253=\"\",\"\",\"No\"))))","v":""},{"$f":"(IF('Datos Iniciales'!A253=\"Otros\",\"Si\",(IF('Datos Iniciales'!A253=\"\",\"\",\"No\"))))","v":""},{"$f":"(IF('Datos Iniciales'!A253=\"Prospecto\",\"Si\",(IF('Datos Iniciales'!A253=\"\",\"\",\"No\"))))","v":""},{"$f":"(IF('Datos Iniciales'!A253=\"Proveedor\",\"Si\",(IF('Datos Iniciales'!A253=\"\",\"\",\"No\"))))","v":""},{"$f":"IF('Datos Iniciales'!B253=\"\",\"\",'Datos Iniciales'!B253)","v":""},{"$f":"IF('Datos Iniciales'!C253=\"\",\"\",'Datos Iniciales'!C253)","v":""},{"$f":"IF('Datos Iniciales'!D253=\"\",\"\",'Datos Iniciales'!D253)","v":""},{"$f":"IF('Datos Iniciales'!E253=datos!$I$2,datos!$J$2,(IF('Datos Iniciales'!E253=datos!$I$3,datos!$J$3,(IF('Datos Iniciales'!E253=datos!$I$4,datos!$J$4,(IF('Datos Iniciales'!E253=datos!$I$5,datos!$J$5,(IF('Datos Iniciales'!E253=datos!$I$6,datos!$J$6,(IF('Datos Iniciales'!E253=datos!$I$7,datos!$J$7,(IF('Datos Iniciales'!E253=datos!$I$2,datos!$J$2,(IF('Datos Iniciales'!E253=datos!$I$8,datos!$J$8,(IF('Datos Iniciales'!E253=datos!$I$9,datos!$J$9,(IF('Datos Iniciales'!E253=datos!$I$10,datos!$J$10,(IF('Datos Iniciales'!E253=datos!$I$11,datos!$J$11,(IF('Datos Iniciales'!E253=datos!$I$12,datos!$J$12,(IF('Datos Iniciales'!E253=datos!$I$13,datos!$J$13,(IF('Datos Iniciales'!E253=datos!$I$14,datos!$J$14,(IF('Datos Iniciales'!E253=datos!$I$15,datos!$J$15,\"\")))))))))))))))))))))))))))))","v":""},{"$f":"IF('Datos Iniciales'!F253=\"\",\"\",'Datos Iniciales'!F253)","v":""},{"$f":"IFERROR(datos!B252,\"\")","v":""},null,null,null,null,{"$f":"IF('Datos Iniciales'!H253=\"\",\"\",'Datos Iniciales'!H253)","v":""},{"$f":"IF('Datos Iniciales'!I253=\"\",\"\",datos!$K$2)","v":""},{"$f":"IFERROR(VLOOKUP('Datos Iniciales'!J253,datos!O251:P1370,2,FALSE),\"\")","v":""},null,{"$f":"IF('Datos Iniciales'!K253=\"\",\"\",(CONCATENATE(RIGHT('Datos Iniciales'!K253,1),\"-\",'Datos Iniciales'!L253,\"-\",'Datos Iniciales'!M253)))","v":""},null,null,null,{"$f":"IF('Datos Iniciales'!N253=\"\",\"\",'Datos Iniciales'!N253)","v":""},{"$f":"IF('Datos Iniciales'!O253=\"\",\"\",'Datos Iniciales'!O253)","v":""},null,null,null,null,{"$f":"IF('Datos Iniciales'!P253=\"\",\"\",'Datos Iniciales'!P253)","v":""},null,null,null,null,null,null,null,null,null,null,null,null,{"$f":"IF('Datos Iniciales'!B253=\"\",\"\",(IF('Datos Iniciales'!B253=\"Si\",\"002\",\"003\")))","v":""},null,{"$f":"IF('Datos Iniciales'!Q253=\"\",\"\",(IF('Datos Iniciales'!Q253=datos!S252,\"0\",\"2\")))","v":""},{"$f":"IF('Datos Iniciales'!B253=\"\",\"\",(IF('Datos Iniciales'!B253=\"Si\",\"O-48\",\"O-49\")))","v":""}]
[{"$f":"IF('Datos Iniciales'!B254=\"\",\"\",\"Si\")","v":""},{"$f":"(IF('Datos Iniciales'!A254=\"Cliente\",\"Si\",(IF('Datos Iniciales'!A254=\"\",\"\",\"No\"))))","v":""},{"$f":"(IF('Datos Iniciales'!A254=\"Distribuidor\",\"Si\",(IF('Datos Iniciales'!A254=\"\",\"\",\"No\"))))","v":""},{"$f":"(IF('Datos Iniciales'!A254=\"Otros\",\"Si\",(IF('Datos Iniciales'!A254=\"\",\"\",\"No\"))))","v":""},{"$f":"(IF('Datos Iniciales'!A254=\"Prospecto\",\"Si\",(IF('Datos Iniciales'!A254=\"\",\"\",\"No\"))))","v":""},{"$f":"(IF('Datos Iniciales'!A254=\"Proveedor\",\"Si\",(IF('Datos Iniciales'!A254=\"\",\"\",\"No\"))))","v":""},{"$f":"IF('Datos Iniciales'!B254=\"\",\"\",'Datos Iniciales'!B254)","v":""},{"$f":"IF('Datos Iniciales'!C254=\"\",\"\",'Datos Iniciales'!C254)","v":""},{"$f":"IF('Datos Iniciales'!D254=\"\",\"\",'Datos Iniciales'!D254)","v":""},{"$f":"IF('Datos Iniciales'!E254=datos!$I$2,datos!$J$2,(IF('Datos Iniciales'!E254=datos!$I$3,datos!$J$3,(IF('Datos Iniciales'!E254=datos!$I$4,datos!$J$4,(IF('Datos Iniciales'!E254=datos!$I$5,datos!$J$5,(IF('Datos Iniciales'!E254=datos!$I$6,datos!$J$6,(IF('Datos Iniciales'!E254=datos!$I$7,datos!$J$7,(IF('Datos Iniciales'!E254=datos!$I$2,datos!$J$2,(IF('Datos Iniciales'!E254=datos!$I$8,datos!$J$8,(IF('Datos Iniciales'!E254=datos!$I$9,datos!$J$9,(IF('Datos Iniciales'!E254=datos!$I$10,datos!$J$10,(IF('Datos Iniciales'!E254=datos!$I$11,datos!$J$11,(IF('Datos Iniciales'!E254=datos!$I$12,datos!$J$12,(IF('Datos Iniciales'!E254=datos!$I$13,datos!$J$13,(IF('Datos Iniciales'!E254=datos!$I$14,datos!$J$14,(IF('Datos Iniciales'!E254=datos!$I$15,datos!$J$15,\"\")))))))))))))))))))))))))))))","v":""},{"$f":"IF('Datos Iniciales'!F254=\"\",\"\",'Datos Iniciales'!F254)","v":""},{"$f":"IFERROR(datos!B253,\"\")","v":""},null,null,null,null,{"$f":"IF('Datos Iniciales'!H254=\"\",\"\",'Datos Iniciales'!H254)","v":""},{"$f":"IF('Datos Iniciales'!I254=\"\",\"\",datos!$K$2)","v":""},{"$f":"IFERROR(VLOOKUP('Datos Iniciales'!J254,datos!O252:P1371,2,FALSE),\"\")","v":""},null,{"$f":"IF('Datos Iniciales'!K254=\"\",\"\",(CONCATENATE(RIGHT('Datos Iniciales'!K254,1),\"-\",'Datos Iniciales'!L254,\"-\",'Datos Iniciales'!M254)))","v":""},null,null,null,{"$f":"IF('Datos Iniciales'!N254=\"\",\"\",'Datos Iniciales'!N254)","v":""},{"$f":"IF('Datos Iniciales'!O254=\"\",\"\",'Datos Iniciales'!O254)","v":""},null,null,null,null,{"$f":"IF('Datos Iniciales'!P254=\"\",\"\",'Datos Iniciales'!P254)","v":""},null,null,null,null,null,null,null,null,null,null,null,null,{"$f":"IF('Datos Iniciales'!B254=\"\",\"\",(IF('Datos Iniciales'!B254=\"Si\",\"002\",\"003\")))","v":""},null,{"$f":"IF('Datos Iniciales'!Q254=\"\",\"\",(IF('Datos Iniciales'!Q254=datos!S253,\"0\",\"2\")))","v":""},{"$f":"IF('Datos Iniciales'!B254=\"\",\"\",(IF('Datos Iniciales'!B254=\"Si\",\"O-48\",\"O-49\")))","v":""}]
[{"$f":"IF('Datos Iniciales'!B255=\"\",\"\",\"Si\")","v":""},{"$f":"(IF('Datos Iniciales'!A255=\"Cliente\",\"Si\",(IF('Datos Iniciales'!A255=\"\",\"\",\"No\"))))","v":""},{"$f":"(IF('Datos Iniciales'!A255=\"Distribuidor\",\"Si\",(IF('Datos Iniciales'!A255=\"\",\"\",\"No\"))))","v":""},{"$f":"(IF('Datos Iniciales'!A255=\"Otros\",\"Si\",(IF('Datos Iniciales'!A255=\"\",\"\",\"No\"))))","v":""},{"$f":"(IF('Datos Iniciales'!A255=\"Prospecto\",\"Si\",(IF('Datos Iniciales'!A255=\"\",\"\",\"No\"))))","v":""},{"$f":"(IF('Datos Iniciales'!A255=\"Proveedor\",\"Si\",(IF('Datos Iniciales'!A255=\"\",\"\",\"No\"))))","v":""},{"$f":"IF('Datos Iniciales'!B255=\"\",\"\",'Datos Iniciales'!B255)","v":""},{"$f":"IF('Datos Iniciales'!C255=\"\",\"\",'Datos Iniciales'!C255)","v":""},{"$f":"IF('Datos Iniciales'!D255=\"\",\"\",'Datos Iniciales'!D255)","v":""},{"$f":"IF('Datos Iniciales'!E255=datos!$I$2,datos!$J$2,(IF('Datos Iniciales'!E255=datos!$I$3,datos!$J$3,(IF('Datos Iniciales'!E255=datos!$I$4,datos!$J$4,(IF('Datos Iniciales'!E255=datos!$I$5,datos!$J$5,(IF('Datos Iniciales'!E255=datos!$I$6,datos!$J$6,(IF('Datos Iniciales'!E255=datos!$I$7,datos!$J$7,(IF('Datos Iniciales'!E255=datos!$I$2,datos!$J$2,(IF('Datos Iniciales'!E255=datos!$I$8,datos!$J$8,(IF('Datos Iniciales'!E255=datos!$I$9,datos!$J$9,(IF('Datos Iniciales'!E255=datos!$I$10,datos!$J$10,(IF('Datos Iniciales'!E255=datos!$I$11,datos!$J$11,(IF('Datos Iniciales'!E255=datos!$I$12,datos!$J$12,(IF('Datos Iniciales'!E255=datos!$I$13,datos!$J$13,(IF('Datos Iniciales'!E255=datos!$I$14,datos!$J$14,(IF('Datos Iniciales'!E255=datos!$I$15,datos!$J$15,\"\")))))))))))))))))))))))))))))","v":""},{"$f":"IF('Datos Iniciales'!F255=\"\",\"\",'Datos Iniciales'!F255)","v":""},{"$f":"IFERROR(datos!B254,\"\")","v":""},null,null,null,null,{"$f":"IF('Datos Iniciales'!H255=\"\",\"\",'Datos Iniciales'!H255)","v":""},{"$f":"IF('Datos Iniciales'!I255=\"\",\"\",datos!$K$2)","v":""},{"$f":"IFERROR(VLOOKUP('Datos Iniciales'!J255,datos!O253:P1372,2,FALSE),\"\")","v":""},null,{"$f":"IF('Datos Iniciales'!K255=\"\",\"\",(CONCATENATE(RIGHT('Datos Iniciales'!K255,1),\"-\",'Datos Iniciales'!L255,\"-\",'Datos Iniciales'!M255)))","v":""},null,null,null,{"$f":"IF('Datos Iniciales'!N255=\"\",\"\",'Datos Iniciales'!N255)","v":""},{"$f":"IF('Datos Iniciales'!O255=\"\",\"\",'Datos Iniciales'!O255)","v":""},null,null,null,null,{"$f":"IF('Datos Iniciales'!P255=\"\",\"\",'Datos Iniciales'!P255)","v":""},null,null,null,null,null,null,null,null,null,null,null,null,{"$f":"IF('Datos Iniciales'!B255=\"\",\"\",(IF('Datos Iniciales'!B255=\"Si\",\"002\",\"003\")))","v":""},null,{"$f":"IF('Datos Iniciales'!Q255=\"\",\"\",(IF('Datos Iniciales'!Q255=datos!S254,\"0\",\"2\")))","v":""},{"$f":"IF('Datos Iniciales'!B255=\"\",\"\",(IF('Datos Iniciales'!B255=\"Si\",\"O-48\",\"O-49\")))","v":""}]
[{"$f":"IF('Datos Iniciales'!B256=\"\",\"\",\"Si\")","v":""},{"$f":"(IF('Datos Iniciales'!A256=\"Cliente\",\"Si\",(IF('Datos Iniciales'!A256=\"\",\"\",\"No\"))))","v":""},{"$f":"(IF('Datos Iniciales'!A256=\"Distribuidor\",\"Si\",(IF('Datos Iniciales'!A256=\"\",\"\",\"No\"))))","v":""},{"$f":"(IF('Datos Iniciales'!A256=\"Otros\",\"Si\",(IF('Datos Iniciales'!A256=\"\",\"\",\"No\"))))","v":""},{"$f":"(IF('Datos Iniciales'!A256=\"Prospecto\",\"Si\",(IF('Datos Iniciales'!A256=\"\",\"\",\"No\"))))","v":""},{"$f":"(IF('Datos Iniciales'!A256=\"Proveedor\",\"Si\",(IF('Datos Iniciales'!A256=\"\",\"\",\"No\"))))","v":""},{"$f":"IF('Datos Iniciales'!B256=\"\",\"\",'Datos Iniciales'!B256)","v":""},{"$f":"IF('Datos Iniciales'!C256=\"\",\"\",'Datos Iniciales'!C256)","v":""},{"$f":"IF('Datos Iniciales'!D256=\"\",\"\",'Datos Iniciales'!D256)","v":""},{"$f":"IF('Datos Iniciales'!E256=datos!$I$2,datos!$J$2,(IF('Datos Iniciales'!E256=datos!$I$3,datos!$J$3,(IF('Datos Iniciales'!E256=datos!$I$4,datos!$J$4,(IF('Datos Iniciales'!E256=datos!$I$5,datos!$J$5,(IF('Datos Iniciales'!E256=datos!$I$6,datos!$J$6,(IF('Datos Iniciales'!E256=datos!$I$7,datos!$J$7,(IF('Datos Iniciales'!E256=datos!$I$2,datos!$J$2,(IF('Datos Iniciales'!E256=datos!$I$8,datos!$J$8,(IF('Datos Iniciales'!E256=datos!$I$9,datos!$J$9,(IF('Datos Iniciales'!E256=datos!$I$10,datos!$J$10,(IF('Datos Iniciales'!E256=datos!$I$11,datos!$J$11,(IF('Datos Iniciales'!E256=datos!$I$12,datos!$J$12,(IF('Datos Iniciales'!E256=datos!$I$13,datos!$J$13,(IF('Datos Iniciales'!E256=datos!$I$14,datos!$J$14,(IF('Datos Iniciales'!E256=datos!$I$15,datos!$J$15,\"\")))))))))))))))))))))))))))))","v":""},{"$f":"IF('Datos Iniciales'!F256=\"\",\"\",'Datos Iniciales'!F256)","v":""},{"$f":"IFERROR(datos!B255,\"\")","v":""},null,null,null,null,{"$f":"IF('Datos Iniciales'!H256=\"\",\"\",'Datos Iniciales'!H256)","v":""},{"$f":"IF('Datos Iniciales'!I256=\"\",\"\",datos!$K$2)","v":""},{"$f":"IFERROR(VLOOKUP('Datos Iniciales'!J256,datos!O254:P1373,2,FALSE),\"\")","v":""},null,{"$f":"IF('Datos Iniciales'!K256=\"\",\"\",(CONCATENATE(RIGHT('Datos Iniciales'!K256,1),\"-\",'Datos Iniciales'!L256,\"-\",'Datos Iniciales'!M256)))","v":""},null,null,null,{"$f":"IF('Datos Iniciales'!N256=\"\",\"\",'Datos Iniciales'!N256)","v":""},{"$f":"IF('Datos Iniciales'!O256=\"\",\"\",'Datos Iniciales'!O256)","v":""},null,null,null,null,{"$f":"IF('Datos Iniciales'!P256=\"\",\"\",'Datos Iniciales'!P256)","v":""},null,null,null,null,null,null,null,null,null,null,null,null,{"$f":"IF('Datos Iniciales'!B256=\"\",\"\",(IF('Datos Iniciales'!B256=\"Si\",\"002\",\"003\")))","v":""},null,{"$f":"IF('Datos Iniciales'!Q256=\"\",\"\",(IF('Datos Iniciales'!Q256=datos!S255,\"0\",\"2\")))","v":""},{"$f":"IF('Datos Iniciales'!B256=\"\",\"\",(IF('Datos Iniciales'!B256=\"Si\",\"O-48\",\"O-49\")))","v":""}]
[{"$f":"IF('Datos Iniciales'!B257=\"\",\"\",\"Si\")","v":""},{"$f":"(IF('Datos Iniciales'!A257=\"Cliente\",\"Si\",(IF('Datos Iniciales'!A257=\"\",\"\",\"No\"))))","v":""},{"$f":"(IF('Datos Iniciales'!A257=\"Distribuidor\",\"Si\",(IF('Datos Iniciales'!A257=\"\",\"\",\"No\"))))","v":""},{"$f":"(IF('Datos Iniciales'!A257=\"Otros\",\"Si\",(IF('Datos Iniciales'!A257=\"\",\"\",\"No\"))))","v":""},{"$f":"(IF('Datos Iniciales'!A257=\"Prospecto\",\"Si\",(IF('Datos Iniciales'!A257=\"\",\"\",\"No\"))))","v":""},{"$f":"(IF('Datos Iniciales'!A257=\"Proveedor\",\"Si\",(IF('Datos Iniciales'!A257=\"\",\"\",\"No\"))))","v":""},{"$f":"IF('Datos Iniciales'!B257=\"\",\"\",'Datos Iniciales'!B257)","v":""},{"$f":"IF('Datos Iniciales'!C257=\"\",\"\",'Datos Iniciales'!C257)","v":""},{"$f":"IF('Datos Iniciales'!D257=\"\",\"\",'Datos Iniciales'!D257)","v":""},{"$f":"IF('Datos Iniciales'!E257=datos!$I$2,datos!$J$2,(IF('Datos Iniciales'!E257=datos!$I$3,datos!$J$3,(IF('Datos Iniciales'!E257=datos!$I$4,datos!$J$4,(IF('Datos Iniciales'!E257=datos!$I$5,datos!$J$5,(IF('Datos Iniciales'!E257=datos!$I$6,datos!$J$6,(IF('Datos Iniciales'!E257=datos!$I$7,datos!$J$7,(IF('Datos Iniciales'!E257=datos!$I$2,datos!$J$2,(IF('Datos Iniciales'!E257=datos!$I$8,datos!$J$8,(IF('Datos Iniciales'!E257=datos!$I$9,datos!$J$9,(IF('Datos Iniciales'!E257=datos!$I$10,datos!$J$10,(IF('Datos Iniciales'!E257=datos!$I$11,datos!$J$11,(IF('Datos Iniciales'!E257=datos!$I$12,datos!$J$12,(IF('Datos Iniciales'!E257=datos!$I$13,datos!$J$13,(IF('Datos Iniciales'!E257=datos!$I$14,datos!$J$14,(IF('Datos Iniciales'!E257=datos!$I$15,datos!$J$15,\"\")))))))))))))))))))))))))))))","v":""},{"$f":"IF('Datos Iniciales'!F257=\"\",\"\",'Datos Iniciales'!F257)","v":""},{"$f":"IFERROR(datos!B256,\"\")","v":""},null,null,null,null,{"$f":"IF('Datos Iniciales'!H257=\"\",\"\",'Datos Iniciales'!H257)","v":""},{"$f":"IF('Datos Iniciales'!I257=\"\",\"\",datos!$K$2)","v":""},{"$f":"IFERROR(VLOOKUP('Datos Iniciales'!J257,datos!O255:P1374,2,FALSE),\"\")","v":""},null,{"$f":"IF('Datos Iniciales'!K257=\"\",\"\",(CONCATENATE(RIGHT('Datos Iniciales'!K257,1),\"-\",'Datos Iniciales'!L257,\"-\",'Datos Iniciales'!M257)))","v":""},null,null,null,{"$f":"IF('Datos Iniciales'!N257=\"\",\"\",'Datos Iniciales'!N257)","v":""},{"$f":"IF('Datos Iniciales'!O257=\"\",\"\",'Datos Iniciales'!O257)","v":""},null,null,null,null,{"$f":"IF('Datos Iniciales'!P257=\"\",\"\",'Datos Iniciales'!P257)","v":""},null,null,null,null,null,null,null,null,null,null,null,null,{"$f":"IF('Datos Iniciales'!B257=\"\",\"\",(IF('Datos Iniciales'!B257=\"Si\",\"002\",\"003\")))","v":""},null,{"$f":"IF('Datos Iniciales'!Q257=\"\",\"\",(IF('Datos Iniciales'!Q257=datos!S256,\"0\",\"2\")))","v":""},{"$f":"IF('Datos Iniciales'!B257=\"\",\"\",(IF('Datos Iniciales'!B257=\"Si\",\"O-48\",\"O-49\")))","v":""}]
[{"$f":"IF('Datos Iniciales'!B258=\"\",\"\",\"Si\")","v":""},{"$f":"(IF('Datos Iniciales'!A258=\"Cliente\",\"Si\",(IF('Datos Iniciales'!A258=\"\",\"\",\"No\"))))","v":""},{"$f":"(IF('Datos Iniciales'!A258=\"Distribuidor\",\"Si\",(IF('Datos Iniciales'!A258=\"\",\"\",\"No\"))))","v":""},{"$f":"(IF('Datos Iniciales'!A258=\"Otros\",\"Si\",(IF('Datos Iniciales'!A258=\"\",\"\",\"No\"))))","v":""},{"$f":"(IF('Datos Iniciales'!A258=\"Prospecto\",\"Si\",(IF('Datos Iniciales'!A258=\"\",\"\",\"No\"))))","v":""},{"$f":"(IF('Datos Iniciales'!A258=\"Proveedor\",\"Si\",(IF('Datos Iniciales'!A258=\"\",\"\",\"No\"))))","v":""},{"$f":"IF('Datos Iniciales'!B258=\"\",\"\",'Datos Iniciales'!B258)","v":""},{"$f":"IF('Datos Iniciales'!C258=\"\",\"\",'Datos Iniciales'!C258)","v":""},{"$f":"IF('Datos Iniciales'!D258=\"\",\"\",'Datos Iniciales'!D258)","v":""},{"$f":"IF('Datos Iniciales'!E258=datos!$I$2,datos!$J$2,(IF('Datos Iniciales'!E258=datos!$I$3,datos!$J$3,(IF('Datos Iniciales'!E258=datos!$I$4,datos!$J$4,(IF('Datos Iniciales'!E258=datos!$I$5,datos!$J$5,(IF('Datos Iniciales'!E258=datos!$I$6,datos!$J$6,(IF('Datos Iniciales'!E258=datos!$I$7,datos!$J$7,(IF('Datos Iniciales'!E258=datos!$I$2,datos!$J$2,(IF('Datos Iniciales'!E258=datos!$I$8,datos!$J$8,(IF('Datos Iniciales'!E258=datos!$I$9,datos!$J$9,(IF('Datos Iniciales'!E258=datos!$I$10,datos!$J$10,(IF('Datos Iniciales'!E258=datos!$I$11,datos!$J$11,(IF('Datos Iniciales'!E258=datos!$I$12,datos!$J$12,(IF('Datos Iniciales'!E258=datos!$I$13,datos!$J$13,(IF('Datos Iniciales'!E258=datos!$I$14,datos!$J$14,(IF('Datos Iniciales'!E258=datos!$I$15,datos!$J$15,\"\")))))))))))))))))))))))))))))","v":""},{"$f":"IF('Datos Iniciales'!F258=\"\",\"\",'Datos Iniciales'!F258)","v":""},{"$f":"IFERROR(datos!B257,\"\")","v":""},null,null,null,null,{"$f":"IF('Datos Iniciales'!H258=\"\",\"\",'Datos Iniciales'!H258)","v":""},{"$f":"IF('Datos Iniciales'!I258=\"\",\"\",datos!$K$2)","v":""},{"$f":"IFERROR(VLOOKUP('Datos Iniciales'!J258,datos!O256:P1375,2,FALSE),\"\")","v":""},null,{"$f":"IF('Datos Iniciales'!K258=\"\",\"\",(CONCATENATE(RIGHT('Datos Iniciales'!K258,1),\"-\",'Datos Iniciales'!L258,\"-\",'Datos Iniciales'!M258)))","v":""},null,null,null,{"$f":"IF('Datos Iniciales'!N258=\"\",\"\",'Datos Iniciales'!N258)","v":""},{"$f":"IF('Datos Iniciales'!O258=\"\",\"\",'Datos Iniciales'!O258)","v":""},null,null,null,null,{"$f":"IF('Datos Iniciales'!P258=\"\",\"\",'Datos Iniciales'!P258)","v":""},null,null,null,null,null,null,null,null,null,null,null,null,{"$f":"IF('Datos Iniciales'!B258=\"\",\"\",(IF('Datos Iniciales'!B258=\"Si\",\"002\",\"003\")))","v":""},null,{"$f":"IF('Datos Iniciales'!Q258=\"\",\"\",(IF('Datos Iniciales'!Q258=datos!S257,\"0\",\"2\")))","v":""},{"$f":"IF('Datos Iniciales'!B258=\"\",\"\",(IF('Datos Iniciales'!B258=\"Si\",\"O-48\",\"O-49\")))","v":""}]
[{"$f":"IF('Datos Iniciales'!B259=\"\",\"\",\"Si\")","v":""},{"$f":"(IF('Datos Iniciales'!A259=\"Cliente\",\"Si\",(IF('Datos Iniciales'!A259=\"\",\"\",\"No\"))))","v":""},{"$f":"(IF('Datos Iniciales'!A259=\"Distribuidor\",\"Si\",(IF('Datos Iniciales'!A259=\"\",\"\",\"No\"))))","v":""},{"$f":"(IF('Datos Iniciales'!A259=\"Otros\",\"Si\",(IF('Datos Iniciales'!A259=\"\",\"\",\"No\"))))","v":""},{"$f":"(IF('Datos Iniciales'!A259=\"Prospecto\",\"Si\",(IF('Datos Iniciales'!A259=\"\",\"\",\"No\"))))","v":""},{"$f":"(IF('Datos Iniciales'!A259=\"Proveedor\",\"Si\",(IF('Datos Iniciales'!A259=\"\",\"\",\"No\"))))","v":""},{"$f":"IF('Datos Iniciales'!B259=\"\",\"\",'Datos Iniciales'!B259)","v":""},{"$f":"IF('Datos Iniciales'!C259=\"\",\"\",'Datos Iniciales'!C259)","v":""},{"$f":"IF('Datos Iniciales'!D259=\"\",\"\",'Datos Iniciales'!D259)","v":""},{"$f":"IF('Datos Iniciales'!E259=datos!$I$2,datos!$J$2,(IF('Datos Iniciales'!E259=datos!$I$3,datos!$J$3,(IF('Datos Iniciales'!E259=datos!$I$4,datos!$J$4,(IF('Datos Iniciales'!E259=datos!$I$5,datos!$J$5,(IF('Datos Iniciales'!E259=datos!$I$6,datos!$J$6,(IF('Datos Iniciales'!E259=datos!$I$7,datos!$J$7,(IF('Datos Iniciales'!E259=datos!$I$2,datos!$J$2,(IF('Datos Iniciales'!E259=datos!$I$8,datos!$J$8,(IF('Datos Iniciales'!E259=datos!$I$9,datos!$J$9,(IF('Datos Iniciales'!E259=datos!$I$10,datos!$J$10,(IF('Datos Iniciales'!E259=datos!$I$11,datos!$J$11,(IF('Datos Iniciales'!E259=datos!$I$12,datos!$J$12,(IF('Datos Iniciales'!E259=datos!$I$13,datos!$J$13,(IF('Datos Iniciales'!E259=datos!$I$14,datos!$J$14,(IF('Datos Iniciales'!E259=datos!$I$15,datos!$J$15,\"\")))))))))))))))))))))))))))))","v":""},{"$f":"IF('Datos Iniciales'!F259=\"\",\"\",'Datos Iniciales'!F259)","v":""},{"$f":"IFERROR(datos!B258,\"\")","v":""},null,null,null,null,{"$f":"IF('Datos Iniciales'!H259=\"\",\"\",'Datos Iniciales'!H259)","v":""},{"$f":"IF('Datos Iniciales'!I259=\"\",\"\",datos!$K$2)","v":""},{"$f":"IFERROR(VLOOKUP('Datos Iniciales'!J259,datos!O257:P1376,2,FALSE),\"\")","v":""},null,{"$f":"IF('Datos Iniciales'!K259=\"\",\"\",(CONCATENATE(RIGHT('Datos Iniciales'!K259,1),\"-\",'Datos Iniciales'!L259,\"-\",'Datos Iniciales'!M259)))","v":""},null,null,null,{"$f":"IF('Datos Iniciales'!N259=\"\",\"\",'Datos Iniciales'!N259)","v":""},{"$f":"IF('Datos Iniciales'!O259=\"\",\"\",'Datos Iniciales'!O259)","v":""},null,null,null,null,{"$f":"IF('Datos Iniciales'!P259=\"\",\"\",'Datos Iniciales'!P259)","v":""},null,null,null,null,null,null,null,null,null,null,null,null,{"$f":"IF('Datos Iniciales'!B259=\"\",\"\",(IF('Datos Iniciales'!B259=\"Si\",\"002\",\"003\")))","v":""},null,{"$f":"IF('Datos Iniciales'!Q259=\"\",\"\",(IF('Datos Iniciales'!Q259=datos!S258,\"0\",\"2\")))","v":""},{"$f":"IF('Datos Iniciales'!B259=\"\",\"\",(IF('Datos Iniciales'!B259=\"Si\",\"O-48\",\"O-49\")))","v":""}]
[{"$f":"IF('Datos Iniciales'!B260=\"\",\"\",\"Si\")","v":""},{"$f":"(IF('Datos Iniciales'!A260=\"Cliente\",\"Si\",(IF('Datos Iniciales'!A260=\"\",\"\",\"No\"))))","v":""},{"$f":"(IF('Datos Iniciales'!A260=\"Distribuidor\",\"Si\",(IF('Datos Iniciales'!A260=\"\",\"\",\"No\"))))","v":""},{"$f":"(IF('Datos Iniciales'!A260=\"Otros\",\"Si\",(IF('Datos Iniciales'!A260=\"\",\"\",\"No\"))))","v":""},{"$f":"(IF('Datos Iniciales'!A260=\"Prospecto\",\"Si\",(IF('Datos Iniciales'!A260=\"\",\"\",\"No\"))))","v":""},{"$f":"(IF('Datos Iniciales'!A260=\"Proveedor\",\"Si\",(IF('Datos Iniciales'!A260=\"\",\"\",\"No\"))))","v":""},{"$f":"IF('Datos Iniciales'!B260=\"\",\"\",'Datos Iniciales'!B260)","v":""},{"$f":"IF('Datos Iniciales'!C260=\"\",\"\",'Datos Iniciales'!C260)","v":""},{"$f":"IF('Datos Iniciales'!D260=\"\",\"\",'Datos Iniciales'!D260)","v":""},{"$f":"IF('Datos Iniciales'!E260=datos!$I$2,datos!$J$2,(IF('Datos Iniciales'!E260=datos!$I$3,datos!$J$3,(IF('Datos Iniciales'!E260=datos!$I$4,datos!$J$4,(IF('Datos Iniciales'!E260=datos!$I$5,datos!$J$5,(IF('Datos Iniciales'!E260=datos!$I$6,datos!$J$6,(IF('Datos Iniciales'!E260=datos!$I$7,datos!$J$7,(IF('Datos Iniciales'!E260=datos!$I$2,datos!$J$2,(IF('Datos Iniciales'!E260=datos!$I$8,datos!$J$8,(IF('Datos Iniciales'!E260=datos!$I$9,datos!$J$9,(IF('Datos Iniciales'!E260=datos!$I$10,datos!$J$10,(IF('Datos Iniciales'!E260=datos!$I$11,datos!$J$11,(IF('Datos Iniciales'!E260=datos!$I$12,datos!$J$12,(IF('Datos Iniciales'!E260=datos!$I$13,datos!$J$13,(IF('Datos Iniciales'!E260=datos!$I$14,datos!$J$14,(IF('Datos Iniciales'!E260=datos!$I$15,datos!$J$15,\"\")))))))))))))))))))))))))))))","v":""},{"$f":"IF('Datos Iniciales'!F260=\"\",\"\",'Datos Iniciales'!F260)","v":""},{"$f":"IFERROR(datos!B259,\"\")","v":""},null,null,null,null,{"$f":"IF('Datos Iniciales'!H260=\"\",\"\",'Datos Iniciales'!H260)","v":""},{"$f":"IF('Datos Iniciales'!I260=\"\",\"\",datos!$K$2)","v":""},{"$f":"IFERROR(VLOOKUP('Datos Iniciales'!J260,datos!O258:P1377,2,FALSE),\"\")","v":""},null,{"$f":"IF('Datos Iniciales'!K260=\"\",\"\",(CONCATENATE(RIGHT('Datos Iniciales'!K260,1),\"-\",'Datos Iniciales'!L260,\"-\",'Datos Iniciales'!M260)))","v":""},null,null,null,{"$f":"IF('Datos Iniciales'!N260=\"\",\"\",'Datos Iniciales'!N260)","v":""},{"$f":"IF('Datos Iniciales'!O260=\"\",\"\",'Datos Iniciales'!O260)","v":""},null,null,null,null,{"$f":"IF('Datos Iniciales'!P260=\"\",\"\",'Datos Iniciales'!P260)","v":""},null,null,null,null,null,null,null,null,null,null,null,null,{"$f":"IF('Datos Iniciales'!B260=\"\",\"\",(IF('Datos Iniciales'!B260=\"Si\",\"002\",\"003\")))","v":""},null,{"$f":"IF('Datos Iniciales'!Q260=\"\",\"\",(IF('Datos Iniciales'!Q260=datos!S259,\"0\",\"2\")))","v":""},{"$f":"IF('Datos Iniciales'!B260=\"\",\"\",(IF('Datos Iniciales'!B260=\"Si\",\"O-48\",\"O-49\")))","v":""}]
[{"$f":"IF('Datos Iniciales'!B261=\"\",\"\",\"Si\")","v":""},{"$f":"(IF('Datos Iniciales'!A261=\"Cliente\",\"Si\",(IF('Datos Iniciales'!A261=\"\",\"\",\"No\"))))","v":""},{"$f":"(IF('Datos Iniciales'!A261=\"Distribuidor\",\"Si\",(IF('Datos Iniciales'!A261=\"\",\"\",\"No\"))))","v":""},{"$f":"(IF('Datos Iniciales'!A261=\"Otros\",\"Si\",(IF('Datos Iniciales'!A261=\"\",\"\",\"No\"))))","v":""},{"$f":"(IF('Datos Iniciales'!A261=\"Prospecto\",\"Si\",(IF('Datos Iniciales'!A261=\"\",\"\",\"No\"))))","v":""},{"$f":"(IF('Datos Iniciales'!A261=\"Proveedor\",\"Si\",(IF('Datos Iniciales'!A261=\"\",\"\",\"No\"))))","v":""},{"$f":"IF('Datos Iniciales'!B261=\"\",\"\",'Datos Iniciales'!B261)","v":""},{"$f":"IF('Datos Iniciales'!C261=\"\",\"\",'Datos Iniciales'!C261)","v":""},{"$f":"IF('Datos Iniciales'!D261=\"\",\"\",'Datos Iniciales'!D261)","v":""},{"$f":"IF('Datos Iniciales'!E261=datos!$I$2,datos!$J$2,(IF('Datos Iniciales'!E261=datos!$I$3,datos!$J$3,(IF('Datos Iniciales'!E261=datos!$I$4,datos!$J$4,(IF('Datos Iniciales'!E261=datos!$I$5,datos!$J$5,(IF('Datos Iniciales'!E261=datos!$I$6,datos!$J$6,(IF('Datos Iniciales'!E261=datos!$I$7,datos!$J$7,(IF('Datos Iniciales'!E261=datos!$I$2,datos!$J$2,(IF('Datos Iniciales'!E261=datos!$I$8,datos!$J$8,(IF('Datos Iniciales'!E261=datos!$I$9,datos!$J$9,(IF('Datos Iniciales'!E261=datos!$I$10,datos!$J$10,(IF('Datos Iniciales'!E261=datos!$I$11,datos!$J$11,(IF('Datos Iniciales'!E261=datos!$I$12,datos!$J$12,(IF('Datos Iniciales'!E261=datos!$I$13,datos!$J$13,(IF('Datos Iniciales'!E261=datos!$I$14,datos!$J$14,(IF('Datos Iniciales'!E261=datos!$I$15,datos!$J$15,\"\")))))))))))))))))))))))))))))","v":""},{"$f":"IF('Datos Iniciales'!F261=\"\",\"\",'Datos Iniciales'!F261)","v":""},{"$f":"IFERROR(datos!B260,\"\")","v":""},null,null,null,null,{"$f":"IF('Datos Iniciales'!H261=\"\",\"\",'Datos Iniciales'!H261)","v":""},{"$f":"IF('Datos Iniciales'!I261=\"\",\"\",datos!$K$2)","v":""},{"$f":"IFERROR(VLOOKUP('Datos Iniciales'!J261,datos!O259:P1378,2,FALSE),\"\")","v":""},null,{"$f":"IF('Datos Iniciales'!K261=\"\",\"\",(CONCATENATE(RIGHT('Datos Iniciales'!K261,1),\"-\",'Datos Iniciales'!L261,\"-\",'Datos Iniciales'!M261)))","v":""},null,null,null,{"$f":"IF('Datos Iniciales'!N261=\"\",\"\",'Datos Iniciales'!N261)","v":""},{"$f":"IF('Datos Iniciales'!O261=\"\",\"\",'Datos Iniciales'!O261)","v":""},null,null,null,null,{"$f":"IF('Datos Iniciales'!P261=\"\",\"\",'Datos Iniciales'!P261)","v":""},null,null,null,null,null,null,null,null,null,null,null,null,{"$f":"IF('Datos Iniciales'!B261=\"\",\"\",(IF('Datos Iniciales'!B261=\"Si\",\"002\",\"003\")))","v":""},null,{"$f":"IF('Datos Iniciales'!Q261=\"\",\"\",(IF('Datos Iniciales'!Q261=datos!S260,\"0\",\"2\")))","v":""},{"$f":"IF('Datos Iniciales'!B261=\"\",\"\",(IF('Datos Iniciales'!B261=\"Si\",\"O-48\",\"O-49\")))","v":""}]
[{"$f":"IF('Datos Iniciales'!B262=\"\",\"\",\"Si\")","v":""},{"$f":"(IF('Datos Iniciales'!A262=\"Cliente\",\"Si\",(IF('Datos Iniciales'!A262=\"\",\"\",\"No\"))))","v":""},{"$f":"(IF('Datos Iniciales'!A262=\"Distribuidor\",\"Si\",(IF('Datos Iniciales'!A262=\"\",\"\",\"No\"))))","v":""},{"$f":"(IF('Datos Iniciales'!A262=\"Otros\",\"Si\",(IF('Datos Iniciales'!A262=\"\",\"\",\"No\"))))","v":""},{"$f":"(IF('Datos Iniciales'!A262=\"Prospecto\",\"Si\",(IF('Datos Iniciales'!A262=\"\",\"\",\"No\"))))","v":""},{"$f":"(IF('Datos Iniciales'!A262=\"Proveedor\",\"Si\",(IF('Datos Iniciales'!A262=\"\",\"\",\"No\"))))","v":""},{"$f":"IF('Datos Iniciales'!B262=\"\",\"\",'Datos Iniciales'!B262)","v":""},{"$f":"IF('Datos Iniciales'!C262=\"\",\"\",'Datos Iniciales'!C262)","v":""},{"$f":"IF('Datos Iniciales'!D262=\"\",\"\",'Datos Iniciales'!D262)","v":""},{"$f":"IF('Datos Iniciales'!E262=datos!$I$2,datos!$J$2,(IF('Datos Iniciales'!E262=datos!$I$3,datos!$J$3,(IF('Datos Iniciales'!E262=datos!$I$4,datos!$J$4,(IF('Datos Iniciales'!E262=datos!$I$5,datos!$J$5,(IF('Datos Iniciales'!E262=datos!$I$6,datos!$J$6,(IF('Datos Iniciales'!E262=datos!$I$7,datos!$J$7,(IF('Datos Iniciales'!E262=datos!$I$2,datos!$J$2,(IF('Datos Iniciales'!E262=datos!$I$8,datos!$J$8,(IF('Datos Iniciales'!E262=datos!$I$9,datos!$J$9,(IF('Datos Iniciales'!E262=datos!$I$10,datos!$J$10,(IF('Datos Iniciales'!E262=datos!$I$11,datos!$J$11,(IF('Datos Iniciales'!E262=datos!$I$12,datos!$J$12,(IF('Datos Iniciales'!E262=datos!$I$13,datos!$J$13,(IF('Datos Iniciales'!E262=datos!$I$14,datos!$J$14,(IF('Datos Iniciales'!E262=datos!$I$15,datos!$J$15,\"\")))))))))))))))))))))))))))))","v":""},{"$f":"IF('Datos Iniciales'!F262=\"\",\"\",'Datos Iniciales'!F262)","v":""},{"$f":"IFERROR(datos!B261,\"\")","v":""},null,null,null,null,{"$f":"IF('Datos Iniciales'!H262=\"\",\"\",'Datos Iniciales'!H262)","v":""},{"$f":"IF('Datos Iniciales'!I262=\"\",\"\",datos!$K$2)","v":""},{"$f":"IFERROR(VLOOKUP('Datos Iniciales'!J262,datos!O260:P1379,2,FALSE),\"\")","v":""},null,{"$f":"IF('Datos Iniciales'!K262=\"\",\"\",(CONCATENATE(RIGHT('Datos Iniciales'!K262,1),\"-\",'Datos Iniciales'!L262,\"-\",'Datos Iniciales'!M262)))","v":""},null,null,null,{"$f":"IF('Datos Iniciales'!N262=\"\",\"\",'Datos Iniciales'!N262)","v":""},{"$f":"IF('Datos Iniciales'!O262=\"\",\"\",'Datos Iniciales'!O262)","v":""},null,null,null,null,{"$f":"IF('Datos Iniciales'!P262=\"\",\"\",'Datos Iniciales'!P262)","v":""},null,null,null,null,null,null,null,null,null,null,null,null,{"$f":"IF('Datos Iniciales'!B262=\"\",\"\",(IF('Datos Iniciales'!B262=\"Si\",\"002\",\"003\")))","v":""},null,{"$f":"IF('Datos Iniciales'!Q262=\"\",\"\",(IF('Datos Iniciales'!Q262=datos!S261,\"0\",\"2\")))","v":""},{"$f":"IF('Datos Iniciales'!B262=\"\",\"\",(IF('Datos Iniciales'!B262=\"Si\",\"O-48\",\"O-49\")))","v":""}]
[{"$f":"IF('Datos Iniciales'!B263=\"\",\"\",\"Si\")","v":""},{"$f":"(IF('Datos Iniciales'!A263=\"Cliente\",\"Si\",(IF('Datos Iniciales'!A263=\"\",\"\",\"No\"))))","v":""},{"$f":"(IF('Datos Iniciales'!A263=\"Distribuidor\",\"Si\",(IF('Datos Iniciales'!A263=\"\",\"\",\"No\"))))","v":""},{"$f":"(IF('Datos Iniciales'!A263=\"Otros\",\"Si\",(IF('Datos Iniciales'!A263=\"\",\"\",\"No\"))))","v":""},{"$f":"(IF('Datos Iniciales'!A263=\"Prospecto\",\"Si\",(IF('Datos Iniciales'!A263=\"\",\"\",\"No\"))))","v":""},{"$f":"(IF('Datos Iniciales'!A263=\"Proveedor\",\"Si\",(IF('Datos Iniciales'!A263=\"\",\"\",\"No\"))))","v":""},{"$f":"IF('Datos Iniciales'!B263=\"\",\"\",'Datos Iniciales'!B263)","v":""},{"$f":"IF('Datos Iniciales'!C263=\"\",\"\",'Datos Iniciales'!C263)","v":""},{"$f":"IF('Datos Iniciales'!D263=\"\",\"\",'Datos Iniciales'!D263)","v":""},{"$f":"IF('Datos Iniciales'!E263=datos!$I$2,datos!$J$2,(IF('Datos Iniciales'!E263=datos!$I$3,datos!$J$3,(IF('Datos Iniciales'!E263=datos!$I$4,datos!$J$4,(IF('Datos Iniciales'!E263=datos!$I$5,datos!$J$5,(IF('Datos Iniciales'!E263=datos!$I$6,datos!$J$6,(IF('Datos Iniciales'!E263=datos!$I$7,datos!$J$7,(IF('Datos Iniciales'!E263=datos!$I$2,datos!$J$2,(IF('Datos Iniciales'!E263=datos!$I$8,datos!$J$8,(IF('Datos Iniciales'!E263=datos!$I$9,datos!$J$9,(IF('Datos Iniciales'!E263=datos!$I$10,datos!$J$10,(IF('Datos Iniciales'!E263=datos!$I$11,datos!$J$11,(IF('Datos Iniciales'!E263=datos!$I$12,datos!$J$12,(IF('Datos Iniciales'!E263=datos!$I$13,datos!$J$13,(IF('Datos Iniciales'!E263=datos!$I$14,datos!$J$14,(IF('Datos Iniciales'!E263=datos!$I$15,datos!$J$15,\"\")))))))))))))))))))))))))))))","v":""},{"$f":"IF('Datos Iniciales'!F263=\"\",\"\",'Datos Iniciales'!F263)","v":""},{"$f":"IFERROR(datos!B262,\"\")","v":""},null,null,null,null,{"$f":"IF('Datos Iniciales'!H263=\"\",\"\",'Datos Iniciales'!H263)","v":""},{"$f":"IF('Datos Iniciales'!I263=\"\",\"\",datos!$K$2)","v":""},{"$f":"IFERROR(VLOOKUP('Datos Iniciales'!J263,datos!O261:P1380,2,FALSE),\"\")","v":""},null,{"$f":"IF('Datos Iniciales'!K263=\"\",\"\",(CONCATENATE(RIGHT('Datos Iniciales'!K263,1),\"-\",'Datos Iniciales'!L263,\"-\",'Datos Iniciales'!M263)))","v":""},null,null,null,{"$f":"IF('Datos Iniciales'!N263=\"\",\"\",'Datos Iniciales'!N263)","v":""},{"$f":"IF('Datos Iniciales'!O263=\"\",\"\",'Datos Iniciales'!O263)","v":""},null,null,null,null,{"$f":"IF('Datos Iniciales'!P263=\"\",\"\",'Datos Iniciales'!P263)","v":""},null,null,null,null,null,null,null,null,null,null,null,null,{"$f":"IF('Datos Iniciales'!B263=\"\",\"\",(IF('Datos Iniciales'!B263=\"Si\",\"002\",\"003\")))","v":""},null,{"$f":"IF('Datos Iniciales'!Q263=\"\",\"\",(IF('Datos Iniciales'!Q263=datos!S262,\"0\",\"2\")))","v":""},{"$f":"IF('Datos Iniciales'!B263=\"\",\"\",(IF('Datos Iniciales'!B263=\"Si\",\"O-48\",\"O-49\")))","v":""}]
[{"$f":"IF('Datos Iniciales'!B264=\"\",\"\",\"Si\")","v":""},{"$f":"(IF('Datos Iniciales'!A264=\"Cliente\",\"Si\",(IF('Datos Iniciales'!A264=\"\",\"\",\"No\"))))","v":""},{"$f":"(IF('Datos Iniciales'!A264=\"Distribuidor\",\"Si\",(IF('Datos Iniciales'!A264=\"\",\"\",\"No\"))))","v":""},{"$f":"(IF('Datos Iniciales'!A264=\"Otros\",\"Si\",(IF('Datos Iniciales'!A264=\"\",\"\",\"No\"))))","v":""},{"$f":"(IF('Datos Iniciales'!A264=\"Prospecto\",\"Si\",(IF('Datos Iniciales'!A264=\"\",\"\",\"No\"))))","v":""},{"$f":"(IF('Datos Iniciales'!A264=\"Proveedor\",\"Si\",(IF('Datos Iniciales'!A264=\"\",\"\",\"No\"))))","v":""},{"$f":"IF('Datos Iniciales'!B264=\"\",\"\",'Datos Iniciales'!B264)","v":""},{"$f":"IF('Datos Iniciales'!C264=\"\",\"\",'Datos Iniciales'!C264)","v":""},{"$f":"IF('Datos Iniciales'!D264=\"\",\"\",'Datos Iniciales'!D264)","v":""},{"$f":"IF('Datos Iniciales'!E264=datos!$I$2,datos!$J$2,(IF('Datos Iniciales'!E264=datos!$I$3,datos!$J$3,(IF('Datos Iniciales'!E264=datos!$I$4,datos!$J$4,(IF('Datos Iniciales'!E264=datos!$I$5,datos!$J$5,(IF('Datos Iniciales'!E264=datos!$I$6,datos!$J$6,(IF('Datos Iniciales'!E264=datos!$I$7,datos!$J$7,(IF('Datos Iniciales'!E264=datos!$I$2,datos!$J$2,(IF('Datos Iniciales'!E264=datos!$I$8,datos!$J$8,(IF('Datos Iniciales'!E264=datos!$I$9,datos!$J$9,(IF('Datos Iniciales'!E264=datos!$I$10,datos!$J$10,(IF('Datos Iniciales'!E264=datos!$I$11,datos!$J$11,(IF('Datos Iniciales'!E264=datos!$I$12,datos!$J$12,(IF('Datos Iniciales'!E264=datos!$I$13,datos!$J$13,(IF('Datos Iniciales'!E264=datos!$I$14,datos!$J$14,(IF('Datos Iniciales'!E264=datos!$I$15,datos!$J$15,\"\")))))))))))))))))))))))))))))","v":""},{"$f":"IF('Datos Iniciales'!F264=\"\",\"\",'Datos Iniciales'!F264)","v":""},{"$f":"IFERROR(datos!B263,\"\")","v":""},null,null,null,null,{"$f":"IF('Datos Iniciales'!H264=\"\",\"\",'Datos Iniciales'!H264)","v":""},{"$f":"IF('Datos Iniciales'!I264=\"\",\"\",datos!$K$2)","v":""},{"$f":"IFERROR(VLOOKUP('Datos Iniciales'!J264,datos!O262:P1381,2,FALSE),\"\")","v":""},null,{"$f":"IF('Datos Iniciales'!K264=\"\",\"\",(CONCATENATE(RIGHT('Datos Iniciales'!K264,1),\"-\",'Datos Iniciales'!L264,\"-\",'Datos Iniciales'!M264)))","v":""},null,null,null,{"$f":"IF('Datos Iniciales'!N264=\"\",\"\",'Datos Iniciales'!N264)","v":""},{"$f":"IF('Datos Iniciales'!O264=\"\",\"\",'Datos Iniciales'!O264)","v":""},null,null,null,null,{"$f":"IF('Datos Iniciales'!P264=\"\",\"\",'Datos Iniciales'!P264)","v":""},null,null,null,null,null,null,null,null,null,null,null,null,{"$f":"IF('Datos Iniciales'!B264=\"\",\"\",(IF('Datos Iniciales'!B264=\"Si\",\"002\",\"003\")))","v":""},null,{"$f":"IF('Datos Iniciales'!Q264=\"\",\"\",(IF('Datos Iniciales'!Q264=datos!S263,\"0\",\"2\")))","v":""},{"$f":"IF('Datos Iniciales'!B264=\"\",\"\",(IF('Datos Iniciales'!B264=\"Si\",\"O-48\",\"O-49\")))","v":""}]
[{"$f":"IF('Datos Iniciales'!B265=\"\",\"\",\"Si\")","v":""},{"$f":"(IF('Datos Iniciales'!A265=\"Cliente\",\"Si\",(IF('Datos Iniciales'!A265=\"\",\"\",\"No\"))))","v":""},{"$f":"(IF('Datos Iniciales'!A265=\"Distribuidor\",\"Si\",(IF('Datos Iniciales'!A265=\"\",\"\",\"No\"))))","v":""},{"$f":"(IF('Datos Iniciales'!A265=\"Otros\",\"Si\",(IF('Datos Iniciales'!A265=\"\",\"\",\"No\"))))","v":""},{"$f":"(IF('Datos Iniciales'!A265=\"Prospecto\",\"Si\",(IF('Datos Iniciales'!A265=\"\",\"\",\"No\"))))","v":""},{"$f":"(IF('Datos Iniciales'!A265=\"Proveedor\",\"Si\",(IF('Datos Iniciales'!A265=\"\",\"\",\"No\"))))","v":""},{"$f":"IF('Datos Iniciales'!B265=\"\",\"\",'Datos Iniciales'!B265)","v":""},{"$f":"IF('Datos Iniciales'!C265=\"\",\"\",'Datos Iniciales'!C265)","v":""},{"$f":"IF('Datos Iniciales'!D265=\"\",\"\",'Datos Iniciales'!D265)","v":""},{"$f":"IF('Datos Iniciales'!E265=datos!$I$2,datos!$J$2,(IF('Datos Iniciales'!E265=datos!$I$3,datos!$J$3,(IF('Datos Iniciales'!E265=datos!$I$4,datos!$J$4,(IF('Datos Iniciales'!E265=datos!$I$5,datos!$J$5,(IF('Datos Iniciales'!E265=datos!$I$6,datos!$J$6,(IF('Datos Iniciales'!E265=datos!$I$7,datos!$J$7,(IF('Datos Iniciales'!E265=datos!$I$2,datos!$J$2,(IF('Datos Iniciales'!E265=datos!$I$8,datos!$J$8,(IF('Datos Iniciales'!E265=datos!$I$9,datos!$J$9,(IF('Datos Iniciales'!E265=datos!$I$10,datos!$J$10,(IF('Datos Iniciales'!E265=datos!$I$11,datos!$J$11,(IF('Datos Iniciales'!E265=datos!$I$12,datos!$J$12,(IF('Datos Iniciales'!E265=datos!$I$13,datos!$J$13,(IF('Datos Iniciales'!E265=datos!$I$14,datos!$J$14,(IF('Datos Iniciales'!E265=datos!$I$15,datos!$J$15,\"\")))))))))))))))))))))))))))))","v":""},{"$f":"IF('Datos Iniciales'!F265=\"\",\"\",'Datos Iniciales'!F265)","v":""},{"$f":"IFERROR(datos!B264,\"\")","v":""},null,null,null,null,{"$f":"IF('Datos Iniciales'!H265=\"\",\"\",'Datos Iniciales'!H265)","v":""},{"$f":"IF('Datos Iniciales'!I265=\"\",\"\",datos!$K$2)","v":""},{"$f":"IFERROR(VLOOKUP('Datos Iniciales'!J265,datos!O263:P1382,2,FALSE),\"\")","v":""},null,{"$f":"IF('Datos Iniciales'!K265=\"\",\"\",(CONCATENATE(RIGHT('Datos Iniciales'!K265,1),\"-\",'Datos Iniciales'!L265,\"-\",'Datos Iniciales'!M265)))","v":""},null,null,null,{"$f":"IF('Datos Iniciales'!N265=\"\",\"\",'Datos Iniciales'!N265)","v":""},{"$f":"IF('Datos Iniciales'!O265=\"\",\"\",'Datos Iniciales'!O265)","v":""},null,null,null,null,{"$f":"IF('Datos Iniciales'!P265=\"\",\"\",'Datos Iniciales'!P265)","v":""},null,null,null,null,null,null,null,null,null,null,null,null,{"$f":"IF('Datos Iniciales'!B265=\"\",\"\",(IF('Datos Iniciales'!B265=\"Si\",\"002\",\"003\")))","v":""},null,{"$f":"IF('Datos Iniciales'!Q265=\"\",\"\",(IF('Datos Iniciales'!Q265=datos!S264,\"0\",\"2\")))","v":""},{"$f":"IF('Datos Iniciales'!B265=\"\",\"\",(IF('Datos Iniciales'!B265=\"Si\",\"O-48\",\"O-49\")))","v":""}]
[{"$f":"IF('Datos Iniciales'!B266=\"\",\"\",\"Si\")","v":""},{"$f":"(IF('Datos Iniciales'!A266=\"Cliente\",\"Si\",(IF('Datos Iniciales'!A266=\"\",\"\",\"No\"))))","v":""},{"$f":"(IF('Datos Iniciales'!A266=\"Distribuidor\",\"Si\",(IF('Datos Iniciales'!A266=\"\",\"\",\"No\"))))","v":""},{"$f":"(IF('Datos Iniciales'!A266=\"Otros\",\"Si\",(IF('Datos Iniciales'!A266=\"\",\"\",\"No\"))))","v":""},{"$f":"(IF('Datos Iniciales'!A266=\"Prospecto\",\"Si\",(IF('Datos Iniciales'!A266=\"\",\"\",\"No\"))))","v":""},{"$f":"(IF('Datos Iniciales'!A266=\"Proveedor\",\"Si\",(IF('Datos Iniciales'!A266=\"\",\"\",\"No\"))))","v":""},{"$f":"IF('Datos Iniciales'!B266=\"\",\"\",'Datos Iniciales'!B266)","v":""},{"$f":"IF('Datos Iniciales'!C266=\"\",\"\",'Datos Iniciales'!C266)","v":""},{"$f":"IF('Datos Iniciales'!D266=\"\",\"\",'Datos Iniciales'!D266)","v":""},{"$f":"IF('Datos Iniciales'!E266=datos!$I$2,datos!$J$2,(IF('Datos Iniciales'!E266=datos!$I$3,datos!$J$3,(IF('Datos Iniciales'!E266=datos!$I$4,datos!$J$4,(IF('Datos Iniciales'!E266=datos!$I$5,datos!$J$5,(IF('Datos Iniciales'!E266=datos!$I$6,datos!$J$6,(IF('Datos Iniciales'!E266=datos!$I$7,datos!$J$7,(IF('Datos Iniciales'!E266=datos!$I$2,datos!$J$2,(IF('Datos Iniciales'!E266=datos!$I$8,datos!$J$8,(IF('Datos Iniciales'!E266=datos!$I$9,datos!$J$9,(IF('Datos Iniciales'!E266=datos!$I$10,datos!$J$10,(IF('Datos Iniciales'!E266=datos!$I$11,datos!$J$11,(IF('Datos Iniciales'!E266=datos!$I$12,datos!$J$12,(IF('Datos Iniciales'!E266=datos!$I$13,datos!$J$13,(IF('Datos Iniciales'!E266=datos!$I$14,datos!$J$14,(IF('Datos Iniciales'!E266=datos!$I$15,datos!$J$15,\"\")))))))))))))))))))))))))))))","v":""},{"$f":"IF('Datos Iniciales'!F266=\"\",\"\",'Datos Iniciales'!F266)","v":""},{"$f":"IFERROR(datos!B265,\"\")","v":""},null,null,null,null,{"$f":"IF('Datos Iniciales'!H266=\"\",\"\",'Datos Iniciales'!H266)","v":""},{"$f":"IF('Datos Iniciales'!I266=\"\",\"\",datos!$K$2)","v":""},{"$f":"IFERROR(VLOOKUP('Datos Iniciales'!J266,datos!O264:P1383,2,FALSE),\"\")","v":""},null,{"$f":"IF('Datos Iniciales'!K266=\"\",\"\",(CONCATENATE(RIGHT('Datos Iniciales'!K266,1),\"-\",'Datos Iniciales'!L266,\"-\",'Datos Iniciales'!M266)))","v":""},null,null,null,{"$f":"IF('Datos Iniciales'!N266=\"\",\"\",'Datos Iniciales'!N266)","v":""},{"$f":"IF('Datos Iniciales'!O266=\"\",\"\",'Datos Iniciales'!O266)","v":""},null,null,null,null,{"$f":"IF('Datos Iniciales'!P266=\"\",\"\",'Datos Iniciales'!P266)","v":""},null,null,null,null,null,null,null,null,null,null,null,null,{"$f":"IF('Datos Iniciales'!B266=\"\",\"\",(IF('Datos Iniciales'!B266=\"Si\",\"002\",\"003\")))","v":""},null,{"$f":"IF('Datos Iniciales'!Q266=\"\",\"\",(IF('Datos Iniciales'!Q266=datos!S265,\"0\",\"2\")))","v":""},{"$f":"IF('Datos Iniciales'!B266=\"\",\"\",(IF('Datos Iniciales'!B266=\"Si\",\"O-48\",\"O-49\")))","v":""}]
[{"$f":"IF('Datos Iniciales'!B267=\"\",\"\",\"Si\")","v":""},{"$f":"(IF('Datos Iniciales'!A267=\"Cliente\",\"Si\",(IF('Datos Iniciales'!A267=\"\",\"\",\"No\"))))","v":""},{"$f":"(IF('Datos Iniciales'!A267=\"Distribuidor\",\"Si\",(IF('Datos Iniciales'!A267=\"\",\"\",\"No\"))))","v":""},{"$f":"(IF('Datos Iniciales'!A267=\"Otros\",\"Si\",(IF('Datos Iniciales'!A267=\"\",\"\",\"No\"))))","v":""},{"$f":"(IF('Datos Iniciales'!A267=\"Prospecto\",\"Si\",(IF('Datos Iniciales'!A267=\"\",\"\",\"No\"))))","v":""},{"$f":"(IF('Datos Iniciales'!A267=\"Proveedor\",\"Si\",(IF('Datos Iniciales'!A267=\"\",\"\",\"No\"))))","v":""},{"$f":"IF('Datos Iniciales'!B267=\"\",\"\",'Datos Iniciales'!B267)","v":""},{"$f":"IF('Datos Iniciales'!C267=\"\",\"\",'Datos Iniciales'!C267)","v":""},{"$f":"IF('Datos Iniciales'!D267=\"\",\"\",'Datos Iniciales'!D267)","v":""},{"$f":"IF('Datos Iniciales'!E267=datos!$I$2,datos!$J$2,(IF('Datos Iniciales'!E267=datos!$I$3,datos!$J$3,(IF('Datos Iniciales'!E267=datos!$I$4,datos!$J$4,(IF('Datos Iniciales'!E267=datos!$I$5,datos!$J$5,(IF('Datos Iniciales'!E267=datos!$I$6,datos!$J$6,(IF('Datos Iniciales'!E267=datos!$I$7,datos!$J$7,(IF('Datos Iniciales'!E267=datos!$I$2,datos!$J$2,(IF('Datos Iniciales'!E267=datos!$I$8,datos!$J$8,(IF('Datos Iniciales'!E267=datos!$I$9,datos!$J$9,(IF('Datos Iniciales'!E267=datos!$I$10,datos!$J$10,(IF('Datos Iniciales'!E267=datos!$I$11,datos!$J$11,(IF('Datos Iniciales'!E267=datos!$I$12,datos!$J$12,(IF('Datos Iniciales'!E267=datos!$I$13,datos!$J$13,(IF('Datos Iniciales'!E267=datos!$I$14,datos!$J$14,(IF('Datos Iniciales'!E267=datos!$I$15,datos!$J$15,\"\")))))))))))))))))))))))))))))","v":""},{"$f":"IF('Datos Iniciales'!F267=\"\",\"\",'Datos Iniciales'!F267)","v":""},{"$f":"IFERROR(datos!B266,\"\")","v":""},null,null,null,null,{"$f":"IF('Datos Iniciales'!H267=\"\",\"\",'Datos Iniciales'!H267)","v":""},{"$f":"IF('Datos Iniciales'!I267=\"\",\"\",datos!$K$2)","v":""},{"$f":"IFERROR(VLOOKUP('Datos Iniciales'!J267,datos!O265:P1384,2,FALSE),\"\")","v":""},null,{"$f":"IF('Datos Iniciales'!K267=\"\",\"\",(CONCATENATE(RIGHT('Datos Iniciales'!K267,1),\"-\",'Datos Iniciales'!L267,\"-\",'Datos Iniciales'!M267)))","v":""},null,null,null,{"$f":"IF('Datos Iniciales'!N267=\"\",\"\",'Datos Iniciales'!N267)","v":""},{"$f":"IF('Datos Iniciales'!O267=\"\",\"\",'Datos Iniciales'!O267)","v":""},null,null,null,null,{"$f":"IF('Datos Iniciales'!P267=\"\",\"\",'Datos Iniciales'!P267)","v":""},null,null,null,null,null,null,null,null,null,null,null,null,{"$f":"IF('Datos Iniciales'!B267=\"\",\"\",(IF('Datos Iniciales'!B267=\"Si\",\"002\",\"003\")))","v":""},null,{"$f":"IF('Datos Iniciales'!Q267=\"\",\"\",(IF('Datos Iniciales'!Q267=datos!S266,\"0\",\"2\")))","v":""},{"$f":"IF('Datos Iniciales'!B267=\"\",\"\",(IF('Datos Iniciales'!B267=\"Si\",\"O-48\",\"O-49\")))","v":""}]
[{"$f":"IF('Datos Iniciales'!B268=\"\",\"\",\"Si\")","v":""},{"$f":"(IF('Datos Iniciales'!A268=\"Cliente\",\"Si\",(IF('Datos Iniciales'!A268=\"\",\"\",\"No\"))))","v":""},{"$f":"(IF('Datos Iniciales'!A268=\"Distribuidor\",\"Si\",(IF('Datos Iniciales'!A268=\"\",\"\",\"No\"))))","v":""},{"$f":"(IF('Datos Iniciales'!A268=\"Otros\",\"Si\",(IF('Datos Iniciales'!A268=\"\",\"\",\"No\"))))","v":""},{"$f":"(IF('Datos Iniciales'!A268=\"Prospecto\",\"Si\",(IF('Datos Iniciales'!A268=\"\",\"\",\"No\"))))","v":""},{"$f":"(IF('Datos Iniciales'!A268=\"Proveedor\",\"Si\",(IF('Datos Iniciales'!A268=\"\",\"\",\"No\"))))","v":""},{"$f":"IF('Datos Iniciales'!B268=\"\",\"\",'Datos Iniciales'!B268)","v":""},{"$f":"IF('Datos Iniciales'!C268=\"\",\"\",'Datos Iniciales'!C268)","v":""},{"$f":"IF('Datos Iniciales'!D268=\"\",\"\",'Datos Iniciales'!D268)","v":""},{"$f":"IF('Datos Iniciales'!E268=datos!$I$2,datos!$J$2,(IF('Datos Iniciales'!E268=datos!$I$3,datos!$J$3,(IF('Datos Iniciales'!E268=datos!$I$4,datos!$J$4,(IF('Datos Iniciales'!E268=datos!$I$5,datos!$J$5,(IF('Datos Iniciales'!E268=datos!$I$6,datos!$J$6,(IF('Datos Iniciales'!E268=datos!$I$7,datos!$J$7,(IF('Datos Iniciales'!E268=datos!$I$2,datos!$J$2,(IF('Datos Iniciales'!E268=datos!$I$8,datos!$J$8,(IF('Datos Iniciales'!E268=datos!$I$9,datos!$J$9,(IF('Datos Iniciales'!E268=datos!$I$10,datos!$J$10,(IF('Datos Iniciales'!E268=datos!$I$11,datos!$J$11,(IF('Datos Iniciales'!E268=datos!$I$12,datos!$J$12,(IF('Datos Iniciales'!E268=datos!$I$13,datos!$J$13,(IF('Datos Iniciales'!E268=datos!$I$14,datos!$J$14,(IF('Datos Iniciales'!E268=datos!$I$15,datos!$J$15,\"\")))))))))))))))))))))))))))))","v":""},{"$f":"IF('Datos Iniciales'!F268=\"\",\"\",'Datos Iniciales'!F268)","v":""},{"$f":"IFERROR(datos!B267,\"\")","v":""},null,null,null,null,{"$f":"IF('Datos Iniciales'!H268=\"\",\"\",'Datos Iniciales'!H268)","v":""},{"$f":"IF('Datos Iniciales'!I268=\"\",\"\",datos!$K$2)","v":""},{"$f":"IFERROR(VLOOKUP('Datos Iniciales'!J268,datos!O266:P1385,2,FALSE),\"\")","v":""},null,{"$f":"IF('Datos Iniciales'!K268=\"\",\"\",(CONCATENATE(RIGHT('Datos Iniciales'!K268,1),\"-\",'Datos Iniciales'!L268,\"-\",'Datos Iniciales'!M268)))","v":""},null,null,null,{"$f":"IF('Datos Iniciales'!N268=\"\",\"\",'Datos Iniciales'!N268)","v":""},{"$f":"IF('Datos Iniciales'!O268=\"\",\"\",'Datos Iniciales'!O268)","v":""},null,null,null,null,{"$f":"IF('Datos Iniciales'!P268=\"\",\"\",'Datos Iniciales'!P268)","v":""},null,null,null,null,null,null,null,null,null,null,null,null,{"$f":"IF('Datos Iniciales'!B268=\"\",\"\",(IF('Datos Iniciales'!B268=\"Si\",\"002\",\"003\")))","v":""},null,{"$f":"IF('Datos Iniciales'!Q268=\"\",\"\",(IF('Datos Iniciales'!Q268=datos!S267,\"0\",\"2\")))","v":""},{"$f":"IF('Datos Iniciales'!B268=\"\",\"\",(IF('Datos Iniciales'!B268=\"Si\",\"O-48\",\"O-49\")))","v":""}]
[{"$f":"IF('Datos Iniciales'!B269=\"\",\"\",\"Si\")","v":""},{"$f":"(IF('Datos Iniciales'!A269=\"Cliente\",\"Si\",(IF('Datos Iniciales'!A269=\"\",\"\",\"No\"))))","v":""},{"$f":"(IF('Datos Iniciales'!A269=\"Distribuidor\",\"Si\",(IF('Datos Iniciales'!A269=\"\",\"\",\"No\"))))","v":""},{"$f":"(IF('Datos Iniciales'!A269=\"Otros\",\"Si\",(IF('Datos Iniciales'!A269=\"\",\"\",\"No\"))))","v":""},{"$f":"(IF('Datos Iniciales'!A269=\"Prospecto\",\"Si\",(IF('Datos Iniciales'!A269=\"\",\"\",\"No\"))))","v":""},{"$f":"(IF('Datos Iniciales'!A269=\"Proveedor\",\"Si\",(IF('Datos Iniciales'!A269=\"\",\"\",\"No\"))))","v":""},{"$f":"IF('Datos Iniciales'!B269=\"\",\"\",'Datos Iniciales'!B269)","v":""},{"$f":"IF('Datos Iniciales'!C269=\"\",\"\",'Datos Iniciales'!C269)","v":""},{"$f":"IF('Datos Iniciales'!D269=\"\",\"\",'Datos Iniciales'!D269)","v":""},{"$f":"IF('Datos Iniciales'!E269=datos!$I$2,datos!$J$2,(IF('Datos Iniciales'!E269=datos!$I$3,datos!$J$3,(IF('Datos Iniciales'!E269=datos!$I$4,datos!$J$4,(IF('Datos Iniciales'!E269=datos!$I$5,datos!$J$5,(IF('Datos Iniciales'!E269=datos!$I$6,datos!$J$6,(IF('Datos Iniciales'!E269=datos!$I$7,datos!$J$7,(IF('Datos Iniciales'!E269=datos!$I$2,datos!$J$2,(IF('Datos Iniciales'!E269=datos!$I$8,datos!$J$8,(IF('Datos Iniciales'!E269=datos!$I$9,datos!$J$9,(IF('Datos Iniciales'!E269=datos!$I$10,datos!$J$10,(IF('Datos Iniciales'!E269=datos!$I$11,datos!$J$11,(IF('Datos Iniciales'!E269=datos!$I$12,datos!$J$12,(IF('Datos Iniciales'!E269=datos!$I$13,datos!$J$13,(IF('Datos Iniciales'!E269=datos!$I$14,datos!$J$14,(IF('Datos Iniciales'!E269=datos!$I$15,datos!$J$15,\"\")))))))))))))))))))))))))))))","v":""},{"$f":"IF('Datos Iniciales'!F269=\"\",\"\",'Datos Iniciales'!F269)","v":""},{"$f":"IFERROR(datos!B268,\"\")","v":""},null,null,null,null,{"$f":"IF('Datos Iniciales'!H269=\"\",\"\",'Datos Iniciales'!H269)","v":""},{"$f":"IF('Datos Iniciales'!I269=\"\",\"\",datos!$K$2)","v":""},{"$f":"IFERROR(VLOOKUP('Datos Iniciales'!J269,datos!O267:P1386,2,FALSE),\"\")","v":""},null,{"$f":"IF('Datos Iniciales'!K269=\"\",\"\",(CONCATENATE(RIGHT('Datos Iniciales'!K269,1),\"-\",'Datos Iniciales'!L269,\"-\",'Datos Iniciales'!M269)))","v":""},null,null,null,{"$f":"IF('Datos Iniciales'!N269=\"\",\"\",'Datos Iniciales'!N269)","v":""},{"$f":"IF('Datos Iniciales'!O269=\"\",\"\",'Datos Iniciales'!O269)","v":""},null,null,null,null,{"$f":"IF('Datos Iniciales'!P269=\"\",\"\",'Datos Iniciales'!P269)","v":""},null,null,null,null,null,null,null,null,null,null,null,null,{"$f":"IF('Datos Iniciales'!B269=\"\",\"\",(IF('Datos Iniciales'!B269=\"Si\",\"002\",\"003\")))","v":""},null,{"$f":"IF('Datos Iniciales'!Q269=\"\",\"\",(IF('Datos Iniciales'!Q269=datos!S268,\"0\",\"2\")))","v":""},{"$f":"IF('Datos Iniciales'!B269=\"\",\"\",(IF('Datos Iniciales'!B269=\"Si\",\"O-48\",\"O-49\")))","v":""}]
[{"$f":"IF('Datos Iniciales'!B270=\"\",\"\",\"Si\")","v":""},{"$f":"(IF('Datos Iniciales'!A270=\"Cliente\",\"Si\",(IF('Datos Iniciales'!A270=\"\",\"\",\"No\"))))","v":""},{"$f":"(IF('Datos Iniciales'!A270=\"Distribuidor\",\"Si\",(IF('Datos Iniciales'!A270=\"\",\"\",\"No\"))))","v":""},{"$f":"(IF('Datos Iniciales'!A270=\"Otros\",\"Si\",(IF('Datos Iniciales'!A270=\"\",\"\",\"No\"))))","v":""},{"$f":"(IF('Datos Iniciales'!A270=\"Prospecto\",\"Si\",(IF('Datos Iniciales'!A270=\"\",\"\",\"No\"))))","v":""},{"$f":"(IF('Datos Iniciales'!A270=\"Proveedor\",\"Si\",(IF('Datos Iniciales'!A270=\"\",\"\",\"No\"))))","v":""},{"$f":"IF('Datos Iniciales'!B270=\"\",\"\",'Datos Iniciales'!B270)","v":""},{"$f":"IF('Datos Iniciales'!C270=\"\",\"\",'Datos Iniciales'!C270)","v":""},{"$f":"IF('Datos Iniciales'!D270=\"\",\"\",'Datos Iniciales'!D270)","v":""},{"$f":"IF('Datos Iniciales'!E270=datos!$I$2,datos!$J$2,(IF('Datos Iniciales'!E270=datos!$I$3,datos!$J$3,(IF('Datos Iniciales'!E270=datos!$I$4,datos!$J$4,(IF('Datos Iniciales'!E270=datos!$I$5,datos!$J$5,(IF('Datos Iniciales'!E270=datos!$I$6,datos!$J$6,(IF('Datos Iniciales'!E270=datos!$I$7,datos!$J$7,(IF('Datos Iniciales'!E270=datos!$I$2,datos!$J$2,(IF('Datos Iniciales'!E270=datos!$I$8,datos!$J$8,(IF('Datos Iniciales'!E270=datos!$I$9,datos!$J$9,(IF('Datos Iniciales'!E270=datos!$I$10,datos!$J$10,(IF('Datos Iniciales'!E270=datos!$I$11,datos!$J$11,(IF('Datos Iniciales'!E270=datos!$I$12,datos!$J$12,(IF('Datos Iniciales'!E270=datos!$I$13,datos!$J$13,(IF('Datos Iniciales'!E270=datos!$I$14,datos!$J$14,(IF('Datos Iniciales'!E270=datos!$I$15,datos!$J$15,\"\")))))))))))))))))))))))))))))","v":""},{"$f":"IF('Datos Iniciales'!F270=\"\",\"\",'Datos Iniciales'!F270)","v":""},{"$f":"IFERROR(datos!B269,\"\")","v":""},null,null,null,null,{"$f":"IF('Datos Iniciales'!H270=\"\",\"\",'Datos Iniciales'!H270)","v":""},{"$f":"IF('Datos Iniciales'!I270=\"\",\"\",datos!$K$2)","v":""},{"$f":"IFERROR(VLOOKUP('Datos Iniciales'!J270,datos!O268:P1387,2,FALSE),\"\")","v":""},null,{"$f":"IF('Datos Iniciales'!K270=\"\",\"\",(CONCATENATE(RIGHT('Datos Iniciales'!K270,1),\"-\",'Datos Iniciales'!L270,\"-\",'Datos Iniciales'!M270)))","v":""},null,null,null,{"$f":"IF('Datos Iniciales'!N270=\"\",\"\",'Datos Iniciales'!N270)","v":""},{"$f":"IF('Datos Iniciales'!O270=\"\",\"\",'Datos Iniciales'!O270)","v":""},null,null,null,null,{"$f":"IF('Datos Iniciales'!P270=\"\",\"\",'Datos Iniciales'!P270)","v":""},null,null,null,null,null,null,null,null,null,null,null,null,{"$f":"IF('Datos Iniciales'!B270=\"\",\"\",(IF('Datos Iniciales'!B270=\"Si\",\"002\",\"003\")))","v":""},null,{"$f":"IF('Datos Iniciales'!Q270=\"\",\"\",(IF('Datos Iniciales'!Q270=datos!S269,\"0\",\"2\")))","v":""},{"$f":"IF('Datos Iniciales'!B270=\"\",\"\",(IF('Datos Iniciales'!B270=\"Si\",\"O-48\",\"O-49\")))","v":""}]
[{"$f":"IF('Datos Iniciales'!B271=\"\",\"\",\"Si\")","v":""},{"$f":"(IF('Datos Iniciales'!A271=\"Cliente\",\"Si\",(IF('Datos Iniciales'!A271=\"\",\"\",\"No\"))))","v":""},{"$f":"(IF('Datos Iniciales'!A271=\"Distribuidor\",\"Si\",(IF('Datos Iniciales'!A271=\"\",\"\",\"No\"))))","v":""},{"$f":"(IF('Datos Iniciales'!A271=\"Otros\",\"Si\",(IF('Datos Iniciales'!A271=\"\",\"\",\"No\"))))","v":""},{"$f":"(IF('Datos Iniciales'!A271=\"Prospecto\",\"Si\",(IF('Datos Iniciales'!A271=\"\",\"\",\"No\"))))","v":""},{"$f":"(IF('Datos Iniciales'!A271=\"Proveedor\",\"Si\",(IF('Datos Iniciales'!A271=\"\",\"\",\"No\"))))","v":""},{"$f":"IF('Datos Iniciales'!B271=\"\",\"\",'Datos Iniciales'!B271)","v":""},{"$f":"IF('Datos Iniciales'!C271=\"\",\"\",'Datos Iniciales'!C271)","v":""},{"$f":"IF('Datos Iniciales'!D271=\"\",\"\",'Datos Iniciales'!D271)","v":""},{"$f":"IF('Datos Iniciales'!E271=datos!$I$2,datos!$J$2,(IF('Datos Iniciales'!E271=datos!$I$3,datos!$J$3,(IF('Datos Iniciales'!E271=datos!$I$4,datos!$J$4,(IF('Datos Iniciales'!E271=datos!$I$5,datos!$J$5,(IF('Datos Iniciales'!E271=datos!$I$6,datos!$J$6,(IF('Datos Iniciales'!E271=datos!$I$7,datos!$J$7,(IF('Datos Iniciales'!E271=datos!$I$2,datos!$J$2,(IF('Datos Iniciales'!E271=datos!$I$8,datos!$J$8,(IF('Datos Iniciales'!E271=datos!$I$9,datos!$J$9,(IF('Datos Iniciales'!E271=datos!$I$10,datos!$J$10,(IF('Datos Iniciales'!E271=datos!$I$11,datos!$J$11,(IF('Datos Iniciales'!E271=datos!$I$12,datos!$J$12,(IF('Datos Iniciales'!E271=datos!$I$13,datos!$J$13,(IF('Datos Iniciales'!E271=datos!$I$14,datos!$J$14,(IF('Datos Iniciales'!E271=datos!$I$15,datos!$J$15,\"\")))))))))))))))))))))))))))))","v":""},{"$f":"IF('Datos Iniciales'!F271=\"\",\"\",'Datos Iniciales'!F271)","v":""},{"$f":"IFERROR(datos!B270,\"\")","v":""},null,null,null,null,{"$f":"IF('Datos Iniciales'!H271=\"\",\"\",'Datos Iniciales'!H271)","v":""},{"$f":"IF('Datos Iniciales'!I271=\"\",\"\",datos!$K$2)","v":""},{"$f":"IFERROR(VLOOKUP('Datos Iniciales'!J271,datos!O269:P1388,2,FALSE),\"\")","v":""},null,{"$f":"IF('Datos Iniciales'!K271=\"\",\"\",(CONCATENATE(RIGHT('Datos Iniciales'!K271,1),\"-\",'Datos Iniciales'!L271,\"-\",'Datos Iniciales'!M271)))","v":""},null,null,null,{"$f":"IF('Datos Iniciales'!N271=\"\",\"\",'Datos Iniciales'!N271)","v":""},{"$f":"IF('Datos Iniciales'!O271=\"\",\"\",'Datos Iniciales'!O271)","v":""},null,null,null,null,{"$f":"IF('Datos Iniciales'!P271=\"\",\"\",'Datos Iniciales'!P271)","v":""},null,null,null,null,null,null,null,null,null,null,null,null,{"$f":"IF('Datos Iniciales'!B271=\"\",\"\",(IF('Datos Iniciales'!B271=\"Si\",\"002\",\"003\")))","v":""},null,{"$f":"IF('Datos Iniciales'!Q271=\"\",\"\",(IF('Datos Iniciales'!Q271=datos!S270,\"0\",\"2\")))","v":""},{"$f":"IF('Datos Iniciales'!B271=\"\",\"\",(IF('Datos Iniciales'!B271=\"Si\",\"O-48\",\"O-49\")))","v":""}]
[{"$f":"IF('Datos Iniciales'!B272=\"\",\"\",\"Si\")","v":""},{"$f":"(IF('Datos Iniciales'!A272=\"Cliente\",\"Si\",(IF('Datos Iniciales'!A272=\"\",\"\",\"No\"))))","v":""},{"$f":"(IF('Datos Iniciales'!A272=\"Distribuidor\",\"Si\",(IF('Datos Iniciales'!A272=\"\",\"\",\"No\"))))","v":""},{"$f":"(IF('Datos Iniciales'!A272=\"Otros\",\"Si\",(IF('Datos Iniciales'!A272=\"\",\"\",\"No\"))))","v":""},{"$f":"(IF('Datos Iniciales'!A272=\"Prospecto\",\"Si\",(IF('Datos Iniciales'!A272=\"\",\"\",\"No\"))))","v":""},{"$f":"(IF('Datos Iniciales'!A272=\"Proveedor\",\"Si\",(IF('Datos Iniciales'!A272=\"\",\"\",\"No\"))))","v":""},{"$f":"IF('Datos Iniciales'!B272=\"\",\"\",'Datos Iniciales'!B272)","v":""},{"$f":"IF('Datos Iniciales'!C272=\"\",\"\",'Datos Iniciales'!C272)","v":""},{"$f":"IF('Datos Iniciales'!D272=\"\",\"\",'Datos Iniciales'!D272)","v":""},{"$f":"IF('Datos Iniciales'!E272=datos!$I$2,datos!$J$2,(IF('Datos Iniciales'!E272=datos!$I$3,datos!$J$3,(IF('Datos Iniciales'!E272=datos!$I$4,datos!$J$4,(IF('Datos Iniciales'!E272=datos!$I$5,datos!$J$5,(IF('Datos Iniciales'!E272=datos!$I$6,datos!$J$6,(IF('Datos Iniciales'!E272=datos!$I$7,datos!$J$7,(IF('Datos Iniciales'!E272=datos!$I$2,datos!$J$2,(IF('Datos Iniciales'!E272=datos!$I$8,datos!$J$8,(IF('Datos Iniciales'!E272=datos!$I$9,datos!$J$9,(IF('Datos Iniciales'!E272=datos!$I$10,datos!$J$10,(IF('Datos Iniciales'!E272=datos!$I$11,datos!$J$11,(IF('Datos Iniciales'!E272=datos!$I$12,datos!$J$12,(IF('Datos Iniciales'!E272=datos!$I$13,datos!$J$13,(IF('Datos Iniciales'!E272=datos!$I$14,datos!$J$14,(IF('Datos Iniciales'!E272=datos!$I$15,datos!$J$15,\"\")))))))))))))))))))))))))))))","v":""},{"$f":"IF('Datos Iniciales'!F272=\"\",\"\",'Datos Iniciales'!F272)","v":""},{"$f":"IFERROR(datos!B271,\"\")","v":""},null,null,null,null,{"$f":"IF('Datos Iniciales'!H272=\"\",\"\",'Datos Iniciales'!H272)","v":""},{"$f":"IF('Datos Iniciales'!I272=\"\",\"\",datos!$K$2)","v":""},{"$f":"IFERROR(VLOOKUP('Datos Iniciales'!J272,datos!O270:P1389,2,FALSE),\"\")","v":""},null,{"$f":"IF('Datos Iniciales'!K272=\"\",\"\",(CONCATENATE(RIGHT('Datos Iniciales'!K272,1),\"-\",'Datos Iniciales'!L272,\"-\",'Datos Iniciales'!M272)))","v":""},null,null,null,{"$f":"IF('Datos Iniciales'!N272=\"\",\"\",'Datos Iniciales'!N272)","v":""},{"$f":"IF('Datos Iniciales'!O272=\"\",\"\",'Datos Iniciales'!O272)","v":""},null,null,null,null,{"$f":"IF('Datos Iniciales'!P272=\"\",\"\",'Datos Iniciales'!P272)","v":""},null,null,null,null,null,null,null,null,null,null,null,null,{"$f":"IF('Datos Iniciales'!B272=\"\",\"\",(IF('Datos Iniciales'!B272=\"Si\",\"002\",\"003\")))","v":""},null,{"$f":"IF('Datos Iniciales'!Q272=\"\",\"\",(IF('Datos Iniciales'!Q272=datos!S271,\"0\",\"2\")))","v":""},{"$f":"IF('Datos Iniciales'!B272=\"\",\"\",(IF('Datos Iniciales'!B272=\"Si\",\"O-48\",\"O-49\")))","v":""}]
[{"$f":"IF('Datos Iniciales'!B273=\"\",\"\",\"Si\")","v":""},{"$f":"(IF('Datos Iniciales'!A273=\"Cliente\",\"Si\",(IF('Datos Iniciales'!A273=\"\",\"\",\"No\"))))","v":""},{"$f":"(IF('Datos Iniciales'!A273=\"Distribuidor\",\"Si\",(IF('Datos Iniciales'!A273=\"\",\"\",\"No\"))))","v":""},{"$f":"(IF('Datos Iniciales'!A273=\"Otros\",\"Si\",(IF('Datos Iniciales'!A273=\"\",\"\",\"No\"))))","v":""},{"$f":"(IF('Datos Iniciales'!A273=\"Prospecto\",\"Si\",(IF('Datos Iniciales'!A273=\"\",\"\",\"No\"))))","v":""},{"$f":"(IF('Datos Iniciales'!A273=\"Proveedor\",\"Si\",(IF('Datos Iniciales'!A273=\"\",\"\",\"No\"))))","v":""},{"$f":"IF('Datos Iniciales'!B273=\"\",\"\",'Datos Iniciales'!B273)","v":""},{"$f":"IF('Datos Iniciales'!C273=\"\",\"\",'Datos Iniciales'!C273)","v":""},{"$f":"IF('Datos Iniciales'!D273=\"\",\"\",'Datos Iniciales'!D273)","v":""},{"$f":"IF('Datos Iniciales'!E273=datos!$I$2,datos!$J$2,(IF('Datos Iniciales'!E273=datos!$I$3,datos!$J$3,(IF('Datos Iniciales'!E273=datos!$I$4,datos!$J$4,(IF('Datos Iniciales'!E273=datos!$I$5,datos!$J$5,(IF('Datos Iniciales'!E273=datos!$I$6,datos!$J$6,(IF('Datos Iniciales'!E273=datos!$I$7,datos!$J$7,(IF('Datos Iniciales'!E273=datos!$I$2,datos!$J$2,(IF('Datos Iniciales'!E273=datos!$I$8,datos!$J$8,(IF('Datos Iniciales'!E273=datos!$I$9,datos!$J$9,(IF('Datos Iniciales'!E273=datos!$I$10,datos!$J$10,(IF('Datos Iniciales'!E273=datos!$I$11,datos!$J$11,(IF('Datos Iniciales'!E273=datos!$I$12,datos!$J$12,(IF('Datos Iniciales'!E273=datos!$I$13,datos!$J$13,(IF('Datos Iniciales'!E273=datos!$I$14,datos!$J$14,(IF('Datos Iniciales'!E273=datos!$I$15,datos!$J$15,\"\")))))))))))))))))))))))))))))","v":""},{"$f":"IF('Datos Iniciales'!F273=\"\",\"\",'Datos Iniciales'!F273)","v":""},{"$f":"IFERROR(datos!B272,\"\")","v":""},null,null,null,null,{"$f":"IF('Datos Iniciales'!H273=\"\",\"\",'Datos Iniciales'!H273)","v":""},{"$f":"IF('Datos Iniciales'!I273=\"\",\"\",datos!$K$2)","v":""},{"$f":"IFERROR(VLOOKUP('Datos Iniciales'!J273,datos!O271:P1390,2,FALSE),\"\")","v":""},null,{"$f":"IF('Datos Iniciales'!K273=\"\",\"\",(CONCATENATE(RIGHT('Datos Iniciales'!K273,1),\"-\",'Datos Iniciales'!L273,\"-\",'Datos Iniciales'!M273)))","v":""},null,null,null,{"$f":"IF('Datos Iniciales'!N273=\"\",\"\",'Datos Iniciales'!N273)","v":""},{"$f":"IF('Datos Iniciales'!O273=\"\",\"\",'Datos Iniciales'!O273)","v":""},null,null,null,null,{"$f":"IF('Datos Iniciales'!P273=\"\",\"\",'Datos Iniciales'!P273)","v":""},null,null,null,null,null,null,null,null,null,null,null,null,{"$f":"IF('Datos Iniciales'!B273=\"\",\"\",(IF('Datos Iniciales'!B273=\"Si\",\"002\",\"003\")))","v":""},null,{"$f":"IF('Datos Iniciales'!Q273=\"\",\"\",(IF('Datos Iniciales'!Q273=datos!S272,\"0\",\"2\")))","v":""},{"$f":"IF('Datos Iniciales'!B273=\"\",\"\",(IF('Datos Iniciales'!B273=\"Si\",\"O-48\",\"O-49\")))","v":""}]
[{"$f":"IF('Datos Iniciales'!B274=\"\",\"\",\"Si\")","v":""},{"$f":"(IF('Datos Iniciales'!A274=\"Cliente\",\"Si\",(IF('Datos Iniciales'!A274=\"\",\"\",\"No\"))))","v":""},{"$f":"(IF('Datos Iniciales'!A274=\"Distribuidor\",\"Si\",(IF('Datos Iniciales'!A274=\"\",\"\",\"No\"))))","v":""},{"$f":"(IF('Datos Iniciales'!A274=\"Otros\",\"Si\",(IF('Datos Iniciales'!A274=\"\",\"\",\"No\"))))","v":""},{"$f":"(IF('Datos Iniciales'!A274=\"Prospecto\",\"Si\",(IF('Datos Iniciales'!A274=\"\",\"\",\"No\"))))","v":""},{"$f":"(IF('Datos Iniciales'!A274=\"Proveedor\",\"Si\",(IF('Datos Iniciales'!A274=\"\",\"\",\"No\"))))","v":""},{"$f":"IF('Datos Iniciales'!B274=\"\",\"\",'Datos Iniciales'!B274)","v":""},{"$f":"IF('Datos Iniciales'!C274=\"\",\"\",'Datos Iniciales'!C274)","v":""},{"$f":"IF('Datos Iniciales'!D274=\"\",\"\",'Datos Iniciales'!D274)","v":""},{"$f":"IF('Datos Iniciales'!E274=datos!$I$2,datos!$J$2,(IF('Datos Iniciales'!E274=datos!$I$3,datos!$J$3,(IF('Datos Iniciales'!E274=datos!$I$4,datos!$J$4,(IF('Datos Iniciales'!E274=datos!$I$5,datos!$J$5,(IF('Datos Iniciales'!E274=datos!$I$6,datos!$J$6,(IF('Datos Iniciales'!E274=datos!$I$7,datos!$J$7,(IF('Datos Iniciales'!E274=datos!$I$2,datos!$J$2,(IF('Datos Iniciales'!E274=datos!$I$8,datos!$J$8,(IF('Datos Iniciales'!E274=datos!$I$9,datos!$J$9,(IF('Datos Iniciales'!E274=datos!$I$10,datos!$J$10,(IF('Datos Iniciales'!E274=datos!$I$11,datos!$J$11,(IF('Datos Iniciales'!E274=datos!$I$12,datos!$J$12,(IF('Datos Iniciales'!E274=datos!$I$13,datos!$J$13,(IF('Datos Iniciales'!E274=datos!$I$14,datos!$J$14,(IF('Datos Iniciales'!E274=datos!$I$15,datos!$J$15,\"\")))))))))))))))))))))))))))))","v":""},{"$f":"IF('Datos Iniciales'!F274=\"\",\"\",'Datos Iniciales'!F274)","v":""},{"$f":"IFERROR(datos!B273,\"\")","v":""},null,null,null,null,{"$f":"IF('Datos Iniciales'!H274=\"\",\"\",'Datos Iniciales'!H274)","v":""},{"$f":"IF('Datos Iniciales'!I274=\"\",\"\",datos!$K$2)","v":""},{"$f":"IFERROR(VLOOKUP('Datos Iniciales'!J274,datos!O272:P1391,2,FALSE),\"\")","v":""},null,{"$f":"IF('Datos Iniciales'!K274=\"\",\"\",(CONCATENATE(RIGHT('Datos Iniciales'!K274,1),\"-\",'Datos Iniciales'!L274,\"-\",'Datos Iniciales'!M274)))","v":""},null,null,null,{"$f":"IF('Datos Iniciales'!N274=\"\",\"\",'Datos Iniciales'!N274)","v":""},{"$f":"IF('Datos Iniciales'!O274=\"\",\"\",'Datos Iniciales'!O274)","v":""},null,null,null,null,{"$f":"IF('Datos Iniciales'!P274=\"\",\"\",'Datos Iniciales'!P274)","v":""},null,null,null,null,null,null,null,null,null,null,null,null,{"$f":"IF('Datos Iniciales'!B274=\"\",\"\",(IF('Datos Iniciales'!B274=\"Si\",\"002\",\"003\")))","v":""},null,{"$f":"IF('Datos Iniciales'!Q274=\"\",\"\",(IF('Datos Iniciales'!Q274=datos!S273,\"0\",\"2\")))","v":""},{"$f":"IF('Datos Iniciales'!B274=\"\",\"\",(IF('Datos Iniciales'!B274=\"Si\",\"O-48\",\"O-49\")))","v":""}]
[{"$f":"IF('Datos Iniciales'!B275=\"\",\"\",\"Si\")","v":""},{"$f":"(IF('Datos Iniciales'!A275=\"Cliente\",\"Si\",(IF('Datos Iniciales'!A275=\"\",\"\",\"No\"))))","v":""},{"$f":"(IF('Datos Iniciales'!A275=\"Distribuidor\",\"Si\",(IF('Datos Iniciales'!A275=\"\",\"\",\"No\"))))","v":""},{"$f":"(IF('Datos Iniciales'!A275=\"Otros\",\"Si\",(IF('Datos Iniciales'!A275=\"\",\"\",\"No\"))))","v":""},{"$f":"(IF('Datos Iniciales'!A275=\"Prospecto\",\"Si\",(IF('Datos Iniciales'!A275=\"\",\"\",\"No\"))))","v":""},{"$f":"(IF('Datos Iniciales'!A275=\"Proveedor\",\"Si\",(IF('Datos Iniciales'!A275=\"\",\"\",\"No\"))))","v":""},{"$f":"IF('Datos Iniciales'!B275=\"\",\"\",'Datos Iniciales'!B275)","v":""},{"$f":"IF('Datos Iniciales'!C275=\"\",\"\",'Datos Iniciales'!C275)","v":""},{"$f":"IF('Datos Iniciales'!D275=\"\",\"\",'Datos Iniciales'!D275)","v":""},{"$f":"IF('Datos Iniciales'!E275=datos!$I$2,datos!$J$2,(IF('Datos Iniciales'!E275=datos!$I$3,datos!$J$3,(IF('Datos Iniciales'!E275=datos!$I$4,datos!$J$4,(IF('Datos Iniciales'!E275=datos!$I$5,datos!$J$5,(IF('Datos Iniciales'!E275=datos!$I$6,datos!$J$6,(IF('Datos Iniciales'!E275=datos!$I$7,datos!$J$7,(IF('Datos Iniciales'!E275=datos!$I$2,datos!$J$2,(IF('Datos Iniciales'!E275=datos!$I$8,datos!$J$8,(IF('Datos Iniciales'!E275=datos!$I$9,datos!$J$9,(IF('Datos Iniciales'!E275=datos!$I$10,datos!$J$10,(IF('Datos Iniciales'!E275=datos!$I$11,datos!$J$11,(IF('Datos Iniciales'!E275=datos!$I$12,datos!$J$12,(IF('Datos Iniciales'!E275=datos!$I$13,datos!$J$13,(IF('Datos Iniciales'!E275=datos!$I$14,datos!$J$14,(IF('Datos Iniciales'!E275=datos!$I$15,datos!$J$15,\"\")))))))))))))))))))))))))))))","v":""},{"$f":"IF('Datos Iniciales'!F275=\"\",\"\",'Datos Iniciales'!F275)","v":""},{"$f":"IFERROR(datos!B274,\"\")","v":""},null,null,null,null,{"$f":"IF('Datos Iniciales'!H275=\"\",\"\",'Datos Iniciales'!H275)","v":""},{"$f":"IF('Datos Iniciales'!I275=\"\",\"\",datos!$K$2)","v":""},{"$f":"IFERROR(VLOOKUP('Datos Iniciales'!J275,datos!O273:P1392,2,FALSE),\"\")","v":""},null,{"$f":"IF('Datos Iniciales'!K275=\"\",\"\",(CONCATENATE(RIGHT('Datos Iniciales'!K275,1),\"-\",'Datos Iniciales'!L275,\"-\",'Datos Iniciales'!M275)))","v":""},null,null,null,{"$f":"IF('Datos Iniciales'!N275=\"\",\"\",'Datos Iniciales'!N275)","v":""},{"$f":"IF('Datos Iniciales'!O275=\"\",\"\",'Datos Iniciales'!O275)","v":""},null,null,null,null,{"$f":"IF('Datos Iniciales'!P275=\"\",\"\",'Datos Iniciales'!P275)","v":""},null,null,null,null,null,null,null,null,null,null,null,null,{"$f":"IF('Datos Iniciales'!B275=\"\",\"\",(IF('Datos Iniciales'!B275=\"Si\",\"002\",\"003\")))","v":""},null,{"$f":"IF('Datos Iniciales'!Q275=\"\",\"\",(IF('Datos Iniciales'!Q275=datos!S274,\"0\",\"2\")))","v":""},{"$f":"IF('Datos Iniciales'!B275=\"\",\"\",(IF('Datos Iniciales'!B275=\"Si\",\"O-48\",\"O-49\")))","v":""}]
[{"$f":"IF('Datos Iniciales'!B276=\"\",\"\",\"Si\")","v":""},{"$f":"(IF('Datos Iniciales'!A276=\"Cliente\",\"Si\",(IF('Datos Iniciales'!A276=\"\",\"\",\"No\"))))","v":""},{"$f":"(IF('Datos Iniciales'!A276=\"Distribuidor\",\"Si\",(IF('Datos Iniciales'!A276=\"\",\"\",\"No\"))))","v":""},{"$f":"(IF('Datos Iniciales'!A276=\"Otros\",\"Si\",(IF('Datos Iniciales'!A276=\"\",\"\",\"No\"))))","v":""},{"$f":"(IF('Datos Iniciales'!A276=\"Prospecto\",\"Si\",(IF('Datos Iniciales'!A276=\"\",\"\",\"No\"))))","v":""},{"$f":"(IF('Datos Iniciales'!A276=\"Proveedor\",\"Si\",(IF('Datos Iniciales'!A276=\"\",\"\",\"No\"))))","v":""},{"$f":"IF('Datos Iniciales'!B276=\"\",\"\",'Datos Iniciales'!B276)","v":""},{"$f":"IF('Datos Iniciales'!C276=\"\",\"\",'Datos Iniciales'!C276)","v":""},{"$f":"IF('Datos Iniciales'!D276=\"\",\"\",'Datos Iniciales'!D276)","v":""},{"$f":"IF('Datos Iniciales'!E276=datos!$I$2,datos!$J$2,(IF('Datos Iniciales'!E276=datos!$I$3,datos!$J$3,(IF('Datos Iniciales'!E276=datos!$I$4,datos!$J$4,(IF('Datos Iniciales'!E276=datos!$I$5,datos!$J$5,(IF('Datos Iniciales'!E276=datos!$I$6,datos!$J$6,(IF('Datos Iniciales'!E276=datos!$I$7,datos!$J$7,(IF('Datos Iniciales'!E276=datos!$I$2,datos!$J$2,(IF('Datos Iniciales'!E276=datos!$I$8,datos!$J$8,(IF('Datos Iniciales'!E276=datos!$I$9,datos!$J$9,(IF('Datos Iniciales'!E276=datos!$I$10,datos!$J$10,(IF('Datos Iniciales'!E276=datos!$I$11,datos!$J$11,(IF('Datos Iniciales'!E276=datos!$I$12,datos!$J$12,(IF('Datos Iniciales'!E276=datos!$I$13,datos!$J$13,(IF('Datos Iniciales'!E276=datos!$I$14,datos!$J$14,(IF('Datos Iniciales'!E276=datos!$I$15,datos!$J$15,\"\")))))))))))))))))))))))))))))","v":""},{"$f":"IF('Datos Iniciales'!F276=\"\",\"\",'Datos Iniciales'!F276)","v":""},{"$f":"IFERROR(datos!B275,\"\")","v":""},null,null,null,null,{"$f":"IF('Datos Iniciales'!H276=\"\",\"\",'Datos Iniciales'!H276)","v":""},{"$f":"IF('Datos Iniciales'!I276=\"\",\"\",datos!$K$2)","v":""},{"$f":"IFERROR(VLOOKUP('Datos Iniciales'!J276,datos!O274:P1393,2,FALSE),\"\")","v":""},null,{"$f":"IF('Datos Iniciales'!K276=\"\",\"\",(CONCATENATE(RIGHT('Datos Iniciales'!K276,1),\"-\",'Datos Iniciales'!L276,\"-\",'Datos Iniciales'!M276)))","v":""},null,null,null,{"$f":"IF('Datos Iniciales'!N276=\"\",\"\",'Datos Iniciales'!N276)","v":""},{"$f":"IF('Datos Iniciales'!O276=\"\",\"\",'Datos Iniciales'!O276)","v":""},null,null,null,null,{"$f":"IF('Datos Iniciales'!P276=\"\",\"\",'Datos Iniciales'!P276)","v":""},null,null,null,null,null,null,null,null,null,null,null,null,{"$f":"IF('Datos Iniciales'!B276=\"\",\"\",(IF('Datos Iniciales'!B276=\"Si\",\"002\",\"003\")))","v":""},null,{"$f":"IF('Datos Iniciales'!Q276=\"\",\"\",(IF('Datos Iniciales'!Q276=datos!S275,\"0\",\"2\")))","v":""},{"$f":"IF('Datos Iniciales'!B276=\"\",\"\",(IF('Datos Iniciales'!B276=\"Si\",\"O-48\",\"O-49\")))","v":""}]
[{"$f":"IF('Datos Iniciales'!B277=\"\",\"\",\"Si\")","v":""},{"$f":"(IF('Datos Iniciales'!A277=\"Cliente\",\"Si\",(IF('Datos Iniciales'!A277=\"\",\"\",\"No\"))))","v":""},{"$f":"(IF('Datos Iniciales'!A277=\"Distribuidor\",\"Si\",(IF('Datos Iniciales'!A277=\"\",\"\",\"No\"))))","v":""},{"$f":"(IF('Datos Iniciales'!A277=\"Otros\",\"Si\",(IF('Datos Iniciales'!A277=\"\",\"\",\"No\"))))","v":""},{"$f":"(IF('Datos Iniciales'!A277=\"Prospecto\",\"Si\",(IF('Datos Iniciales'!A277=\"\",\"\",\"No\"))))","v":""},{"$f":"(IF('Datos Iniciales'!A277=\"Proveedor\",\"Si\",(IF('Datos Iniciales'!A277=\"\",\"\",\"No\"))))","v":""},{"$f":"IF('Datos Iniciales'!B277=\"\",\"\",'Datos Iniciales'!B277)","v":""},{"$f":"IF('Datos Iniciales'!C277=\"\",\"\",'Datos Iniciales'!C277)","v":""},{"$f":"IF('Datos Iniciales'!D277=\"\",\"\",'Datos Iniciales'!D277)","v":""},{"$f":"IF('Datos Iniciales'!E277=datos!$I$2,datos!$J$2,(IF('Datos Iniciales'!E277=datos!$I$3,datos!$J$3,(IF('Datos Iniciales'!E277=datos!$I$4,datos!$J$4,(IF('Datos Iniciales'!E277=datos!$I$5,datos!$J$5,(IF('Datos Iniciales'!E277=datos!$I$6,datos!$J$6,(IF('Datos Iniciales'!E277=datos!$I$7,datos!$J$7,(IF('Datos Iniciales'!E277=datos!$I$2,datos!$J$2,(IF('Datos Iniciales'!E277=datos!$I$8,datos!$J$8,(IF('Datos Iniciales'!E277=datos!$I$9,datos!$J$9,(IF('Datos Iniciales'!E277=datos!$I$10,datos!$J$10,(IF('Datos Iniciales'!E277=datos!$I$11,datos!$J$11,(IF('Datos Iniciales'!E277=datos!$I$12,datos!$J$12,(IF('Datos Iniciales'!E277=datos!$I$13,datos!$J$13,(IF('Datos Iniciales'!E277=datos!$I$14,datos!$J$14,(IF('Datos Iniciales'!E277=datos!$I$15,datos!$J$15,\"\")))))))))))))))))))))))))))))","v":""},{"$f":"IF('Datos Iniciales'!F277=\"\",\"\",'Datos Iniciales'!F277)","v":""},{"$f":"IFERROR(datos!B276,\"\")","v":""},null,null,null,null,{"$f":"IF('Datos Iniciales'!H277=\"\",\"\",'Datos Iniciales'!H277)","v":""},{"$f":"IF('Datos Iniciales'!I277=\"\",\"\",datos!$K$2)","v":""},{"$f":"IFERROR(VLOOKUP('Datos Iniciales'!J277,datos!O275:P1394,2,FALSE),\"\")","v":""},null,{"$f":"IF('Datos Iniciales'!K277=\"\",\"\",(CONCATENATE(RIGHT('Datos Iniciales'!K277,1),\"-\",'Datos Iniciales'!L277,\"-\",'Datos Iniciales'!M277)))","v":""},null,null,null,{"$f":"IF('Datos Iniciales'!N277=\"\",\"\",'Datos Iniciales'!N277)","v":""},{"$f":"IF('Datos Iniciales'!O277=\"\",\"\",'Datos Iniciales'!O277)","v":""},null,null,null,null,{"$f":"IF('Datos Iniciales'!P277=\"\",\"\",'Datos Iniciales'!P277)","v":""},null,null,null,null,null,null,null,null,null,null,null,null,{"$f":"IF('Datos Iniciales'!B277=\"\",\"\",(IF('Datos Iniciales'!B277=\"Si\",\"002\",\"003\")))","v":""},null,{"$f":"IF('Datos Iniciales'!Q277=\"\",\"\",(IF('Datos Iniciales'!Q277=datos!S276,\"0\",\"2\")))","v":""},{"$f":"IF('Datos Iniciales'!B277=\"\",\"\",(IF('Datos Iniciales'!B277=\"Si\",\"O-48\",\"O-49\")))","v":""}]
[{"$f":"IF('Datos Iniciales'!B278=\"\",\"\",\"Si\")","v":""},{"$f":"(IF('Datos Iniciales'!A278=\"Cliente\",\"Si\",(IF('Datos Iniciales'!A278=\"\",\"\",\"No\"))))","v":""},{"$f":"(IF('Datos Iniciales'!A278=\"Distribuidor\",\"Si\",(IF('Datos Iniciales'!A278=\"\",\"\",\"No\"))))","v":""},{"$f":"(IF('Datos Iniciales'!A278=\"Otros\",\"Si\",(IF('Datos Iniciales'!A278=\"\",\"\",\"No\"))))","v":""},{"$f":"(IF('Datos Iniciales'!A278=\"Prospecto\",\"Si\",(IF('Datos Iniciales'!A278=\"\",\"\",\"No\"))))","v":""},{"$f":"(IF('Datos Iniciales'!A278=\"Proveedor\",\"Si\",(IF('Datos Iniciales'!A278=\"\",\"\",\"No\"))))","v":""},{"$f":"IF('Datos Iniciales'!B278=\"\",\"\",'Datos Iniciales'!B278)","v":""},{"$f":"IF('Datos Iniciales'!C278=\"\",\"\",'Datos Iniciales'!C278)","v":""},{"$f":"IF('Datos Iniciales'!D278=\"\",\"\",'Datos Iniciales'!D278)","v":""},{"$f":"IF('Datos Iniciales'!E278=datos!$I$2,datos!$J$2,(IF('Datos Iniciales'!E278=datos!$I$3,datos!$J$3,(IF('Datos Iniciales'!E278=datos!$I$4,datos!$J$4,(IF('Datos Iniciales'!E278=datos!$I$5,datos!$J$5,(IF('Datos Iniciales'!E278=datos!$I$6,datos!$J$6,(IF('Datos Iniciales'!E278=datos!$I$7,datos!$J$7,(IF('Datos Iniciales'!E278=datos!$I$2,datos!$J$2,(IF('Datos Iniciales'!E278=datos!$I$8,datos!$J$8,(IF('Datos Iniciales'!E278=datos!$I$9,datos!$J$9,(IF('Datos Iniciales'!E278=datos!$I$10,datos!$J$10,(IF('Datos Iniciales'!E278=datos!$I$11,datos!$J$11,(IF('Datos Iniciales'!E278=datos!$I$12,datos!$J$12,(IF('Datos Iniciales'!E278=datos!$I$13,datos!$J$13,(IF('Datos Iniciales'!E278=datos!$I$14,datos!$J$14,(IF('Datos Iniciales'!E278=datos!$I$15,datos!$J$15,\"\")))))))))))))))))))))))))))))","v":""},{"$f":"IF('Datos Iniciales'!F278=\"\",\"\",'Datos Iniciales'!F278)","v":""},{"$f":"IFERROR(datos!B277,\"\")","v":""},null,null,null,null,{"$f":"IF('Datos Iniciales'!H278=\"\",\"\",'Datos Iniciales'!H278)","v":""},{"$f":"IF('Datos Iniciales'!I278=\"\",\"\",datos!$K$2)","v":""},{"$f":"IFERROR(VLOOKUP('Datos Iniciales'!J278,datos!O276:P1395,2,FALSE),\"\")","v":""},null,{"$f":"IF('Datos Iniciales'!K278=\"\",\"\",(CONCATENATE(RIGHT('Datos Iniciales'!K278,1),\"-\",'Datos Iniciales'!L278,\"-\",'Datos Iniciales'!M278)))","v":""},null,null,null,{"$f":"IF('Datos Iniciales'!N278=\"\",\"\",'Datos Iniciales'!N278)","v":""},{"$f":"IF('Datos Iniciales'!O278=\"\",\"\",'Datos Iniciales'!O278)","v":""},null,null,null,null,{"$f":"IF('Datos Iniciales'!P278=\"\",\"\",'Datos Iniciales'!P278)","v":""},null,null,null,null,null,null,null,null,null,null,null,null,{"$f":"IF('Datos Iniciales'!B278=\"\",\"\",(IF('Datos Iniciales'!B278=\"Si\",\"002\",\"003\")))","v":""},null,{"$f":"IF('Datos Iniciales'!Q278=\"\",\"\",(IF('Datos Iniciales'!Q278=datos!S277,\"0\",\"2\")))","v":""},{"$f":"IF('Datos Iniciales'!B278=\"\",\"\",(IF('Datos Iniciales'!B278=\"Si\",\"O-48\",\"O-49\")))","v":""}]
[{"$f":"IF('Datos Iniciales'!B279=\"\",\"\",\"Si\")","v":""},{"$f":"(IF('Datos Iniciales'!A279=\"Cliente\",\"Si\",(IF('Datos Iniciales'!A279=\"\",\"\",\"No\"))))","v":""},{"$f":"(IF('Datos Iniciales'!A279=\"Distribuidor\",\"Si\",(IF('Datos Iniciales'!A279=\"\",\"\",\"No\"))))","v":""},{"$f":"(IF('Datos Iniciales'!A279=\"Otros\",\"Si\",(IF('Datos Iniciales'!A279=\"\",\"\",\"No\"))))","v":""},{"$f":"(IF('Datos Iniciales'!A279=\"Prospecto\",\"Si\",(IF('Datos Iniciales'!A279=\"\",\"\",\"No\"))))","v":""},{"$f":"(IF('Datos Iniciales'!A279=\"Proveedor\",\"Si\",(IF('Datos Iniciales'!A279=\"\",\"\",\"No\"))))","v":""},{"$f":"IF('Datos Iniciales'!B279=\"\",\"\",'Datos Iniciales'!B279)","v":""},{"$f":"IF('Datos Iniciales'!C279=\"\",\"\",'Datos Iniciales'!C279)","v":""},{"$f":"IF('Datos Iniciales'!D279=\"\",\"\",'Datos Iniciales'!D279)","v":""},{"$f":"IF('Datos Iniciales'!E279=datos!$I$2,datos!$J$2,(IF('Datos Iniciales'!E279=datos!$I$3,datos!$J$3,(IF('Datos Iniciales'!E279=datos!$I$4,datos!$J$4,(IF('Datos Iniciales'!E279=datos!$I$5,datos!$J$5,(IF('Datos Iniciales'!E279=datos!$I$6,datos!$J$6,(IF('Datos Iniciales'!E279=datos!$I$7,datos!$J$7,(IF('Datos Iniciales'!E279=datos!$I$2,datos!$J$2,(IF('Datos Iniciales'!E279=datos!$I$8,datos!$J$8,(IF('Datos Iniciales'!E279=datos!$I$9,datos!$J$9,(IF('Datos Iniciales'!E279=datos!$I$10,datos!$J$10,(IF('Datos Iniciales'!E279=datos!$I$11,datos!$J$11,(IF('Datos Iniciales'!E279=datos!$I$12,datos!$J$12,(IF('Datos Iniciales'!E279=datos!$I$13,datos!$J$13,(IF('Datos Iniciales'!E279=datos!$I$14,datos!$J$14,(IF('Datos Iniciales'!E279=datos!$I$15,datos!$J$15,\"\")))))))))))))))))))))))))))))","v":""},{"$f":"IF('Datos Iniciales'!F279=\"\",\"\",'Datos Iniciales'!F279)","v":""},{"$f":"IFERROR(datos!B278,\"\")","v":""},null,null,null,null,{"$f":"IF('Datos Iniciales'!H279=\"\",\"\",'Datos Iniciales'!H279)","v":""},{"$f":"IF('Datos Iniciales'!I279=\"\",\"\",datos!$K$2)","v":""},{"$f":"IFERROR(VLOOKUP('Datos Iniciales'!J279,datos!O277:P1396,2,FALSE),\"\")","v":""},null,{"$f":"IF('Datos Iniciales'!K279=\"\",\"\",(CONCATENATE(RIGHT('Datos Iniciales'!K279,1),\"-\",'Datos Iniciales'!L279,\"-\",'Datos Iniciales'!M279)))","v":""},null,null,null,{"$f":"IF('Datos Iniciales'!N279=\"\",\"\",'Datos Iniciales'!N279)","v":""},{"$f":"IF('Datos Iniciales'!O279=\"\",\"\",'Datos Iniciales'!O279)","v":""},null,null,null,null,{"$f":"IF('Datos Iniciales'!P279=\"\",\"\",'Datos Iniciales'!P279)","v":""},null,null,null,null,null,null,null,null,null,null,null,null,{"$f":"IF('Datos Iniciales'!B279=\"\",\"\",(IF('Datos Iniciales'!B279=\"Si\",\"002\",\"003\")))","v":""},null,{"$f":"IF('Datos Iniciales'!Q279=\"\",\"\",(IF('Datos Iniciales'!Q279=datos!S278,\"0\",\"2\")))","v":""},{"$f":"IF('Datos Iniciales'!B279=\"\",\"\",(IF('Datos Iniciales'!B279=\"Si\",\"O-48\",\"O-49\")))","v":""}]
[{"$f":"IF('Datos Iniciales'!B280=\"\",\"\",\"Si\")","v":""},{"$f":"(IF('Datos Iniciales'!A280=\"Cliente\",\"Si\",(IF('Datos Iniciales'!A280=\"\",\"\",\"No\"))))","v":""},{"$f":"(IF('Datos Iniciales'!A280=\"Distribuidor\",\"Si\",(IF('Datos Iniciales'!A280=\"\",\"\",\"No\"))))","v":""},{"$f":"(IF('Datos Iniciales'!A280=\"Otros\",\"Si\",(IF('Datos Iniciales'!A280=\"\",\"\",\"No\"))))","v":""},{"$f":"(IF('Datos Iniciales'!A280=\"Prospecto\",\"Si\",(IF('Datos Iniciales'!A280=\"\",\"\",\"No\"))))","v":""},{"$f":"(IF('Datos Iniciales'!A280=\"Proveedor\",\"Si\",(IF('Datos Iniciales'!A280=\"\",\"\",\"No\"))))","v":""},{"$f":"IF('Datos Iniciales'!B280=\"\",\"\",'Datos Iniciales'!B280)","v":""},{"$f":"IF('Datos Iniciales'!C280=\"\",\"\",'Datos Iniciales'!C280)","v":""},{"$f":"IF('Datos Iniciales'!D280=\"\",\"\",'Datos Iniciales'!D280)","v":""},{"$f":"IF('Datos Iniciales'!E280=datos!$I$2,datos!$J$2,(IF('Datos Iniciales'!E280=datos!$I$3,datos!$J$3,(IF('Datos Iniciales'!E280=datos!$I$4,datos!$J$4,(IF('Datos Iniciales'!E280=datos!$I$5,datos!$J$5,(IF('Datos Iniciales'!E280=datos!$I$6,datos!$J$6,(IF('Datos Iniciales'!E280=datos!$I$7,datos!$J$7,(IF('Datos Iniciales'!E280=datos!$I$2,datos!$J$2,(IF('Datos Iniciales'!E280=datos!$I$8,datos!$J$8,(IF('Datos Iniciales'!E280=datos!$I$9,datos!$J$9,(IF('Datos Iniciales'!E280=datos!$I$10,datos!$J$10,(IF('Datos Iniciales'!E280=datos!$I$11,datos!$J$11,(IF('Datos Iniciales'!E280=datos!$I$12,datos!$J$12,(IF('Datos Iniciales'!E280=datos!$I$13,datos!$J$13,(IF('Datos Iniciales'!E280=datos!$I$14,datos!$J$14,(IF('Datos Iniciales'!E280=datos!$I$15,datos!$J$15,\"\")))))))))))))))))))))))))))))","v":""},{"$f":"IF('Datos Iniciales'!F280=\"\",\"\",'Datos Iniciales'!F280)","v":""},{"$f":"IFERROR(datos!B279,\"\")","v":""},null,null,null,null,{"$f":"IF('Datos Iniciales'!H280=\"\",\"\",'Datos Iniciales'!H280)","v":""},{"$f":"IF('Datos Iniciales'!I280=\"\",\"\",datos!$K$2)","v":""},{"$f":"IFERROR(VLOOKUP('Datos Iniciales'!J280,datos!O278:P1397,2,FALSE),\"\")","v":""},null,{"$f":"IF('Datos Iniciales'!K280=\"\",\"\",(CONCATENATE(RIGHT('Datos Iniciales'!K280,1),\"-\",'Datos Iniciales'!L280,\"-\",'Datos Iniciales'!M280)))","v":""},null,null,null,{"$f":"IF('Datos Iniciales'!N280=\"\",\"\",'Datos Iniciales'!N280)","v":""},{"$f":"IF('Datos Iniciales'!O280=\"\",\"\",'Datos Iniciales'!O280)","v":""},null,null,null,null,{"$f":"IF('Datos Iniciales'!P280=\"\",\"\",'Datos Iniciales'!P280)","v":""},null,null,null,null,null,null,null,null,null,null,null,null,{"$f":"IF('Datos Iniciales'!B280=\"\",\"\",(IF('Datos Iniciales'!B280=\"Si\",\"002\",\"003\")))","v":""},null,{"$f":"IF('Datos Iniciales'!Q280=\"\",\"\",(IF('Datos Iniciales'!Q280=datos!S279,\"0\",\"2\")))","v":""},{"$f":"IF('Datos Iniciales'!B280=\"\",\"\",(IF('Datos Iniciales'!B280=\"Si\",\"O-48\",\"O-49\")))","v":""}]
[{"$f":"IF('Datos Iniciales'!B281=\"\",\"\",\"Si\")","v":""},{"$f":"(IF('Datos Iniciales'!A281=\"Cliente\",\"Si\",(IF('Datos Iniciales'!A281=\"\",\"\",\"No\"))))","v":""},{"$f":"(IF('Datos Iniciales'!A281=\"Distribuidor\",\"Si\",(IF('Datos Iniciales'!A281=\"\",\"\",\"No\"))))","v":""},{"$f":"(IF('Datos Iniciales'!A281=\"Otros\",\"Si\",(IF('Datos Iniciales'!A281=\"\",\"\",\"No\"))))","v":""},{"$f":"(IF('Datos Iniciales'!A281=\"Prospecto\",\"Si\",(IF('Datos Iniciales'!A281=\"\",\"\",\"No\"))))","v":""},{"$f":"(IF('Datos Iniciales'!A281=\"Proveedor\",\"Si\",(IF('Datos Iniciales'!A281=\"\",\"\",\"No\"))))","v":""},{"$f":"IF('Datos Iniciales'!B281=\"\",\"\",'Datos Iniciales'!B281)","v":""},{"$f":"IF('Datos Iniciales'!C281=\"\",\"\",'Datos Iniciales'!C281)","v":""},{"$f":"IF('Datos Iniciales'!D281=\"\",\"\",'Datos Iniciales'!D281)","v":""},{"$f":"IF('Datos Iniciales'!E281=datos!$I$2,datos!$J$2,(IF('Datos Iniciales'!E281=datos!$I$3,datos!$J$3,(IF('Datos Iniciales'!E281=datos!$I$4,datos!$J$4,(IF('Datos Iniciales'!E281=datos!$I$5,datos!$J$5,(IF('Datos Iniciales'!E281=datos!$I$6,datos!$J$6,(IF('Datos Iniciales'!E281=datos!$I$7,datos!$J$7,(IF('Datos Iniciales'!E281=datos!$I$2,datos!$J$2,(IF('Datos Iniciales'!E281=datos!$I$8,datos!$J$8,(IF('Datos Iniciales'!E281=datos!$I$9,datos!$J$9,(IF('Datos Iniciales'!E281=datos!$I$10,datos!$J$10,(IF('Datos Iniciales'!E281=datos!$I$11,datos!$J$11,(IF('Datos Iniciales'!E281=datos!$I$12,datos!$J$12,(IF('Datos Iniciales'!E281=datos!$I$13,datos!$J$13,(IF('Datos Iniciales'!E281=datos!$I$14,datos!$J$14,(IF('Datos Iniciales'!E281=datos!$I$15,datos!$J$15,\"\")))))))))))))))))))))))))))))","v":""},{"$f":"IF('Datos Iniciales'!F281=\"\",\"\",'Datos Iniciales'!F281)","v":""},{"$f":"IFERROR(datos!B280,\"\")","v":""},null,null,null,null,{"$f":"IF('Datos Iniciales'!H281=\"\",\"\",'Datos Iniciales'!H281)","v":""},{"$f":"IF('Datos Iniciales'!I281=\"\",\"\",datos!$K$2)","v":""},{"$f":"IFERROR(VLOOKUP('Datos Iniciales'!J281,datos!O279:P1398,2,FALSE),\"\")","v":""},null,{"$f":"IF('Datos Iniciales'!K281=\"\",\"\",(CONCATENATE(RIGHT('Datos Iniciales'!K281,1),\"-\",'Datos Iniciales'!L281,\"-\",'Datos Iniciales'!M281)))","v":""},null,null,null,{"$f":"IF('Datos Iniciales'!N281=\"\",\"\",'Datos Iniciales'!N281)","v":""},{"$f":"IF('Datos Iniciales'!O281=\"\",\"\",'Datos Iniciales'!O281)","v":""},null,null,null,null,{"$f":"IF('Datos Iniciales'!P281=\"\",\"\",'Datos Iniciales'!P281)","v":""},null,null,null,null,null,null,null,null,null,null,null,null,{"$f":"IF('Datos Iniciales'!B281=\"\",\"\",(IF('Datos Iniciales'!B281=\"Si\",\"002\",\"003\")))","v":""},null,{"$f":"IF('Datos Iniciales'!Q281=\"\",\"\",(IF('Datos Iniciales'!Q281=datos!S280,\"0\",\"2\")))","v":""},{"$f":"IF('Datos Iniciales'!B281=\"\",\"\",(IF('Datos Iniciales'!B281=\"Si\",\"O-48\",\"O-49\")))","v":""}]
[{"$f":"IF('Datos Iniciales'!B282=\"\",\"\",\"Si\")","v":""},{"$f":"(IF('Datos Iniciales'!A282=\"Cliente\",\"Si\",(IF('Datos Iniciales'!A282=\"\",\"\",\"No\"))))","v":""},{"$f":"(IF('Datos Iniciales'!A282=\"Distribuidor\",\"Si\",(IF('Datos Iniciales'!A282=\"\",\"\",\"No\"))))","v":""},{"$f":"(IF('Datos Iniciales'!A282=\"Otros\",\"Si\",(IF('Datos Iniciales'!A282=\"\",\"\",\"No\"))))","v":""},{"$f":"(IF('Datos Iniciales'!A282=\"Prospecto\",\"Si\",(IF('Datos Iniciales'!A282=\"\",\"\",\"No\"))))","v":""},{"$f":"(IF('Datos Iniciales'!A282=\"Proveedor\",\"Si\",(IF('Datos Iniciales'!A282=\"\",\"\",\"No\"))))","v":""},{"$f":"IF('Datos Iniciales'!B282=\"\",\"\",'Datos Iniciales'!B282)","v":""},{"$f":"IF('Datos Iniciales'!C282=\"\",\"\",'Datos Iniciales'!C282)","v":""},{"$f":"IF('Datos Iniciales'!D282=\"\",\"\",'Datos Iniciales'!D282)","v":""},{"$f":"IF('Datos Iniciales'!E282=datos!$I$2,datos!$J$2,(IF('Datos Iniciales'!E282=datos!$I$3,datos!$J$3,(IF('Datos Iniciales'!E282=datos!$I$4,datos!$J$4,(IF('Datos Iniciales'!E282=datos!$I$5,datos!$J$5,(IF('Datos Iniciales'!E282=datos!$I$6,datos!$J$6,(IF('Datos Iniciales'!E282=datos!$I$7,datos!$J$7,(IF('Datos Iniciales'!E282=datos!$I$2,datos!$J$2,(IF('Datos Iniciales'!E282=datos!$I$8,datos!$J$8,(IF('Datos Iniciales'!E282=datos!$I$9,datos!$J$9,(IF('Datos Iniciales'!E282=datos!$I$10,datos!$J$10,(IF('Datos Iniciales'!E282=datos!$I$11,datos!$J$11,(IF('Datos Iniciales'!E282=datos!$I$12,datos!$J$12,(IF('Datos Iniciales'!E282=datos!$I$13,datos!$J$13,(IF('Datos Iniciales'!E282=datos!$I$14,datos!$J$14,(IF('Datos Iniciales'!E282=datos!$I$15,datos!$J$15,\"\")))))))))))))))))))))))))))))","v":""},{"$f":"IF('Datos Iniciales'!F282=\"\",\"\",'Datos Iniciales'!F282)","v":""},{"$f":"IFERROR(datos!B281,\"\")","v":""},null,null,null,null,{"$f":"IF('Datos Iniciales'!H282=\"\",\"\",'Datos Iniciales'!H282)","v":""},{"$f":"IF('Datos Iniciales'!I282=\"\",\"\",datos!$K$2)","v":""},{"$f":"IFERROR(VLOOKUP('Datos Iniciales'!J282,datos!O280:P1399,2,FALSE),\"\")","v":""},null,{"$f":"IF('Datos Iniciales'!K282=\"\",\"\",(CONCATENATE(RIGHT('Datos Iniciales'!K282,1),\"-\",'Datos Iniciales'!L282,\"-\",'Datos Iniciales'!M282)))","v":""},null,null,null,{"$f":"IF('Datos Iniciales'!N282=\"\",\"\",'Datos Iniciales'!N282)","v":""},{"$f":"IF('Datos Iniciales'!O282=\"\",\"\",'Datos Iniciales'!O282)","v":""},null,null,null,null,{"$f":"IF('Datos Iniciales'!P282=\"\",\"\",'Datos Iniciales'!P282)","v":""},null,null,null,null,null,null,null,null,null,null,null,null,{"$f":"IF('Datos Iniciales'!B282=\"\",\"\",(IF('Datos Iniciales'!B282=\"Si\",\"002\",\"003\")))","v":""},null,{"$f":"IF('Datos Iniciales'!Q282=\"\",\"\",(IF('Datos Iniciales'!Q282=datos!S281,\"0\",\"2\")))","v":""},{"$f":"IF('Datos Iniciales'!B282=\"\",\"\",(IF('Datos Iniciales'!B282=\"Si\",\"O-48\",\"O-49\")))","v":""}]
[{"$f":"IF('Datos Iniciales'!B283=\"\",\"\",\"Si\")","v":""},{"$f":"(IF('Datos Iniciales'!A283=\"Cliente\",\"Si\",(IF('Datos Iniciales'!A283=\"\",\"\",\"No\"))))","v":""},{"$f":"(IF('Datos Iniciales'!A283=\"Distribuidor\",\"Si\",(IF('Datos Iniciales'!A283=\"\",\"\",\"No\"))))","v":""},{"$f":"(IF('Datos Iniciales'!A283=\"Otros\",\"Si\",(IF('Datos Iniciales'!A283=\"\",\"\",\"No\"))))","v":""},{"$f":"(IF('Datos Iniciales'!A283=\"Prospecto\",\"Si\",(IF('Datos Iniciales'!A283=\"\",\"\",\"No\"))))","v":""},{"$f":"(IF('Datos Iniciales'!A283=\"Proveedor\",\"Si\",(IF('Datos Iniciales'!A283=\"\",\"\",\"No\"))))","v":""},{"$f":"IF('Datos Iniciales'!B283=\"\",\"\",'Datos Iniciales'!B283)","v":""},{"$f":"IF('Datos Iniciales'!C283=\"\",\"\",'Datos Iniciales'!C283)","v":""},{"$f":"IF('Datos Iniciales'!D283=\"\",\"\",'Datos Iniciales'!D283)","v":""},{"$f":"IF('Datos Iniciales'!E283=datos!$I$2,datos!$J$2,(IF('Datos Iniciales'!E283=datos!$I$3,datos!$J$3,(IF('Datos Iniciales'!E283=datos!$I$4,datos!$J$4,(IF('Datos Iniciales'!E283=datos!$I$5,datos!$J$5,(IF('Datos Iniciales'!E283=datos!$I$6,datos!$J$6,(IF('Datos Iniciales'!E283=datos!$I$7,datos!$J$7,(IF('Datos Iniciales'!E283=datos!$I$2,datos!$J$2,(IF('Datos Iniciales'!E283=datos!$I$8,datos!$J$8,(IF('Datos Iniciales'!E283=datos!$I$9,datos!$J$9,(IF('Datos Iniciales'!E283=datos!$I$10,datos!$J$10,(IF('Datos Iniciales'!E283=datos!$I$11,datos!$J$11,(IF('Datos Iniciales'!E283=datos!$I$12,datos!$J$12,(IF('Datos Iniciales'!E283=datos!$I$13,datos!$J$13,(IF('Datos Iniciales'!E283=datos!$I$14,datos!$J$14,(IF('Datos Iniciales'!E283=datos!$I$15,datos!$J$15,\"\")))))))))))))))))))))))))))))","v":""},{"$f":"IF('Datos Iniciales'!F283=\"\",\"\",'Datos Iniciales'!F283)","v":""},{"$f":"IFERROR(datos!B282,\"\")","v":""},null,null,null,null,{"$f":"IF('Datos Iniciales'!H283=\"\",\"\",'Datos Iniciales'!H283)","v":""},{"$f":"IF('Datos Iniciales'!I283=\"\",\"\",datos!$K$2)","v":""},{"$f":"IFERROR(VLOOKUP('Datos Iniciales'!J283,datos!O281:P1400,2,FALSE),\"\")","v":""},null,{"$f":"IF('Datos Iniciales'!K283=\"\",\"\",(CONCATENATE(RIGHT('Datos Iniciales'!K283,1),\"-\",'Datos Iniciales'!L283,\"-\",'Datos Iniciales'!M283)))","v":""},null,null,null,{"$f":"IF('Datos Iniciales'!N283=\"\",\"\",'Datos Iniciales'!N283)","v":""},{"$f":"IF('Datos Iniciales'!O283=\"\",\"\",'Datos Iniciales'!O283)","v":""},null,null,null,null,{"$f":"IF('Datos Iniciales'!P283=\"\",\"\",'Datos Iniciales'!P283)","v":""},null,null,null,null,null,null,null,null,null,null,null,null,{"$f":"IF('Datos Iniciales'!B283=\"\",\"\",(IF('Datos Iniciales'!B283=\"Si\",\"002\",\"003\")))","v":""},null,{"$f":"IF('Datos Iniciales'!Q283=\"\",\"\",(IF('Datos Iniciales'!Q283=datos!S282,\"0\",\"2\")))","v":""},{"$f":"IF('Datos Iniciales'!B283=\"\",\"\",(IF('Datos Iniciales'!B283=\"Si\",\"O-48\",\"O-49\")))","v":""}]
[{"$f":"IF('Datos Iniciales'!B284=\"\",\"\",\"Si\")","v":""},{"$f":"(IF('Datos Iniciales'!A284=\"Cliente\",\"Si\",(IF('Datos Iniciales'!A284=\"\",\"\",\"No\"))))","v":""},{"$f":"(IF('Datos Iniciales'!A284=\"Distribuidor\",\"Si\",(IF('Datos Iniciales'!A284=\"\",\"\",\"No\"))))","v":""},{"$f":"(IF('Datos Iniciales'!A284=\"Otros\",\"Si\",(IF('Datos Iniciales'!A284=\"\",\"\",\"No\"))))","v":""},{"$f":"(IF('Datos Iniciales'!A284=\"Prospecto\",\"Si\",(IF('Datos Iniciales'!A284=\"\",\"\",\"No\"))))","v":""},{"$f":"(IF('Datos Iniciales'!A284=\"Proveedor\",\"Si\",(IF('Datos Iniciales'!A284=\"\",\"\",\"No\"))))","v":""},{"$f":"IF('Datos Iniciales'!B284=\"\",\"\",'Datos Iniciales'!B284)","v":""},{"$f":"IF('Datos Iniciales'!C284=\"\",\"\",'Datos Iniciales'!C284)","v":""},{"$f":"IF('Datos Iniciales'!D284=\"\",\"\",'Datos Iniciales'!D284)","v":""},{"$f":"IF('Datos Iniciales'!E284=datos!$I$2,datos!$J$2,(IF('Datos Iniciales'!E284=datos!$I$3,datos!$J$3,(IF('Datos Iniciales'!E284=datos!$I$4,datos!$J$4,(IF('Datos Iniciales'!E284=datos!$I$5,datos!$J$5,(IF('Datos Iniciales'!E284=datos!$I$6,datos!$J$6,(IF('Datos Iniciales'!E284=datos!$I$7,datos!$J$7,(IF('Datos Iniciales'!E284=datos!$I$2,datos!$J$2,(IF('Datos Iniciales'!E284=datos!$I$8,datos!$J$8,(IF('Datos Iniciales'!E284=datos!$I$9,datos!$J$9,(IF('Datos Iniciales'!E284=datos!$I$10,datos!$J$10,(IF('Datos Iniciales'!E284=datos!$I$11,datos!$J$11,(IF('Datos Iniciales'!E284=datos!$I$12,datos!$J$12,(IF('Datos Iniciales'!E284=datos!$I$13,datos!$J$13,(IF('Datos Iniciales'!E284=datos!$I$14,datos!$J$14,(IF('Datos Iniciales'!E284=datos!$I$15,datos!$J$15,\"\")))))))))))))))))))))))))))))","v":""},{"$f":"IF('Datos Iniciales'!F284=\"\",\"\",'Datos Iniciales'!F284)","v":""},{"$f":"IFERROR(datos!B283,\"\")","v":""},null,null,null,null,{"$f":"IF('Datos Iniciales'!H284=\"\",\"\",'Datos Iniciales'!H284)","v":""},{"$f":"IF('Datos Iniciales'!I284=\"\",\"\",datos!$K$2)","v":""},{"$f":"IFERROR(VLOOKUP('Datos Iniciales'!J284,datos!O282:P1401,2,FALSE),\"\")","v":""},null,{"$f":"IF('Datos Iniciales'!K284=\"\",\"\",(CONCATENATE(RIGHT('Datos Iniciales'!K284,1),\"-\",'Datos Iniciales'!L284,\"-\",'Datos Iniciales'!M284)))","v":""},null,null,null,{"$f":"IF('Datos Iniciales'!N284=\"\",\"\",'Datos Iniciales'!N284)","v":""},{"$f":"IF('Datos Iniciales'!O284=\"\",\"\",'Datos Iniciales'!O284)","v":""},null,null,null,null,{"$f":"IF('Datos Iniciales'!P284=\"\",\"\",'Datos Iniciales'!P284)","v":""},null,null,null,null,null,null,null,null,null,null,null,null,{"$f":"IF('Datos Iniciales'!B284=\"\",\"\",(IF('Datos Iniciales'!B284=\"Si\",\"002\",\"003\")))","v":""},null,{"$f":"IF('Datos Iniciales'!Q284=\"\",\"\",(IF('Datos Iniciales'!Q284=datos!S283,\"0\",\"2\")))","v":""},{"$f":"IF('Datos Iniciales'!B284=\"\",\"\",(IF('Datos Iniciales'!B284=\"Si\",\"O-48\",\"O-49\")))","v":""}]
[{"$f":"IF('Datos Iniciales'!B285=\"\",\"\",\"Si\")","v":""},{"$f":"(IF('Datos Iniciales'!A285=\"Cliente\",\"Si\",(IF('Datos Iniciales'!A285=\"\",\"\",\"No\"))))","v":""},{"$f":"(IF('Datos Iniciales'!A285=\"Distribuidor\",\"Si\",(IF('Datos Iniciales'!A285=\"\",\"\",\"No\"))))","v":""},{"$f":"(IF('Datos Iniciales'!A285=\"Otros\",\"Si\",(IF('Datos Iniciales'!A285=\"\",\"\",\"No\"))))","v":""},{"$f":"(IF('Datos Iniciales'!A285=\"Prospecto\",\"Si\",(IF('Datos Iniciales'!A285=\"\",\"\",\"No\"))))","v":""},{"$f":"(IF('Datos Iniciales'!A285=\"Proveedor\",\"Si\",(IF('Datos Iniciales'!A285=\"\",\"\",\"No\"))))","v":""},{"$f":"IF('Datos Iniciales'!B285=\"\",\"\",'Datos Iniciales'!B285)","v":""},{"$f":"IF('Datos Iniciales'!C285=\"\",\"\",'Datos Iniciales'!C285)","v":""},{"$f":"IF('Datos Iniciales'!D285=\"\",\"\",'Datos Iniciales'!D285)","v":""},{"$f":"IF('Datos Iniciales'!E285=datos!$I$2,datos!$J$2,(IF('Datos Iniciales'!E285=datos!$I$3,datos!$J$3,(IF('Datos Iniciales'!E285=datos!$I$4,datos!$J$4,(IF('Datos Iniciales'!E285=datos!$I$5,datos!$J$5,(IF('Datos Iniciales'!E285=datos!$I$6,datos!$J$6,(IF('Datos Iniciales'!E285=datos!$I$7,datos!$J$7,(IF('Datos Iniciales'!E285=datos!$I$2,datos!$J$2,(IF('Datos Iniciales'!E285=datos!$I$8,datos!$J$8,(IF('Datos Iniciales'!E285=datos!$I$9,datos!$J$9,(IF('Datos Iniciales'!E285=datos!$I$10,datos!$J$10,(IF('Datos Iniciales'!E285=datos!$I$11,datos!$J$11,(IF('Datos Iniciales'!E285=datos!$I$12,datos!$J$12,(IF('Datos Iniciales'!E285=datos!$I$13,datos!$J$13,(IF('Datos Iniciales'!E285=datos!$I$14,datos!$J$14,(IF('Datos Iniciales'!E285=datos!$I$15,datos!$J$15,\"\")))))))))))))))))))))))))))))","v":""},{"$f":"IF('Datos Iniciales'!F285=\"\",\"\",'Datos Iniciales'!F285)","v":""},{"$f":"IFERROR(datos!B284,\"\")","v":""},null,null,null,null,{"$f":"IF('Datos Iniciales'!H285=\"\",\"\",'Datos Iniciales'!H285)","v":""},{"$f":"IF('Datos Iniciales'!I285=\"\",\"\",datos!$K$2)","v":""},{"$f":"IFERROR(VLOOKUP('Datos Iniciales'!J285,datos!O283:P1402,2,FALSE),\"\")","v":""},null,{"$f":"IF('Datos Iniciales'!K285=\"\",\"\",(CONCATENATE(RIGHT('Datos Iniciales'!K285,1),\"-\",'Datos Iniciales'!L285,\"-\",'Datos Iniciales'!M285)))","v":""},null,null,null,{"$f":"IF('Datos Iniciales'!N285=\"\",\"\",'Datos Iniciales'!N285)","v":""},{"$f":"IF('Datos Iniciales'!O285=\"\",\"\",'Datos Iniciales'!O285)","v":""},null,null,null,null,{"$f":"IF('Datos Iniciales'!P285=\"\",\"\",'Datos Iniciales'!P285)","v":""},null,null,null,null,null,null,null,null,null,null,null,null,{"$f":"IF('Datos Iniciales'!B285=\"\",\"\",(IF('Datos Iniciales'!B285=\"Si\",\"002\",\"003\")))","v":""},null,{"$f":"IF('Datos Iniciales'!Q285=\"\",\"\",(IF('Datos Iniciales'!Q285=datos!S284,\"0\",\"2\")))","v":""},{"$f":"IF('Datos Iniciales'!B285=\"\",\"\",(IF('Datos Iniciales'!B285=\"Si\",\"O-48\",\"O-49\")))","v":""}]
[{"$f":"IF('Datos Iniciales'!B286=\"\",\"\",\"Si\")","v":""},{"$f":"(IF('Datos Iniciales'!A286=\"Cliente\",\"Si\",(IF('Datos Iniciales'!A286=\"\",\"\",\"No\"))))","v":""},{"$f":"(IF('Datos Iniciales'!A286=\"Distribuidor\",\"Si\",(IF('Datos Iniciales'!A286=\"\",\"\",\"No\"))))","v":""},{"$f":"(IF('Datos Iniciales'!A286=\"Otros\",\"Si\",(IF('Datos Iniciales'!A286=\"\",\"\",\"No\"))))","v":""},{"$f":"(IF('Datos Iniciales'!A286=\"Prospecto\",\"Si\",(IF('Datos Iniciales'!A286=\"\",\"\",\"No\"))))","v":""},{"$f":"(IF('Datos Iniciales'!A286=\"Proveedor\",\"Si\",(IF('Datos Iniciales'!A286=\"\",\"\",\"No\"))))","v":""},{"$f":"IF('Datos Iniciales'!B286=\"\",\"\",'Datos Iniciales'!B286)","v":""},{"$f":"IF('Datos Iniciales'!C286=\"\",\"\",'Datos Iniciales'!C286)","v":""},{"$f":"IF('Datos Iniciales'!D286=\"\",\"\",'Datos Iniciales'!D286)","v":""},{"$f":"IF('Datos Iniciales'!E286=datos!$I$2,datos!$J$2,(IF('Datos Iniciales'!E286=datos!$I$3,datos!$J$3,(IF('Datos Iniciales'!E286=datos!$I$4,datos!$J$4,(IF('Datos Iniciales'!E286=datos!$I$5,datos!$J$5,(IF('Datos Iniciales'!E286=datos!$I$6,datos!$J$6,(IF('Datos Iniciales'!E286=datos!$I$7,datos!$J$7,(IF('Datos Iniciales'!E286=datos!$I$2,datos!$J$2,(IF('Datos Iniciales'!E286=datos!$I$8,datos!$J$8,(IF('Datos Iniciales'!E286=datos!$I$9,datos!$J$9,(IF('Datos Iniciales'!E286=datos!$I$10,datos!$J$10,(IF('Datos Iniciales'!E286=datos!$I$11,datos!$J$11,(IF('Datos Iniciales'!E286=datos!$I$12,datos!$J$12,(IF('Datos Iniciales'!E286=datos!$I$13,datos!$J$13,(IF('Datos Iniciales'!E286=datos!$I$14,datos!$J$14,(IF('Datos Iniciales'!E286=datos!$I$15,datos!$J$15,\"\")))))))))))))))))))))))))))))","v":""},{"$f":"IF('Datos Iniciales'!F286=\"\",\"\",'Datos Iniciales'!F286)","v":""},{"$f":"IFERROR(datos!B285,\"\")","v":""},null,null,null,null,{"$f":"IF('Datos Iniciales'!H286=\"\",\"\",'Datos Iniciales'!H286)","v":""},{"$f":"IF('Datos Iniciales'!I286=\"\",\"\",datos!$K$2)","v":""},{"$f":"IFERROR(VLOOKUP('Datos Iniciales'!J286,datos!O284:P1403,2,FALSE),\"\")","v":""},null,{"$f":"IF('Datos Iniciales'!K286=\"\",\"\",(CONCATENATE(RIGHT('Datos Iniciales'!K286,1),\"-\",'Datos Iniciales'!L286,\"-\",'Datos Iniciales'!M286)))","v":""},null,null,null,{"$f":"IF('Datos Iniciales'!N286=\"\",\"\",'Datos Iniciales'!N286)","v":""},{"$f":"IF('Datos Iniciales'!O286=\"\",\"\",'Datos Iniciales'!O286)","v":""},null,null,null,null,{"$f":"IF('Datos Iniciales'!P286=\"\",\"\",'Datos Iniciales'!P286)","v":""},null,null,null,null,null,null,null,null,null,null,null,null,{"$f":"IF('Datos Iniciales'!B286=\"\",\"\",(IF('Datos Iniciales'!B286=\"Si\",\"002\",\"003\")))","v":""},null,{"$f":"IF('Datos Iniciales'!Q286=\"\",\"\",(IF('Datos Iniciales'!Q286=datos!S285,\"0\",\"2\")))","v":""},{"$f":"IF('Datos Iniciales'!B286=\"\",\"\",(IF('Datos Iniciales'!B286=\"Si\",\"O-48\",\"O-49\")))","v":""}]
[{"$f":"IF('Datos Iniciales'!B287=\"\",\"\",\"Si\")","v":""},{"$f":"(IF('Datos Iniciales'!A287=\"Cliente\",\"Si\",(IF('Datos Iniciales'!A287=\"\",\"\",\"No\"))))","v":""},{"$f":"(IF('Datos Iniciales'!A287=\"Distribuidor\",\"Si\",(IF('Datos Iniciales'!A287=\"\",\"\",\"No\"))))","v":""},{"$f":"(IF('Datos Iniciales'!A287=\"Otros\",\"Si\",(IF('Datos Iniciales'!A287=\"\",\"\",\"No\"))))","v":""},{"$f":"(IF('Datos Iniciales'!A287=\"Prospecto\",\"Si\",(IF('Datos Iniciales'!A287=\"\",\"\",\"No\"))))","v":""},{"$f":"(IF('Datos Iniciales'!A287=\"Proveedor\",\"Si\",(IF('Datos Iniciales'!A287=\"\",\"\",\"No\"))))","v":""},{"$f":"IF('Datos Iniciales'!B287=\"\",\"\",'Datos Iniciales'!B287)","v":""},{"$f":"IF('Datos Iniciales'!C287=\"\",\"\",'Datos Iniciales'!C287)","v":""},{"$f":"IF('Datos Iniciales'!D287=\"\",\"\",'Datos Iniciales'!D287)","v":""},{"$f":"IF('Datos Iniciales'!E287=datos!$I$2,datos!$J$2,(IF('Datos Iniciales'!E287=datos!$I$3,datos!$J$3,(IF('Datos Iniciales'!E287=datos!$I$4,datos!$J$4,(IF('Datos Iniciales'!E287=datos!$I$5,datos!$J$5,(IF('Datos Iniciales'!E287=datos!$I$6,datos!$J$6,(IF('Datos Iniciales'!E287=datos!$I$7,datos!$J$7,(IF('Datos Iniciales'!E287=datos!$I$2,datos!$J$2,(IF('Datos Iniciales'!E287=datos!$I$8,datos!$J$8,(IF('Datos Iniciales'!E287=datos!$I$9,datos!$J$9,(IF('Datos Iniciales'!E287=datos!$I$10,datos!$J$10,(IF('Datos Iniciales'!E287=datos!$I$11,datos!$J$11,(IF('Datos Iniciales'!E287=datos!$I$12,datos!$J$12,(IF('Datos Iniciales'!E287=datos!$I$13,datos!$J$13,(IF('Datos Iniciales'!E287=datos!$I$14,datos!$J$14,(IF('Datos Iniciales'!E287=datos!$I$15,datos!$J$15,\"\")))))))))))))))))))))))))))))","v":""},{"$f":"IF('Datos Iniciales'!F287=\"\",\"\",'Datos Iniciales'!F287)","v":""},{"$f":"IFERROR(datos!B286,\"\")","v":""},null,null,null,null,{"$f":"IF('Datos Iniciales'!H287=\"\",\"\",'Datos Iniciales'!H287)","v":""},{"$f":"IF('Datos Iniciales'!I287=\"\",\"\",datos!$K$2)","v":""},{"$f":"IFERROR(VLOOKUP('Datos Iniciales'!J287,datos!O285:P1404,2,FALSE),\"\")","v":""},null,{"$f":"IF('Datos Iniciales'!K287=\"\",\"\",(CONCATENATE(RIGHT('Datos Iniciales'!K287,1),\"-\",'Datos Iniciales'!L287,\"-\",'Datos Iniciales'!M287)))","v":""},null,null,null,{"$f":"IF('Datos Iniciales'!N287=\"\",\"\",'Datos Iniciales'!N287)","v":""},{"$f":"IF('Datos Iniciales'!O287=\"\",\"\",'Datos Iniciales'!O287)","v":""},null,null,null,null,{"$f":"IF('Datos Iniciales'!P287=\"\",\"\",'Datos Iniciales'!P287)","v":""},null,null,null,null,null,null,null,null,null,null,null,null,{"$f":"IF('Datos Iniciales'!B287=\"\",\"\",(IF('Datos Iniciales'!B287=\"Si\",\"002\",\"003\")))","v":""},null,{"$f":"IF('Datos Iniciales'!Q287=\"\",\"\",(IF('Datos Iniciales'!Q287=datos!S286,\"0\",\"2\")))","v":""},{"$f":"IF('Datos Iniciales'!B287=\"\",\"\",(IF('Datos Iniciales'!B287=\"Si\",\"O-48\",\"O-49\")))","v":""}]
[{"$f":"IF('Datos Iniciales'!B288=\"\",\"\",\"Si\")","v":""},{"$f":"(IF('Datos Iniciales'!A288=\"Cliente\",\"Si\",(IF('Datos Iniciales'!A288=\"\",\"\",\"No\"))))","v":""},{"$f":"(IF('Datos Iniciales'!A288=\"Distribuidor\",\"Si\",(IF('Datos Iniciales'!A288=\"\",\"\",\"No\"))))","v":""},{"$f":"(IF('Datos Iniciales'!A288=\"Otros\",\"Si\",(IF('Datos Iniciales'!A288=\"\",\"\",\"No\"))))","v":""},{"$f":"(IF('Datos Iniciales'!A288=\"Prospecto\",\"Si\",(IF('Datos Iniciales'!A288=\"\",\"\",\"No\"))))","v":""},{"$f":"(IF('Datos Iniciales'!A288=\"Proveedor\",\"Si\",(IF('Datos Iniciales'!A288=\"\",\"\",\"No\"))))","v":""},{"$f":"IF('Datos Iniciales'!B288=\"\",\"\",'Datos Iniciales'!B288)","v":""},{"$f":"IF('Datos Iniciales'!C288=\"\",\"\",'Datos Iniciales'!C288)","v":""},{"$f":"IF('Datos Iniciales'!D288=\"\",\"\",'Datos Iniciales'!D288)","v":""},{"$f":"IF('Datos Iniciales'!E288=datos!$I$2,datos!$J$2,(IF('Datos Iniciales'!E288=datos!$I$3,datos!$J$3,(IF('Datos Iniciales'!E288=datos!$I$4,datos!$J$4,(IF('Datos Iniciales'!E288=datos!$I$5,datos!$J$5,(IF('Datos Iniciales'!E288=datos!$I$6,datos!$J$6,(IF('Datos Iniciales'!E288=datos!$I$7,datos!$J$7,(IF('Datos Iniciales'!E288=datos!$I$2,datos!$J$2,(IF('Datos Iniciales'!E288=datos!$I$8,datos!$J$8,(IF('Datos Iniciales'!E288=datos!$I$9,datos!$J$9,(IF('Datos Iniciales'!E288=datos!$I$10,datos!$J$10,(IF('Datos Iniciales'!E288=datos!$I$11,datos!$J$11,(IF('Datos Iniciales'!E288=datos!$I$12,datos!$J$12,(IF('Datos Iniciales'!E288=datos!$I$13,datos!$J$13,(IF('Datos Iniciales'!E288=datos!$I$14,datos!$J$14,(IF('Datos Iniciales'!E288=datos!$I$15,datos!$J$15,\"\")))))))))))))))))))))))))))))","v":""},{"$f":"IF('Datos Iniciales'!F288=\"\",\"\",'Datos Iniciales'!F288)","v":""},{"$f":"IFERROR(datos!B287,\"\")","v":""},null,null,null,null,{"$f":"IF('Datos Iniciales'!H288=\"\",\"\",'Datos Iniciales'!H288)","v":""},{"$f":"IF('Datos Iniciales'!I288=\"\",\"\",datos!$K$2)","v":""},{"$f":"IFERROR(VLOOKUP('Datos Iniciales'!J288,datos!O286:P1405,2,FALSE),\"\")","v":""},null,{"$f":"IF('Datos Iniciales'!K288=\"\",\"\",(CONCATENATE(RIGHT('Datos Iniciales'!K288,1),\"-\",'Datos Iniciales'!L288,\"-\",'Datos Iniciales'!M288)))","v":""},null,null,null,{"$f":"IF('Datos Iniciales'!N288=\"\",\"\",'Datos Iniciales'!N288)","v":""},{"$f":"IF('Datos Iniciales'!O288=\"\",\"\",'Datos Iniciales'!O288)","v":""},null,null,null,null,{"$f":"IF('Datos Iniciales'!P288=\"\",\"\",'Datos Iniciales'!P288)","v":""},null,null,null,null,null,null,null,null,null,null,null,null,{"$f":"IF('Datos Iniciales'!B288=\"\",\"\",(IF('Datos Iniciales'!B288=\"Si\",\"002\",\"003\")))","v":""},null,{"$f":"IF('Datos Iniciales'!Q288=\"\",\"\",(IF('Datos Iniciales'!Q288=datos!S287,\"0\",\"2\")))","v":""},{"$f":"IF('Datos Iniciales'!B288=\"\",\"\",(IF('Datos Iniciales'!B288=\"Si\",\"O-48\",\"O-49\")))","v":""}]
[{"$f":"IF('Datos Iniciales'!B289=\"\",\"\",\"Si\")","v":""},{"$f":"(IF('Datos Iniciales'!A289=\"Cliente\",\"Si\",(IF('Datos Iniciales'!A289=\"\",\"\",\"No\"))))","v":""},{"$f":"(IF('Datos Iniciales'!A289=\"Distribuidor\",\"Si\",(IF('Datos Iniciales'!A289=\"\",\"\",\"No\"))))","v":""},{"$f":"(IF('Datos Iniciales'!A289=\"Otros\",\"Si\",(IF('Datos Iniciales'!A289=\"\",\"\",\"No\"))))","v":""},{"$f":"(IF('Datos Iniciales'!A289=\"Prospecto\",\"Si\",(IF('Datos Iniciales'!A289=\"\",\"\",\"No\"))))","v":""},{"$f":"(IF('Datos Iniciales'!A289=\"Proveedor\",\"Si\",(IF('Datos Iniciales'!A289=\"\",\"\",\"No\"))))","v":""},{"$f":"IF('Datos Iniciales'!B289=\"\",\"\",'Datos Iniciales'!B289)","v":""},{"$f":"IF('Datos Iniciales'!C289=\"\",\"\",'Datos Iniciales'!C289)","v":""},{"$f":"IF('Datos Iniciales'!D289=\"\",\"\",'Datos Iniciales'!D289)","v":""},{"$f":"IF('Datos Iniciales'!E289=datos!$I$2,datos!$J$2,(IF('Datos Iniciales'!E289=datos!$I$3,datos!$J$3,(IF('Datos Iniciales'!E289=datos!$I$4,datos!$J$4,(IF('Datos Iniciales'!E289=datos!$I$5,datos!$J$5,(IF('Datos Iniciales'!E289=datos!$I$6,datos!$J$6,(IF('Datos Iniciales'!E289=datos!$I$7,datos!$J$7,(IF('Datos Iniciales'!E289=datos!$I$2,datos!$J$2,(IF('Datos Iniciales'!E289=datos!$I$8,datos!$J$8,(IF('Datos Iniciales'!E289=datos!$I$9,datos!$J$9,(IF('Datos Iniciales'!E289=datos!$I$10,datos!$J$10,(IF('Datos Iniciales'!E289=datos!$I$11,datos!$J$11,(IF('Datos Iniciales'!E289=datos!$I$12,datos!$J$12,(IF('Datos Iniciales'!E289=datos!$I$13,datos!$J$13,(IF('Datos Iniciales'!E289=datos!$I$14,datos!$J$14,(IF('Datos Iniciales'!E289=datos!$I$15,datos!$J$15,\"\")))))))))))))))))))))))))))))","v":""},{"$f":"IF('Datos Iniciales'!F289=\"\",\"\",'Datos Iniciales'!F289)","v":""},{"$f":"IFERROR(datos!B288,\"\")","v":""},null,null,null,null,{"$f":"IF('Datos Iniciales'!H289=\"\",\"\",'Datos Iniciales'!H289)","v":""},{"$f":"IF('Datos Iniciales'!I289=\"\",\"\",datos!$K$2)","v":""},{"$f":"IFERROR(VLOOKUP('Datos Iniciales'!J289,datos!O287:P1406,2,FALSE),\"\")","v":""},null,{"$f":"IF('Datos Iniciales'!K289=\"\",\"\",(CONCATENATE(RIGHT('Datos Iniciales'!K289,1),\"-\",'Datos Iniciales'!L289,\"-\",'Datos Iniciales'!M289)))","v":""},null,null,null,{"$f":"IF('Datos Iniciales'!N289=\"\",\"\",'Datos Iniciales'!N289)","v":""},{"$f":"IF('Datos Iniciales'!O289=\"\",\"\",'Datos Iniciales'!O289)","v":""},null,null,null,null,{"$f":"IF('Datos Iniciales'!P289=\"\",\"\",'Datos Iniciales'!P289)","v":""},null,null,null,null,null,null,null,null,null,null,null,null,{"$f":"IF('Datos Iniciales'!B289=\"\",\"\",(IF('Datos Iniciales'!B289=\"Si\",\"002\",\"003\")))","v":""},null,{"$f":"IF('Datos Iniciales'!Q289=\"\",\"\",(IF('Datos Iniciales'!Q289=datos!S288,\"0\",\"2\")))","v":""},{"$f":"IF('Datos Iniciales'!B289=\"\",\"\",(IF('Datos Iniciales'!B289=\"Si\",\"O-48\",\"O-49\")))","v":""}]
[{"$f":"IF('Datos Iniciales'!B290=\"\",\"\",\"Si\")","v":""},{"$f":"(IF('Datos Iniciales'!A290=\"Cliente\",\"Si\",(IF('Datos Iniciales'!A290=\"\",\"\",\"No\"))))","v":""},{"$f":"(IF('Datos Iniciales'!A290=\"Distribuidor\",\"Si\",(IF('Datos Iniciales'!A290=\"\",\"\",\"No\"))))","v":""},{"$f":"(IF('Datos Iniciales'!A290=\"Otros\",\"Si\",(IF('Datos Iniciales'!A290=\"\",\"\",\"No\"))))","v":""},{"$f":"(IF('Datos Iniciales'!A290=\"Prospecto\",\"Si\",(IF('Datos Iniciales'!A290=\"\",\"\",\"No\"))))","v":""},{"$f":"(IF('Datos Iniciales'!A290=\"Proveedor\",\"Si\",(IF('Datos Iniciales'!A290=\"\",\"\",\"No\"))))","v":""},{"$f":"IF('Datos Iniciales'!B290=\"\",\"\",'Datos Iniciales'!B290)","v":""},{"$f":"IF('Datos Iniciales'!C290=\"\",\"\",'Datos Iniciales'!C290)","v":""},{"$f":"IF('Datos Iniciales'!D290=\"\",\"\",'Datos Iniciales'!D290)","v":""},{"$f":"IF('Datos Iniciales'!E290=datos!$I$2,datos!$J$2,(IF('Datos Iniciales'!E290=datos!$I$3,datos!$J$3,(IF('Datos Iniciales'!E290=datos!$I$4,datos!$J$4,(IF('Datos Iniciales'!E290=datos!$I$5,datos!$J$5,(IF('Datos Iniciales'!E290=datos!$I$6,datos!$J$6,(IF('Datos Iniciales'!E290=datos!$I$7,datos!$J$7,(IF('Datos Iniciales'!E290=datos!$I$2,datos!$J$2,(IF('Datos Iniciales'!E290=datos!$I$8,datos!$J$8,(IF('Datos Iniciales'!E290=datos!$I$9,datos!$J$9,(IF('Datos Iniciales'!E290=datos!$I$10,datos!$J$10,(IF('Datos Iniciales'!E290=datos!$I$11,datos!$J$11,(IF('Datos Iniciales'!E290=datos!$I$12,datos!$J$12,(IF('Datos Iniciales'!E290=datos!$I$13,datos!$J$13,(IF('Datos Iniciales'!E290=datos!$I$14,datos!$J$14,(IF('Datos Iniciales'!E290=datos!$I$15,datos!$J$15,\"\")))))))))))))))))))))))))))))","v":""},{"$f":"IF('Datos Iniciales'!F290=\"\",\"\",'Datos Iniciales'!F290)","v":""},{"$f":"IFERROR(datos!B289,\"\")","v":""},null,null,null,null,{"$f":"IF('Datos Iniciales'!H290=\"\",\"\",'Datos Iniciales'!H290)","v":""},{"$f":"IF('Datos Iniciales'!I290=\"\",\"\",datos!$K$2)","v":""},{"$f":"IFERROR(VLOOKUP('Datos Iniciales'!J290,datos!O288:P1407,2,FALSE),\"\")","v":""},null,{"$f":"IF('Datos Iniciales'!K290=\"\",\"\",(CONCATENATE(RIGHT('Datos Iniciales'!K290,1),\"-\",'Datos Iniciales'!L290,\"-\",'Datos Iniciales'!M290)))","v":""},null,null,null,{"$f":"IF('Datos Iniciales'!N290=\"\",\"\",'Datos Iniciales'!N290)","v":""},{"$f":"IF('Datos Iniciales'!O290=\"\",\"\",'Datos Iniciales'!O290)","v":""},null,null,null,null,{"$f":"IF('Datos Iniciales'!P290=\"\",\"\",'Datos Iniciales'!P290)","v":""},null,null,null,null,null,null,null,null,null,null,null,null,{"$f":"IF('Datos Iniciales'!B290=\"\",\"\",(IF('Datos Iniciales'!B290=\"Si\",\"002\",\"003\")))","v":""},null,{"$f":"IF('Datos Iniciales'!Q290=\"\",\"\",(IF('Datos Iniciales'!Q290=datos!S289,\"0\",\"2\")))","v":""},{"$f":"IF('Datos Iniciales'!B290=\"\",\"\",(IF('Datos Iniciales'!B290=\"Si\",\"O-48\",\"O-49\")))","v":""}]
[{"$f":"IF('Datos Iniciales'!B291=\"\",\"\",\"Si\")","v":""},{"$f":"(IF('Datos Iniciales'!A291=\"Cliente\",\"Si\",(IF('Datos Iniciales'!A291=\"\",\"\",\"No\"))))","v":""},{"$f":"(IF('Datos Iniciales'!A291=\"Distribuidor\",\"Si\",(IF('Datos Iniciales'!A291=\"\",\"\",\"No\"))))","v":""},{"$f":"(IF('Datos Iniciales'!A291=\"Otros\",\"Si\",(IF('Datos Iniciales'!A291=\"\",\"\",\"No\"))))","v":""},{"$f":"(IF('Datos Iniciales'!A291=\"Prospecto\",\"Si\",(IF('Datos Iniciales'!A291=\"\",\"\",\"No\"))))","v":""},{"$f":"(IF('Datos Iniciales'!A291=\"Proveedor\",\"Si\",(IF('Datos Iniciales'!A291=\"\",\"\",\"No\"))))","v":""},{"$f":"IF('Datos Iniciales'!B291=\"\",\"\",'Datos Iniciales'!B291)","v":""},{"$f":"IF('Datos Iniciales'!C291=\"\",\"\",'Datos Iniciales'!C291)","v":""},{"$f":"IF('Datos Iniciales'!D291=\"\",\"\",'Datos Iniciales'!D291)","v":""},{"$f":"IF('Datos Iniciales'!E291=datos!$I$2,datos!$J$2,(IF('Datos Iniciales'!E291=datos!$I$3,datos!$J$3,(IF('Datos Iniciales'!E291=datos!$I$4,datos!$J$4,(IF('Datos Iniciales'!E291=datos!$I$5,datos!$J$5,(IF('Datos Iniciales'!E291=datos!$I$6,datos!$J$6,(IF('Datos Iniciales'!E291=datos!$I$7,datos!$J$7,(IF('Datos Iniciales'!E291=datos!$I$2,datos!$J$2,(IF('Datos Iniciales'!E291=datos!$I$8,datos!$J$8,(IF('Datos Iniciales'!E291=datos!$I$9,datos!$J$9,(IF('Datos Iniciales'!E291=datos!$I$10,datos!$J$10,(IF('Datos Iniciales'!E291=datos!$I$11,datos!$J$11,(IF('Datos Iniciales'!E291=datos!$I$12,datos!$J$12,(IF('Datos Iniciales'!E291=datos!$I$13,datos!$J$13,(IF('Datos Iniciales'!E291=datos!$I$14,datos!$J$14,(IF('Datos Iniciales'!E291=datos!$I$15,datos!$J$15,\"\")))))))))))))))))))))))))))))","v":""},{"$f":"IF('Datos Iniciales'!F291=\"\",\"\",'Datos Iniciales'!F291)","v":""},{"$f":"IFERROR(datos!B290,\"\")","v":""},null,null,null,null,{"$f":"IF('Datos Iniciales'!H291=\"\",\"\",'Datos Iniciales'!H291)","v":""},{"$f":"IF('Datos Iniciales'!I291=\"\",\"\",datos!$K$2)","v":""},{"$f":"IFERROR(VLOOKUP('Datos Iniciales'!J291,datos!O289:P1408,2,FALSE),\"\")","v":""},null,{"$f":"IF('Datos Iniciales'!K291=\"\",\"\",(CONCATENATE(RIGHT('Datos Iniciales'!K291,1),\"-\",'Datos Iniciales'!L291,\"-\",'Datos Iniciales'!M291)))","v":""},null,null,null,{"$f":"IF('Datos Iniciales'!N291=\"\",\"\",'Datos Iniciales'!N291)","v":""},{"$f":"IF('Datos Iniciales'!O291=\"\",\"\",'Datos Iniciales'!O291)","v":""},null,null,null,null,{"$f":"IF('Datos Iniciales'!P291=\"\",\"\",'Datos Iniciales'!P291)","v":""},null,null,null,null,null,null,null,null,null,null,null,null,{"$f":"IF('Datos Iniciales'!B291=\"\",\"\",(IF('Datos Iniciales'!B291=\"Si\",\"002\",\"003\")))","v":""},null,{"$f":"IF('Datos Iniciales'!Q291=\"\",\"\",(IF('Datos Iniciales'!Q291=datos!S290,\"0\",\"2\")))","v":""},{"$f":"IF('Datos Iniciales'!B291=\"\",\"\",(IF('Datos Iniciales'!B291=\"Si\",\"O-48\",\"O-49\")))","v":""}]
[{"$f":"IF('Datos Iniciales'!B292=\"\",\"\",\"Si\")","v":""},{"$f":"(IF('Datos Iniciales'!A292=\"Cliente\",\"Si\",(IF('Datos Iniciales'!A292=\"\",\"\",\"No\"))))","v":""},{"$f":"(IF('Datos Iniciales'!A292=\"Distribuidor\",\"Si\",(IF('Datos Iniciales'!A292=\"\",\"\",\"No\"))))","v":""},{"$f":"(IF('Datos Iniciales'!A292=\"Otros\",\"Si\",(IF('Datos Iniciales'!A292=\"\",\"\",\"No\"))))","v":""},{"$f":"(IF('Datos Iniciales'!A292=\"Prospecto\",\"Si\",(IF('Datos Iniciales'!A292=\"\",\"\",\"No\"))))","v":""},{"$f":"(IF('Datos Iniciales'!A292=\"Proveedor\",\"Si\",(IF('Datos Iniciales'!A292=\"\",\"\",\"No\"))))","v":""},{"$f":"IF('Datos Iniciales'!B292=\"\",\"\",'Datos Iniciales'!B292)","v":""},{"$f":"IF('Datos Iniciales'!C292=\"\",\"\",'Datos Iniciales'!C292)","v":""},{"$f":"IF('Datos Iniciales'!D292=\"\",\"\",'Datos Iniciales'!D292)","v":""},{"$f":"IF('Datos Iniciales'!E292=datos!$I$2,datos!$J$2,(IF('Datos Iniciales'!E292=datos!$I$3,datos!$J$3,(IF('Datos Iniciales'!E292=datos!$I$4,datos!$J$4,(IF('Datos Iniciales'!E292=datos!$I$5,datos!$J$5,(IF('Datos Iniciales'!E292=datos!$I$6,datos!$J$6,(IF('Datos Iniciales'!E292=datos!$I$7,datos!$J$7,(IF('Datos Iniciales'!E292=datos!$I$2,datos!$J$2,(IF('Datos Iniciales'!E292=datos!$I$8,datos!$J$8,(IF('Datos Iniciales'!E292=datos!$I$9,datos!$J$9,(IF('Datos Iniciales'!E292=datos!$I$10,datos!$J$10,(IF('Datos Iniciales'!E292=datos!$I$11,datos!$J$11,(IF('Datos Iniciales'!E292=datos!$I$12,datos!$J$12,(IF('Datos Iniciales'!E292=datos!$I$13,datos!$J$13,(IF('Datos Iniciales'!E292=datos!$I$14,datos!$J$14,(IF('Datos Iniciales'!E292=datos!$I$15,datos!$J$15,\"\")))))))))))))))))))))))))))))","v":""},{"$f":"IF('Datos Iniciales'!F292=\"\",\"\",'Datos Iniciales'!F292)","v":""},{"$f":"IFERROR(datos!B291,\"\")","v":""},null,null,null,null,{"$f":"IF('Datos Iniciales'!H292=\"\",\"\",'Datos Iniciales'!H292)","v":""},{"$f":"IF('Datos Iniciales'!I292=\"\",\"\",datos!$K$2)","v":""},{"$f":"IFERROR(VLOOKUP('Datos Iniciales'!J292,datos!O290:P1409,2,FALSE),\"\")","v":""},null,{"$f":"IF('Datos Iniciales'!K292=\"\",\"\",(CONCATENATE(RIGHT('Datos Iniciales'!K292,1),\"-\",'Datos Iniciales'!L292,\"-\",'Datos Iniciales'!M292)))","v":""},null,null,null,{"$f":"IF('Datos Iniciales'!N292=\"\",\"\",'Datos Iniciales'!N292)","v":""},{"$f":"IF('Datos Iniciales'!O292=\"\",\"\",'Datos Iniciales'!O292)","v":""},null,null,null,null,{"$f":"IF('Datos Iniciales'!P292=\"\",\"\",'Datos Iniciales'!P292)","v":""},null,null,null,null,null,null,null,null,null,null,null,null,{"$f":"IF('Datos Iniciales'!B292=\"\",\"\",(IF('Datos Iniciales'!B292=\"Si\",\"002\",\"003\")))","v":""},null,{"$f":"IF('Datos Iniciales'!Q292=\"\",\"\",(IF('Datos Iniciales'!Q292=datos!S291,\"0\",\"2\")))","v":""},{"$f":"IF('Datos Iniciales'!B292=\"\",\"\",(IF('Datos Iniciales'!B292=\"Si\",\"O-48\",\"O-49\")))","v":""}]
[{"$f":"IF('Datos Iniciales'!B293=\"\",\"\",\"Si\")","v":""},{"$f":"(IF('Datos Iniciales'!A293=\"Cliente\",\"Si\",(IF('Datos Iniciales'!A293=\"\",\"\",\"No\"))))","v":""},{"$f":"(IF('Datos Iniciales'!A293=\"Distribuidor\",\"Si\",(IF('Datos Iniciales'!A293=\"\",\"\",\"No\"))))","v":""},{"$f":"(IF('Datos Iniciales'!A293=\"Otros\",\"Si\",(IF('Datos Iniciales'!A293=\"\",\"\",\"No\"))))","v":""},{"$f":"(IF('Datos Iniciales'!A293=\"Prospecto\",\"Si\",(IF('Datos Iniciales'!A293=\"\",\"\",\"No\"))))","v":""},{"$f":"(IF('Datos Iniciales'!A293=\"Proveedor\",\"Si\",(IF('Datos Iniciales'!A293=\"\",\"\",\"No\"))))","v":""},{"$f":"IF('Datos Iniciales'!B293=\"\",\"\",'Datos Iniciales'!B293)","v":""},{"$f":"IF('Datos Iniciales'!C293=\"\",\"\",'Datos Iniciales'!C293)","v":""},{"$f":"IF('Datos Iniciales'!D293=\"\",\"\",'Datos Iniciales'!D293)","v":""},{"$f":"IF('Datos Iniciales'!E293=datos!$I$2,datos!$J$2,(IF('Datos Iniciales'!E293=datos!$I$3,datos!$J$3,(IF('Datos Iniciales'!E293=datos!$I$4,datos!$J$4,(IF('Datos Iniciales'!E293=datos!$I$5,datos!$J$5,(IF('Datos Iniciales'!E293=datos!$I$6,datos!$J$6,(IF('Datos Iniciales'!E293=datos!$I$7,datos!$J$7,(IF('Datos Iniciales'!E293=datos!$I$2,datos!$J$2,(IF('Datos Iniciales'!E293=datos!$I$8,datos!$J$8,(IF('Datos Iniciales'!E293=datos!$I$9,datos!$J$9,(IF('Datos Iniciales'!E293=datos!$I$10,datos!$J$10,(IF('Datos Iniciales'!E293=datos!$I$11,datos!$J$11,(IF('Datos Iniciales'!E293=datos!$I$12,datos!$J$12,(IF('Datos Iniciales'!E293=datos!$I$13,datos!$J$13,(IF('Datos Iniciales'!E293=datos!$I$14,datos!$J$14,(IF('Datos Iniciales'!E293=datos!$I$15,datos!$J$15,\"\")))))))))))))))))))))))))))))","v":""},{"$f":"IF('Datos Iniciales'!F293=\"\",\"\",'Datos Iniciales'!F293)","v":""},{"$f":"IFERROR(datos!B292,\"\")","v":""},null,null,null,null,{"$f":"IF('Datos Iniciales'!H293=\"\",\"\",'Datos Iniciales'!H293)","v":""},{"$f":"IF('Datos Iniciales'!I293=\"\",\"\",datos!$K$2)","v":""},{"$f":"IFERROR(VLOOKUP('Datos Iniciales'!J293,datos!O291:P1410,2,FALSE),\"\")","v":""},null,{"$f":"IF('Datos Iniciales'!K293=\"\",\"\",(CONCATENATE(RIGHT('Datos Iniciales'!K293,1),\"-\",'Datos Iniciales'!L293,\"-\",'Datos Iniciales'!M293)))","v":""},null,null,null,{"$f":"IF('Datos Iniciales'!N293=\"\",\"\",'Datos Iniciales'!N293)","v":""},{"$f":"IF('Datos Iniciales'!O293=\"\",\"\",'Datos Iniciales'!O293)","v":""},null,null,null,null,{"$f":"IF('Datos Iniciales'!P293=\"\",\"\",'Datos Iniciales'!P293)","v":""},null,null,null,null,null,null,null,null,null,null,null,null,{"$f":"IF('Datos Iniciales'!B293=\"\",\"\",(IF('Datos Iniciales'!B293=\"Si\",\"002\",\"003\")))","v":""},null,{"$f":"IF('Datos Iniciales'!Q293=\"\",\"\",(IF('Datos Iniciales'!Q293=datos!S292,\"0\",\"2\")))","v":""},{"$f":"IF('Datos Iniciales'!B293=\"\",\"\",(IF('Datos Iniciales'!B293=\"Si\",\"O-48\",\"O-49\")))","v":""}]
[{"$f":"IF('Datos Iniciales'!B294=\"\",\"\",\"Si\")","v":""},{"$f":"(IF('Datos Iniciales'!A294=\"Cliente\",\"Si\",(IF('Datos Iniciales'!A294=\"\",\"\",\"No\"))))","v":""},{"$f":"(IF('Datos Iniciales'!A294=\"Distribuidor\",\"Si\",(IF('Datos Iniciales'!A294=\"\",\"\",\"No\"))))","v":""},{"$f":"(IF('Datos Iniciales'!A294=\"Otros\",\"Si\",(IF('Datos Iniciales'!A294=\"\",\"\",\"No\"))))","v":""},{"$f":"(IF('Datos Iniciales'!A294=\"Prospecto\",\"Si\",(IF('Datos Iniciales'!A294=\"\",\"\",\"No\"))))","v":""},{"$f":"(IF('Datos Iniciales'!A294=\"Proveedor\",\"Si\",(IF('Datos Iniciales'!A294=\"\",\"\",\"No\"))))","v":""},{"$f":"IF('Datos Iniciales'!B294=\"\",\"\",'Datos Iniciales'!B294)","v":""},{"$f":"IF('Datos Iniciales'!C294=\"\",\"\",'Datos Iniciales'!C294)","v":""},{"$f":"IF('Datos Iniciales'!D294=\"\",\"\",'Datos Iniciales'!D294)","v":""},{"$f":"IF('Datos Iniciales'!E294=datos!$I$2,datos!$J$2,(IF('Datos Iniciales'!E294=datos!$I$3,datos!$J$3,(IF('Datos Iniciales'!E294=datos!$I$4,datos!$J$4,(IF('Datos Iniciales'!E294=datos!$I$5,datos!$J$5,(IF('Datos Iniciales'!E294=datos!$I$6,datos!$J$6,(IF('Datos Iniciales'!E294=datos!$I$7,datos!$J$7,(IF('Datos Iniciales'!E294=datos!$I$2,datos!$J$2,(IF('Datos Iniciales'!E294=datos!$I$8,datos!$J$8,(IF('Datos Iniciales'!E294=datos!$I$9,datos!$J$9,(IF('Datos Iniciales'!E294=datos!$I$10,datos!$J$10,(IF('Datos Iniciales'!E294=datos!$I$11,datos!$J$11,(IF('Datos Iniciales'!E294=datos!$I$12,datos!$J$12,(IF('Datos Iniciales'!E294=datos!$I$13,datos!$J$13,(IF('Datos Iniciales'!E294=datos!$I$14,datos!$J$14,(IF('Datos Iniciales'!E294=datos!$I$15,datos!$J$15,\"\")))))))))))))))))))))))))))))","v":""},{"$f":"IF('Datos Iniciales'!F294=\"\",\"\",'Datos Iniciales'!F294)","v":""},{"$f":"IFERROR(datos!B293,\"\")","v":""},null,null,null,null,{"$f":"IF('Datos Iniciales'!H294=\"\",\"\",'Datos Iniciales'!H294)","v":""},{"$f":"IF('Datos Iniciales'!I294=\"\",\"\",datos!$K$2)","v":""},{"$f":"IFERROR(VLOOKUP('Datos Iniciales'!J294,datos!O292:P1411,2,FALSE),\"\")","v":""},null,{"$f":"IF('Datos Iniciales'!K294=\"\",\"\",(CONCATENATE(RIGHT('Datos Iniciales'!K294,1),\"-\",'Datos Iniciales'!L294,\"-\",'Datos Iniciales'!M294)))","v":""},null,null,null,{"$f":"IF('Datos Iniciales'!N294=\"\",\"\",'Datos Iniciales'!N294)","v":""},{"$f":"IF('Datos Iniciales'!O294=\"\",\"\",'Datos Iniciales'!O294)","v":""},null,null,null,null,{"$f":"IF('Datos Iniciales'!P294=\"\",\"\",'Datos Iniciales'!P294)","v":""},null,null,null,null,null,null,null,null,null,null,null,null,{"$f":"IF('Datos Iniciales'!B294=\"\",\"\",(IF('Datos Iniciales'!B294=\"Si\",\"002\",\"003\")))","v":""},null,{"$f":"IF('Datos Iniciales'!Q294=\"\",\"\",(IF('Datos Iniciales'!Q294=datos!S293,\"0\",\"2\")))","v":""},{"$f":"IF('Datos Iniciales'!B294=\"\",\"\",(IF('Datos Iniciales'!B294=\"Si\",\"O-48\",\"O-49\")))","v":""}]
[{"$f":"IF('Datos Iniciales'!B295=\"\",\"\",\"Si\")","v":""},{"$f":"(IF('Datos Iniciales'!A295=\"Cliente\",\"Si\",(IF('Datos Iniciales'!A295=\"\",\"\",\"No\"))))","v":""},{"$f":"(IF('Datos Iniciales'!A295=\"Distribuidor\",\"Si\",(IF('Datos Iniciales'!A295=\"\",\"\",\"No\"))))","v":""},{"$f":"(IF('Datos Iniciales'!A295=\"Otros\",\"Si\",(IF('Datos Iniciales'!A295=\"\",\"\",\"No\"))))","v":""},{"$f":"(IF('Datos Iniciales'!A295=\"Prospecto\",\"Si\",(IF('Datos Iniciales'!A295=\"\",\"\",\"No\"))))","v":""},{"$f":"(IF('Datos Iniciales'!A295=\"Proveedor\",\"Si\",(IF('Datos Iniciales'!A295=\"\",\"\",\"No\"))))","v":""},{"$f":"IF('Datos Iniciales'!B295=\"\",\"\",'Datos Iniciales'!B295)","v":""},{"$f":"IF('Datos Iniciales'!C295=\"\",\"\",'Datos Iniciales'!C295)","v":""},{"$f":"IF('Datos Iniciales'!D295=\"\",\"\",'Datos Iniciales'!D295)","v":""},{"$f":"IF('Datos Iniciales'!E295=datos!$I$2,datos!$J$2,(IF('Datos Iniciales'!E295=datos!$I$3,datos!$J$3,(IF('Datos Iniciales'!E295=datos!$I$4,datos!$J$4,(IF('Datos Iniciales'!E295=datos!$I$5,datos!$J$5,(IF('Datos Iniciales'!E295=datos!$I$6,datos!$J$6,(IF('Datos Iniciales'!E295=datos!$I$7,datos!$J$7,(IF('Datos Iniciales'!E295=datos!$I$2,datos!$J$2,(IF('Datos Iniciales'!E295=datos!$I$8,datos!$J$8,(IF('Datos Iniciales'!E295=datos!$I$9,datos!$J$9,(IF('Datos Iniciales'!E295=datos!$I$10,datos!$J$10,(IF('Datos Iniciales'!E295=datos!$I$11,datos!$J$11,(IF('Datos Iniciales'!E295=datos!$I$12,datos!$J$12,(IF('Datos Iniciales'!E295=datos!$I$13,datos!$J$13,(IF('Datos Iniciales'!E295=datos!$I$14,datos!$J$14,(IF('Datos Iniciales'!E295=datos!$I$15,datos!$J$15,\"\")))))))))))))))))))))))))))))","v":""},{"$f":"IF('Datos Iniciales'!F295=\"\",\"\",'Datos Iniciales'!F295)","v":""},{"$f":"IFERROR(datos!B294,\"\")","v":""},null,null,null,null,{"$f":"IF('Datos Iniciales'!H295=\"\",\"\",'Datos Iniciales'!H295)","v":""},{"$f":"IF('Datos Iniciales'!I295=\"\",\"\",datos!$K$2)","v":""},{"$f":"IFERROR(VLOOKUP('Datos Iniciales'!J295,datos!O293:P1412,2,FALSE),\"\")","v":""},null,{"$f":"IF('Datos Iniciales'!K295=\"\",\"\",(CONCATENATE(RIGHT('Datos Iniciales'!K295,1),\"-\",'Datos Iniciales'!L295,\"-\",'Datos Iniciales'!M295)))","v":""},null,null,null,{"$f":"IF('Datos Iniciales'!N295=\"\",\"\",'Datos Iniciales'!N295)","v":""},{"$f":"IF('Datos Iniciales'!O295=\"\",\"\",'Datos Iniciales'!O295)","v":""},null,null,null,null,{"$f":"IF('Datos Iniciales'!P295=\"\",\"\",'Datos Iniciales'!P295)","v":""},null,null,null,null,null,null,null,null,null,null,null,null,{"$f":"IF('Datos Iniciales'!B295=\"\",\"\",(IF('Datos Iniciales'!B295=\"Si\",\"002\",\"003\")))","v":""},null,{"$f":"IF('Datos Iniciales'!Q295=\"\",\"\",(IF('Datos Iniciales'!Q295=datos!S294,\"0\",\"2\")))","v":""},{"$f":"IF('Datos Iniciales'!B295=\"\",\"\",(IF('Datos Iniciales'!B295=\"Si\",\"O-48\",\"O-49\")))","v":""}]
[{"$f":"IF('Datos Iniciales'!B296=\"\",\"\",\"Si\")","v":""},{"$f":"(IF('Datos Iniciales'!A296=\"Cliente\",\"Si\",(IF('Datos Iniciales'!A296=\"\",\"\",\"No\"))))","v":""},{"$f":"(IF('Datos Iniciales'!A296=\"Distribuidor\",\"Si\",(IF('Datos Iniciales'!A296=\"\",\"\",\"No\"))))","v":""},{"$f":"(IF('Datos Iniciales'!A296=\"Otros\",\"Si\",(IF('Datos Iniciales'!A296=\"\",\"\",\"No\"))))","v":""},{"$f":"(IF('Datos Iniciales'!A296=\"Prospecto\",\"Si\",(IF('Datos Iniciales'!A296=\"\",\"\",\"No\"))))","v":""},{"$f":"(IF('Datos Iniciales'!A296=\"Proveedor\",\"Si\",(IF('Datos Iniciales'!A296=\"\",\"\",\"No\"))))","v":""},{"$f":"IF('Datos Iniciales'!B296=\"\",\"\",'Datos Iniciales'!B296)","v":""},{"$f":"IF('Datos Iniciales'!C296=\"\",\"\",'Datos Iniciales'!C296)","v":""},{"$f":"IF('Datos Iniciales'!D296=\"\",\"\",'Datos Iniciales'!D296)","v":""},{"$f":"IF('Datos Iniciales'!E296=datos!$I$2,datos!$J$2,(IF('Datos Iniciales'!E296=datos!$I$3,datos!$J$3,(IF('Datos Iniciales'!E296=datos!$I$4,datos!$J$4,(IF('Datos Iniciales'!E296=datos!$I$5,datos!$J$5,(IF('Datos Iniciales'!E296=datos!$I$6,datos!$J$6,(IF('Datos Iniciales'!E296=datos!$I$7,datos!$J$7,(IF('Datos Iniciales'!E296=datos!$I$2,datos!$J$2,(IF('Datos Iniciales'!E296=datos!$I$8,datos!$J$8,(IF('Datos Iniciales'!E296=datos!$I$9,datos!$J$9,(IF('Datos Iniciales'!E296=datos!$I$10,datos!$J$10,(IF('Datos Iniciales'!E296=datos!$I$11,datos!$J$11,(IF('Datos Iniciales'!E296=datos!$I$12,datos!$J$12,(IF('Datos Iniciales'!E296=datos!$I$13,datos!$J$13,(IF('Datos Iniciales'!E296=datos!$I$14,datos!$J$14,(IF('Datos Iniciales'!E296=datos!$I$15,datos!$J$15,\"\")))))))))))))))))))))))))))))","v":""},{"$f":"IF('Datos Iniciales'!F296=\"\",\"\",'Datos Iniciales'!F296)","v":""},{"$f":"IFERROR(datos!B295,\"\")","v":""},null,null,null,null,{"$f":"IF('Datos Iniciales'!H296=\"\",\"\",'Datos Iniciales'!H296)","v":""},{"$f":"IF('Datos Iniciales'!I296=\"\",\"\",datos!$K$2)","v":""},{"$f":"IFERROR(VLOOKUP('Datos Iniciales'!J296,datos!O294:P1413,2,FALSE),\"\")","v":""},null,{"$f":"IF('Datos Iniciales'!K296=\"\",\"\",(CONCATENATE(RIGHT('Datos Iniciales'!K296,1),\"-\",'Datos Iniciales'!L296,\"-\",'Datos Iniciales'!M296)))","v":""},null,null,null,{"$f":"IF('Datos Iniciales'!N296=\"\",\"\",'Datos Iniciales'!N296)","v":""},{"$f":"IF('Datos Iniciales'!O296=\"\",\"\",'Datos Iniciales'!O296)","v":""},null,null,null,null,{"$f":"IF('Datos Iniciales'!P296=\"\",\"\",'Datos Iniciales'!P296)","v":""},null,null,null,null,null,null,null,null,null,null,null,null,{"$f":"IF('Datos Iniciales'!B296=\"\",\"\",(IF('Datos Iniciales'!B296=\"Si\",\"002\",\"003\")))","v":""},null,{"$f":"IF('Datos Iniciales'!Q296=\"\",\"\",(IF('Datos Iniciales'!Q296=datos!S295,\"0\",\"2\")))","v":""},{"$f":"IF('Datos Iniciales'!B296=\"\",\"\",(IF('Datos Iniciales'!B296=\"Si\",\"O-48\",\"O-49\")))","v":""}]
[{"$f":"IF('Datos Iniciales'!B297=\"\",\"\",\"Si\")","v":""},{"$f":"(IF('Datos Iniciales'!A297=\"Cliente\",\"Si\",(IF('Datos Iniciales'!A297=\"\",\"\",\"No\"))))","v":""},{"$f":"(IF('Datos Iniciales'!A297=\"Distribuidor\",\"Si\",(IF('Datos Iniciales'!A297=\"\",\"\",\"No\"))))","v":""},{"$f":"(IF('Datos Iniciales'!A297=\"Otros\",\"Si\",(IF('Datos Iniciales'!A297=\"\",\"\",\"No\"))))","v":""},{"$f":"(IF('Datos Iniciales'!A297=\"Prospecto\",\"Si\",(IF('Datos Iniciales'!A297=\"\",\"\",\"No\"))))","v":""},{"$f":"(IF('Datos Iniciales'!A297=\"Proveedor\",\"Si\",(IF('Datos Iniciales'!A297=\"\",\"\",\"No\"))))","v":""},{"$f":"IF('Datos Iniciales'!B297=\"\",\"\",'Datos Iniciales'!B297)","v":""},{"$f":"IF('Datos Iniciales'!C297=\"\",\"\",'Datos Iniciales'!C297)","v":""},{"$f":"IF('Datos Iniciales'!D297=\"\",\"\",'Datos Iniciales'!D297)","v":""},{"$f":"IF('Datos Iniciales'!E297=datos!$I$2,datos!$J$2,(IF('Datos Iniciales'!E297=datos!$I$3,datos!$J$3,(IF('Datos Iniciales'!E297=datos!$I$4,datos!$J$4,(IF('Datos Iniciales'!E297=datos!$I$5,datos!$J$5,(IF('Datos Iniciales'!E297=datos!$I$6,datos!$J$6,(IF('Datos Iniciales'!E297=datos!$I$7,datos!$J$7,(IF('Datos Iniciales'!E297=datos!$I$2,datos!$J$2,(IF('Datos Iniciales'!E297=datos!$I$8,datos!$J$8,(IF('Datos Iniciales'!E297=datos!$I$9,datos!$J$9,(IF('Datos Iniciales'!E297=datos!$I$10,datos!$J$10,(IF('Datos Iniciales'!E297=datos!$I$11,datos!$J$11,(IF('Datos Iniciales'!E297=datos!$I$12,datos!$J$12,(IF('Datos Iniciales'!E297=datos!$I$13,datos!$J$13,(IF('Datos Iniciales'!E297=datos!$I$14,datos!$J$14,(IF('Datos Iniciales'!E297=datos!$I$15,datos!$J$15,\"\")))))))))))))))))))))))))))))","v":""},{"$f":"IF('Datos Iniciales'!F297=\"\",\"\",'Datos Iniciales'!F297)","v":""},{"$f":"IFERROR(datos!B296,\"\")","v":""},null,null,null,null,{"$f":"IF('Datos Iniciales'!H297=\"\",\"\",'Datos Iniciales'!H297)","v":""},{"$f":"IF('Datos Iniciales'!I297=\"\",\"\",datos!$K$2)","v":""},{"$f":"IFERROR(VLOOKUP('Datos Iniciales'!J297,datos!O295:P1414,2,FALSE),\"\")","v":""},null,{"$f":"IF('Datos Iniciales'!K297=\"\",\"\",(CONCATENATE(RIGHT('Datos Iniciales'!K297,1),\"-\",'Datos Iniciales'!L297,\"-\",'Datos Iniciales'!M297)))","v":""},null,null,null,{"$f":"IF('Datos Iniciales'!N297=\"\",\"\",'Datos Iniciales'!N297)","v":""},{"$f":"IF('Datos Iniciales'!O297=\"\",\"\",'Datos Iniciales'!O297)","v":""},null,null,null,null,{"$f":"IF('Datos Iniciales'!P297=\"\",\"\",'Datos Iniciales'!P297)","v":""},null,null,null,null,null,null,null,null,null,null,null,null,{"$f":"IF('Datos Iniciales'!B297=\"\",\"\",(IF('Datos Iniciales'!B297=\"Si\",\"002\",\"003\")))","v":""},null,{"$f":"IF('Datos Iniciales'!Q297=\"\",\"\",(IF('Datos Iniciales'!Q297=datos!S296,\"0\",\"2\")))","v":""},{"$f":"IF('Datos Iniciales'!B297=\"\",\"\",(IF('Datos Iniciales'!B297=\"Si\",\"O-48\",\"O-49\")))","v":""}]
[{"$f":"IF('Datos Iniciales'!B298=\"\",\"\",\"Si\")","v":""},{"$f":"(IF('Datos Iniciales'!A298=\"Cliente\",\"Si\",(IF('Datos Iniciales'!A298=\"\",\"\",\"No\"))))","v":""},{"$f":"(IF('Datos Iniciales'!A298=\"Distribuidor\",\"Si\",(IF('Datos Iniciales'!A298=\"\",\"\",\"No\"))))","v":""},{"$f":"(IF('Datos Iniciales'!A298=\"Otros\",\"Si\",(IF('Datos Iniciales'!A298=\"\",\"\",\"No\"))))","v":""},{"$f":"(IF('Datos Iniciales'!A298=\"Prospecto\",\"Si\",(IF('Datos Iniciales'!A298=\"\",\"\",\"No\"))))","v":""},{"$f":"(IF('Datos Iniciales'!A298=\"Proveedor\",\"Si\",(IF('Datos Iniciales'!A298=\"\",\"\",\"No\"))))","v":""},{"$f":"IF('Datos Iniciales'!B298=\"\",\"\",'Datos Iniciales'!B298)","v":""},{"$f":"IF('Datos Iniciales'!C298=\"\",\"\",'Datos Iniciales'!C298)","v":""},{"$f":"IF('Datos Iniciales'!D298=\"\",\"\",'Datos Iniciales'!D298)","v":""},{"$f":"IF('Datos Iniciales'!E298=datos!$I$2,datos!$J$2,(IF('Datos Iniciales'!E298=datos!$I$3,datos!$J$3,(IF('Datos Iniciales'!E298=datos!$I$4,datos!$J$4,(IF('Datos Iniciales'!E298=datos!$I$5,datos!$J$5,(IF('Datos Iniciales'!E298=datos!$I$6,datos!$J$6,(IF('Datos Iniciales'!E298=datos!$I$7,datos!$J$7,(IF('Datos Iniciales'!E298=datos!$I$2,datos!$J$2,(IF('Datos Iniciales'!E298=datos!$I$8,datos!$J$8,(IF('Datos Iniciales'!E298=datos!$I$9,datos!$J$9,(IF('Datos Iniciales'!E298=datos!$I$10,datos!$J$10,(IF('Datos Iniciales'!E298=datos!$I$11,datos!$J$11,(IF('Datos Iniciales'!E298=datos!$I$12,datos!$J$12,(IF('Datos Iniciales'!E298=datos!$I$13,datos!$J$13,(IF('Datos Iniciales'!E298=datos!$I$14,datos!$J$14,(IF('Datos Iniciales'!E298=datos!$I$15,datos!$J$15,\"\")))))))))))))))))))))))))))))","v":""},{"$f":"IF('Datos Iniciales'!F298=\"\",\"\",'Datos Iniciales'!F298)","v":""},{"$f":"IFERROR(datos!B297,\"\")","v":""},null,null,null,null,{"$f":"IF('Datos Iniciales'!H298=\"\",\"\",'Datos Iniciales'!H298)","v":""},{"$f":"IF('Datos Iniciales'!I298=\"\",\"\",datos!$K$2)","v":""},{"$f":"IFERROR(VLOOKUP('Datos Iniciales'!J298,datos!O296:P1415,2,FALSE),\"\")","v":""},null,{"$f":"IF('Datos Iniciales'!K298=\"\",\"\",(CONCATENATE(RIGHT('Datos Iniciales'!K298,1),\"-\",'Datos Iniciales'!L298,\"-\",'Datos Iniciales'!M298)))","v":""},null,null,null,{"$f":"IF('Datos Iniciales'!N298=\"\",\"\",'Datos Iniciales'!N298)","v":""},{"$f":"IF('Datos Iniciales'!O298=\"\",\"\",'Datos Iniciales'!O298)","v":""},null,null,null,null,{"$f":"IF('Datos Iniciales'!P298=\"\",\"\",'Datos Iniciales'!P298)","v":""},null,null,null,null,null,null,null,null,null,null,null,null,{"$f":"IF('Datos Iniciales'!B298=\"\",\"\",(IF('Datos Iniciales'!B298=\"Si\",\"002\",\"003\")))","v":""},null,{"$f":"IF('Datos Iniciales'!Q298=\"\",\"\",(IF('Datos Iniciales'!Q298=datos!S297,\"0\",\"2\")))","v":""},{"$f":"IF('Datos Iniciales'!B298=\"\",\"\",(IF('Datos Iniciales'!B298=\"Si\",\"O-48\",\"O-49\")))","v":""}]
[{"$f":"IF('Datos Iniciales'!B299=\"\",\"\",\"Si\")","v":""},{"$f":"(IF('Datos Iniciales'!A299=\"Cliente\",\"Si\",(IF('Datos Iniciales'!A299=\"\",\"\",\"No\"))))","v":""},{"$f":"(IF('Datos Iniciales'!A299=\"Distribuidor\",\"Si\",(IF('Datos Iniciales'!A299=\"\",\"\",\"No\"))))","v":""},{"$f":"(IF('Datos Iniciales'!A299=\"Otros\",\"Si\",(IF('Datos Iniciales'!A299=\"\",\"\",\"No\"))))","v":""},{"$f":"(IF('Datos Iniciales'!A299=\"Prospecto\",\"Si\",(IF('Datos Iniciales'!A299=\"\",\"\",\"No\"))))","v":""},{"$f":"(IF('Datos Iniciales'!A299=\"Proveedor\",\"Si\",(IF('Datos Iniciales'!A299=\"\",\"\",\"No\"))))","v":""},{"$f":"IF('Datos Iniciales'!B299=\"\",\"\",'Datos Iniciales'!B299)","v":""},{"$f":"IF('Datos Iniciales'!C299=\"\",\"\",'Datos Iniciales'!C299)","v":""},{"$f":"IF('Datos Iniciales'!D299=\"\",\"\",'Datos Iniciales'!D299)","v":""},{"$f":"IF('Datos Iniciales'!E299=datos!$I$2,datos!$J$2,(IF('Datos Iniciales'!E299=datos!$I$3,datos!$J$3,(IF('Datos Iniciales'!E299=datos!$I$4,datos!$J$4,(IF('Datos Iniciales'!E299=datos!$I$5,datos!$J$5,(IF('Datos Iniciales'!E299=datos!$I$6,datos!$J$6,(IF('Datos Iniciales'!E299=datos!$I$7,datos!$J$7,(IF('Datos Iniciales'!E299=datos!$I$2,datos!$J$2,(IF('Datos Iniciales'!E299=datos!$I$8,datos!$J$8,(IF('Datos Iniciales'!E299=datos!$I$9,datos!$J$9,(IF('Datos Iniciales'!E299=datos!$I$10,datos!$J$10,(IF('Datos Iniciales'!E299=datos!$I$11,datos!$J$11,(IF('Datos Iniciales'!E299=datos!$I$12,datos!$J$12,(IF('Datos Iniciales'!E299=datos!$I$13,datos!$J$13,(IF('Datos Iniciales'!E299=datos!$I$14,datos!$J$14,(IF('Datos Iniciales'!E299=datos!$I$15,datos!$J$15,\"\")))))))))))))))))))))))))))))","v":""},{"$f":"IF('Datos Iniciales'!F299=\"\",\"\",'Datos Iniciales'!F299)","v":""},{"$f":"IFERROR(datos!B298,\"\")","v":""},null,null,null,null,{"$f":"IF('Datos Iniciales'!H299=\"\",\"\",'Datos Iniciales'!H299)","v":""},{"$f":"IF('Datos Iniciales'!I299=\"\",\"\",datos!$K$2)","v":""},{"$f":"IFERROR(VLOOKUP('Datos Iniciales'!J299,datos!O297:P1416,2,FALSE),\"\")","v":""},null,{"$f":"IF('Datos Iniciales'!K299=\"\",\"\",(CONCATENATE(RIGHT('Datos Iniciales'!K299,1),\"-\",'Datos Iniciales'!L299,\"-\",'Datos Iniciales'!M299)))","v":""},null,null,null,{"$f":"IF('Datos Iniciales'!N299=\"\",\"\",'Datos Iniciales'!N299)","v":""},{"$f":"IF('Datos Iniciales'!O299=\"\",\"\",'Datos Iniciales'!O299)","v":""},null,null,null,null,{"$f":"IF('Datos Iniciales'!P299=\"\",\"\",'Datos Iniciales'!P299)","v":""},null,null,null,null,null,null,null,null,null,null,null,null,{"$f":"IF('Datos Iniciales'!B299=\"\",\"\",(IF('Datos Iniciales'!B299=\"Si\",\"002\",\"003\")))","v":""},null,{"$f":"IF('Datos Iniciales'!Q299=\"\",\"\",(IF('Datos Iniciales'!Q299=datos!S298,\"0\",\"2\")))","v":""},{"$f":"IF('Datos Iniciales'!B299=\"\",\"\",(IF('Datos Iniciales'!B299=\"Si\",\"O-48\",\"O-49\")))","v":""}]
[{"$f":"IF('Datos Iniciales'!B300=\"\",\"\",\"Si\")","v":""},{"$f":"(IF('Datos Iniciales'!A300=\"Cliente\",\"Si\",(IF('Datos Iniciales'!A300=\"\",\"\",\"No\"))))","v":""},{"$f":"(IF('Datos Iniciales'!A300=\"Distribuidor\",\"Si\",(IF('Datos Iniciales'!A300=\"\",\"\",\"No\"))))","v":""},{"$f":"(IF('Datos Iniciales'!A300=\"Otros\",\"Si\",(IF('Datos Iniciales'!A300=\"\",\"\",\"No\"))))","v":""},{"$f":"(IF('Datos Iniciales'!A300=\"Prospecto\",\"Si\",(IF('Datos Iniciales'!A300=\"\",\"\",\"No\"))))","v":""},{"$f":"(IF('Datos Iniciales'!A300=\"Proveedor\",\"Si\",(IF('Datos Iniciales'!A300=\"\",\"\",\"No\"))))","v":""},{"$f":"IF('Datos Iniciales'!B300=\"\",\"\",'Datos Iniciales'!B300)","v":""},{"$f":"IF('Datos Iniciales'!C300=\"\",\"\",'Datos Iniciales'!C300)","v":""},{"$f":"IF('Datos Iniciales'!D300=\"\",\"\",'Datos Iniciales'!D300)","v":""},{"$f":"IF('Datos Iniciales'!E300=datos!$I$2,datos!$J$2,(IF('Datos Iniciales'!E300=datos!$I$3,datos!$J$3,(IF('Datos Iniciales'!E300=datos!$I$4,datos!$J$4,(IF('Datos Iniciales'!E300=datos!$I$5,datos!$J$5,(IF('Datos Iniciales'!E300=datos!$I$6,datos!$J$6,(IF('Datos Iniciales'!E300=datos!$I$7,datos!$J$7,(IF('Datos Iniciales'!E300=datos!$I$2,datos!$J$2,(IF('Datos Iniciales'!E300=datos!$I$8,datos!$J$8,(IF('Datos Iniciales'!E300=datos!$I$9,datos!$J$9,(IF('Datos Iniciales'!E300=datos!$I$10,datos!$J$10,(IF('Datos Iniciales'!E300=datos!$I$11,datos!$J$11,(IF('Datos Iniciales'!E300=datos!$I$12,datos!$J$12,(IF('Datos Iniciales'!E300=datos!$I$13,datos!$J$13,(IF('Datos Iniciales'!E300=datos!$I$14,datos!$J$14,(IF('Datos Iniciales'!E300=datos!$I$15,datos!$J$15,\"\")))))))))))))))))))))))))))))","v":""},{"$f":"IF('Datos Iniciales'!F300=\"\",\"\",'Datos Iniciales'!F300)","v":""},{"$f":"IFERROR(datos!B299,\"\")","v":""},null,null,null,null,{"$f":"IF('Datos Iniciales'!H300=\"\",\"\",'Datos Iniciales'!H300)","v":""},{"$f":"IF('Datos Iniciales'!I300=\"\",\"\",datos!$K$2)","v":""},{"$f":"IFERROR(VLOOKUP('Datos Iniciales'!J300,datos!O298:P1417,2,FALSE),\"\")","v":""},null,{"$f":"IF('Datos Iniciales'!K300=\"\",\"\",(CONCATENATE(RIGHT('Datos Iniciales'!K300,1),\"-\",'Datos Iniciales'!L300,\"-\",'Datos Iniciales'!M300)))","v":""},null,null,null,{"$f":"IF('Datos Iniciales'!N300=\"\",\"\",'Datos Iniciales'!N300)","v":""},{"$f":"IF('Datos Iniciales'!O300=\"\",\"\",'Datos Iniciales'!O300)","v":""},null,null,null,null,{"$f":"IF('Datos Iniciales'!P300=\"\",\"\",'Datos Iniciales'!P300)","v":""},null,null,null,null,null,null,null,null,null,null,null,null,{"$f":"IF('Datos Iniciales'!B300=\"\",\"\",(IF('Datos Iniciales'!B300=\"Si\",\"002\",\"003\")))","v":""},null,{"$f":"IF('Datos Iniciales'!Q300=\"\",\"\",(IF('Datos Iniciales'!Q300=datos!S299,\"0\",\"2\")))","v":""},{"$f":"IF('Datos Iniciales'!B300=\"\",\"\",(IF('Datos Iniciales'!B300=\"Si\",\"O-48\",\"O-49\")))","v":""}]
[{"$f":"IF('Datos Iniciales'!B301=\"\",\"\",\"Si\")","v":""},{"$f":"(IF('Datos Iniciales'!A301=\"Cliente\",\"Si\",(IF('Datos Iniciales'!A301=\"\",\"\",\"No\"))))","v":""},{"$f":"(IF('Datos Iniciales'!A301=\"Distribuidor\",\"Si\",(IF('Datos Iniciales'!A301=\"\",\"\",\"No\"))))","v":""},{"$f":"(IF('Datos Iniciales'!A301=\"Otros\",\"Si\",(IF('Datos Iniciales'!A301=\"\",\"\",\"No\"))))","v":""},{"$f":"(IF('Datos Iniciales'!A301=\"Prospecto\",\"Si\",(IF('Datos Iniciales'!A301=\"\",\"\",\"No\"))))","v":""},{"$f":"(IF('Datos Iniciales'!A301=\"Proveedor\",\"Si\",(IF('Datos Iniciales'!A301=\"\",\"\",\"No\"))))","v":""},{"$f":"IF('Datos Iniciales'!B301=\"\",\"\",'Datos Iniciales'!B301)","v":""},{"$f":"IF('Datos Iniciales'!C301=\"\",\"\",'Datos Iniciales'!C301)","v":""},{"$f":"IF('Datos Iniciales'!D301=\"\",\"\",'Datos Iniciales'!D301)","v":""},{"$f":"IF('Datos Iniciales'!E301=datos!$I$2,datos!$J$2,(IF('Datos Iniciales'!E301=datos!$I$3,datos!$J$3,(IF('Datos Iniciales'!E301=datos!$I$4,datos!$J$4,(IF('Datos Iniciales'!E301=datos!$I$5,datos!$J$5,(IF('Datos Iniciales'!E301=datos!$I$6,datos!$J$6,(IF('Datos Iniciales'!E301=datos!$I$7,datos!$J$7,(IF('Datos Iniciales'!E301=datos!$I$2,datos!$J$2,(IF('Datos Iniciales'!E301=datos!$I$8,datos!$J$8,(IF('Datos Iniciales'!E301=datos!$I$9,datos!$J$9,(IF('Datos Iniciales'!E301=datos!$I$10,datos!$J$10,(IF('Datos Iniciales'!E301=datos!$I$11,datos!$J$11,(IF('Datos Iniciales'!E301=datos!$I$12,datos!$J$12,(IF('Datos Iniciales'!E301=datos!$I$13,datos!$J$13,(IF('Datos Iniciales'!E301=datos!$I$14,datos!$J$14,(IF('Datos Iniciales'!E301=datos!$I$15,datos!$J$15,\"\")))))))))))))))))))))))))))))","v":""},{"$f":"IF('Datos Iniciales'!F301=\"\",\"\",'Datos Iniciales'!F301)","v":""},{"$f":"IFERROR(datos!B300,\"\")","v":""},null,null,null,null,{"$f":"IF('Datos Iniciales'!H301=\"\",\"\",'Datos Iniciales'!H301)","v":""},{"$f":"IF('Datos Iniciales'!I301=\"\",\"\",datos!$K$2)","v":""},{"$f":"IFERROR(VLOOKUP('Datos Iniciales'!J301,datos!O299:P1418,2,FALSE),\"\")","v":""},null,{"$f":"IF('Datos Iniciales'!K301=\"\",\"\",(CONCATENATE(RIGHT('Datos Iniciales'!K301,1),\"-\",'Datos Iniciales'!L301,\"-\",'Datos Iniciales'!M301)))","v":""},null,null,null,{"$f":"IF('Datos Iniciales'!N301=\"\",\"\",'Datos Iniciales'!N301)","v":""},{"$f":"IF('Datos Iniciales'!O301=\"\",\"\",'Datos Iniciales'!O301)","v":""},null,null,null,null,{"$f":"IF('Datos Iniciales'!P301=\"\",\"\",'Datos Iniciales'!P301)","v":""},null,null,null,null,null,null,null,null,null,null,null,null,{"$f":"IF('Datos Iniciales'!B301=\"\",\"\",(IF('Datos Iniciales'!B301=\"Si\",\"002\",\"003\")))","v":""},null,{"$f":"IF('Datos Iniciales'!Q301=\"\",\"\",(IF('Datos Iniciales'!Q301=datos!S300,\"0\",\"2\")))","v":""},{"$f":"IF('Datos Iniciales'!B301=\"\",\"\",(IF('Datos Iniciales'!B301=\"Si\",\"O-48\",\"O-49\")))","v":""}]
[{"$f":"IF('Datos Iniciales'!B302=\"\",\"\",\"Si\")","v":""},{"$f":"(IF('Datos Iniciales'!A302=\"Cliente\",\"Si\",(IF('Datos Iniciales'!A302=\"\",\"\",\"No\"))))","v":""},{"$f":"(IF('Datos Iniciales'!A302=\"Distribuidor\",\"Si\",(IF('Datos Iniciales'!A302=\"\",\"\",\"No\"))))","v":""},{"$f":"(IF('Datos Iniciales'!A302=\"Otros\",\"Si\",(IF('Datos Iniciales'!A302=\"\",\"\",\"No\"))))","v":""},{"$f":"(IF('Datos Iniciales'!A302=\"Prospecto\",\"Si\",(IF('Datos Iniciales'!A302=\"\",\"\",\"No\"))))","v":""},{"$f":"(IF('Datos Iniciales'!A302=\"Proveedor\",\"Si\",(IF('Datos Iniciales'!A302=\"\",\"\",\"No\"))))","v":""},{"$f":"IF('Datos Iniciales'!B302=\"\",\"\",'Datos Iniciales'!B302)","v":""},{"$f":"IF('Datos Iniciales'!C302=\"\",\"\",'Datos Iniciales'!C302)","v":""},{"$f":"IF('Datos Iniciales'!D302=\"\",\"\",'Datos Iniciales'!D302)","v":""},{"$f":"IF('Datos Iniciales'!E302=datos!$I$2,datos!$J$2,(IF('Datos Iniciales'!E302=datos!$I$3,datos!$J$3,(IF('Datos Iniciales'!E302=datos!$I$4,datos!$J$4,(IF('Datos Iniciales'!E302=datos!$I$5,datos!$J$5,(IF('Datos Iniciales'!E302=datos!$I$6,datos!$J$6,(IF('Datos Iniciales'!E302=datos!$I$7,datos!$J$7,(IF('Datos Iniciales'!E302=datos!$I$2,datos!$J$2,(IF('Datos Iniciales'!E302=datos!$I$8,datos!$J$8,(IF('Datos Iniciales'!E302=datos!$I$9,datos!$J$9,(IF('Datos Iniciales'!E302=datos!$I$10,datos!$J$10,(IF('Datos Iniciales'!E302=datos!$I$11,datos!$J$11,(IF('Datos Iniciales'!E302=datos!$I$12,datos!$J$12,(IF('Datos Iniciales'!E302=datos!$I$13,datos!$J$13,(IF('Datos Iniciales'!E302=datos!$I$14,datos!$J$14,(IF('Datos Iniciales'!E302=datos!$I$15,datos!$J$15,\"\")))))))))))))))))))))))))))))","v":""},{"$f":"IF('Datos Iniciales'!F302=\"\",\"\",'Datos Iniciales'!F302)","v":""},{"$f":"IFERROR(datos!B301,\"\")","v":0},null,null,null,null,{"$f":"IF('Datos Iniciales'!H302=\"\",\"\",'Datos Iniciales'!H302)","v":""},{"$f":"IF('Datos Iniciales'!I302=\"\",\"\",datos!$K$2)","v":""},{"$f":"IFERROR(VLOOKUP('Datos Iniciales'!J302,datos!O300:P1419,2,FALSE),\"\")","v":""},null,{"$f":"IF('Datos Iniciales'!K302=\"\",\"\",(CONCATENATE(RIGHT('Datos Iniciales'!K302,1),\"-\",'Datos Iniciales'!L302,\"-\",'Datos Iniciales'!M302)))","v":""},null,null,null,{"$f":"IF('Datos Iniciales'!N302=\"\",\"\",'Datos Iniciales'!N302)","v":""},{"$f":"IF('Datos Iniciales'!O302=\"\",\"\",'Datos Iniciales'!O302)","v":""},null,null,null,null,{"$f":"IF('Datos Iniciales'!P302=\"\",\"\",'Datos Iniciales'!P302)","v":""},null,null,null,null,null,null,null,null,null,null,null,null,{"$f":"IF('Datos Iniciales'!B302=\"\",\"\",(IF('Datos Iniciales'!B302=\"Si\",\"002\",\"003\")))","v":""},null,{"$f":"IF('Datos Iniciales'!Q302=\"\",\"\",(IF('Datos Iniciales'!Q302=datos!S301,\"0\",\"2\")))","v":""},{"$f":"IF('Datos Iniciales'!B302=\"\",\"\",(IF('Datos Iniciales'!B302=\"Si\",\"O-48\",\"O-49\")))","v":""}]